{"text_format":"1","workbook":"xlsx","n_sheets":25,"sheets":["Sheet1","CHGS","Essbase Input","Tables","Dashboard","Cover Page","EB PT 1","EB PT 2","EB PT 4","EB PT 4 PY2","EB PT 4 PY1","EB PT 4 CY","Pt 1 Summary of Data","Pt 1 Summary of Data - Adj","Pt 1 Summary of Data - Final","Smartview of Tax Accts","Pt 2 Premium and Claims","Pt 2 Premium and Claims - Adj","Pt 2 Premium and Claims - Final","Pt 3 Expense Allocation","EB PT 4 P&C Calcs","Pt 4 Claims Calcs for PYs","Pt 4 MLR Calculation - Final","Pt 5 Additional Responses","Attestations"],"not_rendered":{"charts":0,"images":1,"macros":1,"external_links":1,"defined_names":46,"comments":7,"pivot_tables":0},"unopened":[],"bounds":{"document_bytes":16777216,"sheet_cells":100000,"rows_first":2000,"rows_last":500,"rows_between":2000,"halvings":0,"cell_chars":16384,"cell_head_chars":4096},"cells_cut":0,"cells_raw":0,"read":"whole","date_system":"1900"}

{"sheet":"Sheet1","index":0,"n_rows":22,"n_cols":2,"rows_kept":22,"cut":false,"hidden":true,"merged":[]}
[]
[]
[1,"Check to see if there are any changes to existing report/template"]
[null,"https://www.dmhc.ca.gov/"]
[null,"Licensing & Reporting  >  Submit Financial Reports  >  scroll down to 'Annual Dental Medical Loss Ratio (MLR)' section"]
[null,"Save most recent version down to folder for reference next year."]
[null,"As of RY2020 per current DMHC template"]
[]
[]
[2,"Report is due July 31st"]
[]
[null,"Differences b/w CMS and DMHC:"]
[null,"DMHC Ln 4.3b / CMS Ln 5.5b is made up of a77100 & a77105. subtracted from Net Inv Inc (DMHC Ln 6 / CMS Ln 8)"]
[null,"DMHC does not include CMS Ln 1.2, Ln 1.3, Ln 1.4"]
[null,"DMHC Ln 4.4 does not contain \"Bad Debt\" which is an adj to CMS Ln 5.6 from Ln 1.5"]
[]
[]
[]
[null,"Open Questions:"]
[null,"Is there a reason we only ran out 15 months of claims in PY2 and PY1 col and not 39 and 27, respectively?"]
[null,"Why are we consolidating GRI & UHCLIC to DPPO IND on Parts 1 & 2 but not 4?"]
[null,"Why doesn't DMHC include CMS Ln 1.2, Ln 1.3, Ln 1.4"]

{"sheet":"CHGS","index":1,"n_rows":25,"n_cols":9,"rows_kept":25,"cut":false,"hidden":true,"merged":[[17,5,17,6],[20,5,20,6],[6,5,6,6],[8,5,8,6],[7,5,7,6],[18,5,18,6],[19,5,19,6]]}
["Yrly Maintenance"]
["OTHER"]
[]
["Date","EE","RY","Version","Tab","Row(s)","Col(s)","Description of Change/Action","Reason for Change/Action"]
["RY2021"]
["2022-03-25","RM","2021","v1","Table (Hidden)","4-10","P-S","Updated Years","New year"]
["2022-03-25","RM","2021","v1","Essbase Input","C16-D19",null,"Updated Years","New year"]
["2022-03-25","RM","2021","v1","Essbase Input","A1",null,"Updated Reporting Year and \"Warning\"","New year"]
["2022-03-25","RM","2021","v1","Cover Page","C2",null,"Updates description from \"Enter DMHC Health Plan ID. Insurers may leave this field blank\" to \"DMHC Health Plan ID / CDI NAIC No.\"","Per new template dated 12/16/21"]
["2022-03-25","RM","2021","v1","Pt 1 Summary of Data\nPt 1 Summary of Data - Final","n/a","AX","Update \"Pt 2\" to \"Pt 1\"","Error"]
["2022-03-25","RM","2021","v1","EB PT 1\nEB PT 2","n/a","A","Added the CMS Annual Line tie back.","To help with quick review."]
["2022-05-18","RM","2021","v2","Pt 1 Summary of Data\n",7,1,"Fixed formula to grab from correct cell \nFrom =-'EB PT 1'!BE64\nTo =-'EB PT 1'!BE63","Error. Sugandha brought to my attention in her testing."]
["2022-05-18","RM","2021","v2","Pt 1 Summary of Data - Adj","n/a","n/a","Removed Row 51","To align the 3 tabs."]
["2022-05-27","RM","2021","v3","EB PT 1",5.2,"All","Updated IDB Date from IDB 2020 to IDB 2021","Wrong IDB year"]
[]
["RY2022"]
["2023-05-10","RM","2022","v1","Table (Hidden)","4-10","P-S","Updated Years","New year"]
["2023-05-10","RM","2022","v1","Essbase Input","C12",null,"Updated Reporting Year to current reporting year","New year"]
["2023-05-10","RM","2022","v1","Essbase Input","C16-D19",null,"Updated Years","New year"]
["2023-05-10","RM","2022","v1","Essbase Input","A1 & D2",null,"Updated Reporting Year and \"Warning\"","New year"]
["2023-05-10","RM","2022","v1","EB PT1, EB PT2, EB PT4, EB PT4 PY2, EB PT4 PY1, EB PT4 CY","SV Ranges",null,"Updated SV pull ranges","SV upgrade"]
["Instructions after yearly maintenance"]
["1. Confirm Smartview pulls refresh"]
["2023-05-10","RM","2022","v1","Pt 1 Summary of Data","All","AU-AW","REVIEW to confirm no variances."]
["2023-05-10","RM","2022","v1","Pt 2 Premium and Claims","All","AU-AW","REVIEW to confirm no variances."]

{"sheet":"Essbase Input","index":2,"n_rows":29,"n_cols":8,"rows_kept":29,"cut":false,"hidden":true,"merged":[[1,3,3,7],[0,0,0,2]]}
["Reporting Year 2022, Version 1 (posted 05/10/2023)",null,null,"WARNING!"]
["Instructions:",null,null,"The CMS MLR form which drives the programming of this file won't be finalized until 6/25/2022.  Changes to the underlying program in that report MAY affect this report.  Any changes made to this report will be applied and saved as a new version (e.g. v1 to v2, etc.)"]
["1.  Update Chartfields below: Legal Entity, Reporting Year, Period"]
["2. Connect to the UHGRMLR cube"]
["3. Refresh the \"EB\" tabs: EB PT 1, EB PT 2, EB PT 4, EB PT 4 PY2, EB PT 4 PY1, EB PT 4 CY"]
[]
["Smart View Retrieve Values (All 'EB PT x' tabs)",null,null,null,null,"Recommended Legal Entity / Location Combinations"]
["Legal Entity",null,"UnitedHealthcare Life Ins Co","<<< Select One",null,"Dental Benefit Prov CA Inc",null,"Locations"]
["Location",null,{"$f":"VLOOKUP($C$8,Tables!$B:$K,6,FALSE)","v":"California - CA"},"Verify Location",null,"Golden Rule Insurance Company",null,"California - CA"]
["Operating Unit",null,{"$f":"VLOOKUP($C$8,Tables!$B:$K,7,FALSE)","v":"UnitedHealthcare Domestic"},"Verify Operating Unit",null,"Unimerica Insurance Company",null,"California - CA"]
["Product",null,{"$f":"VLOOKUP($C$8,Tables!$B:$K,8,FALSE)","v":"Stand Alone Dental"},"Verify Product",null,"UnitedHealthcare Ins Co",null,"California - CA"]
["Reporting Year",null,"2022","<<< Select One",null,"UnitedHealthcare Life Ins Co",null,"California - CA"]
["Period",null,"4th Quarter","<<< Select One"]
[]
["For Use in 'EB PT 4' tab only"]
["Current Year",null,"2023","IDB 2023"]
["Reporting Year",null,"2022","IDB 2022"]
["PY 1",null,"2021","IDB 2021"]
["PY 2",null,"2020","IDB 2020"]
[]
[]
[]
[]
[]
[]
[null,"Save file here: "]
[null,"F:\\01_Reporting\\Working_Groups\\HCR_WG\\YYYY Initiatives\\42_Dental CA MLR Filing\\DMHC Template, Guidance, instructions, updates"]
[null,"RY2022: "]
[null,"F:\\01_Reporting\\Working_Groups\\HCR_WG\\2022 Initiatives\\42_Dental CA MLR Filing\\DMHC Template, Guidance, instructions, updates"]

{"sheet":"Tables","index":3,"n_rows":75,"n_cols":23,"rows_kept":75,"cut":false,"hidden":true,"merged":[]}
[null,null,null,null,null,null,null,null,null,null,null,null,null,null,null,"Updated 05/10/2023"]
[null,null,null,null,null,null,null,null,null,null,null,null,null,null,null,"Current","Prior","Future","Prior",null,"Current Year","Current Year","Current Year"]
["Blank","Legal Entity (Essbase)","Legal Entity (Full Name)","DMHC #","DBAs","DPPO/DHMO","Location","Operating Unit","Product","Operating Unit (Other)",null,"Locations","Abbrv",null,"Customers","Year","Year","Year","Year 2","Period","Balance (Essbase)","Month (Essbase)","YTD (Essbase)"]
["DMHC","Dental Benefit Prov CA Inc","Dental Benefit Providers of California, Inc.","933-0255","N/A","DHMO","Locations","Operating Units","Stand Alone Dental","07210 - UHIC - Dental",null,"Alabama - AL",{"$f":"RIGHT(L4,2)","v":"AL"},null,"Individual","2022","2021","2023","2020","January","January_Bal","January","January_YTD"]
["BLUE","Unimerica Insurance Company","Unimerica Insurance Company",null,"Unimerica Life Insurance Company","DPPO","California - CA","UnitedHealthcare Domestic","Stand Alone Dental","07211 - UHIC-AMSLIC-DENTAL",null,"Alaska - AK",{"$f":"RIGHT(L5,2)","v":"AK"},null,"Small Group Employer","2021","2020","2022","2019","February","February_Bal","February","February_YTD"]
["BLUE","UnitedHealthcare Ins Co","UnitedHealthcare Insurance Company",null,"N/A","DPPO","California - CA","UnitedHealthcare Domestic","Stand Alone Dental","UHIC Dental",null,"Arizona - AZ","AZ",null,"Large Group Employer","2020","2019","2021","2018","1st Quarter","March_Bal","March","March_YTD"]
["BLUE","Golden Rule Insurance Company","Golden Rule Insurance Company",null,"UnitedHealthOne","DPPO","California - CA","UnitedHealthcare Domestic","Stand Alone Dental","07220 - NATL PACIFIC DENTAL, INC. TX",null,"Arkansas - AR","AR",null,"Blank Customer","2019","2018","2020","2017","April","April_Bal","April","April_YTD"]
["BLUE","UnitedHealthcare Life Ins Co","UnitedHealthcare Life Insurance Company",null,"N/A","DPPO","California - CA","UnitedHealthcare Domestic","Stand Alone Dental","07221 - NATL PACIFIC DENTAL, INC. MD",null,"California - CA","CA",null,"MLR Customers","2018","2017","2019","2016","May","May_Bal","May","May_YTD"]
["BLUE","Mid-West Nat Life Ins Co of TN","Mid-West National Life Insurance Company of Tennessee",null,"N/A","DPPO","California - CA","UnitedHealthcare Domestic","Stand Alone Dental","National Pacifice Dental, Inc.",null,"Colorado - CO","CO",null,null,"2017","2016","2018","2015","2nd Quarter","June_Bal","June","June_YTD"]
["BLUE","The Chesapeake Life Ins. Co.","The Chesapeake Life Insurance Company",null,"N/A","DPPO","California - CA","UnitedHealthcare Domestic","Stand Alone Dental","07230 - PACIFIC UNION DENTAL, INC.",null,"Connecticut - CT","CT",null,null,"2016","2015","2017","2014","July","July_Bal","July","July_YTD"]
[null,null,null,null,null,null,null,null,null,"07231 - DENTAL BENEFIT PROVIDERS, INC.",null,"Delaware - DE","DE",null,null,null,null,null,null,"August","August_Bal","August","August_YTD"]
[null,null,null,null,null,null,null,null,null,"07232 - PACIFICARE DENTAL",null,"Florida - FL","FL",null,null,null,null,null,null,"3rd Quarter","September_Bal","September","September_YTD"]
[null,null,null,null,null,null,null,null,null,"Dental Benefit Providers of CA",null,"Georgia - GA","GA",null,null,null,null,null,null,"October","October_Bal","October","October_YTD"]
[null,null,null,null,null,null,null,null,null,"07200 - Dental E&I",null,"Hawaii - HI","HI",null,null,null,null,null,null,"November","November_Bal","November","November_YTD"]
[null,null,null,null,null,null,null,null,null,"07234 - Dental C&S",null,"Idaho - ID","ID",null,null,null,null,null,null,"4th Quarter","December_Bal","December","December_YTD"]
[null,null,null,null,null,null,null,null,null,"07235 - Dental M&R",null,"Illinois - IL","IL"]
[null,null,null,null,null,null,null,null,null,"27200 - Dental Exchanges",null,"Indiana - IN","IN"]
[null,null,null,null,null,null,null,null,null,"Dental OU",null,"Iowa - IA","IA"]
[null,null,null,null,null,null,null,null,null,"Operating Units",null,"Kansas - KS","KS"]
[null,null,null,null,null,null,null,null,null,null,null,"Kentucky - KY","KY"]
[null,null,null,null,null,null,null,null,null,null,null,"Louisiana - LA","LA"]
[null,null,null,null,null,null,null,null,null,null,null,"Maine - ME","ME"]
[null,null,null,null,null,null,null,null,null,null,null,"Maryland - MD","MD"]
[null,null,null,null,null,null,null,null,null,null,null,"Massachusetts - MA","MA"]
[null,null,null,null,null,null,null,null,null,null,null,"Michigan - MI","MI"]
[null,null,null,null,null,null,null,null,null,null,null,"Minnesota - MN","MN"]
[null,null,null,null,null,null,null,null,null,null,null,"Mississippi - MS","MS"]
[null,null,null,null,null,null,null,null,null,null,null,"Missouri - MO","MO"]
[null,null,null,null,null,null,null,null,null,null,null,"Montana - MT","MT"]
[null,null,null,null,null,null,null,null,null,null,null,"Nebraska - NE","NE"]
[null,null,null,null,null,null,null,null,null,null,null,"Nevada - NV","NV"]
[null,null,null,null,null,null,null,null,null,null,null,"New Hampshire - NH","NH"]
[null,null,null,null,null,null,null,null,null,null,null,"New Jersey - NJ","NJ"]
[null,null,null,null,null,null,null,null,null,null,null,"New Mexico - NM","NM"]
[null,null,null,null,null,null,null,null,null,null,null,"New York - NY","NY"]
[null,null,null,null,null,null,null,null,null,null,null,"North Carolina - NC","NC"]
[null,null,null,null,null,null,null,null,null,null,null,"North Dakota - ND","ND"]
[null,null,null,null,null,null,null,null,null,null,null,"Ohio - OH","OH"]
[null,null,null,null,null,null,null,null,null,null,null,"Oklahoma - OK","OK"]
[null,null,null,null,null,null,null,null,null,null,null,"Oregon - OR","OR"]
[null,null,null,null,null,null,null,null,null,null,null,"Pennsylvania - PA","PA"]
[null,null,null,null,null,null,null,null,null,null,null,"Rhode Island - RI","RI"]
[null,null,null,null,null,null,null,null,null,null,null,"South Carolina - SC","SC"]
[null,null,null,null,null,null,null,null,null,null,null,"South Dakota - SD","SD"]
[null,null,null,null,null,null,null,null,null,null,null,"Tennessee - TN","TN"]
[null,null,null,null,null,null,null,null,null,null,null,"Texas - TX","TX"]
[null,null,null,null,null,null,null,null,null,null,null,"Utah - UT","UT"]
[null,null,null,null,null,null,null,null,null,null,null,"Vermont - VT","VT"]
[null,null,null,null,null,null,null,null,null,null,null,"Virginia - VA","VA"]
[null,null,null,null,null,null,null,null,null,null,null,"Washington - WA","WA"]
[null,null,null,null,null,null,null,null,null,null,null,"West Virginia - WV","WV"]
[null,null,null,null,null,null,null,null,null,null,null,"Wisconsin - WI","WI"]
[null,null,null,null,null,null,null,null,null,null,null,"Wyoming - WY","WY"]
[null,null,null,null,null,null,null,null,null,null,null,"District Of Columbia - DC","DC"]
[]
[null,null,null,null,null,null,null,null,null,null,null,"American Samoa","AS"]
[null,null,null,null,null,null,null,null,null,null,null,"Canada","CA"]
[null,null,null,null,null,null,null,null,null,null,null,"Virgin Islands","VI"]
[]
[null,null,null,null,null,null,null,null,null,null,null,"Total Central Regional","XX"]
[null,null,null,null,null,null,null,null,null,null,null,"Total Northeast Regional","XX"]
[null,null,null,null,null,null,null,null,null,null,null,"Total Southeast Regional","XX"]
[null,null,null,null,null,null,null,null,null,null,null,"Total West Regional","XX"]
[]
[null,null,null,null,null,null,null,null,null,null,null,"US Regions States","XX"]
[null,null,null,null,null,null,null,null,null,null,null,"US Regions Other","XX"]
[]
[null,null,null,null,null,null,null,null,null,null,null,"Central Region US","XX"]
[null,null,null,null,null,null,null,null,null,null,null,"Northeast Region US","XX"]
[null,null,null,null,null,null,null,null,null,null,null,"Southeast Region US","XX"]
[null,null,null,null,null,null,null,null,null,null,null,"West Region US","XX"]
[]
[null,null,null,null,null,null,null,null,null,null,null,"Corporate Other Region","XX"]
[null,null,null,null,null,null,null,null,null,null,null,"Segment Support","XX"]
[null,null,null,null,null,null,null,null,null,null,null,"Corporate Segment","XX"]

{"sheet":"Dashboard","index":4,"n_rows":29,"n_cols":13,"rows_kept":29,"cut":false,"hidden":true,"merged":[[4,1,4,12],[5,1,5,6],[5,7,5,12],[6,1,6,2],[6,3,6,4],[6,5,6,6],[6,7,6,8],[6,9,6,10],[6,11,6,12]]}
[{"$f":"'Essbase Input'!C8","v":"UnitedHealthcare Life Ins Co"}]
[{"$f":"+'Essbase Input'!$C$9","v":"California - CA"}]
[{"$f":"+'Essbase Input'!$C$11","v":"Stand Alone Dental"}]
[{"$f":"'Essbase Input'!$C$12","v":"2022"}]
[null,"Health Insurance Coverage"]
[null,"DHMO Products",null,null,null,null,null,"DPPO & Indemnity Products"]
[null,"Individual",null,"Small Group",null,"Large Group",null,"Individual",null,"Small Group",null,"Large Group"]
[null,"Total as of ","Total as of ","Total as of ","Total as of ","Total as of ","Total as of ","Total as of ","Total as of ","Total as of ","Total as of ","Total as of ","Total as of "]
["Metrics",{"$f":"\"12/31/\"&RIGHT('Essbase Input'!$C$17,2)","v":"12/31/22"},{"$f":"\"3/31/\"&RIGHT('Essbase Input'!$C$16,2)","v":"3/31/23"},{"$f":"\"12/31/\"&RIGHT('Essbase Input'!$C$17,2)","v":"12/31/22"},{"$f":"\"3/31/\"&RIGHT('Essbase Input'!$C$16,2)","v":"3/31/23"},{"$f":"\"12/31/\"&RIGHT('Essbase Input'!$C$17,2)","v":"12/31/22"},{"$f":"\"3/31/\"&RIGHT('Essbase Input'!$C$16,2)","v":"3/31/23"},{"$f":"\"12/31/\"&RIGHT('Essbase Input'!$C$17,2)","v":"12/31/22"},{"$f":"\"3/31/\"&RIGHT('Essbase Input'!$C$16,2)","v":"3/31/23"},{"$f":"\"12/31/\"&RIGHT('Essbase Input'!$C$17,2)","v":"12/31/22"},{"$f":"\"3/31/\"&RIGHT('Essbase Input'!$C$16,2)","v":"3/31/23"},{"$f":"\"12/31/\"&RIGHT('Essbase Input'!$C$17,2)","v":"12/31/22"},{"$f":"\"3/31/\"&RIGHT('Essbase Input'!$C$16,2)","v":"3/31/23"}]
["Gross Margin"]
["Health Premiums Earned PMPM (Line 1.1 / Member Months)",{"$f":"IF(ISERROR('Pt 1 Summary of Data - Final'!E21/'Pt 1 Summary of Data - Final'!E48),0,'Pt 1 Summary of Data - Final'!E21/'Pt 1 Summary of Data - Final'!E48)","v":0},{"$f":"IF(ISERROR('Pt 1 Summary of Data - Final'!F21/'Pt 1 Summary of Data - Final'!F48),0,'Pt 1 Summary of Data - Final'!F21/'Pt 1 Summary of Data - Final'!F48)","v":0},{"$f":"IF(ISERROR('Pt 1 Summary of Data - Final'!G21/'Pt 1 Summary of Data - Final'!G48),0,'Pt 1 Summary of Data - Final'!G21/'Pt 1 Summary of Data - Final'!G48)","v":0},{"$f":"IF(ISERROR('Pt 1 Summary of Data - Final'!H21/'Pt 1 Summary of Data - Final'!H48),0,'Pt 1 Summary of Data - Final'!H21/'Pt 1 Summary of Data - Final'!H48)","v":0},{"$f":"IF(ISERROR('Pt 1 Summary of Data - Final'!I21/'Pt 1 Summary of Data - Final'!I48),0,'Pt 1 Summary of Data - Final'!I21/'Pt 1 Summary of Data - Final'!I48)","v":0},{"$f":"IF(ISERROR('Pt 1 Summary of Data - Final'!J21/'Pt 1 Summary of Data - Final'!J48),0,'Pt 1 Summary of Data - Final'!J21/'Pt 1 Summary of Data - Final'!J48)","v":0},{"$f":"IF(ISERROR('Pt 1 Summary of Data - Final'!K21/'Pt 1 Summary of Data - Final'!K48),0,'Pt 1 Summary of Data - Final'!K21/'Pt 1 Summary of Data - Final'!K48)","v":49.920123668842336},{"$f":"IF(ISERROR('Pt 1 Summary of Data - Final'!L21/'Pt 1 Summary of Data - Final'!L48),0,'Pt 1 Summary of Data - Final'!L21/'Pt 1 Summary of Data - Final'!L48)","v":49.921005163511197},{"$f":"IF(ISERROR('Pt 1 Summary of Data - Final'!M21/'Pt 1 Summary of Data - Final'!M48),0,'Pt 1 Summary of Data - Final'!M21/'Pt 1 Summary of Data - Final'!M48)","v":0},{"$f":"IF(ISERROR('Pt 1 Summary of Data - Final'!N21/'Pt 1 Summary of Data - Final'!N48),0,'Pt 1 Summary of Data - Final'!N21/'Pt 1 Summary of Data - Final'!N48)","v":0},{"$f":"IF(ISERROR('Pt 1 Summary of Data - Final'!O21/'Pt 1 Summary of Data - Final'!O48),0,'Pt 1 Summary of Data - Final'!O21/'Pt 1 Summary of Data - Final'!O48)","v":0},{"$f":"IF(ISERROR('Pt 1 Summary of Data - Final'!P21/'Pt 1 Summary of Data - Final'!P48),0,'Pt 1 Summary of Data - Final'!P21/'Pt 1 Summary of Data - Final'!P48)","v":0}]
["Total Incurred Claims PMPM (Line 2.1 / Member Months)",{"$f":"IF(ISERROR('Pt 1 Summary of Data - Final'!E24/'Pt 1 Summary of Data - Final'!E48),0,'Pt 1 Summary of Data - Final'!E24/'Pt 1 Summary of Data - Final'!E48)","v":0},{"$f":"IF(ISERROR('Pt 1 Summary of Data - Final'!F24/'Pt 1 Summary of Data - Final'!F48),0,'Pt 1 Summary of Data - Final'!F24/'Pt 1 Summary of Data - Final'!F48)","v":0},{"$f":"IF(ISERROR('Pt 1 Summary of Data - Final'!G24/'Pt 1 Summary of Data - Final'!G48),0,'Pt 1 Summary of Data - Final'!G24/'Pt 1 Summary of Data - Final'!G48)","v":0},{"$f":"IF(ISERROR('Pt 1 Summary of Data - Final'!H24/'Pt 1 Summary of Data - Final'!H48),0,'Pt 1 Summary of Data - Final'!H24/'Pt 1 Summary of Data - Final'!H48)","v":0},{"$f":"IF(ISERROR('Pt 1 Summary of Data - Final'!I24/'Pt 1 Summary of Data - Final'!I48),0,'Pt 1 Summary of Data - Final'!I24/'Pt 1 Summary of Data - Final'!I48)","v":0},{"$f":"IF(ISERROR('Pt 1 Summary of Data - Final'!J24/'Pt 1 Summary of Data - Final'!J48),0,'Pt 1 Summary of Data - Final'!J24/'Pt 1 Summary of Data - Final'!J48)","v":0},{"$f":"IF(ISERROR('Pt 1 Summary of Data - Final'!K24/'Pt 1 Summary of Data - Final'!K48),0,'Pt 1 Summary of Data - Final'!K24/'Pt 1 Summary of Data - Final'!K48)","v":26.015427688079701},{"$f":"IF(ISERROR('Pt 1 Summary of Data - Final'!L24/'Pt 1 Summary of Data - Final'!L48),0,'Pt 1 Summary of Data - Final'!L24/'Pt 1 Summary of Data - Final'!L48)","v":27.559070567986232},{"$f":"IF(ISERROR('Pt 1 Summary of Data - Final'!M24/'Pt 1 Summary of Data - Final'!M48),0,'Pt 1 Summary of Data - Final'!M24/'Pt 1 Summary of Data - Final'!M48)","v":0},{"$f":"IF(ISERROR('Pt 1 Summary of Data - Final'!N24/'Pt 1 Summary of Data - Final'!N48),0,'Pt 1 Summary of Data - Final'!N24/'Pt 1 Summary of Data - Final'!N48)","v":0},{"$f":"IF(ISERROR('Pt 1 Summary of Data - Final'!O24/'Pt 1 Summary of Data - Final'!O48),0,'Pt 1 Summary of Data - Final'!O24/'Pt 1 Summary of Data - Final'!O48)","v":0},{"$f":"IF(ISERROR('Pt 1 Summary of Data - Final'!P24/'Pt 1 Summary of Data - Final'!P48),0,'Pt 1 Summary of Data - Final'!P24/'Pt 1 Summary of Data - Final'!P48)","v":0}]
["Non-Claims Costs"]
["Total Non-Claims Costs % of Premiums (Line 4.5 / Line 1.1)",{"$f":"IF(ISERROR('Pt 1 Summary of Data - Final'!E44/'Pt 1 Summary of Data - Final'!E21),0,'Pt 1 Summary of Data - Final'!E44/'Pt 1 Summary of Data - Final'!E21)","v":0},{"$f":"IF(ISERROR('Pt 1 Summary of Data - Final'!F44/'Pt 1 Summary of Data - Final'!F21),0,'Pt 1 Summary of Data - Final'!F44/'Pt 1 Summary of Data - Final'!F21)","v":0},{"$f":"IF(ISERROR('Pt 1 Summary of Data - Final'!G44/'Pt 1 Summary of Data - Final'!G21),0,'Pt 1 Summary of Data - Final'!G44/'Pt 1 Summary of Data - Final'!G21)","v":0},{"$f":"IF(ISERROR('Pt 1 Summary of Data - Final'!H44/'Pt 1 Summary of Data - Final'!H21),0,'Pt 1 Summary of Data - Final'!H44/'Pt 1 Summary of Data - Final'!H21)","v":0},{"$f":"IF(ISERROR('Pt 1 Summary of Data - Final'!I44/'Pt 1 Summary of Data - Final'!I21),0,'Pt 1 Summary of Data - Final'!I44/'Pt 1 Summary of Data - Final'!I21)","v":0},{"$f":"IF(ISERROR('Pt 1 Summary of Data - Final'!J44/'Pt 1 Summary of Data - Final'!J21),0,'Pt 1 Summary of Data - Final'!J44/'Pt 1 Summary of Data - Final'!J21)","v":0},{"$f":"IF(ISERROR('Pt 1 Summary of Data - Final'!K44/'Pt 1 Summary of Data - Final'!K21),0,'Pt 1 Summary of Data - Final'!K44/'Pt 1 Summary of Data - Final'!K21)","v":0.24171689462272525},{"$f":"IF(ISERROR('Pt 1 Summary of Data - Final'!L44/'Pt 1 Summary of Data - Final'!L21),0,'Pt 1 Summary of Data - Final'!L44/'Pt 1 Summary of Data - Final'!L21)","v":0.24221186077666795},{"$f":"IF(ISERROR('Pt 1 Summary of Data - Final'!M44/'Pt 1 Summary of Data - Final'!M21),0,'Pt 1 Summary of Data - Final'!M44/'Pt 1 Summary of Data - Final'!M21)","v":0},{"$f":"IF(ISERROR('Pt 1 Summary of Data - Final'!N44/'Pt 1 Summary of Data - Final'!N21),0,'Pt 1 Summary of Data - Final'!N44/'Pt 1 Summary of Data - Final'!N21)","v":0},{"$f":"IF(ISERROR('Pt 1 Summary of Data - Final'!O44/'Pt 1 Summary of Data - Final'!O21),0,'Pt 1 Summary of Data - Final'!O44/'Pt 1 Summary of Data - Final'!O21)","v":0},{"$f":"IF(ISERROR('Pt 1 Summary of Data - Final'!P44/'Pt 1 Summary of Data - Final'!P21),0,'Pt 1 Summary of Data - Final'!P44/'Pt 1 Summary of Data - Final'!P21)","v":0}]
["Direct Sal. & Benefits % of Premiums (Line 4.1 / Line 1.1)",{"$f":"IF(ISERROR('Pt 1 Summary of Data - Final'!E38/'Pt 1 Summary of Data - Final'!E$21),0,'Pt 1 Summary of Data - Final'!E38/'Pt 1 Summary of Data - Final'!E$21)","v":0},{"$f":"IF(ISERROR('Pt 1 Summary of Data - Final'!F38/'Pt 1 Summary of Data - Final'!F$21),0,'Pt 1 Summary of Data - Final'!F38/'Pt 1 Summary of Data - Final'!F$21)","v":0},{"$f":"IF(ISERROR('Pt 1 Summary of Data - Final'!G38/'Pt 1 Summary of Data - Final'!G$21),0,'Pt 1 Summary of Data - Final'!G38/'Pt 1 Summary of Data - Final'!G$21)","v":0},{"$f":"IF(ISERROR('Pt 1 Summary of Data - Final'!H38/'Pt 1 Summary of Data - Final'!H$21),0,'Pt 1 Summary of Data - Final'!H38/'Pt 1 Summary of Data - Final'!H$21)","v":0},{"$f":"IF(ISERROR('Pt 1 Summary of Data - Final'!I38/'Pt 1 Summary of Data - Final'!I$21),0,'Pt 1 Summary of Data - Final'!I38/'Pt 1 Summary of Data - Final'!I$21)","v":0},{"$f":"IF(ISERROR('Pt 1 Summary of Data - Final'!J38/'Pt 1 Summary of Data - Final'!J$21),0,'Pt 1 Summary of Data - Final'!J38/'Pt 1 Summary of Data - Final'!J$21)","v":0},{"$f":"IF(ISERROR('Pt 1 Summary of Data - Final'!K38/'Pt 1 Summary of Data - Final'!K$21),0,'Pt 1 Summary of Data - Final'!K38/'Pt 1 Summary of Data - Final'!K$21)","v":0},{"$f":"IF(ISERROR('Pt 1 Summary of Data - Final'!L38/'Pt 1 Summary of Data - Final'!L$21),0,'Pt 1 Summary of Data - Final'!L38/'Pt 1 Summary of Data - Final'!L$21)","v":0},{"$f":"IF(ISERROR('Pt 1 Summary of Data - Final'!M38/'Pt 1 Summary of Data - Final'!M$21),0,'Pt 1 Summary of Data - Final'!M38/'Pt 1 Summary of Data - Final'!M$21)","v":0},{"$f":"IF(ISERROR('Pt 1 Summary of Data - Final'!N38/'Pt 1 Summary of Data - Final'!N$21),0,'Pt 1 Summary of Data - Final'!N38/'Pt 1 Summary of Data - Final'!N$21)","v":0},{"$f":"IF(ISERROR('Pt 1 Summary of Data - Final'!O38/'Pt 1 Summary of Data - Final'!O$21),0,'Pt 1 Summary of Data - Final'!O38/'Pt 1 Summary of Data - Final'!O$21)","v":0},{"$f":"IF(ISERROR('Pt 1 Summary of Data - Final'!P38/'Pt 1 Summary of Data - Final'!P$21),0,'Pt 1 Summary of Data - Final'!P38/'Pt 1 Summary of Data - Final'!P$21)","v":0}]
["Agents, Broker Fees & Comm. % of Premiums (Line 4.2 / Line 1.1)",{"$f":"IF(ISERROR('Pt 1 Summary of Data - Final'!E39/'Pt 1 Summary of Data - Final'!E$21),0,'Pt 1 Summary of Data - Final'!E39/'Pt 1 Summary of Data - Final'!E$21)","v":0},{"$f":"IF(ISERROR('Pt 1 Summary of Data - Final'!F39/'Pt 1 Summary of Data - Final'!F$21),0,'Pt 1 Summary of Data - Final'!F39/'Pt 1 Summary of Data - Final'!F$21)","v":0},{"$f":"IF(ISERROR('Pt 1 Summary of Data - Final'!G39/'Pt 1 Summary of Data - Final'!G$21),0,'Pt 1 Summary of Data - Final'!G39/'Pt 1 Summary of Data - Final'!G$21)","v":0},{"$f":"IF(ISERROR('Pt 1 Summary of Data - Final'!H39/'Pt 1 Summary of Data - Final'!H$21),0,'Pt 1 Summary of Data - Final'!H39/'Pt 1 Summary of Data - Final'!H$21)","v":0},{"$f":"IF(ISERROR('Pt 1 Summary of Data - Final'!I39/'Pt 1 Summary of Data - Final'!I$21),0,'Pt 1 Summary of Data - Final'!I39/'Pt 1 Summary of Data - Final'!I$21)","v":0},{"$f":"IF(ISERROR('Pt 1 Summary of Data - Final'!J39/'Pt 1 Summary of Data - Final'!J$21),0,'Pt 1 Summary of Data - Final'!J39/'Pt 1 Summary of Data - Final'!J$21)","v":0},{"$f":"IF(ISERROR('Pt 1 Summary of Data - Final'!K39/'Pt 1 Summary of Data - Final'!K$21),0,'Pt 1 Summary of Data - Final'!K39/'Pt 1 Summary of Data - Final'!K$21)","v":6.3202926447664773E-2},{"$f":"IF(ISERROR('Pt 1 Summary of Data - Final'!L39/'Pt 1 Summary of Data - Final'!L$21),0,'Pt 1 Summary of Data - Final'!L39/'Pt 1 Summary of Data - Final'!L$21)","v":6.3332347725687368E-2},{"$f":"IF(ISERROR('Pt 1 Summary of Data - Final'!M39/'Pt 1 Summary of Data - Final'!M$21),0,'Pt 1 Summary of Data - Final'!M39/'Pt 1 Summary of Data - Final'!M$21)","v":0},{"$f":"IF(ISERROR('Pt 1 Summary of Data - Final'!N39/'Pt 1 Summary of Data - Final'!N$21),0,'Pt 1 Summary of Data - Final'!N39/'Pt 1 Summary of Data - Final'!N$21)","v":0},{"$f":"IF(ISERROR('Pt 1 Summary of Data - Final'!O39/'Pt 1 Summary of Data - Final'!O$21),0,'Pt 1 Summary of Data - Final'!O39/'Pt 1 Summary of Data - Final'!O$21)","v":0},{"$f":"IF(ISERROR('Pt 1 Summary of Data - Final'!P39/'Pt 1 Summary of Data - Final'!P$21),0,'Pt 1 Summary of Data - Final'!P39/'Pt 1 Summary of Data - Final'!P$21)","v":0}]
["Management Fee % of Premiums (Acct 76000 / Line 1.1)",{"$f":"IF(VLOOKUP('Essbase Input'!$C$8,Tables!$B:$F,5,FALSE)=\"DPPO\",0,IF(ISERROR('EB PT 1'!K64/'Pt 1 Summary of Data - Final'!E21),0,'EB PT 1'!K64/'Pt 1 Summary of Data - Final'!E21))","v":0},{"$f":"+B17","v":0},{"$f":"IF(VLOOKUP('Essbase Input'!$C$8,Tables!$B:$F,5,FALSE)=\"DPPO\",0,IF(ISERROR('EB PT 1'!M64/'Pt 1 Summary of Data - Final'!G21),0,'EB PT 1'!M64/'Pt 1 Summary of Data - Final'!G21))","v":0},{"$f":"+D17","v":0},{"$f":"IF(VLOOKUP('Essbase Input'!$C$8,Tables!$B:$F,5,FALSE)=\"DPPO\",0,IF(ISERROR('EB PT 1'!O64/'Pt 1 Summary of Data - Final'!I21),0,'EB PT 1'!O64/'Pt 1 Summary of Data - Final'!I21))","v":0},{"$f":"+F17","v":0},{"$f":"IF(VLOOKUP('Essbase Input'!$C$8,Tables!$B:$F,5,FALSE)=\"DHMO\",0,IF('Essbase Input'!$C$8=\"Golden Rule Insurance Company\",'EB PT 1'!Q64/'Pt 1 Summary of Data - Final'!K21,IF(ISERROR('EB PT 1'!K64/'Pt 1 Summary of Data - Final'!K21),0,'EB PT 1'!K64/'Pt 1 Summary of Data - Final'!K21)))","v":0.11559999526553855},{"$f":"+H17","v":0.11559999526553855},{"$f":"IF(VLOOKUP('Essbase Input'!$C$8,Tables!$B:$F,5,FALSE)=\"DHMO\",0,IF('Essbase Input'!$C$8=\"Golden Rule Insurance Company\",0,IF(ISERROR('EB PT 1'!M64/'Pt 1 Summary of Data - Final'!M21),0,'EB PT 1'!M64/'Pt 1 Summary of Data - Final'!M21)))","v":0},{"$f":"+J17","v":0},{"$f":"IF(VLOOKUP('Essbase Input'!$C$8,Tables!$B:$F,5,FALSE)=\"DHMO\",0,IF('Essbase Input'!$C$8=\"Golden Rule Insurance Company\",0,IF(ISERROR('EB PT 1'!O64/'Pt 1 Summary of Data - Final'!O21),0,'EB PT 1'!O64/'Pt 1 Summary of Data - Final'!O21)))","v":0},{"$f":"+L17","v":0}]
["Salaries as a % of MGMT Fees (Line 4.1 / Acct 76000)",{"$f":"IF(VLOOKUP('Essbase Input'!$C$8,Tables!$B:$F,5,FALSE)=\"DPPO\",0,IF(ISERROR('Pt 1 Summary of Data - Final'!E38/'EB PT 1'!K64),0,'Pt 1 Summary of Data - Final'!E38/'EB PT 1'!K64))","v":0},{"$f":"+B18","v":0},{"$f":"IF(VLOOKUP('Essbase Input'!$C$8,Tables!$B:$F,5,FALSE)=\"DPPO\",0,IF(ISERROR('Pt 1 Summary of Data - Final'!G38/'EB PT 1'!M64),0,'Pt 1 Summary of Data - Final'!G38/'EB PT 1'!M64))","v":0},{"$f":"+D18","v":0},{"$f":"IF(VLOOKUP('Essbase Input'!$C$8,Tables!$B:$F,5,FALSE)=\"DPPO\",0,IF(ISERROR('Pt 1 Summary of Data - Final'!I38/'EB PT 1'!O64),0,'Pt 1 Summary of Data - Final'!I38/'EB PT 1'!O64))","v":0},{"$f":"+F18","v":0},{"$f":"IF(VLOOKUP('Essbase Input'!$C$8,Tables!$B:$F,5,FALSE)=\"DHMO\",0,IF('Essbase Input'!$C$8=\"Golden Rule Insurance Company\",'Pt 1 Summary of Data - Final'!K38/'EB PT 1'!Q64,IF(ISERROR('Pt 1 Summary of Data - Final'!K38/'EB PT 1'!K64),0,'Pt 1 Summary of Data - Final'!K38/'EB PT 1'!K64)))","v":0},{"$f":"+H18","v":0},{"$f":"IF(VLOOKUP('Essbase Input'!$C$8,Tables!$B:$F,5,FALSE)=\"DHMO\",0,IF('Essbase Input'!$C$8=\"Golden Rule Insurance Company\",0,IF(ISERROR('Pt 1 Summary of Data - Final'!M38/'EB PT 1'!M64),0,'Pt 1 Summary of Data - Final'!M38/'EB PT 1'!M64)))","v":0},{"$f":"+J18","v":0},{"$f":"IF(VLOOKUP('Essbase Input'!$C$8,Tables!$B:$F,5,FALSE)=\"DHMO\",0,IF('Essbase Input'!$C$8=\"Golden Rule Insurance Company\",0,IF(ISERROR('Pt 1 Summary of Data - Final'!O38/'EB PT 1'!O64),0,'Pt 1 Summary of Data - Final'!O38/'EB PT 1'!O64)))","v":0},{"$f":"+L18","v":0}]
["Taxes"]
["Effective Tax Rate - Federal (Line 3.1 / (Line 1.1 - 2.1 - 4.5))",{"$f":"IF(ISERROR(SUM('Pt 1 Summary of Data - Final'!E28:E29)/('Pt 1 Summary of Data - Final'!E21-'Pt 1 Summary of Data - Final'!E24-'Pt 1 Summary of Data - Final'!E44)),0,SUM('Pt 1 Summary of Data - Final'!E28:E29)/('Pt 1 Summary of Data - Final'!E21-'Pt 1 Summary of Data - Final'!E24-'Pt 1 Summary of Data - Final'!E44))","v":0},{"$f":"IF(ISERROR(SUM('Pt 1 Summary of Data - Final'!F28:F29)/('Pt 1 Summary of Data - Final'!F21-'Pt 1 Summary of Data - Final'!F24-'Pt 1 Summary of Data - Final'!F44)),0,SUM('Pt 1 Summary of Data - Final'!F28:F29)/('Pt 1 Summary of Data - Final'!F21-'Pt 1 Summary of Data - Final'!F24-'Pt 1 Summary of Data - Final'!F44))","v":0},{"$f":"IF(ISERROR(SUM('Pt 1 Summary of Data - Final'!G28:G29)/('Pt 1 Summary of Data - Final'!G21-'Pt 1 Summary of Data - Final'!G24-'Pt 1 Summary of Data - Final'!G44)),0,SUM('Pt 1 Summary of Data - Final'!G28:G29)/('Pt 1 Summary of Data - Final'!G21-'Pt 1 Summary of Data - Final'!G24-'Pt 1 Summary of Data - Final'!G44))","v":0},{"$f":"IF(ISERROR(SUM('Pt 1 Summary of Data - Final'!H28:H29)/('Pt 1 Summary of Data - Final'!H21-'Pt 1 Summary of Data - Final'!H24-'Pt 1 Summary of Data - Final'!H44)),0,SUM('Pt 1 Summary of Data - Final'!H28:H29)/('Pt 1 Summary of Data - Final'!H21-'Pt 1 Summary of Data - Final'!H24-'Pt 1 Summary of Data - Final'!H44))","v":0},{"$f":"IF(ISERROR(SUM('Pt 1 Summary of Data - Final'!I28:I29)/('Pt 1 Summary of Data - Final'!I21-'Pt 1 Summary of Data - Final'!I24-'Pt 1 Summary of Data - Final'!I44)),0,SUM('Pt 1 Summary of Data - Final'!I28:I29)/('Pt 1 Summary of Data - Final'!I21-'Pt 1 Summary of Data - Final'!I24-'Pt 1 Summary of Data - Final'!I44))","v":0},{"$f":"IF(ISERROR(SUM('Pt 1 Summary of Data - Final'!J28:J29)/('Pt 1 Summary of Data - Final'!J21-'Pt 1 Summary of Data - Final'!J24-'Pt 1 Summary of Data - Final'!J44)),0,SUM('Pt 1 Summary of Data - Final'!J28:J29)/('Pt 1 Summary of Data - Final'!J21-'Pt 1 Summary of Data - Final'!J24-'Pt 1 Summary of Data - Final'!J44))","v":0},{"$f":"IF(ISERROR(SUM('Pt 1 Summary of Data - Final'!K28:K29)/('Pt 1 Summary of Data - Final'!K21-'Pt 1 Summary of Data - Final'!K24-'Pt 1 Summary of Data - Final'!K44)),0,SUM('Pt 1 Summary of Data - Final'!K28:K29)/('Pt 1 Summary of Data - Final'!K21-'Pt 1 Summary of Data - Final'!K24-'Pt 1 Summary of Data - Final'!K44))","v":0.1615965697916012},{"$f":"IF(ISERROR(SUM('Pt 1 Summary of Data - Final'!L28:L29)/('Pt 1 Summary of Data - Final'!L21-'Pt 1 Summary of Data - Final'!L24-'Pt 1 Summary of Data - Final'!L44)),0,SUM('Pt 1 Summary of Data - Final'!L28:L29)/('Pt 1 Summary of Data - Final'!L21-'Pt 1 Summary of Data - Final'!L24-'Pt 1 Summary of Data - Final'!L44))","v":0.18664735201719537},{"$f":"IF(ISERROR(SUM('Pt 1 Summary of Data - Final'!M28:M29)/('Pt 1 Summary of Data - Final'!M21-'Pt 1 Summary of Data - Final'!M24-'Pt 1 Summary of Data - Final'!M44)),0,SUM('Pt 1 Summary of Data - Final'!M28:M29)/('Pt 1 Summary of Data - Final'!M21-'Pt 1 Summary of Data - Final'!M24-'Pt 1 Summary of Data - Final'!M44))","v":0},{"$f":"IF(ISERROR(SUM('Pt 1 Summary of Data - Final'!N28:N29)/('Pt 1 Summary of Data - Final'!N21-'Pt 1 Summary of Data - Final'!N24-'Pt 1 Summary of Data - Final'!N44)),0,SUM('Pt 1 Summary of Data - Final'!N28:N29)/('Pt 1 Summary of Data - Final'!N21-'Pt 1 Summary of Data - Final'!N24-'Pt 1 Summary of Data - Final'!N44))","v":0},{"$f":"IF(ISERROR(SUM('Pt 1 Summary of Data - Final'!O28:O29)/('Pt 1 Summary of Data - Final'!O21-'Pt 1 Summary of Data - Final'!O24-'Pt 1 Summary of Data - Final'!O44)),0,SUM('Pt 1 Summary of Data - Final'!O28:O29)/('Pt 1 Summary of Data - Final'!O21-'Pt 1 Summary of Data - Final'!O24-'Pt 1 Summary of Data - Final'!O44))","v":0},{"$f":"IF(ISERROR(SUM('Pt 1 Summary of Data - Final'!P28:P29)/('Pt 1 Summary of Data - Final'!P21-'Pt 1 Summary of Data - Final'!P24-'Pt 1 Summary of Data - Final'!P44)),0,SUM('Pt 1 Summary of Data - Final'!P28:P29)/('Pt 1 Summary of Data - Final'!P21-'Pt 1 Summary of Data - Final'!P24-'Pt 1 Summary of Data - Final'!P44))","v":0}]
["Effective Tax Rate - State & Local (Line 3.2 / (Line 1.1 - 2.1 - 4.5))",{"$f":"IF(ISERROR(SUM('Pt 1 Summary of Data - Final'!E31:E34)/('Pt 1 Summary of Data - Final'!E21-'Pt 1 Summary of Data - Final'!E24-'Pt 1 Summary of Data - Final'!E44)),0,SUM('Pt 1 Summary of Data - Final'!E31:E34)/('Pt 1 Summary of Data - Final'!E21-'Pt 1 Summary of Data - Final'!E24-'Pt 1 Summary of Data - Final'!E44))","v":0},{"$f":"IF(ISERROR(SUM('Pt 1 Summary of Data - Final'!F31:F34)/('Pt 1 Summary of Data - Final'!F21-'Pt 1 Summary of Data - Final'!F24-'Pt 1 Summary of Data - Final'!F44)),0,SUM('Pt 1 Summary of Data - Final'!F31:F34)/('Pt 1 Summary of Data - Final'!F21-'Pt 1 Summary of Data - Final'!F24-'Pt 1 Summary of Data - Final'!F44))","v":0},{"$f":"IF(ISERROR(SUM('Pt 1 Summary of Data - Final'!G31:G34)/('Pt 1 Summary of Data - Final'!G21-'Pt 1 Summary of Data - Final'!G24-'Pt 1 Summary of Data - Final'!G44)),0,SUM('Pt 1 Summary of Data - Final'!G31:G34)/('Pt 1 Summary of Data - Final'!G21-'Pt 1 Summary of Data - Final'!G24-'Pt 1 Summary of Data - Final'!G44))","v":0},{"$f":"IF(ISERROR(SUM('Pt 1 Summary of Data - Final'!H31:H34)/('Pt 1 Summary of Data - Final'!H21-'Pt 1 Summary of Data - Final'!H24-'Pt 1 Summary of Data - Final'!H44)),0,SUM('Pt 1 Summary of Data - Final'!H31:H34)/('Pt 1 Summary of Data - Final'!H21-'Pt 1 Summary of Data - Final'!H24-'Pt 1 Summary of Data - Final'!H44))","v":0},{"$f":"IF(ISERROR(SUM('Pt 1 Summary of Data - Final'!I31:I34)/('Pt 1 Summary of Data - Final'!I21-'Pt 1 Summary of Data - Final'!I24-'Pt 1 Summary of Data - Final'!I44)),0,SUM('Pt 1 Summary of Data - Final'!I31:I34)/('Pt 1 Summary of Data - Final'!I21-'Pt 1 Summary of Data - Final'!I24-'Pt 1 Summary of Data - Final'!I44))","v":0},{"$f":"IF(ISERROR(SUM('Pt 1 Summary of Data - Final'!J31:J34)/('Pt 1 Summary of Data - Final'!J21-'Pt 1 Summary of Data - Final'!J24-'Pt 1 Summary of Data - Final'!J44)),0,SUM('Pt 1 Summary of Data - Final'!J31:J34)/('Pt 1 Summary of Data - Final'!J21-'Pt 1 Summary of Data - Final'!J24-'Pt 1 Summary of Data - Final'!J44))","v":0},{"$f":"IF(ISERROR(SUM('Pt 1 Summary of Data - Final'!K31:K34)/('Pt 1 Summary of Data - Final'!K21-'Pt 1 Summary of Data - Final'!K24-'Pt 1 Summary of Data - Final'!K44)),0,SUM('Pt 1 Summary of Data - Final'!K31:K34)/('Pt 1 Summary of Data - Final'!K21-'Pt 1 Summary of Data - Final'!K24-'Pt 1 Summary of Data - Final'!K44))","v":0.24954150909669137},{"$f":"IF(ISERROR(SUM('Pt 1 Summary of Data - Final'!L31:L34)/('Pt 1 Summary of Data - Final'!L21-'Pt 1 Summary of Data - Final'!L24-'Pt 1 Summary of Data - Final'!L44)),0,SUM('Pt 1 Summary of Data - Final'!L31:L34)/('Pt 1 Summary of Data - Final'!L21-'Pt 1 Summary of Data - Final'!L24-'Pt 1 Summary of Data - Final'!L44))","v":0.28822556042704484},{"$f":"IF(ISERROR(SUM('Pt 1 Summary of Data - Final'!M31:M34)/('Pt 1 Summary of Data - Final'!M21-'Pt 1 Summary of Data - Final'!M24-'Pt 1 Summary of Data - Final'!M44)),0,SUM('Pt 1 Summary of Data - Final'!M31:M34)/('Pt 1 Summary of Data - Final'!M21-'Pt 1 Summary of Data - Final'!M24-'Pt 1 Summary of Data - Final'!M44))","v":0},{"$f":"IF(ISERROR(SUM('Pt 1 Summary of Data - Final'!N31:N34)/('Pt 1 Summary of Data - Final'!N21-'Pt 1 Summary of Data - Final'!N24-'Pt 1 Summary of Data - Final'!N44)),0,SUM('Pt 1 Summary of Data - Final'!N31:N34)/('Pt 1 Summary of Data - Final'!N21-'Pt 1 Summary of Data - Final'!N24-'Pt 1 Summary of Data - Final'!N44))","v":0},{"$f":"IF(ISERROR(SUM('Pt 1 Summary of Data - Final'!O31:O34)/('Pt 1 Summary of Data - Final'!O21-'Pt 1 Summary of Data - Final'!O24-'Pt 1 Summary of Data - Final'!O44)),0,SUM('Pt 1 Summary of Data - Final'!O31:O34)/('Pt 1 Summary of Data - Final'!O21-'Pt 1 Summary of Data - Final'!O24-'Pt 1 Summary of Data - Final'!O44))","v":0},{"$f":"IF(ISERROR(SUM('Pt 1 Summary of Data - Final'!P31:P34)/('Pt 1 Summary of Data - Final'!P21-'Pt 1 Summary of Data - Final'!P24-'Pt 1 Summary of Data - Final'!P44)),0,SUM('Pt 1 Summary of Data - Final'!P31:P34)/('Pt 1 Summary of Data - Final'!P21-'Pt 1 Summary of Data - Final'!P24-'Pt 1 Summary of Data - Final'!P44))","v":0}]
["Non-Claims Costs - QI/HIT"]
["QI/HIT % of Premiums",{"$f":"IF(VLOOKUP('Essbase Input'!$C$8,Tables!$B:$F,5,FALSE)=\"DPPO\",0,IF(ISERROR(SUM('EB PT 1'!$K$45:$K$50)/'Pt 1 Summary of Data - Final'!E21),0,SUM('EB PT 1'!$K$45:$K$50)/'Pt 1 Summary of Data - Final'!E21))","v":0},{"$f":"+B23","v":0},{"$f":"IF(VLOOKUP('Essbase Input'!$C$8,Tables!$B:$F,5,FALSE)=\"DPPO\",0,IF(ISERROR(SUM('EB PT 1'!$M$45:$M$50)/'Pt 1 Summary of Data - Final'!G21),0,SUM('EB PT 1'!$M$45:$M$50)/'Pt 1 Summary of Data - Final'!G21))","v":0},{"$f":"+D23","v":0},{"$f":"IF(VLOOKUP('Essbase Input'!$C$8,Tables!$B:$F,5,FALSE)=\"DPPO\",0,IF(ISERROR(SUM('EB PT 1'!$O$45:$O$50)/'Pt 1 Summary of Data - Final'!I21),0,SUM('EB PT 1'!$O$45:$O$50)/'Pt 1 Summary of Data - Final'!I21))","v":0},{"$f":"+F23","v":0},{"$f":"IF(VLOOKUP('Essbase Input'!$C$8,Tables!$B:$F,5,FALSE)=\"DHMO\",0,IF('Essbase Input'!$C$8=\"Golden Rule Insurance Company\",SUM('EB PT 1'!$Q$45:$Q$50)/'Pt 1 Summary of Data - Final'!K21,IF(ISERROR(SUM('EB PT 1'!$K$45:$K$50)/'Pt 1 Summary of Data - Final'!K21),0,SUM('EB PT 1'!$K$45:$K$50)/'Pt 1 Summary of Data - Final'!K21)))","v":0},{"$f":"+H23","v":0},{"$f":"IF(VLOOKUP('Essbase Input'!$C$8,Tables!$B:$F,5,FALSE)=\"DHMO\",0,IF('Essbase Input'!$C$8=\"Golden Rule Insurance Company\",0,IF(ISERROR(SUM('EB PT 1'!$M$45:$M$50)/'Pt 1 Summary of Data - Final'!M21),0,SUM('EB PT 1'!$M$45:$M$50)/'Pt 1 Summary of Data - Final'!M21)))","v":0},{"$f":"+J23","v":0},{"$f":"IF(VLOOKUP('Essbase Input'!$C$8,Tables!$B:$F,5,FALSE)=\"DHMO\",0,IF('Essbase Input'!$C$8=\"Golden Rule Insurance Company\",0,IF(ISERROR(SUM('EB PT 1'!$O$45:$O$50)/'Pt 1 Summary of Data - Final'!O21),0,SUM('EB PT 1'!$O$45:$O$50)/'Pt 1 Summary of Data - Final'!O21)))","v":0},{"$f":"+L23","v":0}]
["QI/HIT % of Non-Claims Costs",{"$f":"IF(VLOOKUP('Essbase Input'!$C$8,Tables!$B:$F,5,FALSE)=\"DPPO\",0,IF(ISERROR(SUM('EB PT 1'!$K$45:$K$50)/'Pt 1 Summary of Data - Final'!E44),0,SUM('EB PT 1'!$K$45:$K$50)/'Pt 1 Summary of Data - Final'!E44))","v":0},{"$f":"+B24","v":0},{"$f":"IF(VLOOKUP('Essbase Input'!$C$8,Tables!$B:$F,5,FALSE)=\"DPPO\",0,IF(ISERROR(SUM('EB PT 1'!$M$45:$M$50)/'Pt 1 Summary of Data - Final'!G44),0,SUM('EB PT 1'!$M$45:$M$50)/'Pt 1 Summary of Data - Final'!G44))","v":0},{"$f":"+D24","v":0},{"$f":"IF(VLOOKUP('Essbase Input'!$C$8,Tables!$B:$F,5,FALSE)=\"DPPO\",0,IF(ISERROR(SUM('EB PT 1'!$O$45:$O$50)/'Pt 1 Summary of Data - Final'!I44),0,SUM('EB PT 1'!$O$45:$O$50)/'Pt 1 Summary of Data - Final'!I44))","v":0},{"$f":"+F24","v":0},{"$f":"IF(VLOOKUP('Essbase Input'!$C$8,Tables!$B:$F,5,FALSE)=\"DHMO\",0,IF('Essbase Input'!$C$8=\"Golden Rule Insurance Company\",SUM('EB PT 1'!$Q$45:$Q$50)/'Pt 1 Summary of Data - Final'!K44,IF(ISERROR(SUM('EB PT 1'!$K$45:$K$50)/'Pt 1 Summary of Data - Final'!K44),0,SUM('EB PT 1'!$K$45:$K$50)/'Pt 1 Summary of Data - Final'!K44)))","v":0},{"$f":"+H24","v":0},{"$f":"IF(VLOOKUP('Essbase Input'!$C$8,Tables!$B:$F,5,FALSE)=\"DHMO\",0,IF('Essbase Input'!$C$8=\"Golden Rule Insurance Company\",0,IF(ISERROR(SUM('EB PT 1'!$M$45:$M$50)/'Pt 1 Summary of Data - Final'!M44),0,SUM('EB PT 1'!$M$45:$M$50)/'Pt 1 Summary of Data - Final'!M44)))","v":0},{"$f":"+J24","v":0},{"$f":"IF(VLOOKUP('Essbase Input'!$C$8,Tables!$B:$F,5,FALSE)=\"DHMO\",0,IF('Essbase Input'!$C$8=\"Golden Rule Insurance Company\",0,IF(ISERROR(SUM('EB PT 1'!$O$45:$O$50)/'Pt 1 Summary of Data - Final'!O44),0,SUM('EB PT 1'!$O$45:$O$50)/'Pt 1 Summary of Data - Final'!O44)))","v":0},{"$f":"+L24","v":0}]
["QI/HIT PMPM",{"$f":"IF(VLOOKUP('Essbase Input'!$C$8,Tables!$B:$F,5,FALSE)=\"DPPO\",0,IF(ISERROR(SUM('EB PT 1'!$K$45:$K$50)/'Pt 1 Summary of Data - Final'!E48),0,SUM('EB PT 1'!$K$45:$K$50)/'Pt 1 Summary of Data - Final'!E48))","v":0},{"$f":"+B25","v":0},{"$f":"IF(VLOOKUP('Essbase Input'!$C$8,Tables!$B:$F,5,FALSE)=\"DPPO\",0,IF(ISERROR(SUM('EB PT 1'!$M$45:$M$50)/'Pt 1 Summary of Data - Final'!G48),0,SUM('EB PT 1'!$M$45:$M$50)/'Pt 1 Summary of Data - Final'!G48))","v":0},{"$f":"+D25","v":0},{"$f":"IF(VLOOKUP('Essbase Input'!$C$8,Tables!$B:$F,5,FALSE)=\"DPPO\",0,IF(ISERROR(SUM('EB PT 1'!$O$45:$O$50)/'Pt 1 Summary of Data - Final'!I48),0,SUM('EB PT 1'!$O$45:$O$50)/'Pt 1 Summary of Data - Final'!I48))","v":0},{"$f":"+F25","v":0},{"$f":"IF(VLOOKUP('Essbase Input'!$C$8,Tables!$B:$F,5,FALSE)=\"DHMO\",0,IF('Essbase Input'!$C$8=\"Golden Rule Insurance Company\",SUM('EB PT 1'!$Q$45:$Q$50)/'Pt 1 Summary of Data - Final'!K48,IF(ISERROR(SUM('EB PT 1'!$K$45:$K$50)/'Pt 1 Summary of Data - Final'!K48),0,SUM('EB PT 1'!$K$45:$K$50)/'Pt 1 Summary of Data - Final'!K48)))","v":0},{"$f":"+H25","v":0},{"$f":"IF(VLOOKUP('Essbase Input'!$C$8,Tables!$B:$F,5,FALSE)=\"DHMO\",0,IF('Essbase Input'!$C$8=\"Golden Rule Insurance Company\",0,IF(ISERROR(SUM('EB PT 1'!$M$45:$M$50)/'Pt 1 Summary of Data - Final'!M48),0,SUM('EB PT 1'!$M$45:$M$50)/'Pt 1 Summary of Data - Final'!M48)))","v":0},{"$f":"+J25","v":0},{"$f":"IF(VLOOKUP('Essbase Input'!$C$8,Tables!$B:$F,5,FALSE)=\"DHMO\",0,IF('Essbase Input'!$C$8=\"Golden Rule Insurance Company\",0,IF(ISERROR(SUM('EB PT 1'!$O$45:$O$50)/'Pt 1 Summary of Data - Final'!O48),0,SUM('EB PT 1'!$O$45:$O$50)/'Pt 1 Summary of Data - Final'!O48)))","v":0},{"$f":"+L25","v":0}]
["MLR"]
["MLR % (Part 4 Line 4.1)",{"$f":"IF(ISERROR('Pt 4 MLR Calculation - Final'!$H$33),0,'Pt 4 MLR Calculation - Final'!$H$33)","v":""},{"$f":"+B27","v":""},{"$f":"IF(ISERROR('Pt 4 MLR Calculation - Final'!$L$33),0,'Pt 4 MLR Calculation - Final'!$L$33)","v":""},{"$f":"+D27","v":""},{"$f":"IF(ISERROR('Pt 4 MLR Calculation - Final'!$P$33),0,'Pt 4 MLR Calculation - Final'!$P$33)","v":""},{"$f":"+F27","v":""},{"$f":"IF(ISERROR('Pt 4 MLR Calculation - Final'!$T$33),0,'Pt 4 MLR Calculation - Final'!$T$33)","v":""},{"$f":"+H27","v":""},{"$f":"IF(ISERROR('Pt 4 MLR Calculation - Final'!$X$33),0,'Pt 4 MLR Calculation - Final'!$X$33)","v":""},{"$f":"+J27","v":""},{"$f":"IF(ISERROR('Pt 4 MLR Calculation - Final'!$AB$33),0,'Pt 4 MLR Calculation - Final'!$AB$33)","v":""},{"$f":"+L27","v":""}]
["Membership"]
["Member Months per Covered Life (Other Indicators: Line 5.2 / Line 5.1)",{"$f":"IF(ISERROR('Pt 1 Summary of Data - Final'!E48/'Pt 1 Summary of Data - Final'!E47),0,'Pt 1 Summary of Data - Final'!E48/'Pt 1 Summary of Data - Final'!E47)","v":0},{"$f":"IF(ISERROR('Pt 1 Summary of Data - Final'!F48/'Pt 1 Summary of Data - Final'!F47),0,'Pt 1 Summary of Data - Final'!F48/'Pt 1 Summary of Data - Final'!F47)","v":0},{"$f":"IF(ISERROR('Pt 1 Summary of Data - Final'!G48/'Pt 1 Summary of Data - Final'!G47),0,'Pt 1 Summary of Data - Final'!G48/'Pt 1 Summary of Data - Final'!G47)","v":0},{"$f":"IF(ISERROR('Pt 1 Summary of Data - Final'!H48/'Pt 1 Summary of Data - Final'!H47),0,'Pt 1 Summary of Data - Final'!H48/'Pt 1 Summary of Data - Final'!H47)","v":0},{"$f":"IF(ISERROR('Pt 1 Summary of Data - Final'!I48/'Pt 1 Summary of Data - Final'!I47),0,'Pt 1 Summary of Data - Final'!I48/'Pt 1 Summary of Data - Final'!I47)","v":0},{"$f":"IF(ISERROR('Pt 1 Summary of Data - Final'!J48/'Pt 1 Summary of Data - Final'!J47),0,'Pt 1 Summary of Data - Final'!J48/'Pt 1 Summary of Data - Final'!J47)","v":0},{"$f":"IF(ISERROR('Pt 1 Summary of Data - Final'!K48/'Pt 1 Summary of Data - Final'!K47),0,'Pt 1 Summary of Data - Final'!K48/'Pt 1 Summary of Data - Final'!K47)","v":12.995535714285714},{"$f":"IF(ISERROR('Pt 1 Summary of Data - Final'!L48/'Pt 1 Summary of Data - Final'!L47),0,'Pt 1 Summary of Data - Final'!L48/'Pt 1 Summary of Data - Final'!L47)","v":12.96875},{"$f":"IF(ISERROR('Pt 1 Summary of Data - Final'!M48/'Pt 1 Summary of Data - Final'!M47),0,'Pt 1 Summary of Data - Final'!M48/'Pt 1 Summary of Data - Final'!M47)","v":0},{"$f":"IF(ISERROR('Pt 1 Summary of Data - Final'!N48/'Pt 1 Summary of Data - Final'!N47),0,'Pt 1 Summary of Data - Final'!N48/'Pt 1 Summary of Data - Final'!N47)","v":0},{"$f":"IF(ISERROR('Pt 1 Summary of Data - Final'!O48/'Pt 1 Summary of Data - Final'!O47),0,'Pt 1 Summary of Data - Final'!O48/'Pt 1 Summary of Data - Final'!O47)","v":0},{"$f":"IF(ISERROR('Pt 1 Summary of Data - Final'!P48/'Pt 1 Summary of Data - Final'!P47),0,'Pt 1 Summary of Data - Final'!P48/'Pt 1 Summary of Data - Final'!P47)","v":0}]

{"sheet":"Cover Page","index":5,"n_rows":15,"n_cols":3,"rows_kept":15,"cut":false,"hidden":false,"merged":[[0,1,0,2],[1,1,1,2],[2,1,2,2]]}
[null,"Department of Managed Health Care/Department of Insurance"]
[null,"Medical Loss Ratio Reporting Form "]
[null,"Dental Coverage"]
[]
[]
["1.","MLR Reporting Year",{"$f":"'Essbase Input'!$C$12","v":"2022"}]
["2.","DMHC Health Plan ID / CDI NAIC No.",97179]
["3.","Legal Name",{"$f":"VLOOKUP('Essbase Input'!$C$8,Tables!$B$4:$E$21,2,FALSE)","v":"UnitedHealthcare Life Insurance Company"}]
["4.","DBA",{"$f":"IF(VLOOKUP('Essbase Input'!$C$8,Tables!$B$4:$E$21,4,FALSE)=\"\",\"N/A\",VLOOKUP('Essbase Input'!$C$8,Tables!$B$4:$E$21,4,FALSE))","v":"N/A"}]
["5.","Federal Tax Exempt Status? Please enter Yes or No","No"]
[]
[]
[]
[null,"Cell Key:"]
[null,"Blank cells require input from Health plan or Health insurer"]

{"sheet":"EB PT 1","index":6,"n_rows":68,"n_cols":60,"rows_kept":68,"cut":false,"hidden":true,"merged":[[62,3,62,4],[0,31,0,34],[0,35,0,36],[61,3,61,4],[0,16,0,17],[0,20,0,22],[0,23,0,26],[0,27,0,30]]}
["CMS","Ln","Col","Adjmt","Rev",{"$f":"\"Account\"","v":"Account"},{"$f":"\"IDB Period\"","v":"IDB Period"},{"$f":"\"Period\"","v":"Period"},{"$f":"\"Reinsurance\"","v":"Reinsurance"},{"$f":"\"Project\"","v":"Project"},1,2,3,4,5,6,"GRIC, UHLIC, MWLIC-TN, TCLIC\nDPPO Sec. / INDIVIDUAL Col.",null,"Vision","Life/Disability","Stop Loss (1)",null,null,"Stop Loss (2)",null,null,null,"Supp Hospital",null,null,null,"Medicare Supp",null,null,null,"Student Health",null,"Wrap","Ind Short Term","Oth Bus (excl by Stat)","UHC Domestic\nStand Alone Dental\nBlank Cust","UHC Domestic\nStand Alone Dental\nNot Comp Health","UHC International\nStand Alone Dental\nMLR Customer","Optum\nStand Alone Dental\nMLR Customer","Elims Mkt Grp\nStand Alone Dental\nMLR Customer","Corp Mkt Grp\nStand Alone Dental\nMLR Customer","Non-UHG\nStand Alone Dental\nMLR Customer",{"$f":"CONCATENATE(\"All OUs \np\",LEFT(AV9,6),\" \nMLR Customers\")","v":"All OUs \np306155 \nMLR Customers"},{"$f":"CONCATENATE(\"All OUs \np\",LEFT(AW9,6),\" \nMLR Customers\")","v":"All OUs \np306156 \nMLR Customers"},"All OUs \np305402 \nMLR Customers","All OUs \np430083 \nMLR Customers","All OUs \np430084 \nMLR Customers","All OUs \np430087 \nMLR Customers","All OUs \np430088 \nMLR Customers","All OUs \np430089 \nMLR Customers","Other Health Bus \nper MLR (Col 41)","-NII & FIT Oth-"]
[null,null,null,null,null,null,null,null,null,null,"Views","Views","Views","Views","Views","Views","Views","Views","Views","Views","Views","Views","Views","Views","Views","Views","Views","Views","Views","Views","Views","Views","Views","Views","Views","Views","Views","Views","Views","Views","Views","Views","Views","Views","Views","Views","Views","Views","Views","Views","Views","Views","Views","Views","Views","Views","Views"]
[null,null,null,null,null,null,null,null,null,null,"Sources","Sources","Sources","Sources","Sources","Sources","Sources","Sources","Sources","Sources","Sources","Sources","Sources","Sources","Sources","Sources","Sources","Sources","Sources","Sources","Sources","Sources","Sources","Sources","Sources","Sources","Sources","Sources","Sources","Sources","Sources","Sources","Sources","Sources","Sources","Sources","Sources","Sources","Sources","Sources","Sources","Sources","Sources","Sources","Sources","Sources","Sources"]
[null,null,null,null,null,null,null,null,null,null,"Departments","Departments","Departments","Departments","Departments","Departments","Departments","Departments","Departments","Departments","Departments","Departments","Departments","Departments","Departments","Departments","Departments","Departments","Departments","Departments","Departments","Departments","Departments","Departments","Departments","Departments","Departments","Departments","Departments","Departments","Departments","Departments","Departments","Departments","Departments","Departments","Departments","Departments","Departments","Departments","Departments","Departments","Departments","Departments","Departments","Departments","Departments"]
[null,null,null,null,null,null,null,null,null,null,"NAIC Supp HC Exhibit","NAIC Supp HC Exhibit","NAIC Supp HC Exhibit","NAIC Supp HC Exhibit","NAIC Supp HC Exhibit","NAIC Supp HC Exhibit","NAIC Supp HC Exhibit","NAIC Supp HC Exhibit","NAIC Supp HC Exhibit","NAIC Supp HC Exhibit","NAIC Supp HC Exhibit","NAIC Supp HC Exhibit","NAIC Supp HC Exhibit","NAIC Supp HC Exhibit","NAIC Supp HC Exhibit","NAIC Supp HC Exhibit","NAIC Supp HC Exhibit","NAIC Supp HC Exhibit","NAIC Supp HC Exhibit","NAIC Supp HC Exhibit","NAIC Supp HC Exhibit","NAIC Supp HC Exhibit","NAIC Supp HC Exhibit","NAIC Supp HC Exhibit","NAIC Supp HC Exhibit","NAIC Supp HC Exhibit","NAIC Supp HC Exhibit","NAIC Supp HC Exhibit","NAIC Supp HC Exhibit","NAIC Supp HC Exhibit","NAIC Supp HC Exhibit","NAIC Supp HC Exhibit","NAIC Supp HC Exhibit","NAIC Supp HC Exhibit","NAIC Supp HC Exhibit","NAIC Supp HC Exhibit","NAIC Supp HC Exhibit","NAIC Supp HC Exhibit","NAIC Supp HC Exhibit","NAIC Supp HC Exhibit","NAIC Supp HC Exhibit","NAIC Supp HC Exhibit","NAIC Supp HC Exhibit","NAIC Supp HC Exhibit","NAIC Supp HC Exhibit","NAIC Supp HC Exhibit","NAIC Supp HC Exhibit"]
[null,null,null,null,null,null,null,null,null,null,{"$f":"'Essbase Input'!$C$8","v":"UnitedHealthcare Life Ins Co"},{"$f":"'Essbase Input'!$C$8","v":"UnitedHealthcare Life Ins Co"},{"$f":"'Essbase Input'!$C$8","v":"UnitedHealthcare Life Ins Co"},{"$f":"'Essbase Input'!$C$8","v":"UnitedHealthcare Life Ins Co"},{"$f":"'Essbase Input'!$C$8","v":"UnitedHealthcare Life Ins Co"},{"$f":"'Essbase Input'!$C$8","v":"UnitedHealthcare Life Ins Co"},{"$f":"'Essbase Input'!$C$8","v":"UnitedHealthcare Life Ins Co"},{"$f":"'Essbase Input'!$C$8","v":"UnitedHealthcare Life Ins Co"},{"$f":"'Essbase Input'!$C$8","v":"UnitedHealthcare Life Ins Co"},{"$f":"'Essbase Input'!$C$8","v":"UnitedHealthcare Life Ins Co"},{"$f":"'Essbase Input'!$C$8","v":"UnitedHealthcare Life Ins Co"},{"$f":"'Essbase Input'!$C$8","v":"UnitedHealthcare Life Ins Co"},{"$f":"'Essbase Input'!$C$8","v":"UnitedHealthcare Life Ins Co"},{"$f":"'Essbase Input'!$C$8","v":"UnitedHealthcare Life Ins Co"},{"$f":"'Essbase Input'!$C$8","v":"UnitedHealthcare Life Ins Co"},{"$f":"'Essbase Input'!$C$8","v":"UnitedHealthcare Life Ins Co"},{"$f":"'Essbase Input'!$C$8","v":"UnitedHealthcare Life Ins Co"},{"$f":"'Essbase Input'!$C$8","v":"UnitedHealthcare Life Ins Co"},{"$f":"'Essbase Input'!$C$8","v":"UnitedHealthcare Life Ins Co"},{"$f":"'Essbase Input'!$C$8","v":"UnitedHealthcare Life Ins Co"},{"$f":"'Essbase Input'!$C$8","v":"UnitedHealthcare Life Ins Co"},{"$f":"'Essbase Input'!$C$8","v":"UnitedHealthcare Life Ins Co"},{"$f":"'Essbase Input'!$C$8","v":"UnitedHealthcare Life Ins Co"},{"$f":"'Essbase Input'!$C$8","v":"UnitedHealthcare Life Ins Co"},{"$f":"'Essbase Input'!$C$8","v":"UnitedHealthcare Life Ins Co"},{"$f":"'Essbase Input'!$C$8","v":"UnitedHealthcare Life Ins Co"},{"$f":"'Essbase Input'!$C$8","v":"UnitedHealthcare Life Ins Co"},{"$f":"'Essbase Input'!$C$8","v":"UnitedHealthcare Life Ins Co"},{"$f":"'Essbase Input'!$C$8","v":"UnitedHealthcare Life Ins Co"},{"$f":"'Essbase Input'!$C$8","v":"UnitedHealthcare Life Ins Co"},{"$f":"'Essbase Input'!$C$8","v":"UnitedHealthcare Life Ins Co"},{"$f":"'Essbase Input'!$C$8","v":"UnitedHealthcare Life Ins Co"},{"$f":"'Essbase Input'!$C$8","v":"UnitedHealthcare Life Ins Co"},{"$f":"'Essbase Input'!$C$8","v":"UnitedHealthcare Life Ins Co"},{"$f":"'Essbase Input'!$C$8","v":"UnitedHealthcare Life Ins Co"},{"$f":"'Essbase Input'!$C$8","v":"UnitedHealthcare Life Ins Co"},{"$f":"'Essbase Input'!$C$8","v":"UnitedHealthcare Life Ins Co"},{"$f":"'Essbase Input'!$C$8","v":"UnitedHealthcare Life Ins Co"},{"$f":"'Essbase Input'!$C$8","v":"UnitedHealthcare Life Ins Co"},{"$f":"'Essbase Input'!$C$8","v":"UnitedHealthcare Life Ins Co"},{"$f":"'Essbase Input'!$C$8","v":"UnitedHealthcare Life Ins Co"},{"$f":"'Essbase Input'!$C$8","v":"UnitedHealthcare Life Ins Co"},{"$f":"'Essbase Input'!$C$8","v":"UnitedHealthcare Life Ins Co"},{"$f":"'Essbase Input'!$C$8","v":"UnitedHealthcare Life Ins Co"},{"$f":"'Essbase Input'!$C$8","v":"UnitedHealthcare Life Ins Co"},{"$f":"'Essbase Input'!$C$8","v":"UnitedHealthcare Life Ins Co"},{"$f":"'Essbase Input'!$C$8","v":"UnitedHealthcare Life Ins Co"}]
[null,null,null,null,null,null,null,null,null,null,{"$f":"'Essbase Input'!$C$9","v":"California - CA"},{"$f":"'Essbase Input'!$C$9","v":"California - CA"},{"$f":"'Essbase Input'!$C$9","v":"California - CA"},{"$f":"'Essbase Input'!$C$9","v":"California - CA"},{"$f":"'Essbase Input'!$C$9","v":"California - CA"},{"$f":"'Essbase Input'!$C$9","v":"California - CA"},{"$f":"'Essbase Input'!$C$9","v":"California - CA"},{"$f":"'Essbase Input'!$C$9","v":"California - CA"},{"$f":"'Essbase Input'!$C$9","v":"California - CA"},{"$f":"'Essbase Input'!$C$9","v":"California - CA"},{"$f":"'Essbase Input'!$C$9","v":"California - CA"},{"$f":"'Essbase Input'!$C$9","v":"California - CA"},{"$f":"'Essbase Input'!$C$9","v":"California - CA"},{"$f":"'Essbase Input'!$C$9","v":"California - CA"},{"$f":"'Essbase Input'!$C$9","v":"California - CA"},{"$f":"'Essbase Input'!$C$9","v":"California - CA"},{"$f":"'Essbase Input'!$C$9","v":"California - CA"},{"$f":"'Essbase Input'!$C$9","v":"California - CA"},{"$f":"'Essbase Input'!$C$9","v":"California - CA"},{"$f":"'Essbase Input'!$C$9","v":"California - CA"},{"$f":"'Essbase Input'!$C$9","v":"California - CA"},{"$f":"'Essbase Input'!$C$9","v":"California - CA"},{"$f":"'Essbase Input'!$C$9","v":"California - CA"},{"$f":"'Essbase Input'!$C$9","v":"California - CA"},{"$f":"'Essbase Input'!$C$9","v":"California - CA"},{"$f":"'Essbase Input'!$C$9","v":"California - CA"},{"$f":"'Essbase Input'!$C$9","v":"California - CA"},{"$f":"'Essbase Input'!$C$9","v":"California - CA"},{"$f":"'Essbase Input'!$C$9","v":"California - CA"},{"$f":"'Essbase Input'!$C$9","v":"California - CA"},{"$f":"'Essbase Input'!$C$9","v":"California - CA"},{"$f":"'Essbase Input'!$C$9","v":"California - CA"},{"$f":"'Essbase Input'!$C$9","v":"California - CA"},{"$f":"'Essbase Input'!$C$9","v":"California - CA"},{"$f":"'Essbase Input'!$C$9","v":"California - CA"},{"$f":"'Essbase Input'!$C$9","v":"California - CA"},{"$f":"'Essbase Input'!$C$9","v":"California - CA"},{"$f":"'Essbase Input'!$C$9","v":"California - CA"},{"$f":"'Essbase Input'!$C$9","v":"California - CA"},{"$f":"'Essbase Input'!$C$9","v":"California - CA"},{"$f":"'Essbase Input'!$C$9","v":"California - CA"},{"$f":"'Essbase Input'!$C$9","v":"California - CA"},{"$f":"'Essbase Input'!$C$9","v":"California - CA"},{"$f":"'Essbase Input'!$C$9","v":"California - CA"},{"$f":"'Essbase Input'!$C$9","v":"California - CA"},{"$f":"'Essbase Input'!$C$9","v":"California - CA"},{"$f":"'Essbase Input'!$C$9","v":"California - CA"}]
[null,null,null,null,null,null,null,null,null,null,{"$f":"'Essbase Input'!$C$10","v":"UnitedHealthcare Domestic"},{"$f":"'Essbase Input'!$C$10","v":"UnitedHealthcare Domestic"},{"$f":"'Essbase Input'!$C$10","v":"UnitedHealthcare Domestic"},{"$f":"'Essbase Input'!$C$10","v":"UnitedHealthcare Domestic"},{"$f":"'Essbase Input'!$C$10","v":"UnitedHealthcare Domestic"},{"$f":"'Essbase Input'!$C$10","v":"UnitedHealthcare Domestic"},"Operating Units","Operating Units","Operating Units","Operating Units","Operating Units","Operating Units","Operating Units","Operating Units","Operating Units","Operating Units","Operating Units","Operating Units","Operating Units","Operating Units","Operating Units","Operating Units","Operating Units","Operating Units","Operating Units","Operating Units","Operating Units","Operating Units","Operating Units","Operating Units","UnitedHealthcare Domestic","UnitedHealthcare Domestic","UnitedHealthcare International","Optum","Eliminations Market Group","Corp Market Group Rollup","Non UnitedHealth Group Rollup","Operating Units","Operating Units","Operating Units","Operating Units","Operating Units","Operating Units","Operating Units","Operating Units","Operating Units","Operating Units"]
[null,null,null,null,null,null,null,null,null,null,{"$f":"'Essbase Input'!$C$11","v":"Stand Alone Dental"},{"$f":"'Essbase Input'!$C$11","v":"Stand Alone Dental"},{"$f":"'Essbase Input'!$C$11","v":"Stand Alone Dental"},{"$f":"'Essbase Input'!$C$11","v":"Stand Alone Dental"},{"$f":"'Essbase Input'!$C$11","v":"Stand Alone Dental"},{"$f":"'Essbase Input'!$C$11","v":"Stand Alone Dental"},{"$f":"'Essbase Input'!$C$11","v":"Stand Alone Dental"},{"$f":"'Essbase Input'!$C$11","v":"Stand Alone Dental"},"Stand Alone Vision","Non Stand Alone Dental/Vision","322000 - Stop Loss - Individual","322010 - Stop Loss PEL","322100 - Stop Loss - Aggregate","150000 - Stop Loss - Individual","150010 - Stop Loss - Terminal Ind","151000 - Stop Loss - Aggregate","151010 - Stop Loss - Terminal Aggregate","204000 - Supplemental Hospital Insur","204010 - Hospital Advantage Plans","204020 - Essential Health Insurance Pln","204030 - Essential Plus Health Insur","203000 - Medicare Supplement - Indiv","203010 - Medicare Supplement - Group","203100 - Natl Acct Med Supp/Retiree","203510 - Medicare Supplement - Pre-Std","112000 - Student Health Plans","113000 - Student Health - Accident Only","202080 - Wrap - NonGap","106410 - Individual Short Term","Other Bus(excluded by Statute)","Stand Alone Dental","Stand Alone Dental","Stand Alone Dental","Stand Alone Dental","Stand Alone Dental","Stand Alone Dental","Stand Alone Dental","306155 - Package Savings Disc - Vision","306156 - Package Savings - Dental","305402 - Managed Transplant Risk SD","430083 - PBM ePrescribe","430084 - PreCheck My Script Fee","430087 - PBM EGWP","430088 - PBM ECOB","430089 - PBM Clinical","Other Health Business",{"$f":"'Essbase Input'!$C$11","v":"Stand Alone Dental"}]
[null,null,null,null,null,null,null,null,null,null,"Individual","Individual","Small Group Employer","Small Group Employer","Large Group Employer","Large Group Employer","MLR Customers","MLR Customers","MLR Customers","MLR Customers","MLR Customers","MLR Customers","MLR Customers","MLR Customers","MLR Customers","MLR Customers","MLR Customers","MLR Customers","MLR Customers","MLR Customers","MLR Customers","MLR Customers","MLR Customers","MLR Customers","MLR Customers","MLR Customers","MLR Customers","MLR Customers","MLR Customers","MLR Customers","Blank Customer","Not Comp Health Coverage","MLR Customers","MLR Customers","MLR Customers","MLR Customers","MLR Customers","MLR Customers","MLR Customers","MLR Customers","MLR Customers","MLR Customers","MLR Customers","MLR Customers","MLR Customers","MLR Customers","MLR Customers"]
[null,null,null,null,null,null,null,null,null,null,{"$f":"'Essbase Input'!$C$17","v":"2022"},{"$f":"'Essbase Input'!$C$16","v":"2023"},{"$f":"'Essbase Input'!$C$17","v":"2022"},{"$f":"'Essbase Input'!$C$16","v":"2023"},{"$f":"'Essbase Input'!$C$17","v":"2022"},{"$f":"'Essbase Input'!$C$16","v":"2023"},{"$f":"'Essbase Input'!$C$17","v":"2022"},{"$f":"'Essbase Input'!$C$16","v":"2023"},{"$f":"'Essbase Input'!$C$17","v":"2022"},{"$f":"'Essbase Input'!$C$17","v":"2022"},{"$f":"'Essbase Input'!$C$17","v":"2022"},{"$f":"'Essbase Input'!$C$17","v":"2022"},{"$f":"'Essbase Input'!$C$17","v":"2022"},{"$f":"'Essbase Input'!$C$17","v":"2022"},{"$f":"'Essbase Input'!$C$17","v":"2022"},{"$f":"'Essbase Input'!$C$17","v":"2022"},{"$f":"'Essbase Input'!$C$17","v":"2022"},{"$f":"'Essbase Input'!$C$17","v":"2022"},{"$f":"'Essbase Input'!$C$17","v":"2022"},{"$f":"'Essbase Input'!$C$17","v":"2022"},{"$f":"'Essbase Input'!$C$17","v":"2022"},{"$f":"'Essbase Input'!$C$17","v":"2022"},{"$f":"'Essbase Input'!$C$17","v":"2022"},{"$f":"'Essbase Input'!$C$17","v":"2022"},{"$f":"'Essbase Input'!$C$17","v":"2022"},{"$f":"'Essbase Input'!$C$17","v":"2022"},{"$f":"'Essbase Input'!$C$17","v":"2022"},{"$f":"'Essbase Input'!$C$17","v":"2022"},{"$f":"'Essbase Input'!$C$17","v":"2022"},{"$f":"'Essbase Input'!$C$17","v":"2022"},{"$f":"'Essbase Input'!$C$17","v":"2022"},{"$f":"'Essbase Input'!$C$17","v":"2022"},{"$f":"'Essbase Input'!$C$17","v":"2022"},{"$f":"'Essbase Input'!$C$17","v":"2022"},{"$f":"'Essbase Input'!$C$17","v":"2022"},{"$f":"'Essbase Input'!$C$17","v":"2022"},{"$f":"'Essbase Input'!$C$17","v":"2022"},{"$f":"'Essbase Input'!$C$17","v":"2022"},{"$f":"'Essbase Input'!$C$17","v":"2022"},{"$f":"'Essbase Input'!$C$17","v":"2022"},{"$f":"'Essbase Input'!$C$17","v":"2022"},{"$f":"'Essbase Input'!$C$17","v":"2022"},{"$f":"'Essbase Input'!$C$17","v":"2022"},{"$f":"'Essbase Input'!$C$17","v":"2022"},{"$f":"'Essbase Input'!$C$17","v":"2022"},{"$f":"'Essbase Input'!$C$17","v":"2022"},{"$f":"'Essbase Input'!$C$17","v":"2022"},null,"-CHECK 1-","-CHECK 2-"]
[null,1.1000000000000001,"12/31","--","--","Calc: from Pt 2",null,null,null,null,null,null,null,null,null,null,null,null,null,null,null,null,null,null,null,null,null,null,null,null,null,null,null,null,null,null,null,null,null,null,null,null,null,null,null,null,null,null,null,null,null,null,null,null,null,null,null,null,{"$f":"AN12-SUM(U12:AM12)","v":0},{"$f":"K12+M12+O12+S12+T12+AN12+SUM(AO12:BC12)-BD12","v":0}]
[null,1.1000000000000001,"03/31","--","--","Calc: from Pt 2"]
[null,2.1,"12/31","--","--","Calc: from Pt 2",null,null,null,null,null,null,null,null,null,null,null,null,null,null,null,null,null,null,null,null,null,null,null,null,null,null,null,null,null,null,null,null,null,null,null,null,null,null,null,null,null,null,null,null,null,null,null,null,null,null,null,null,{"$f":"AN14-SUM(U14:AM14)","v":0},{"$f":"K14+M14+O14+S14+T14+AN14+SUM(AO14:BC14)-BD14","v":0}]
[null,2.1,"03/31","--","--","Calc: from Pt 2"]
["3.1a","3.1a","12/31","--","--","Fed Tax & Assess - Nontaxable","IDB Periods","Total Year","Reinsurance","All Other Projects",0,0,0,0,5568.76,0,5568.76,0,798.31000000000006,-143.59,0,0,0,0,0,0,0,0,0,0,0,0,0,0,0,0,0,0,0,0,0,0,0,0,0,0,0,0,0,0,0,0,0,0,0,6223.4800000000005,5568.76,null,{"$f":"AN16-SUM(U16:AM16)","v":0},{"$f":"K16+M16+O16+S16+T16+AN16+SUM(AO16:BC16)-BD16","v":0}]
[null,"3.1a","03/31","--","--","Calc: =12/31"]
["3.1d","3.1b","12/31","ADD","--","Fed Tax & Assess - Taxable","IDB Periods","Total Year","Reinsurance","All Other Projects",0,0,0,0,0,0,0,0,0,0,0,0,0,0,0,0,0,0,0,0,0,0,0,0,0,0,0,0,0,0,0,0,0,0,0,0,0,0,0,0,0,0,0,0,0,0,0,null,{"$f":"AN18-SUM(U18:AM18)","v":0},{"$f":"K18+M18+O18+S18+T18+AN18+SUM(AO18:BC18)-BD18","v":0}]
[null,"3.1b","12/31","SUB","--","92016 - Reinsur Contrib Fee - Pool","IDB Periods","Total Year","Reinsurance","0000004362 - OR-CHIP-Med Ins Pool (MIP)",0,0,0,0,0,0,0,0,0,0,0,0,0,0,0,0,0,0,0,0,0,0,0,0,0,0,0,0,0,0,0,0,0,0,0,0,0,0,0,0,0,0,0,0,0,0,0,null,{"$f":"AN19-SUM(U19:AM19)","v":0},{"$f":"K19+M19+O19+S19+T19+AN19+SUM(AO19:BC19)-BD19","v":0}]
[null,"3.1b","03/31","--","--","Calc: =12/31"]
["3.2a","3.2a","12/31","ADD","--","State Ins & Other Taxes","IDB Periods","Total Year","Reinsurance","All Other Projects",0,0,0,0,0,0,5164.8,0,0,0,0,0,0,0,0,0,0,0,0,0,0,0,0,0,0,0,0,0,0,0,0,5164.8,0,0,0,0,0,0,0,0,0,0,0,0,0,5164.8,5164.8,null,{"$f":"AN21-SUM(U21:AM21)","v":0},{"$f":"K21+M21+O21+S21+T21+AN21+SUM(AO21:BC21)-BD21","v":0}]
[null,"3.2a","12/31","ADD","--","State Local Taxes","IDB Periods","Total Year","Reinsurance","All Other Projects",30.24,0,0,0,0,0,30.24,0,2.27,0,0,0,0,0,0,0,0,0,0,0,0,0,0,0,0,0,0,0,0,0,0,0,0,0,0,0,0,0,0,0,0,0,0,0,0,32.51,30.24,null,{"$f":"AN22-SUM(U22:AM22)","v":0},{"$f":"K22+M22+O22+S22+T22+AN22+SUM(AO22:BC22)-BD22","v":0}]
[null,"3.2a","12/31","ADD","--","92016 - Reinsur Contrib Fee - Pool","IDB Periods","Total Year","Reinsurance","0000004362 - OR-CHIP-Med Ins Pool (MIP)",0,0,0,0,0,0,0,0,0,0,0,0,0,0,0,0,0,0,0,0,0,0,0,0,0,0,0,0,0,0,0,0,0,0,0,0,0,0,0,0,0,0,0,0,0,0,0,null,{"$f":"AN23-SUM(U23:AM23)","v":0},{"$f":"K23+M23+O23+S23+T23+AN23+SUM(AO23:BC23)-BD23","v":0}]
[null,"3.2a","12/31","ADD","--","92010 - Other Premium Assessments","IDB Periods","Total Year","Reinsurance","All Other Projects",0,0,0,0,0,0,0,0,0,0,0,0,0,0,0,0,0,0,0,0,0,0,0,0,0,0,0,0,0,0,0,0,0,0,0,0,0,0,0,0,0,0,0,0,0,0,0,null,{"$f":"AN24-SUM(U24:AM24)","v":0},{"$f":"K24+M24+O24+S24+T24+AN24+SUM(AO24:BC24)-BD24","v":0}]
[null,"3.2a","03/31","--","--","Calc: =12/31"]
["3.2b","3.2b","12/31","ADD","--","State Premium Taxes","IDB Periods","Total Year","Reinsurance","All Other Projects",0,0,0,0,0,0,3404.38,0.34999999999988629,255.07999999999998,0,0,0,0,0,0,0,0,0,0,0,0,0,0,0,0,0,0,0,0,0,0,3404.38,0,0,0,0,0,0,0,0,0,0,0,0,0,3659.46,3404.38,null,{"$f":"AN26-SUM(U26:AM26)","v":0},{"$f":"K26+M26+O26+S26+T26+AN26+SUM(AO26:BC26)-BD26","v":0}]
[null,"3.2b","12/31","SUB","--","92010 - Other Premium Assessments","IDB Periods","Total Year","Reinsurance","All Other Projects",0,0,0,0,0,0,0,0,0,0,0,0,0,0,0,0,0,0,0,0,0,0,0,0,0,0,0,0,0,0,0,0,0,0,0,0,0,0,0,0,0,0,0,0,0,0,0,null,{"$f":"AN27-SUM(U27:AM27)","v":0},{"$f":"K27+M27+O27+S27+T27+AN27+SUM(AO27:BC27)-BD27","v":0}]
[null,"3.2b","03/31","--","--","Calc: =12/31"]
["3.2c","3.2c","12/31","--","--","Zero Out",null,null,null,null,null,null,null,null,null,null,null,null,null,null,null,null,null,null,null,null,null,null,null,null,null,null,null,null,null,null,null,null,null,null,null,null,null,null,null,null,null,null,null,null,null,null,null,null,null,null,null,null,{"$f":"AN29-SUM(U29:AM29)","v":0},{"$f":"K29+M29+O29+S29+T29+AN29+SUM(AO29:BC29)-BD29","v":0}]
[null,"3.2c","03/31","--","--","Calc: =12/31"]
["3.3a+3.3b",3.3,"12/31",null,null,"Reg Authority Licenses & Fees","IDB Periods","Total Year","Reinsurance","All Other Projects",0,0,0,0,0,0,0,0,0,0,0,0,0,0,0,0,0,0,0,0,0,0,0,0,0,0,0,0,0,0,0,0,0,0,0,0,0,0,0,0,0,0,0,0,0,0,0,null,{"$f":"AN31-SUM(U31:AM31)","v":0},{"$f":"K31+M31+O31+S31+T31+AN31+SUM(AO31:BC31)-BD31","v":0}]
[null,3.3,"03/31","--","--","Calc: =12/31"]
[null,3.4,"12/31","--","--","Calc: from DMHC Form",null,null,null,null,null,null,null,null,null,null,null,null,null,null,null,null,null,null,null,null,null,null,null,null,null,null,null,null,null,null,null,null,null,null,null,null,null,null,null,null,null,null,null,null,null,null,null,null,null,null,null,null,{"$f":"AN33-SUM(U33:AM33)","v":0},{"$f":"K33+M33+O33+S33+T33+AN33+SUM(AO33:BC33)-BD33","v":0}]
[null,3.4,"03/31","--","--","Calc: from DMHC Form"]
[5.3,4.0999999999999996,"12/31","--","--","General & Admin Expenses","IDB Periods","Total Year","Reinsurance","Direct Sales Salaries Benefits",0,0,0,0,0,0,0,0,0,0,0,0,0,0,0,0,0,0,0,0,0,0,0,0,0,0,0,0,0,0,0,0,0,0,0,0,0,0,0,0,0,0,0,0,0,0,0,null,{"$f":"AN35-SUM(U35:AM35)","v":0},{"$f":"K35+M35+O35+S35+T35+AN35+SUM(AO35:BC35)-BD35","v":0}]
[null,4.0999999999999996,"03/31","--","--","Calc: =12/31"]
[5.4,4.2,"12/31","--","--","Agents & Brokers Fees & Comms","IDB Periods","Total Year","Reinsurance","GAAP Reported Projects",0,0,0,0,0,0,9184.49,3241.06,166.6,0,0,0,0,0,0,0,0,0,0,0,0,0,0,0,0,0,0,0,0,0,0,9184.49,0,0,0,0,0,0,0,0,0,0,0,0,0,9351.09,9184.49,null,{"$f":"AN37-SUM(U37:AM37)","v":0},{"$f":"K37+M37+O37+S37+T37+AN37+SUM(AO37:BC37)-BD37","v":0}]
[null,4.2,"03/31","--","--","Calc: =12/31"]
["5.5a","4.3a","12/31","--","--","Other Taxes","IDB Periods","Total Year","Reinsurance","GAAP Reported Projects",606.42999999999995,0,0,0,0,0,3488.43,985.35,45.44,667,0,0,0,0,0,0,0,0,0,0,0,0,0,0,0,0,0,0,0,0,0,2882,0,0,0,0,0,0,0,0,0,0,0,0,0,4200.87,3488.43,null,{"$f":"AN39-SUM(U39:AM39)","v":0},{"$f":"K39+M39+O39+S39+T39+AN39+SUM(AO39:BC39)-BD39","v":0}]
[null,"4.3a","03/31","--","--","Calc: =12/31"]
["5.5b","4.3b","12/31","--","--","Zero Out",null,null,null,null,null,null,null,null,null,null,null,null,null,null,null,null,null,null,null,null,null,null,null,null,null,null,null,null,null,null,null,null,null,null,null,null,null,null,null,null,null,null,null,null,null,null,null,null,null,null,null,null,{"$f":"AN41-SUM(U41:AM41)","v":0},{"$f":"K41+M41+O41+S41+T41+AN41+SUM(AO41:BC41)-BD41","v":0}]
[null,"4.3b","03/31","--","--","Calc: =12/31"]
["4.1-4.5+5.1+5.2+5.6",4.4000000000000004,"12/31","ADD","--","Other Gen & Admin Expenses","IDB Periods","Total Year","Reinsurance","GAAP Reported Projects",16162.029999999995,7079.08,0,0,0,0,19332.689999999995,8323.0499999999993,1839.84,0,0,0,0,0,0,0,0,0,0,0,0,0,0,0,0,0,0,0,0,0,0,3170.66,0,0,0,0,0,0,0,0,0,0,0,0,0,21172.530000000002,19332.689999999995,null,{"$f":"AN43-SUM(U43:AM43)","v":0},{"$f":"K43+M43+O43+S43+T43+AN43+SUM(AO43:BC43)-BD43","v":0}]
[null,4.4000000000000004,"12/31","ADD","--","General & Admin Expenses","IDB Periods","Total Year","REINSURANCE GROUP","Health Care Reform",0,0,0,0,0,0,0,0,0,0,0,0,0,0,0,0,0,0,0,0,0,0,0,0,0,0,0,0,0,0,0,0,0,0,0,0,0,0,0,0,0,0,0,0,0,0,0,null,{"$f":"AN44-SUM(U44:AM44)","v":0},0]
[null,4.4000000000000004,"12/31","ADD","--","General & Admin Expenses","IDB Periods","Total Year","NO REINSURANCE","0000003400 - QI - Imprv Outcomes",0,0,0,0,0,0,0,0,0,0,0,0,0,0,0,0,0,0,0,0,0,0,0,0,0,0,0,0,0,0,0,0,0,0,0,0,0,0,0,0,0,0,0,0,0,0,0,null,{"$f":"AN45-SUM(U45:AM45)","v":0},0]
[null,4.4000000000000004,"12/31","ADD","--","General & Admin Expenses","IDB Periods","Total Year","NO REINSURANCE","0000003401 - QI - Prevent Hosp Readmission",0,0,0,0,0,0,0,0,0,0,0,0,0,0,0,0,0,0,0,0,0,0,0,0,0,0,0,0,0,0,0,0,0,0,0,0,0,0,0,0,0,0,0,0,0,0,0,null,0,0]
[null,4.4000000000000004,"12/31","ADD","--","General & Admin Expenses","IDB Periods","Total Year","NO REINSURANCE","0000003402 - QI - Imp Pat Saf & Red Med Err",0,0,0,0,0,0,0,0,0,0,0,0,0,0,0,0,0,0,0,0,0,0,0,0,0,0,0,0,0,0,0,0,0,0,0,0,0,0,0,0,0,0,0,0,0,0,0,null,0,0]
[null,4.4000000000000004,"12/31","ADD","--","General & Admin Expenses","IDB Periods","Total Year","NO REINSURANCE","0000003403 - QI - Wellness & Health Promo",0,0,0,0,0,0,0,0,0,0,0,0,0,0,0,0,0,0,0,0,0,0,0,0,0,0,0,0,0,0,0,0,0,0,0,0,0,0,0,0,0,0,0,0,0,0,0,null,0,0]
[null,4.4000000000000004,"12/31","ADD","--","General & Admin Expenses","IDB Periods","Total Year","NO REINSURANCE","Health Information Technology",0,0,0,0,0,0,0,0,0,0,0,0,0,0,0,0,0,0,0,0,0,0,0,0,0,0,0,0,0,0,0,0,0,0,0,0,0,0,0,0,0,0,0,0,0,0,0,null,0,0]
[null,4.4000000000000004,"12/31","ADD","--","General & Admin Expenses","IDB Periods","Total Year","Reinsurance","Cost Containment",0,0,0,0,0,0,2004.21,770.28,67.599999999999994,0,0,0,0,0,0,0,0,0,0,0,0,0,0,0,0,0,0,0,0,0,0,2004.21,0,0,0,0,0,0,0,0,0,0,0,0,0,2071.81,2004.21,null,0,0]
[null,4.4000000000000004,"12/31","ADD","--","General & Admin Expenses","IDB Periods","Total Year","Reinsurance","Other Claim Adj",0,0,0,0,0,0,1115.8699999999999,380.38000000000005,135.21999999999997,0,0,0,0,0,0,0,0,0,0,0,0,0,0,0,0,0,0,0,0,0,0,1115.8699999999999,0,0,0,0,0,0,0,0,0,0,0,0,0,1251.0899999999997,1115.8699999999999,null,0,0]
[null,4.4000000000000004,"03/31","--","--","Calc: =12/31"]
[null,4.5,"12/31","--","--","Calc: 4.1-4.4",null,null,null,null,null,null,null,null,null,null,null,null,null,null,null,null,null,null,null,null,null,null,null,null,null,null,null,null,null,null,null,null,null,null,null,null,null,null,null,null,null,null,null,null,null,null,null,null,null,null,null,null,{"$f":"AN53-SUM(U53:AM53)","v":0},{"$f":"K53+M53+O53+S53+T53+AN53+SUM(AO53:BC53)-BD53","v":0}]
[null,4.5,"03/31","--","--","Calc: 4.1-4.4"]
[7.2,5.0999999999999996,"12/31","--","--","Number of Covered Lives","IDB Periods","December","Reinsurance","All Other Projects",0,0,0,0,0,0,224,0,102,0,0,0,0,0,0,0,0,0,0,0,0,0,0,0,0,0,0,0,0,0,0,224,0,0,0,0,0,0,0,0,0,0,0,0,0,326,224,null,{"$f":"AN55-SUM(U55:AM55)","v":0},{"$f":"K55+M55+O55+S55+T55+AN55+SUM(AO55:BC55)-BD55","v":0}]
[null,5.0999999999999996,"03/31","--","--","Calc: =12/31"]
[7.4,5.2,"12/31","--","--","SHCE Member Months","IDB Periods","Total Year","NO REINSURANCE","All Other Projects",0,0,0,0,0,0,2911,1059,1265,0,0,0,0,0,0,0,0,0,0,0,0,0,0,0,0,0,0,0,0,0,0,2911,0,0,0,0,0,0,0,0,0,0,0,0,0,4176,2911,null,{"$f":"AN57-SUM(U57:AM57)","v":0},{"$f":"K57+M57+O57+S57+T57+AN57+SUM(AO57:BC57)-BD57","v":0}]
[null,5.2,"03/31","ADD","--","SHCE Member Months",{"$f":"'Essbase Input'!$D$17","v":"IDB 2022"},"Total Year","NO REINSURANCE","All Other Projects",0,0,0,0,0,0,2908,-4,1288,0,0,0,0,0,0,0,0,0,0,0,0,0,0,0,0,0,0,0,0,0,0,2908,0,0,0,0,0,0,0,0,0,0,0,0,0,4196,2908]
[null,5.2,"03/31","ADD","--","SHCE Member Months",{"$f":"'Essbase Input'!$D$17","v":"IDB 2022"},"March_Bal","NO REINSURANCE","All Other Projects",0,0,0,0,0,0,777,-3,350,0,0,0,0,0,0,0,0,0,0,0,0,0,0,0,0,0,0,0,0,0,0,777,0,0,0,0,0,0,0,0,0,0,0,0,0,1127,777]
[7.5,5.3,"12/31","--","--","Calc: Ln 5.2/12",null,null,null,null,null,null,null,null,null,null,null,null,null,null,null,null,null,null,null,null,null,null,null,null,null,null,null,null,null,null,null,null,null,null,null,null,null,null,null,null,null,null,null,null,null,null,null,null,null,null,null,null,{"$f":"AN60-SUM(U60:AM60)","v":0},{"$f":"K60+M60+O60+S60+T60+AN60+SUM(AO60:BC60)-BD60","v":0}]
[null,5.3,"03/31","--","--","Calc: Ln 5.2/12"]
[null,6,"12/31","Col T",null,"Net Invest and Oth Gain/(Loss)","IDB Periods","Total Year","Reinsurance","All Other Projects",0,0,0,0,0,0,-198.42999999999989,0,-14.439999999999998,0,0,0,0,0,0,0,0,0,0,0,0,0,0,0,0,0,0,0,0,0,0,-198.42999999999989,0,0,0,0,0,0,0,0,0,0,0,0,0,-212.87000000000006,-198.42999999999989,null,{"$f":"AN62-SUM(U62:AM62)","v":0},{"$f":"K62+M62+O62+S62+T62+AN62+SUM(AO62:BC62)-BD62","v":0}]
[null,7,"12/31","Col T",null,"Federal Income Taxes(Excl 1.5)","IDB Periods","Total Year","Reinsurance","All Other Projects",0,0,0,0,0,0,0,0,0,17,0,0,0,0,0,0,0,0,0,0,0,0,0,0,0,0,0,0,0,0,0,0,0,0,0,0,0,0,0,0,0,0,0,0,0,17,0]
["DB","R18","12/31","--","--","76000 - Management Fees","IDB Periods","Total Year","Reinsurance","All Other Projects",16798.699999999997,7079.08,0,0,0,0,16798.699999999997,7079.08,1258.6499999999999,0,0,0,0,0,0,0,0,0,0,0,0,0,0,0,0,0,0,0,0,0,0,0,0,0,0,0,0,0,0,0,0,0,0,0,0,18057.349999999999,16798.699999999997,null,{"$f":"AN64-SUM(U64:AM64)","v":0},{"$f":"K64+M64+O64+S64+T64+AN64+SUM(AO64:BC64)-BD64","v":0}]
[]
[]
[null,null,null,null,null,{"$f":"\"Not Used\"","v":"Not Used"}]
[null,null,null,null,null,{"$f":"\"Linked Cell\"","v":"Linked Cell"}]

{"sheet":"EB PT 2","index":7,"n_rows":62,"n_cols":59,"rows_kept":62,"cut":false,"hidden":true,"merged":[[0,35,0,36],[0,16,0,17],[0,20,0,22],[0,23,0,26],[0,27,0,30],[0,31,0,34]]}
["CMS","Ln","Col","Adjmt","Rev",{"$f":"\"Account\"","v":"Account"},{"$f":"\"IDB Period\"","v":"IDB Period"},{"$f":"\"Period\"","v":"Period"},{"$f":"\"Reinsurance\"","v":"Reinsurance"},{"$f":"\"Project\"","v":"Project"},1,2,3,4,5,6,"GRIC, UHLIC, MWLIC-TN, TCLIC\nDPPO Sec. / INDIVIDUAL Col.",null,"Vision","Life/Disability","Stop Loss (1)",null,null,"Stop Loss (2)",null,null,null,"Supp Hospital",null,null,null,"Medicare Supp",null,null,null,"Student Health",null,"Wrap","Ind Short Term","Oth Bus (excl by Stat)","UHC Domestic\nStand Alone Dental\nBlank Cust","UHC Domestic\nStand Alone Dental\nNot Comp Health","UHC International\nStand Alone Dental\nMLR Customer","Optum\nStand Alone Dental\nMLR Customer","Elims Mkt Grp\nStand Alone Dental\nMLR Customer","Corp Mkt Grp\nStand Alone Dental\nMLR Customer","Non-UHG\nStand Alone Dental\nMLR Customer",{"$f":"CONCATENATE(\"All OUs \np\",LEFT(AV9,6),\" \nMLR Customers\")","v":"All OUs \np306155 \nMLR Customers"},{"$f":"CONCATENATE(\"All OUs \np\",LEFT(AW9,6),\" \nMLR Customers\")","v":"All OUs \np306156 \nMLR Customers"},"All OUs \np305402 \nMLR Customers","All OUs \np430083 \nMLR Customers","All OUs \np430084 \nMLR Customers","All OUs \np430087 \nMLR Customers","All OUs \np430088 \nMLR Customers","All OUs \np430089 \nMLR Customers","Other Health Bus \nper MLR (Col 41)"]
[null,null,null,null,null,null,null,null,null,null,"Views","Views","Views","Views","Views","Views","Views","Views","Views","Views","Views","Views","Views","Views","Views","Views","Views","Views","Views","Views","Views","Views","Views","Views","Views","Views","Views","Views","Views","Views","Views","Views","Views","Views","Views","Views","Views","Views","Views","Views","Views","Views","Views","Views","Views","Views"]
[null,null,null,null,null,null,null,null,null,null,"Sources","Sources","Sources","Sources","Sources","Sources","Sources","Sources","Sources","Sources","Sources","Sources","Sources","Sources","Sources","Sources","Sources","Sources","Sources","Sources","Sources","Sources","Sources","Sources","Sources","Sources","Sources","Sources","Sources","Sources","Sources","Sources","Sources","Sources","Sources","Sources","Sources","Sources","Sources","Sources","Sources","Sources","Sources","Sources","Sources","Sources"]
[null,null,null,null,null,null,null,null,null,null,"Departments","Departments","Departments","Departments","Departments","Departments","Departments","Departments","Departments","Departments","Departments","Departments","Departments","Departments","Departments","Departments","Departments","Departments","Departments","Departments","Departments","Departments","Departments","Departments","Departments","Departments","Departments","Departments","Departments","Departments","Departments","Departments","Departments","Departments","Departments","Departments","Departments","Departments","Departments","Departments","Departments","Departments","Departments","Departments","Departments","Departments"]
[null,null,null,null,null,null,null,null,null,null,"NAIC Supp HC Exhibit","NAIC Supp HC Exhibit","NAIC Supp HC Exhibit","NAIC Supp HC Exhibit","NAIC Supp HC Exhibit","NAIC Supp HC Exhibit","NAIC Supp HC Exhibit","NAIC Supp HC Exhibit","NAIC Supp HC Exhibit","NAIC Supp HC Exhibit","NAIC Supp HC Exhibit","NAIC Supp HC Exhibit","NAIC Supp HC Exhibit","NAIC Supp HC Exhibit","NAIC Supp HC Exhibit","NAIC Supp HC Exhibit","NAIC Supp HC Exhibit","NAIC Supp HC Exhibit","NAIC Supp HC Exhibit","NAIC Supp HC Exhibit","NAIC Supp HC Exhibit","NAIC Supp HC Exhibit","NAIC Supp HC Exhibit","NAIC Supp HC Exhibit","NAIC Supp HC Exhibit","NAIC Supp HC Exhibit","NAIC Supp HC Exhibit","NAIC Supp HC Exhibit","NAIC Supp HC Exhibit","NAIC Supp HC Exhibit","NAIC Supp HC Exhibit","NAIC Supp HC Exhibit","NAIC Supp HC Exhibit","NAIC Supp HC Exhibit","NAIC Supp HC Exhibit","NAIC Supp HC Exhibit","NAIC Supp HC Exhibit","NAIC Supp HC Exhibit","NAIC Supp HC Exhibit","NAIC Supp HC Exhibit","NAIC Supp HC Exhibit","NAIC Supp HC Exhibit","NAIC Supp HC Exhibit","NAIC Supp HC Exhibit","NAIC Supp HC Exhibit","NAIC Supp HC Exhibit"]
[null,null,null,null,null,null,null,null,null,null,{"$f":"'Essbase Input'!$C$8","v":"UnitedHealthcare Life Ins Co"},{"$f":"'Essbase Input'!$C$8","v":"UnitedHealthcare Life Ins Co"},{"$f":"'Essbase Input'!$C$8","v":"UnitedHealthcare Life Ins Co"},{"$f":"'Essbase Input'!$C$8","v":"UnitedHealthcare Life Ins Co"},{"$f":"'Essbase Input'!$C$8","v":"UnitedHealthcare Life Ins Co"},{"$f":"'Essbase Input'!$C$8","v":"UnitedHealthcare Life Ins Co"},{"$f":"'Essbase Input'!$C$8","v":"UnitedHealthcare Life Ins Co"},{"$f":"'Essbase Input'!$C$8","v":"UnitedHealthcare Life Ins Co"},{"$f":"'Essbase Input'!$C$8","v":"UnitedHealthcare Life Ins Co"},{"$f":"'Essbase Input'!$C$8","v":"UnitedHealthcare Life Ins Co"},{"$f":"'Essbase Input'!$C$8","v":"UnitedHealthcare Life Ins Co"},{"$f":"'Essbase Input'!$C$8","v":"UnitedHealthcare Life Ins Co"},{"$f":"'Essbase Input'!$C$8","v":"UnitedHealthcare Life Ins Co"},{"$f":"'Essbase Input'!$C$8","v":"UnitedHealthcare Life Ins Co"},{"$f":"'Essbase Input'!$C$8","v":"UnitedHealthcare Life Ins Co"},{"$f":"'Essbase Input'!$C$8","v":"UnitedHealthcare Life Ins Co"},{"$f":"'Essbase Input'!$C$8","v":"UnitedHealthcare Life Ins Co"},{"$f":"'Essbase Input'!$C$8","v":"UnitedHealthcare Life Ins Co"},{"$f":"'Essbase Input'!$C$8","v":"UnitedHealthcare Life Ins Co"},{"$f":"'Essbase Input'!$C$8","v":"UnitedHealthcare Life Ins Co"},{"$f":"'Essbase Input'!$C$8","v":"UnitedHealthcare Life Ins Co"},{"$f":"'Essbase Input'!$C$8","v":"UnitedHealthcare Life Ins Co"},{"$f":"'Essbase Input'!$C$8","v":"UnitedHealthcare Life Ins Co"},{"$f":"'Essbase Input'!$C$8","v":"UnitedHealthcare Life Ins Co"},{"$f":"'Essbase Input'!$C$8","v":"UnitedHealthcare Life Ins Co"},{"$f":"'Essbase Input'!$C$8","v":"UnitedHealthcare Life Ins Co"},{"$f":"'Essbase Input'!$C$8","v":"UnitedHealthcare Life Ins Co"},{"$f":"'Essbase Input'!$C$8","v":"UnitedHealthcare Life Ins Co"},{"$f":"'Essbase Input'!$C$8","v":"UnitedHealthcare Life Ins Co"},{"$f":"'Essbase Input'!$C$8","v":"UnitedHealthcare Life Ins Co"},{"$f":"'Essbase Input'!$C$8","v":"UnitedHealthcare Life Ins Co"},{"$f":"'Essbase Input'!$C$8","v":"UnitedHealthcare Life Ins Co"},{"$f":"'Essbase Input'!$C$8","v":"UnitedHealthcare Life Ins Co"},{"$f":"'Essbase Input'!$C$8","v":"UnitedHealthcare Life Ins Co"},{"$f":"'Essbase Input'!$C$8","v":"UnitedHealthcare Life Ins Co"},{"$f":"'Essbase Input'!$C$8","v":"UnitedHealthcare Life Ins Co"},{"$f":"'Essbase Input'!$C$8","v":"UnitedHealthcare Life Ins Co"},{"$f":"'Essbase Input'!$C$8","v":"UnitedHealthcare Life Ins Co"},{"$f":"'Essbase Input'!$C$8","v":"UnitedHealthcare Life Ins Co"},{"$f":"'Essbase Input'!$C$8","v":"UnitedHealthcare Life Ins Co"},{"$f":"'Essbase Input'!$C$8","v":"UnitedHealthcare Life Ins Co"},{"$f":"'Essbase Input'!$C$8","v":"UnitedHealthcare Life Ins Co"},{"$f":"'Essbase Input'!$C$8","v":"UnitedHealthcare Life Ins Co"},{"$f":"'Essbase Input'!$C$8","v":"UnitedHealthcare Life Ins Co"},{"$f":"'Essbase Input'!$C$8","v":"UnitedHealthcare Life Ins Co"},{"$f":"'Essbase Input'!$C$8","v":"UnitedHealthcare Life Ins Co"}]
[null,null,null,null,null,null,null,null,null,null,{"$f":"'Essbase Input'!$C$9","v":"California - CA"},{"$f":"'Essbase Input'!$C$9","v":"California - CA"},{"$f":"'Essbase Input'!$C$9","v":"California - CA"},{"$f":"'Essbase Input'!$C$9","v":"California - CA"},{"$f":"'Essbase Input'!$C$9","v":"California - CA"},{"$f":"'Essbase Input'!$C$9","v":"California - CA"},{"$f":"'Essbase Input'!$C$9","v":"California - CA"},{"$f":"'Essbase Input'!$C$9","v":"California - CA"},{"$f":"'Essbase Input'!$C$9","v":"California - CA"},{"$f":"'Essbase Input'!$C$9","v":"California - CA"},{"$f":"'Essbase Input'!$C$9","v":"California - CA"},{"$f":"'Essbase Input'!$C$9","v":"California - CA"},{"$f":"'Essbase Input'!$C$9","v":"California - CA"},{"$f":"'Essbase Input'!$C$9","v":"California - CA"},{"$f":"'Essbase Input'!$C$9","v":"California - CA"},{"$f":"'Essbase Input'!$C$9","v":"California - CA"},{"$f":"'Essbase Input'!$C$9","v":"California - CA"},{"$f":"'Essbase Input'!$C$9","v":"California - CA"},{"$f":"'Essbase Input'!$C$9","v":"California - CA"},{"$f":"'Essbase Input'!$C$9","v":"California - CA"},{"$f":"'Essbase Input'!$C$9","v":"California - CA"},{"$f":"'Essbase Input'!$C$9","v":"California - CA"},{"$f":"'Essbase Input'!$C$9","v":"California - CA"},{"$f":"'Essbase Input'!$C$9","v":"California - CA"},{"$f":"'Essbase Input'!$C$9","v":"California - CA"},{"$f":"'Essbase Input'!$C$9","v":"California - CA"},{"$f":"'Essbase Input'!$C$9","v":"California - CA"},{"$f":"'Essbase Input'!$C$9","v":"California - CA"},{"$f":"'Essbase Input'!$C$9","v":"California - CA"},{"$f":"'Essbase Input'!$C$9","v":"California - CA"},{"$f":"'Essbase Input'!$C$9","v":"California - CA"},{"$f":"'Essbase Input'!$C$9","v":"California - CA"},{"$f":"'Essbase Input'!$C$9","v":"California - CA"},{"$f":"'Essbase Input'!$C$9","v":"California - CA"},{"$f":"'Essbase Input'!$C$9","v":"California - CA"},{"$f":"'Essbase Input'!$C$9","v":"California - CA"},{"$f":"'Essbase Input'!$C$9","v":"California - CA"},{"$f":"'Essbase Input'!$C$9","v":"California - CA"},{"$f":"'Essbase Input'!$C$9","v":"California - CA"},{"$f":"'Essbase Input'!$C$9","v":"California - CA"},{"$f":"'Essbase Input'!$C$9","v":"California - CA"},{"$f":"'Essbase Input'!$C$9","v":"California - CA"},{"$f":"'Essbase Input'!$C$9","v":"California - CA"},{"$f":"'Essbase Input'!$C$9","v":"California - CA"},{"$f":"'Essbase Input'!$C$9","v":"California - CA"},{"$f":"'Essbase Input'!$C$9","v":"California - CA"}]
[null,null,null,null,null,null,null,null,null,null,{"$f":"'Essbase Input'!$C$10","v":"UnitedHealthcare Domestic"},{"$f":"'Essbase Input'!$C$10","v":"UnitedHealthcare Domestic"},{"$f":"'Essbase Input'!$C$10","v":"UnitedHealthcare Domestic"},{"$f":"'Essbase Input'!$C$10","v":"UnitedHealthcare Domestic"},{"$f":"'Essbase Input'!$C$10","v":"UnitedHealthcare Domestic"},{"$f":"'Essbase Input'!$C$10","v":"UnitedHealthcare Domestic"},"Operating Units","Operating Units","Operating Units","Operating Units","Operating Units","Operating Units","Operating Units","Operating Units","Operating Units","Operating Units","Operating Units","Operating Units","Operating Units","Operating Units","Operating Units","Operating Units","Operating Units","Operating Units","Operating Units","Operating Units","Operating Units","Operating Units","Operating Units","Operating Units","UnitedHealthcare Domestic","UnitedHealthcare Domestic","UnitedHealthcare International","Optum","Eliminations Market Group","Corp Market Group Rollup","Non UnitedHealth Group Rollup","Operating Units","Operating Units","Operating Units","Operating Units","Operating Units","Operating Units","Operating Units","Operating Units","Operating Units"]
[null,null,null,null,null,null,null,null,null,null,{"$f":"'Essbase Input'!$C$11","v":"Stand Alone Dental"},{"$f":"'Essbase Input'!$C$11","v":"Stand Alone Dental"},{"$f":"'Essbase Input'!$C$11","v":"Stand Alone Dental"},{"$f":"'Essbase Input'!$C$11","v":"Stand Alone Dental"},{"$f":"'Essbase Input'!$C$11","v":"Stand Alone Dental"},{"$f":"'Essbase Input'!$C$11","v":"Stand Alone Dental"},{"$f":"'Essbase Input'!$C$11","v":"Stand Alone Dental"},{"$f":"'Essbase Input'!$C$11","v":"Stand Alone Dental"},"Stand Alone Vision","Non Stand Alone Dental/Vision","322000 - Stop Loss - Individual","322010 - Stop Loss PEL","322100 - Stop Loss - Aggregate","150000 - Stop Loss - Individual","150010 - Stop Loss - Terminal Ind","151000 - Stop Loss - Aggregate","151010 - Stop Loss - Terminal Aggregate","204000 - Supplemental Hospital Insur","204010 - Hospital Advantage Plans","204020 - Essential Health Insurance Pln","204030 - Essential Plus Health Insur","203000 - Medicare Supplement - Indiv","203010 - Medicare Supplement - Group","203100 - Natl Acct Med Supp/Retiree","203510 - Medicare Supplement - Pre-Std","112000 - Student Health Plans","113000 - Student Health - Accident Only","202080 - Wrap - NonGap","106410 - Individual Short Term","Other Bus(excluded by Statute)","Stand Alone Dental","Stand Alone Dental","Stand Alone Dental","Stand Alone Dental","Stand Alone Dental","Stand Alone Dental","Stand Alone Dental","306155 - Package Savings Disc - Vision","306156 - Package Savings - Dental","305402 - Managed Transplant Risk SD","430083 - PBM ePrescribe","430084 - PreCheck My Script Fee","430087 - PBM EGWP","430088 - PBM ECOB","430089 - PBM Clinical","Other Health Business"]
[null,null,null,null,null,null,null,null,null,null,"Individual","Individual","Small Group Employer","Small Group Employer","Large Group Employer","Large Group Employer","MLR Customers","MLR Customers","MLR Customers","MLR Customers","MLR Customers","MLR Customers","MLR Customers","MLR Customers","MLR Customers","MLR Customers","MLR Customers","MLR Customers","MLR Customers","MLR Customers","MLR Customers","MLR Customers","MLR Customers","MLR Customers","MLR Customers","MLR Customers","MLR Customers","MLR Customers","MLR Customers","MLR Customers","Blank Customer","Not Comp Health Coverage","MLR Customers","MLR Customers","MLR Customers","MLR Customers","MLR Customers","MLR Customers","MLR Customers","MLR Customers","MLR Customers","MLR Customers","MLR Customers","MLR Customers","MLR Customers","MLR Customers"]
[null,null,null,null,null,null,null,null,null,null,{"$f":"'Essbase Input'!$C$17","v":"2022"},{"$f":"'Essbase Input'!$C$16","v":"2023"},{"$f":"'Essbase Input'!$C$17","v":"2022"},{"$f":"'Essbase Input'!$C$16","v":"2023"},{"$f":"'Essbase Input'!$C$17","v":"2022"},{"$f":"'Essbase Input'!$C$16","v":"2023"},{"$f":"'Essbase Input'!$C$17","v":"2022"},{"$f":"'Essbase Input'!$C$16","v":"2023"},{"$f":"'Essbase Input'!$C$17","v":"2022"},{"$f":"'Essbase Input'!$C$17","v":"2022"},{"$f":"'Essbase Input'!$C$17","v":"2022"},{"$f":"'Essbase Input'!$C$17","v":"2022"},{"$f":"'Essbase Input'!$C$17","v":"2022"},{"$f":"'Essbase Input'!$C$17","v":"2022"},{"$f":"'Essbase Input'!$C$17","v":"2022"},{"$f":"'Essbase Input'!$C$17","v":"2022"},{"$f":"'Essbase Input'!$C$17","v":"2022"},{"$f":"'Essbase Input'!$C$17","v":"2022"},{"$f":"'Essbase Input'!$C$17","v":"2022"},{"$f":"'Essbase Input'!$C$17","v":"2022"},{"$f":"'Essbase Input'!$C$17","v":"2022"},{"$f":"'Essbase Input'!$C$17","v":"2022"},{"$f":"'Essbase Input'!$C$17","v":"2022"},{"$f":"'Essbase Input'!$C$17","v":"2022"},{"$f":"'Essbase Input'!$C$17","v":"2022"},{"$f":"'Essbase Input'!$C$17","v":"2022"},{"$f":"'Essbase Input'!$C$17","v":"2022"},{"$f":"'Essbase Input'!$C$17","v":"2022"},{"$f":"'Essbase Input'!$C$17","v":"2022"},{"$f":"'Essbase Input'!$C$17","v":"2022"},{"$f":"'Essbase Input'!$C$17","v":"2022"},{"$f":"'Essbase Input'!$C$17","v":"2022"},{"$f":"'Essbase Input'!$C$17","v":"2022"},{"$f":"'Essbase Input'!$C$17","v":"2022"},{"$f":"'Essbase Input'!$C$17","v":"2022"},{"$f":"'Essbase Input'!$C$17","v":"2022"},{"$f":"'Essbase Input'!$C$17","v":"2022"},{"$f":"'Essbase Input'!$C$17","v":"2022"},{"$f":"'Essbase Input'!$C$17","v":"2022"},{"$f":"'Essbase Input'!$C$17","v":"2022"},{"$f":"'Essbase Input'!$C$17","v":"2022"},{"$f":"'Essbase Input'!$C$17","v":"2022"},{"$f":"'Essbase Input'!$C$17","v":"2022"},{"$f":"'Essbase Input'!$C$17","v":"2022"},{"$f":"'Essbase Input'!$C$17","v":"2022"},{"$f":"'Essbase Input'!$C$17","v":"2022"},null,"-CHECK 1-","-CHECK 2-"]
[1.1000000000000001,1.1000000000000001,"12/31","---","R","Health Premiums Earned","IDB Periods","Total Year","NO REINSURANCE","All Other Projects",0,0,0,0,0,0,-145317.48000000004,-57693.039999999994,-10887.94,0,0,0,0,0,0,0,0,0,0,0,0,0,0,0,0,0,0,0,0,0,0,-145317.48000000004,0,0,0,0,0,0,0,0,0,0,0,0,0,-156205.42000000001,null,{"$f":"AN12-SUM(U12:AM12)","v":0},{"$f":"K12+M12+O12+S12+T12+AN12+SUM(AO12:BC12)-BD12","v":0}]
[null,1.1000000000000001,"03/31","ADD","R","Health Premiums Earned",{"$f":"'Essbase Input'!$D$17","v":"IDB 2022"},"Total Year","NO REINSURANCE","All Other Projects",0,0,0,0,0,0,-145153.69000000003,188.69,-10875.140000000001,0,0,0,0,0,0,0,0,0,0,0,0,0,0,0,0,0,0,0,0,0,0,-145153.69000000003,0,0,0,0,0,0,0,0,0,0,0,0,0,-156028.83000000002]
[null,1.1000000000000001,"03/31","ADD","R","Health Premiums Earned",{"$f":"'Essbase Input'!$D$17","v":"IDB 2022"},"March_Bal","NO REINSURANCE","All Other Projects",0,0,0,0,0,0,-38690.020000000004,133.17000000000002,-2992.2299999999996,0,0,0,0,0,0,0,0,0,0,0,0,0,0,0,0,0,0,0,0,0,0,-38690.019999999997,0,0,0,0,0,0,0,0,0,0,0,0,0,-41682.250000000007]
[1.2,1.2,"12/31","---","R","Unearned Premium","IDB Periods","Begin Balance","NO REINSURANCE","All Other Projects",0,0,0,0,0,0,0,0,0,0,0,0,0,0,0,0,0,0,0,0,0,0,0,0,0,0,0,0,0,0,0,0,0,0,0,0,0,0,0,0,0,0,0,0,0,0,null,{"$f":"AN15-SUM(U15:AM15)","v":0},{"$f":"K15+M15+O15+S15+T15+AN15+SUM(AO15:BC15)-BD15","v":0}]
[null,1.2,"03/31","---","---","Zero Out"]
[1.3,1.3,"12/31","---","R","Unearned Premium","IDB Periods","December_Bal","NO REINSURANCE","All Other Projects",0,0,0,0,0,0,0,0,0,0,0,0,0,0,0,0,0,0,0,0,0,0,0,0,0,0,0,0,0,0,0,0,0,0,0,0,0,0,0,0,0,0,0,0,0,0,null,{"$f":"AN17-SUM(U17:AM17)","v":0},{"$f":"K17+M17+O17+S17+T17+AN17+SUM(AO17:BC17)-BD17","v":0}]
[null,1.3,"03/31","---","---","Zero Out"]
[1.7,1.4,"12/31","---","---","Bad Debt Exp","IDB Periods","Total Year","NO REINSURANCE","All Other Projects",0,0,0,0,0,0,0,0,0,0,0,0,0,0,0,0,0,0,0,0,0,0,0,0,0,0,0,0,0,0,0,0,0,0,0,0,0,0,0,0,0,0,0,0,0,0,null,{"$f":"AN19-SUM(U19:AM19)","v":0},{"$f":"K19+M19+O19+S19+T19+AN19+SUM(AO19:BC19)-BD19","v":0}]
["2.1a","2.1a","12/31","ADD","---","Total Incurred Claims","IDB Periods","Total Year","NO REINSURANCE","All Other Projects",0,0,0,0,0,0,75730.91,34033.770000000004,4667.7000000000007,0,0,0,0,0,0,0,0,0,0,0,0,0,0,0,0,0,0,0,0,0,0,75730.91,0,0,0,0,0,0,0,0,0,0,0,0,0,80398.61,null,{"$f":"AN20-SUM(U20:AM20)","v":0},{"$f":"K20+M20+O20+S20+T20+AN20+SUM(AO20:BC20)-BD20","v":0}]
[null,"2.1a","12/31","SUB","---","50010 - Physician Cap Paid - External","IDB Periods","Total Year","NO REINSURANCE","0000003413 - General Administrative",0,0,0,0,0,0,0,0,0,0,0,0,0,0,0,0,0,0,0,0,0,0,0,0,0,0,0,0,0,0,0,0,0,0,0,0,0,0,0,0,0,0,0,0,0,0,null,{"$f":"AN21-SUM(U21:AM21)","v":0},{"$f":"K21+M21+O21+S21+T21+AN21+SUM(AO21:BC21)-BD21","v":0}]
[null,"2.1a","12/31","SUB","---","50619 - Internal Capitation Pd - Other","IDB Periods","Total Year","NO REINSURANCE","All Other Projects",0,0,0,0,0,0,0,0,0,0,0,0,0,0,0,0,0,0,0,0,0,0,0,0,0,0,0,0,0,0,0,0,0,0,0,0,0,0,0,0,0,0,0,0,0,0,null,0,{"$f":"K22+M22+O22+S22+T22+AN22+SUM(AO22:BC22)-BD22","v":0}]
[null,"2.1a","12/31","SUB","---","Rate Credits NonTaxable","IDB Periods","Total Year","NO REINSURANCE","All Other Projects",0,0,0,0,0,0,0,0,0,0,0,0,0,0,0,0,0,0,0,0,0,0,0,0,0,0,0,0,0,0,0,0,0,0,0,0,0,0,0,0,0,0,0,0,0,0,null,0,{"$f":"K23+M23+O23+S23+T23+AN23+SUM(AO23:BC23)-BD23","v":0}]
["2.1b","2.1b","03/31","ADD","---","Total Incurred Claims",{"$f":"'Essbase Input'!$D$17","v":"IDB 2022"},"Total Year","NO REINSURANCE","All Other Projects",0,0,0,0,0,0,76499.89,5086.68,5942.8600000000006,0,0,0,0,0,0,0,0,0,0,0,0,0,0,0,0,0,0,0,0,0,0,76499.89,0,0,0,0,0,0,0,0,0,0,0,0,0,82442.749999999985]
[null,"2.1b","03/31","ADD","---","Total Incurred Claims",{"$f":"'Essbase Input'!$D$17","v":"IDB 2022"},"March_Bal","NO REINSURANCE","All Other Projects",0,0,0,0,0,0,19945.95,3559.21,3791.4400000000005,0,0,0,0,0,0,0,0,0,0,0,0,0,0,0,0,0,0,0,0,0,0,19945.95,0,0,0,0,0,0,0,0,0,0,0,0,0,23737.39]
[null,"2.1b","03/31","SUB","---","50010 - Physician Cap Paid - External",{"$f":"'Essbase Input'!$D$17","v":"IDB 2022"},"Total Year","NO REINSURANCE","0000003413 - General Administrative",0,0,0,0,0,0,0,0,0,0,0,0,0,0,0,0,0,0,0,0,0,0,0,0,0,0,0,0,0,0,0,0,0,0,0,0,0,0,0,0,0,0,0,0,0,0]
[null,"2.1b","03/31","SUB","---","50010 - Physician Cap Paid - External",{"$f":"'Essbase Input'!$D$17","v":"IDB 2022"},"March_Bal","NO REINSURANCE","0000003413 - General Administrative",0,0,0,0,0,0,0,0,0,0,0,0,0,0,0,0,0,0,0,0,0,0,0,0,0,0,0,0,0,0,0,0,0,0,0,0,0,0,0,0,0,0,0,0,0,0]
[null,"2.1b","03/31","SUB","---","50619 - Internal Capitation Pd - Other",{"$f":"'Essbase Input'!$D$17","v":"IDB 2022"},"Total Year","NO REINSURANCE","All Other Projects",0,0,0,0,0,0,0,0,0,0,0,0,0,0,0,0,0,0,0,0,0,0,0,0,0,0,0,0,0,0,0,0,0,0,0,0,0,0,0,0,0,0,0,0,0,0]
[null,"2.1b","03/31","SUB","---","50619 - Internal Capitation Pd - Other",{"$f":"'Essbase Input'!$D$17","v":"IDB 2022"},"March_Bal","NO REINSURANCE","All Other Projects",0,0,0,0,0,0,0,0,0,0,0,0,0,0,0,0,0,0,0,0,0,0,0,0,0,0,0,0,0,0,0,0,0,0,0,0,0,0,0,0,0,0,0,0,0,0]
[null,"2.1b","03/31","SUB","---","Rate Credits NonTaxable",{"$f":"'Essbase Input'!$D$17","v":"IDB 2022"},"Total Year","NO REINSURANCE","All Other Projects",0,0,0,0,0,0,0,0,0,0,0,0,0,0,0,0,0,0,0,0,0,0,0,0,0,0,0,0,0,0,0,0,0,0,0,0,0,0,0,0,0,0,0,0,0,0]
[null,"2.1b","03/31","SUB","---","Rate Credits NonTaxable",{"$f":"'Essbase Input'!$D$17","v":"IDB 2022"},"March_Bal","NO REINSURANCE","All Other Projects",0,0,0,0,0,0,0,0,0,0,0,0,0,0,0,0,0,0,0,0,0,0,0,0,0,0,0,0,0,0,0,0,0,0,0,0,0,0,0,0,0,0,0,0,0,0]
["2.2a","2.2a","12/31","---","R","Direct Claim Liability","IDB Periods","December_Bal","NO REINSURANCE","All Other Projects",0,0,0,0,0,0,-890.12999999999943,0,-561.96999999999991,0,0,0,0,0,0,0,0,0,0,0,0,0,0,0,0,0,0,0,0,0,0,-890.12999999999943,0,0,0,0,0,0,0,0,0,0,0,0,0,-1452.0999999999988,null,{"$f":"AN32-SUM(U32:AM32)","v":0},{"$f":"K32+M32+O32+S32+T32+AN32+SUM(AO32:BC32)-BD32","v":0}]
["2.2b","2.2b","03/31","---","R","Direct Claim Liability",{"$f":"'Essbase Input'!$D$17","v":"IDB 2022"},"March_Bal","NO REINSURANCE","All Other Projects",0,0,0,0,0,0,88.570000000001471,249.09000000000006,-2433.9200000000005,0,0,0,0,0,0,0,0,0,0,0,0,0,0,0,0,0,0,0,0,0,0,88.570000000001471,0,0,0,0,0,0,0,0,0,0,0,0,0,-2345.349999999999]
[2.2999999999999998,2.2999999999999998,"12/31","---","R","Direct Claim Liability","IDB Periods","Begin Balance","NO REINSURANCE","All Other Projects",0,0,0,0,0,0,-4012.61,-890.13000000000011,-1373.44,0,0,0,0,0,0,0,0,0,0,0,0,0,0,0,0,0,0,0,0,0,0,-4012.61,0,0,0,0,0,0,0,0,0,0,0,0,0,-5386.05,null,{"$f":"AN34-SUM(U34:AM34)","v":0},{"$f":"K34+M34+O34+S34+T34+AN34+SUM(AO34:BC34)-BD34","v":0}]
["2.4a","2.4a","12/31","---","R","Direct Claim Reserves","IDB Periods","December_Bal","NO REINSURANCE","All Other Projects",0,0,0,0,0,0,0,0,0,0,0,0,0,0,0,0,0,0,0,0,0,0,0,0,0,0,0,0,0,0,0,0,0,0,0,0,0,0,0,0,0,0,0,0,0,0,null,{"$f":"AN35-SUM(U35:AM35)","v":0},{"$f":"K35+M35+O35+S35+T35+AN35+SUM(AO35:BC35)-BD35","v":0}]
["2.4b","2.4b","03/31","---","R","Direct Claim Reserves",{"$f":"'Essbase Input'!$D$17","v":"IDB 2022"},"March_Bal","NO REINSURANCE","All Other Projects",0,0,0,0,0,0,0,0,0,0,0,0,0,0,0,0,0,0,0,0,0,0,0,0,0,0,0,0,0,0,0,0,0,0,0,0,0,0,0,0,0,0,0,0,0,0]
[2.5,2.5,"12/31","---","R","Direct Claim Reserves","IDB Periods","Begin Balance","NO REINSURANCE","All Other Projects",0,0,0,0,0,0,0,0,0,0,0,0,0,0,0,0,0,0,0,0,0,0,0,0,0,0,0,0,0,0,0,0,0,0,0,0,0,0,0,0,0,0,0,0,0,0,null,{"$f":"AN37-SUM(U37:AM37)","v":0},{"$f":"K37+M37+O37+S37+T37+AN37+SUM(AO37:BC37)-BD37","v":0}]
["2.8a","2.6a","12/31","ADD","---","Rate Credits Taxable","IDB Periods","Total Year","NO REINSURANCE","All Other Projects",0,0,0,0,0,0,0,0,0,0,0,0,0,0,0,0,0,0,0,0,0,0,0,0,0,0,0,0,0,0,0,0,0,0,0,0,0,0,0,0,0,0,0,0,0,0,null,0,0]
[null,"2.6a","12/31","ADD","---","Reserve for Rate Credits","IDB Periods","December_Bal","NO REINSURANCE","All Other Projects",0,0,0,0,0,0,0,0,0,0,0,0,0,0,0,0,0,0,0,0,0,0,0,0,0,0,0,0,0,0,0,0,0,0,0,0,0,0,0,0,0,0,0,0,0,0,null,0,0]
[null,"2.6a","12/31","SUB","---","Estimated Rebates Unpaid","IDB Periods","December_Bal","NO REINSURANCE","All Other Projects",0,0,0,0,0,0,0,0,0,0,0,0,0,0,0,0,0,0,0,0,0,0,0,0,0,0,0,0,0,0,0,0,0,0,0,0,0,0,0,0,0,0,0,0,0,0,null,0,0]
[null,"2.6a","12/31","ADD","---","Reserve for Rate Credits","IDB Periods","Begin Balance","NO REINSURANCE","All Other Projects",0,0,0,0,0,0,0,0,0,0,0,0,0,0,0,0,0,0,0,0,0,0,0,0,0,0,0,0,0,0,0,0,0,0,0,0,0,0,0,0,0,0,0,0,0,0,null,0,0]
[null,"2.6a","12/31","SUB","---","Estimated Rebates Unpaid","IDB Periods","Begin Balance","NO REINSURANCE","All Other Projects",0,0,0,0,0,0,0,0,0,0,0,0,0,0,0,0,0,0,0,0,0,0,0,0,0,0,0,0,0,0,0,0,0,0,0,0,0,0,0,0,0,0,0,0,0,0,null,0,0]
["2.8b","2.6b","03/31","ADD","---","Rate Credits Taxable","IDB Periods","Total Year","NO REINSURANCE","All Other Projects",0,0,0,0,0,0,0,0,0,0,0,0,0,0,0,0,0,0,0,0,0,0,0,0,0,0,0,0,0,0,0,0,0,0,0,0,0,0,0,0,0,0,0,0,0,0]
[null,"2.6b","03/31","ADD","---","Rate Credits Taxable",{"$f":"'Essbase Input'!$D$17","v":"IDB 2022"},"March_Bal","NO REINSURANCE","All Other Projects",0,0,0,0,0,0,0,0,0,0,0,0,0,0,0,0,0,0,0,0,0,0,0,0,0,0,0,0,0,0,0,0,0,0,0,0,0,0,0,0,0,0,0,0,0,0]
[null,"2.6b","03/31","ADD","---","Reserve for Rate Credits",{"$f":"'Essbase Input'!$D$17","v":"IDB 2022"},"March_Bal","NO REINSURANCE","All Other Projects",0,0,0,0,0,0,0,0,0,0,0,0,0,0,0,0,0,0,0,0,0,0,0,0,0,0,0,0,0,0,0,0,0,0,0,0,0,0,0,0,0,0,0,0,0,0]
[null,"2.6b","03/31","SUB","---","Estimated Rebates Unpaid",{"$f":"'Essbase Input'!$D$17","v":"IDB 2022"},"March_Bal","NO REINSURANCE","All Other Projects",0,0,0,0,0,0,0,0,0,0,0,0,0,0,0,0,0,0,0,0,0,0,0,0,0,0,0,0,0,0,0,0,0,0,0,0,0,0,0,0,0,0,0,0,0,0]
["2.9a","2.7a","12/31","SUB","---","Mimics 2.6a Ln 2 Above"]
[null,"2.7a","12/31","ADD","---","Mimics 2.6a Ln 3 Above"]
["2.9b","2.7b","03/31","SUB","---","Mimics 2.6b Ln 3 Above"]
[null,"2.7b","03/31","ADD","---","Mimics 2.6b Ln 4 Above"]
[2.1,2.8,"12/31","SUB","---","Mimics 2.6a Ln 4 Above"]
[null,2.8,"12/31","ADD","---","Mimics 2.6a Ln 5 Above"]
["2.11a","2.9a","12/31","---","---","Inc Med Inc Pools & Bonuses","IDB Periods","December_Bal","NO REINSURANCE","All Other Projects",0,0,0,0,0,0,0,0,0,0,0,0,0,0,0,0,0,0,0,0,0,0,0,0,0,0,0,0,0,0,0,0,0,0,0,0,0,0,0,0,0,0,0,0,0,0,null,{"$f":"AN53-SUM(U53:AM53)","v":0},{"$f":"K53+M53+O53+S53+T53+AN53+SUM(AO53:BC53)-BD53","v":0}]
[null,"2.9a","03/31","ADD","---","Inc Med Inc Pools & Bonuses",{"$f":"'Essbase Input'!$D$17","v":"IDB 2022"},"December_YTD","NO REINSURANCE","All Other Projects",0,0,0,0,0,0,0,0,0,0,0,0,0,0,0,0,0,0,0,0,0,0,0,0,0,0,0,0,0,0,0,0,0,0,0,0,0,0,0,0,0,0,0,0,0,0]
[null,"2.9a","03/31","ADD","---","Inc Med Inc Pools & Bonuses",{"$f":"'Essbase Input'!$D$17","v":"IDB 2022"},"March_YTD","NO REINSURANCE","All Other Projects",0,0,0,0,0,0,0,0,0,0,0,0,0,0,0,0,0,0,0,0,0,0,0,0,0,0,0,0,0,0,0,0,0,0,0,0,0,0,0,0,0,0,0,0,0,0,null,{"$f":"AN55-SUM(U55:AM55)","v":0},{"$f":"K55+M55+O55+S55+T55+AN55+SUM(AO55:BC55)-BD55","v":0}]
["2.11b","2.9b","12/31","---","R","Incurred Med Inc Pools & Bonus","IDB Periods","December_Bal","NO REINSURANCE","All Other Projects",0,0,0,0,0,0,0,0,0,0,0,0,0,0,0,0,0,0,0,0,0,0,0,0,0,0,0,0,0,0,0,0,0,0,0,0,0,0,0,0,0,0,0,0,0,0]
[null,"2.9b","03/31","---","R","Incurred Med Inc Pools & Bonus",{"$f":"'Essbase Input'!$D$17","v":"IDB 2022"},"March_Bal","NO REINSURANCE","All Other Projects",0,0,0,0,0,0,0,0,0,0,0,0,0,0,0,0,0,0,0,0,0,0,0,0,0,0,0,0,0,0,0,0,0,0,0,0,0,0,0,0,0,0,0,0,0,0]
["2.11c","2.9c","12/31","---","R","Incurred Med Inc Pools & Bonus","IDB Periods","Begin Balance","NO REINSURANCE","All Other Projects",0,0,0,0,0,0,0,0,0,0,0,0,0,0,0,0,0,0,0,0,0,0,0,0,0,0,0,0,0,0,0,0,0,0,0,0,0,0,0,0,0,0,0,0,0,0,null,{"$f":"AN58-SUM(U58:AM58)","v":0},{"$f":"K58+M58+O58+S58+T58+AN58+SUM(AO58:BC58)-BD58","v":0}]
[]
[]
[null,null,null,null,null,{"$f":"\"Not Used\"","v":"Not Used"}]
[null,null,null,null,null,{"$f":"\"Linked Cell\"","v":"Linked Cell"}]

{"sheet":"EB PT 4","index":8,"n_rows":56,"n_cols":27,"rows_kept":56,"cut":false,"hidden":true,"merged":[[0,23,0,26]]}
["Ref","Part","Ln","Col","Adj","Rev",{"$f":"\"Account\"","v":"Account"},{"$f":"\"IDB Period\"","v":"IDB Period"},{"$f":"\"Period\"","v":"Period"},{"$f":"\"Reinsurance\"","v":"Reinsurance"},{"$f":"\"Project\"","v":"Project"},1,2,3,4,5,6,7,8,9,6,7,8,"GRIC, UHLIC, MWLIC-TN, TCLIC\nDPPO Sec. / INDIVIDUAL Col."]
[null,null,null,null,null,null,null,null,null,null,null,"Views","Views","Views","Views","Views","Views","Views","Views","Views","Views","Views","Views","Views","Views","Views","Views"]
[null,null,null,null,null,null,null,null,null,null,null,"Sources","Sources","Sources","Sources","Sources","Sources","Sources","Sources","Sources","Sources","Sources","Sources","Sources","Sources","Sources","Sources"]
[null,null,null,null,null,null,null,null,null,null,null,"Departments","Departments","Departments","Departments","Departments","Departments","Departments","Departments","Departments","Departments","Departments","Departments","Departments","Departments","Departments","Departments"]
[null,null,null,null,null,null,null,null,null,null,null,"NAIC Supp HC Exhibit","NAIC Supp HC Exhibit","NAIC Supp HC Exhibit","NAIC Supp HC Exhibit","NAIC Supp HC Exhibit","NAIC Supp HC Exhibit","NAIC Supp HC Exhibit","NAIC Supp HC Exhibit","NAIC Supp HC Exhibit","NAIC Supp HC Exhibit","NAIC Supp HC Exhibit","NAIC Supp HC Exhibit","NAIC Supp HC Exhibit","NAIC Supp HC Exhibit","NAIC Supp HC Exhibit","NAIC Supp HC Exhibit"]
[null,null,null,null,null,null,null,null,null,null,null,{"$f":"'Essbase Input'!$C$8","v":"UnitedHealthcare Life Ins Co"},{"$f":"'Essbase Input'!$C$8","v":"UnitedHealthcare Life Ins Co"},{"$f":"'Essbase Input'!$C$8","v":"UnitedHealthcare Life Ins Co"},{"$f":"'Essbase Input'!$C$8","v":"UnitedHealthcare Life Ins Co"},{"$f":"'Essbase Input'!$C$8","v":"UnitedHealthcare Life Ins Co"},{"$f":"'Essbase Input'!$C$8","v":"UnitedHealthcare Life Ins Co"},{"$f":"'Essbase Input'!$C$8","v":"UnitedHealthcare Life Ins Co"},{"$f":"'Essbase Input'!$C$8","v":"UnitedHealthcare Life Ins Co"},{"$f":"'Essbase Input'!$C$8","v":"UnitedHealthcare Life Ins Co"},{"$f":"'Essbase Input'!$C$8","v":"UnitedHealthcare Life Ins Co"},{"$f":"'Essbase Input'!$C$8","v":"UnitedHealthcare Life Ins Co"},{"$f":"'Essbase Input'!$C$8","v":"UnitedHealthcare Life Ins Co"},{"$f":"'Essbase Input'!$C$8","v":"UnitedHealthcare Life Ins Co"},{"$f":"'Essbase Input'!$C$8","v":"UnitedHealthcare Life Ins Co"},{"$f":"'Essbase Input'!$C$8","v":"UnitedHealthcare Life Ins Co"},{"$f":"'Essbase Input'!$C$8","v":"UnitedHealthcare Life Ins Co"}]
[null,null,null,null,null,null,null,null,null,null,null,{"$f":"'Essbase Input'!$C$9","v":"California - CA"},{"$f":"'Essbase Input'!$C$9","v":"California - CA"},{"$f":"'Essbase Input'!$C$9","v":"California - CA"},{"$f":"'Essbase Input'!$C$9","v":"California - CA"},{"$f":"'Essbase Input'!$C$9","v":"California - CA"},{"$f":"'Essbase Input'!$C$9","v":"California - CA"},{"$f":"'Essbase Input'!$C$9","v":"California - CA"},{"$f":"'Essbase Input'!$C$9","v":"California - CA"},{"$f":"'Essbase Input'!$C$9","v":"California - CA"},{"$f":"'Essbase Input'!$C$9","v":"California - CA"},{"$f":"'Essbase Input'!$C$9","v":"California - CA"},{"$f":"'Essbase Input'!$C$9","v":"California - CA"},{"$f":"'Essbase Input'!$C$9","v":"California - CA"},{"$f":"'Essbase Input'!$C$9","v":"California - CA"},{"$f":"'Essbase Input'!$C$9","v":"California - CA"},{"$f":"'Essbase Input'!$C$9","v":"California - CA"}]
[null,null,null,null,null,null,null,null,null,null,null,{"$f":"'Essbase Input'!$C$10","v":"UnitedHealthcare Domestic"},{"$f":"'Essbase Input'!$C$10","v":"UnitedHealthcare Domestic"},{"$f":"'Essbase Input'!$C$10","v":"UnitedHealthcare Domestic"},{"$f":"'Essbase Input'!$C$10","v":"UnitedHealthcare Domestic"},{"$f":"'Essbase Input'!$C$10","v":"UnitedHealthcare Domestic"},{"$f":"'Essbase Input'!$C$10","v":"UnitedHealthcare Domestic"},{"$f":"'Essbase Input'!$C$10","v":"UnitedHealthcare Domestic"},{"$f":"'Essbase Input'!$C$10","v":"UnitedHealthcare Domestic"},{"$f":"'Essbase Input'!$C$10","v":"UnitedHealthcare Domestic"},{"$f":"'Essbase Input'!$C$10","v":"UnitedHealthcare Domestic"},{"$f":"'Essbase Input'!$C$10","v":"UnitedHealthcare Domestic"},{"$f":"'Essbase Input'!$C$10","v":"UnitedHealthcare Domestic"},"Operating Units","Operating Units","Operating Units","Operating Units"]
[null,null,null,null,null,null,null,null,null,null,null,{"$f":"'Essbase Input'!$C$11","v":"Stand Alone Dental"},{"$f":"'Essbase Input'!$C$11","v":"Stand Alone Dental"},{"$f":"'Essbase Input'!$C$11","v":"Stand Alone Dental"},{"$f":"'Essbase Input'!$C$11","v":"Stand Alone Dental"},{"$f":"'Essbase Input'!$C$11","v":"Stand Alone Dental"},{"$f":"'Essbase Input'!$C$11","v":"Stand Alone Dental"},{"$f":"'Essbase Input'!$C$11","v":"Stand Alone Dental"},{"$f":"'Essbase Input'!$C$11","v":"Stand Alone Dental"},{"$f":"'Essbase Input'!$C$11","v":"Stand Alone Dental"},{"$f":"'Essbase Input'!$C$11","v":"Stand Alone Dental"},{"$f":"'Essbase Input'!$C$11","v":"Stand Alone Dental"},{"$f":"'Essbase Input'!$C$11","v":"Stand Alone Dental"},{"$f":"'Essbase Input'!$C$11","v":"Stand Alone Dental"},{"$f":"'Essbase Input'!$C$11","v":"Stand Alone Dental"},{"$f":"'Essbase Input'!$C$11","v":"Stand Alone Dental"},{"$f":"'Essbase Input'!$C$11","v":"Stand Alone Dental"}]
[null,null,null,null,null,null,null,null,null,null,null,"Individual","Individual","Individual","Individual","Small Group Employer","Small Group Employer","Small Group Employer","Small Group Employer","Large Group Employer","Large Group Employer","Large Group Employer","Large Group Employer","MLR Customers","MLR Customers","MLR Customers","MLR Customers"]
[null,null,null,null,null,null,null,null,null,null,null,{"$f":"'Essbase Input'!$C$19","v":"2020"},{"$f":"'Essbase Input'!$C$18","v":"2021"},{"$f":"'Essbase Input'!$C$17","v":"2022"},{"$f":"'Essbase Input'!$C$16","v":"2023"},{"$f":"'Essbase Input'!$C$19","v":"2020"},{"$f":"'Essbase Input'!$C$18","v":"2021"},{"$f":"'Essbase Input'!$C$17","v":"2022"},{"$f":"'Essbase Input'!$C$16","v":"2023"},{"$f":"'Essbase Input'!$C$19","v":"2020"},{"$f":"'Essbase Input'!$C$18","v":"2021"},{"$f":"'Essbase Input'!$C$17","v":"2022"},{"$f":"'Essbase Input'!$C$16","v":"2023"},{"$f":"'Essbase Input'!$C$19","v":"2020"},{"$f":"'Essbase Input'!$C$18","v":"2021"},{"$f":"'Essbase Input'!$C$17","v":"2022"},{"$f":"'Essbase Input'!$C$16","v":"2023"}]
[1,4,1.2,"PY2","ADD","---","Total Incurred Claims",{"$f":"'Essbase Input'!$D$19","v":"IDB 2020"},"Total Year","NO REINSURANCE","All Other Projects",0,0,0,0,0,0,0,0,0,0,0,0,82938.64,-1041.4399999999996,0,0]
[2,4,1.2,"PY2","ADD","---","Total Incurred Claims",{"$f":"'Essbase Input'!$D$19","v":"IDB 2020"},"Total Year","NO REINSURANCE","All Other Projects",0,0,0,0,0,0,0,0,0,0,0,0,82938.64,-1041.4399999999996,0,0]
[3,4,1.2,"PY2","ADD","---","Total Incurred Claims",{"$f":"'Essbase Input'!$D$19","v":"IDB 2020"},"Total Year","NO REINSURANCE","All Other Projects",0,0,0,0,0,0,0,0,0,0,0,0,82938.64,-1041.4399999999996,0,0]
[4,4,1.2,"PY2","ADD","---","Total Incurred Claims",{"$f":"'Essbase Input'!$D$19","v":"IDB 2020"},"March_Bal","NO REINSURANCE","All Other Projects",0,0,0,0,0,0,0,0,0,0,0,0,24396.699999999997,-1300.4899999999998,26.56,0]
[5,4,1.2,"PY2","SUB","---","50010 - Physician Cap Paid - External",{"$f":"'Essbase Input'!$D$19","v":"IDB 2020"},"Total Year","NO REINSURANCE","0000003413 - General Administrative",0,0,0,0,0,0,0,0,0,0,0,0,0,0,0,0]
[6,4,1.2,"PY2","SUB","---","50010 - Physician Cap Paid - External",{"$f":"'Essbase Input'!$D$19","v":"IDB 2020"},"Total Year","NO REINSURANCE","0000003413 - General Administrative",0,0,0,0,0,0,0,0,0,0,0,0,0,0,0,0]
[7,4,1.2,"PY2","SUB","---","50010 - Physician Cap Paid - External",{"$f":"'Essbase Input'!$D$19","v":"IDB 2020"},"Total Year","NO REINSURANCE","0000003413 - General Administrative",0,0,0,0,0,0,0,0,0,0,0,0,0,0,0,0]
[8,4,1.2,"PY2","SUB","---","50010 - Physician Cap Paid - External",{"$f":"'Essbase Input'!$D$19","v":"IDB 2020"},"March_Bal","NO REINSURANCE","0000003413 - General Administrative",0,0,0,0,0,0,0,0,0,0,0,0,0,0,0,0]
[9,4,1.2,"PY2","SUB","---","50619 - Internal Capitation Pd - Other",{"$f":"'Essbase Input'!$D$19","v":"IDB 2020"},"Total Year","NO REINSURANCE","All Other Projects",0,0,0,0,0,0,0,0,0,0,0,0,0,0,0,0]
[10,4,1.2,"PY2","SUB","---","50619 - Internal Capitation Pd - Other",{"$f":"'Essbase Input'!$D$19","v":"IDB 2020"},"Total Year","NO REINSURANCE","All Other Projects",0,0,0,0,0,0,0,0,0,0,0,0,0,0,0,0]
[11,4,1.2,"PY2","SUB","---","50619 - Internal Capitation Pd - Other",{"$f":"'Essbase Input'!$D$19","v":"IDB 2020"},"Total Year","NO REINSURANCE","All Other Projects",0,0,0,0,0,0,0,0,0,0,0,0,0,0,0,0]
[12,4,1.2,"PY2","SUB","---","50619 - Internal Capitation Pd - Other",{"$f":"'Essbase Input'!$D$19","v":"IDB 2020"},"March_Bal","NO REINSURANCE","All Other Projects",0,0,0,0,0,0,0,0,0,0,0,0,0,0,0,0]
[13,4,1.2,"PY2","SUB","---","Rate Credits NonTaxable",{"$f":"'Essbase Input'!$D$19","v":"IDB 2020"},"Total Year","NO REINSURANCE","All Other Projects",0,0,0,0,0,0,0,0,0,0,0,0,0,0,0,0]
[14,4,1.2,"PY2","SUB","---","Rate Credits NonTaxable",{"$f":"'Essbase Input'!$D$19","v":"IDB 2020"},"Total Year","NO REINSURANCE","All Other Projects",0,0,0,0,0,0,0,0,0,0,0,0,0,0,0,0]
[15,4,1.2,"PY2","SUB","---","Rate Credits NonTaxable",{"$f":"'Essbase Input'!$D$19","v":"IDB 2020"},"Total Year","NO REINSURANCE","All Other Projects",0,0,0,0,0,0,0,0,0,0,0,0,0,0,0,0]
[16,4,1.2,"PY2","SUB","---","Rate Credits NonTaxable",{"$f":"'Essbase Input'!$D$19","v":"IDB 2020"},"March_Bal","NO REINSURANCE","All Other Projects",0,0,0,0,0,0,0,0,0,0,0,0,0,0,0,0]
[17,4,1.2,"PY1","ADD","---","Total Incurred Claims",{"$f":"'Essbase Input'!$D$18","v":"IDB 2021"},"Total Year","NO REINSURANCE","All Other Projects",0,0,0,0,0,0,0,0,0,0,0,0,0,87437.680000000008,-768.98,-69.13000000000001]
[18,4,1.2,"PY1","ADD","---","Total Incurred Claims",{"$f":"'Essbase Input'!$D$18","v":"IDB 2021"},"Total Year","NO REINSURANCE","All Other Projects",0,0,0,0,0,0,0,0,0,0,0,0,0,87437.680000000008,-768.98,-69.13000000000001]
[19,4,1.2,"PY1","ADD","---","Total Incurred Claims",{"$f":"'Essbase Input'!$D$18","v":"IDB 2021"},"March_Bal","NO REINSURANCE","All Other Projects",0,0,0,0,0,0,0,0,0,0,0,0,0,24945.5,-647.46,-38.47]
[20,4,1.2,"PY1","SUB","---","50010 - Physician Cap Paid - External",{"$f":"'Essbase Input'!$D$18","v":"IDB 2021"},"Total Year","NO REINSURANCE","0000003413 - General Administrative",0,0,0,0,0,0,0,0,0,0,0,0,0,0,0,0]
[21,4,1.2,"PY1","SUB","---","50010 - Physician Cap Paid - External",{"$f":"'Essbase Input'!$D$18","v":"IDB 2021"},"Total Year","NO REINSURANCE","0000003413 - General Administrative",0,0,0,0,0,0,0,0,0,0,0,0,0,0,0,0]
[22,4,1.2,"PY1","SUB","---","50010 - Physician Cap Paid - External",{"$f":"'Essbase Input'!$D$18","v":"IDB 2021"},"March_Bal","NO REINSURANCE","0000003413 - General Administrative",0,0,0,0,0,0,0,0,0,0,0,0,0,0,0,0]
[23,4,1.2,"PY1","SUB","---","50619 - Internal Capitation Pd - Other",{"$f":"'Essbase Input'!$D$18","v":"IDB 2021"},"Total Year","NO REINSURANCE","All Other Projects",0,0,0,0,0,0,0,0,0,0,0,0,0,0,0,0]
[24,4,1.2,"PY1","SUB","---","50619 - Internal Capitation Pd - Other",{"$f":"'Essbase Input'!$D$18","v":"IDB 2021"},"Total Year","NO REINSURANCE","All Other Projects",0,0,0,0,0,0,0,0,0,0,0,0,0,0,0,0]
[25,4,1.2,"PY1","SUB","---","50619 - Internal Capitation Pd - Other",{"$f":"'Essbase Input'!$D$18","v":"IDB 2021"},"March_Bal","NO REINSURANCE","All Other Projects",0,0,0,0,0,0,0,0,0,0,0,0,0,0,0,0]
[26,4,1.2,"PY1","SUB","---","Rate Credits NonTaxable",{"$f":"'Essbase Input'!$D$18","v":"IDB 2021"},"Total Year","NO REINSURANCE","All Other Projects",0,0,0,0,0,0,0,0,0,0,0,0,0,0,0,0]
[27,4,1.2,"PY1","SUB","---","Rate Credits NonTaxable",{"$f":"'Essbase Input'!$D$18","v":"IDB 2021"},"Total Year","NO REINSURANCE","All Other Projects",0,0,0,0,0,0,0,0,0,0,0,0,0,0,0,0]
[28,4,1.2,"PY1","SUB","---","Rate Credits NonTaxable",{"$f":"'Essbase Input'!$D$18","v":"IDB 2021"},"March_Bal","NO REINSURANCE","All Other Projects",0,0,0,0,0,0,0,0,0,0,0,0,0,0,0,0]
[29,4,2.1,"PY2","ADD","R","Health Premiums Earned",{"$f":"'Essbase Input'!$D$19","v":"IDB 2020"},"Total Year","NO REINSURANCE","All Other Projects",0,0,0,0,0,0,0,0,0,0,0,0,-196914.67,-95.280000000000086,0,0]
[30,4,2.1,"PY2","ADD","R","Health Premiums Earned",{"$f":"'Essbase Input'!$D$19","v":"IDB 2020"},"March_Bal","NO REINSURANCE","All Other Projects",0,0,0,0,0,0,0,0,0,0,0,0,-58259.640000000014,-625.4100000000002,0,0]
[31,4,2.1,"PY1","ADD","R","Health Premiums Earned",{"$f":"'Essbase Input'!$D$18","v":"IDB 2021"},"Total Year","NO REINSURANCE","All Other Projects",0,0,0,0,0,0,0,0,0,0,0,0,0,-162005.72,-163.79000000000002,0]
[32,4,2.1,"PY1","ADD","R","Health Premiums Earned",{"$f":"'Essbase Input'!$D$18","v":"IDB 2021"},"March_Bal","NO REINSURANCE","All Other Projects",0,0,0,0,0,0,0,0,0,0,0,0,0,-42130.500000000007,-189.04000000000002,0]
[33,4,2.2000000000000002,"PY2","ADD","---","Federal Taxes and Assessments","IDB Periods","Total Year","Reinsurance","All Other Projects",0,0,0,0,0,0,0,0,10790.63,4458.3899999999967,5568.76,0,15400.099999999999,4458.3899999999967,5568.76,0]
[34,4,2.2000000000000002,"PY2","ADD","---","State Ins, Prem and Other Tax","IDB Periods","Total Year","Reinsurance","All Other Projects",34.08,35.010000000000005,30.24,0,0,0,0,0,0,0,0,0,19429.010000000002,17544.129999999997,8599.42,0.34999999999988629]
[35,4,2.2000000000000002,"PY2","ADD","---","Reg Authority Licenses & Fees","IDB Periods","Total Year","Reinsurance","All Other Projects",0,0,0,0,0,0,0,0,0,0,0,0,0,0,0,0]
[36,4,2.2000000000000002,"PY1","ADD","---","Federal Taxes and Assessments","IDB Periods","Total Year","Reinsurance","All Other Projects",0,0,0,0,0,0,0,0,10790.63,4458.3899999999967,5568.76,0,15400.099999999999,4458.3899999999967,5568.76,0]
[37,4,2.2000000000000002,"PY1","ADD","---","State Ins, Prem and Other Tax","IDB Periods","Total Year","Reinsurance","All Other Projects",34.08,35.010000000000005,30.24,0,0,0,0,0,0,0,0,0,19429.010000000002,17544.129999999997,8599.42,0.34999999999988629]
[38,4,2.2000000000000002,"PY1","ADD","---","Reg Authority Licenses & Fees","IDB Periods","Total Year","Reinsurance","All Other Projects",0,0,0,0,0,0,0,0,0,0,0,0,0,0,0,0]
[39,4,3.1,"PY2","ADD","---","SHCE Member Months",{"$f":"'Essbase Input'!$D$19","v":"IDB 2020"},"Total Year","NO REINSURANCE","All Other Projects",0,0,0,0,0,0,0,0,0,0,0,0,4005,46,0,0]
[40,4,3.1,"PY2","ADD","---","SHCE Member Months",{"$f":"'Essbase Input'!$D$19","v":"IDB 2020"},"March_Bal","NO REINSURANCE","All Other Projects",0,0,0,0,0,0,0,0,0,0,0,0,1125,10,0,0]
[41,4,3.1,"PY1","ADD","---","SHCE Member Months",{"$f":"'Essbase Input'!$D$18","v":"IDB 2021"},"Total Year","NO REINSURANCE","All Other Projects",0,0,0,0,0,0,0,0,0,0,0,0,0,3345,3,0]
[42,4,3.1,"PY1","ADD","---","SHCE Member Months",{"$f":"'Essbase Input'!$D$18","v":"IDB 2021"},"March_Bal","NO REINSURANCE","All Other Projects",0,0,0,0,0,0,0,0,0,0,0,0,0,865,5,0]
[]
[null,null,null,null,null,null,{"$f":"\"Not Used\"","v":"Not Used"}]
[null,null,null,null,null,null,{"$f":"\"Linked Cell\"","v":"Linked Cell"}]

{"sheet":"EB PT 4 PY2","index":9,"n_rows":224,"n_cols":25,"rows_kept":224,"cut":false,"hidden":true,"merged":[]}
[null,"Part","REF1","REF2","Ln","Col","Adj","Rev","-OU","-Prod","-Cust",{"$f":"\"Account\"","v":"Account"},{"$f":"\"IDB Period\"","v":"IDB Period"},{"$f":"\"Reinsurance\"","v":"Reinsurance"},{"$f":"\"Project\"","v":"Project"},1,1,2,3,4]
[null,null,null,null,null,null,null,null,null,null,null,null,null,null,null,"Views","Views","Views","Views","Views"]
[null,null,null,null,null,null,null,null,null,null,null,null,null,null,null,"Sources","Sources","Sources","Sources","Sources"]
[null,null,null,null,null,null,null,null,null,null,null,null,null,null,null,"Departments","Departments","Departments","Departments","Departments"]
[null,null,null,null,null,null,null,null,null,null,null,null,null,null,null,"NAIC Supp HC Exhibit","NAIC Supp HC Exhibit","NAIC Supp HC Exhibit","NAIC Supp HC Exhibit","NAIC Supp HC Exhibit"]
[null,null,null,null,null,null,null,null,null,null,null,null,null,null,null,{"$f":"'Essbase Input'!$C$8","v":"UnitedHealthcare Life Ins Co"},{"$f":"'Essbase Input'!$C$8","v":"UnitedHealthcare Life Ins Co"},{"$f":"'Essbase Input'!$C$8","v":"UnitedHealthcare Life Ins Co"},{"$f":"'Essbase Input'!$C$8","v":"UnitedHealthcare Life Ins Co"},{"$f":"'Essbase Input'!$C$8","v":"UnitedHealthcare Life Ins Co"}]
[null,null,null,null,null,null,null,null,null,null,null,null,null,null,null,{"$f":"'Essbase Input'!$C$9","v":"California - CA"},{"$f":"'Essbase Input'!$C$9","v":"California - CA"},{"$f":"'Essbase Input'!$C$9","v":"California - CA"},{"$f":"'Essbase Input'!$C$9","v":"California - CA"},{"$f":"'Essbase Input'!$C$9","v":"California - CA"}]
[null,null,null,null,null,null,null,null,null,null,null,null,null,null,null,{"$f":"'Essbase Input'!$C$19","v":"2020"},{"$f":"'Essbase Input'!$C$18","v":"2021"},{"$f":"'Essbase Input'!$C$18","v":"2021"},{"$f":"'Essbase Input'!$C$17","v":"2022"},{"$f":"'Essbase Input'!$C$16","v":"2023"}]
[null,null,null,null,null,null,null,null,null,null,null,null,null,null,null,"Total Year","March_Bal","Total Year","Total Year","March_Bal"]
["CMS MLR",4,null,null,"1.2-","PY2","ADD","---","Operating Units","Other Health Business","MLR Customers","Total Incurred Claims",{"$f":"'Essbase Input'!$D$19","v":"IDB 2020"},"NO REINSURANCE","All Other Projects",88465.01,-578.69999999999982,-364.17999999999847,-1.089999999999993,0,null,{"$f":"P10+R10+S10+T10","v":88099.74}]
[null,4,null,null,"1.2-","PY2","SUB","---","Operating Units","Other Health Business","MLR Customers","50010 - Physician Cap Paid - External",{"$f":"'Essbase Input'!$D$19","v":"IDB 2020"},"NO REINSURANCE","0000003413 - General Administrative",0,0,0,0,0,null,{"$f":"P11+R11+S11+T11","v":0}]
[null,4,null,null,"1.2-","PY2","SUB","---","Operating Units","Other Health Business","MLR Customers","50619 - Internal Capitation Pd - Other",{"$f":"'Essbase Input'!$D$19","v":"IDB 2020"},"NO REINSURANCE","All Other Projects",0,0,0,0,0,null,{"$f":"P12+R12+S12+T12","v":0}]
[null,4,null,null,"1.2-","PY2","SUB","---","Operating Units","Other Health Business","MLR Customers","Rate Credits NonTaxable",{"$f":"'Essbase Input'!$D$19","v":"IDB 2020"},"NO REINSURANCE","All Other Projects",0,0,0,0,0,null,{"$f":"P13+R13+S13+T13","v":0},{"$f":"V10-V11-V12-V13","v":88099.74}]
[null,4,null,null,"2.1-","PY2","ADD","R","Operating Units","Other Health Business","MLR Customers","Health Premiums Earned",{"$f":"'Essbase Input'!$D$19","v":"IDB 2020"},"NO REINSURANCE","All Other Projects",-211525.25000000003,-625.4100000000002,-95.280000000000086,0,0,null,{"$f":"P14+Q14","v":-212150.66000000003},{"$f":"V14","v":-212150.66000000003}]
[null,4,null,null,"2.2-","PY2","ADD","---","Operating Units","Other Health Business","MLR Customers","Federal Taxes and Assessments","IDB Periods","Reinsurance","All Other Projects",16762.07,13.139999999999986,5047.6799999999967,6223.4800000000005,-106.91999999999982,null,{"$f":"P15","v":16762.07}]
[null,4,null,null,"2.2-","PY2","ADD","---","Operating Units","Other Health Business","MLR Customers","State Ins, Prem and Other Tax","IDB Periods","Reinsurance","All Other Projects",20148.010000000002,4590.37,17599.78,8856.77,827.50000000000011,null,{"$f":"P16","v":20148.010000000002}]
[null,4,null,null,"2.2-","PY2","ADD","---","Operating Units","Other Health Business","MLR Customers","Reg Authority Licenses & Fees","IDB Periods","Reinsurance","All Other Projects",0,0,0,0,0,null,0,{"$f":"SUM(V15:V17)","v":36910.080000000002}]
[null,4,null,null,"3.1-","PY2","ADD","---","Operating Units","Other Health Business","MLR Customers","SHCE Member Months",{"$f":"'Essbase Input'!$D$19","v":"IDB 2020"},"NO REINSURANCE","All Other Projects",5763,32,98,-12,0,null,{"$f":"P18+Q18","v":5795},{"$f":"V18","v":5795}]
["GRI",4,null,null,"1.2-","PY2","ADD","---","Operating Units","Stand Alone Dental","MLR Customers","Total Incurred Claims",{"$f":"'Essbase Input'!$D$19","v":"IDB 2020"},"NO REINSURANCE","All Other Projects",82938.64,-1300.4899999999998,-1041.4399999999996,0,0,null,{"$f":"P19+R19+S19+T19","v":81897.2}]
[null,4,null,null,"1.2-","PY2","SUB","---","Operating Units","Stand Alone Dental","MLR Customers","50010 - Physician Cap Paid - External",{"$f":"'Essbase Input'!$D$19","v":"IDB 2020"},"NO REINSURANCE","0000003413 - General Administrative",0,0,0,0,0,null,{"$f":"P20+R20+S20+T20","v":0}]
[null,4,null,null,"1.2-","PY2","SUB","---","Operating Units","Stand Alone Dental","MLR Customers","50619 - Internal Capitation Pd - Other",{"$f":"'Essbase Input'!$D$19","v":"IDB 2020"},"NO REINSURANCE","All Other Projects",0,0,0,0,0,null,0]
[null,4,null,null,"1.2-","PY2","SUB","---","Operating Units","Stand Alone Dental","MLR Customers","Rate Credits NonTaxable",{"$f":"'Essbase Input'!$D$19","v":"IDB 2020"},"NO REINSURANCE","All Other Projects",0,0,0,0,0,null,0,{"$f":"V19-V20-V21-V22","v":81897.2}]
[null,4,null,null,"2.1-","PY2","ADD","R","Operating Units","Stand Alone Dental","MLR Customers","Health Premiums Earned",{"$f":"'Essbase Input'!$D$19","v":"IDB 2020"},"NO REINSURANCE","All Other Projects",-196914.67,-625.4100000000002,-95.280000000000086,0,0,null,{"$f":"P23+Q23","v":-197540.08000000002},{"$f":"V23","v":-197540.08000000002}]
[null,4,null,null,"2.2-","PY2","ADD","---","Operating Units","Stand Alone Dental","MLR Customers","Federal Taxes and Assessments","IDB Periods","Reinsurance","All Other Projects",15400.099999999999,886.32000000000016,4458.3899999999967,5568.76,-178.69999999999993,null,{"$f":"P24","v":15400.099999999999}]
[null,4,null,null,"2.2-","PY2","ADD","---","Operating Units","Stand Alone Dental","MLR Customers","State Ins, Prem and Other Tax","IDB Periods","Reinsurance","All Other Projects",19429.010000000002,4511.83,17544.129999999997,8599.42,768.99,null,{"$f":"P25","v":19429.010000000002}]
[null,4,null,null,"2.2-","PY2","ADD","---","Operating Units","Stand Alone Dental","MLR Customers","Reg Authority Licenses & Fees","IDB Periods","Reinsurance","All Other Projects",0,0,0,0,0,null,0,{"$f":"SUM(V24:V26)","v":34829.11}]
[null,4,null,null,"3.1-","PY2","ADD","---","Operating Units","Stand Alone Dental","MLR Customers","SHCE Member Months",{"$f":"'Essbase Input'!$D$19","v":"IDB 2020"},"NO REINSURANCE","All Other Projects",4005,10,46,0,0,null,{"$f":"P27+Q27","v":4015},{"$f":"V27","v":4015}]
["SAD/Ind",4,null,null,"1.2-","PY2","ADD","---","UnitedHealthcare Domestic","Stand Alone Dental","Individual","Total Incurred Claims",{"$f":"'Essbase Input'!$D$19","v":"IDB 2020"},"NO REINSURANCE","All Other Projects",0,0,0,0,0,null,{"$f":"P28+R28+S28+T28","v":0}]
[null,4,null,null,"1.2-","PY2","SUB","---","UnitedHealthcare Domestic","Stand Alone Dental","Individual","50010 - Physician Cap Paid - External",{"$f":"'Essbase Input'!$D$19","v":"IDB 2020"},"NO REINSURANCE","0000003413 - General Administrative",0,0,0,0,0,null,{"$f":"P29+R29+S29+T29","v":0}]
[null,4,null,null,"1.2-","PY2","SUB","---","UnitedHealthcare Domestic","Stand Alone Dental","Individual","50619 - Internal Capitation Pd - Other",{"$f":"'Essbase Input'!$D$19","v":"IDB 2020"},"NO REINSURANCE","All Other Projects",0,0,0,0,0,null,{"$f":"P30+R30+S30+T30","v":0}]
[null,4,null,null,"1.2-","PY2","SUB","---","UnitedHealthcare Domestic","Stand Alone Dental","Individual","Rate Credits NonTaxable",{"$f":"'Essbase Input'!$D$19","v":"IDB 2020"},"NO REINSURANCE","All Other Projects",0,0,0,0,0,null,{"$f":"P31+R31+S31+T31","v":0},{"$f":"V28-V29-V30-V31","v":0}]
[null,4,null,null,"2.1-","PY2","ADD","R","UnitedHealthcare Domestic","Stand Alone Dental","Individual","Health Premiums Earned",{"$f":"'Essbase Input'!$D$19","v":"IDB 2020"},"NO REINSURANCE","All Other Projects",0,0,0,0,0,null,{"$f":"P32+Q32","v":0},{"$f":"V32","v":0}]
[null,4,null,null,"2.2-","PY2","ADD","---","UnitedHealthcare Domestic","Stand Alone Dental","Individual","Federal Taxes and Assessments","IDB Periods","Reinsurance","All Other Projects",0,0,0,0,0,null,{"$f":"P33","v":0}]
[null,4,null,null,"2.2-","PY2","ADD","---","UnitedHealthcare Domestic","Stand Alone Dental","Individual","State Ins, Prem and Other Tax","IDB Periods","Reinsurance","All Other Projects",34.08,6.83,35.010000000000005,30.24,7.77,null,{"$f":"P34","v":34.08}]
[null,4,null,null,"2.2-","PY2","ADD","---","UnitedHealthcare Domestic","Stand Alone Dental","Individual","Reg Authority Licenses & Fees","IDB Periods","Reinsurance","All Other Projects",0,0,0,0,0,null,0,{"$f":"SUM(V33:V35)","v":34.08}]
[null,4,null,null,"3.1-","PY2","ADD","---","UnitedHealthcare Domestic","Stand Alone Dental","Individual","SHCE Member Months",{"$f":"'Essbase Input'!$D$19","v":"IDB 2020"},"NO REINSURANCE","All Other Projects",0,0,0,0,0,null,{"$f":"P36+Q36","v":0},{"$f":"V36","v":0}]
["SAD/SG",4,null,null,"1.2-","PY2","ADD","---","UnitedHealthcare Domestic","Stand Alone Dental","Small Group Employer","Total Incurred Claims",{"$f":"'Essbase Input'!$D$19","v":"IDB 2020"},"NO REINSURANCE","All Other Projects",0,0,0,0,0,null,{"$f":"P37+R37+S37+T37","v":0}]
[null,4,null,null,"1.2-","PY2","SUB","---","UnitedHealthcare Domestic","Stand Alone Dental","Small Group Employer","50010 - Physician Cap Paid - External",{"$f":"'Essbase Input'!$D$19","v":"IDB 2020"},"NO REINSURANCE","0000003413 - General Administrative",0,0,0,0,0,null,{"$f":"P38+R38+S38+T38","v":0}]
[null,4,null,null,"1.2-","PY2","SUB","---","UnitedHealthcare Domestic","Stand Alone Dental","Small Group Employer","50619 - Internal Capitation Pd - Other",{"$f":"'Essbase Input'!$D$19","v":"IDB 2020"},"NO REINSURANCE","All Other Projects",0,0,0,0,0,null,{"$f":"P39+R39+S39+T39","v":0}]
[null,4,null,null,"1.2-","PY2","SUB","---","UnitedHealthcare Domestic","Stand Alone Dental","Small Group Employer","Rate Credits NonTaxable",{"$f":"'Essbase Input'!$D$19","v":"IDB 2020"},"NO REINSURANCE","All Other Projects",0,0,0,0,0,null,{"$f":"P40+R40+S40+T40","v":0},{"$f":"V37-V38-V39-V40","v":0}]
[null,4,null,null,"2.1-","PY2","ADD","R","UnitedHealthcare Domestic","Stand Alone Dental","Small Group Employer","Health Premiums Earned",{"$f":"'Essbase Input'!$D$19","v":"IDB 2020"},"NO REINSURANCE","All Other Projects",0,0,0,0,0,null,{"$f":"P41+Q41","v":0},{"$f":"V41","v":0}]
[null,4,null,null,"2.2-","PY2","ADD","---","UnitedHealthcare Domestic","Stand Alone Dental","Small Group Employer","Federal Taxes and Assessments","IDB Periods","Reinsurance","All Other Projects",0,0,0,0,0,null,{"$f":"P42","v":0}]
[null,4,null,null,"2.2-","PY2","ADD","---","UnitedHealthcare Domestic","Stand Alone Dental","Small Group Employer","State Ins, Prem and Other Tax","IDB Periods","Reinsurance","All Other Projects",0,0,0,0,0,null,{"$f":"P43","v":0}]
[null,4,null,null,"2.2-","PY2","ADD","---","UnitedHealthcare Domestic","Stand Alone Dental","Small Group Employer","Reg Authority Licenses & Fees","IDB Periods","Reinsurance","All Other Projects",0,0,0,0,0,null,0,{"$f":"SUM(V42:V44)","v":0}]
[null,4,null,null,"3.1-","PY2","ADD","---","UnitedHealthcare Domestic","Stand Alone Dental","Small Group Employer","SHCE Member Months",{"$f":"'Essbase Input'!$D$19","v":"IDB 2020"},"NO REINSURANCE","All Other Projects",0,0,0,0,0,null,{"$f":"P45+Q45","v":0},{"$f":"V45","v":0}]
["SAD/LG",4,null,null,"1.2-","PY2","ADD","---","UnitedHealthcare Domestic","Stand Alone Dental","Large Group Employer","Total Incurred Claims",{"$f":"'Essbase Input'!$D$19","v":"IDB 2020"},"NO REINSURANCE","All Other Projects",0,0,0,0,0,null,{"$f":"P46+R46+S46+T46","v":0}]
[null,4,null,null,"1.2-","PY2","SUB","---","UnitedHealthcare Domestic","Stand Alone Dental","Large Group Employer","50010 - Physician Cap Paid - External",{"$f":"'Essbase Input'!$D$19","v":"IDB 2020"},"NO REINSURANCE","0000003413 - General Administrative",0,0,0,0,0,null,{"$f":"P47+R47+S47+T47","v":0}]
[null,4,null,null,"1.2-","PY2","SUB","---","UnitedHealthcare Domestic","Stand Alone Dental","Large Group Employer","50619 - Internal Capitation Pd - Other",{"$f":"'Essbase Input'!$D$19","v":"IDB 2020"},"NO REINSURANCE","All Other Projects",0,0,0,0,0,null,{"$f":"P48+R48+S48+T48","v":0}]
[null,4,null,null,"1.2-","PY2","SUB","---","UnitedHealthcare Domestic","Stand Alone Dental","Large Group Employer","Rate Credits NonTaxable",{"$f":"'Essbase Input'!$D$19","v":"IDB 2020"},"NO REINSURANCE","All Other Projects",0,0,0,0,0,null,{"$f":"P49+R49+S49+T49","v":0},{"$f":"V46-V47-V48-V49","v":0}]
[null,4,null,null,"2.1-","PY2","ADD","R","UnitedHealthcare Domestic","Stand Alone Dental","Large Group Employer","Health Premiums Earned",{"$f":"'Essbase Input'!$D$19","v":"IDB 2020"},"NO REINSURANCE","All Other Projects",0,0,0,0,0,null,{"$f":"P50+Q50","v":0},{"$f":"V50","v":0}]
[null,4,null,null,"2.2-","PY2","ADD","---","UnitedHealthcare Domestic","Stand Alone Dental","Large Group Employer","Federal Taxes and Assessments","IDB Periods","Reinsurance","All Other Projects",10790.63,886.32000000000016,4458.3899999999967,5568.76,-178.69999999999993,null,{"$f":"P51","v":10790.63}]
[null,4,null,null,"2.2-","PY2","ADD","---","UnitedHealthcare Domestic","Stand Alone Dental","Large Group Employer","State Ins, Prem and Other Tax","IDB Periods","Reinsurance","All Other Projects",0,0,0,0,0,null,{"$f":"P52","v":0}]
[null,4,null,null,"2.2-","PY2","ADD","---","UnitedHealthcare Domestic","Stand Alone Dental","Large Group Employer","Reg Authority Licenses & Fees","IDB Periods","Reinsurance","All Other Projects",0,0,0,0,0,null,0,{"$f":"SUM(V51:V53)","v":10790.63}]
[null,4,null,null,"3.1-","PY2","ADD","---","UnitedHealthcare Domestic","Stand Alone Dental","Large Group Employer","SHCE Member Months",{"$f":"'Essbase Input'!$D$19","v":"IDB 2020"},"NO REINSURANCE","All Other Projects",0,0,0,0,0,null,{"$f":"P54+Q54","v":0},{"$f":"V54","v":0}]
["Vision",4,null,null,1.2,"PY2","ADD","---","Operating Units","Stand Alone Vision","MLR Customers","Total Incurred Claims",{"$f":"'Essbase Input'!$D$19","v":"IDB 2020"},"NO REINSURANCE","All Other Projects",5526.369999999999,721.79,677.26,-1.0900000000000001,0,null,{"$f":"P55+R55+S55+T55","v":6202.5399999999991}]
[null,4,null,null,1.2,"PY2","SUB","---","Operating Units","Stand Alone Vision","MLR Customers","50010 - Physician Cap Paid - External",{"$f":"'Essbase Input'!$D$19","v":"IDB 2020"},"NO REINSURANCE","0000003413 - General Administrative",0,0,0,0,0,null,{"$f":"P56+R56+S56+T56","v":0}]
[null,4,null,null,1.2,"PY2","SUB","---","Operating Units","Stand Alone Vision","MLR Customers","50619 - Internal Capitation Pd - Other",{"$f":"'Essbase Input'!$D$19","v":"IDB 2020"},"NO REINSURANCE","All Other Projects",0,0,0,0,0,null,0]
[null,4,null,null,1.2,"PY2","SUB","---","Operating Units","Stand Alone Vision","MLR Customers","Rate Credits NonTaxable",{"$f":"'Essbase Input'!$D$19","v":"IDB 2020"},"NO REINSURANCE","All Other Projects",0,0,0,0,0,null,0,{"$f":"V55-V56-V57-V58","v":6202.5399999999991}]
[null,4,null,null,2.1,"PY2","ADD","R","Operating Units","Stand Alone Vision","MLR Customers","Health Premiums Earned",{"$f":"'Essbase Input'!$D$19","v":"IDB 2020"},"NO REINSURANCE","All Other Projects",-14610.580000000004,0,0,0,0,null,{"$f":"P59+Q59","v":-14610.580000000004},{"$f":"V59","v":-14610.580000000004}]
[null,4,null,null,2.2000000000000002,"PY2","ADD","---","Operating Units","Stand Alone Vision","MLR Customers","Federal Taxes and Assessments","IDB Periods","Reinsurance","All Other Projects",1361.97,-873.18000000000018,589.29,798.31000000000006,336.15000000000003,null,{"$f":"P60","v":1361.97}]
[null,4,null,null,2.2000000000000002,"PY2","ADD","---","Operating Units","Stand Alone Vision","MLR Customers","State Ins, Prem and Other Tax","IDB Periods","Reinsurance","All Other Projects",719,78.540000000000006,55.650000000000006,257.34999999999997,58.510000000000005,null,{"$f":"P61","v":719}]
[null,4,null,null,2.2000000000000002,"PY2","ADD","---","Operating Units","Stand Alone Vision","MLR Customers","Reg Authority Licenses & Fees","IDB Periods","Reinsurance","All Other Projects",0,0,0,0,0,null,0,{"$f":"SUM(V60:V62)","v":2080.9700000000003}]
[null,4,null,null,3.1,"PY2","ADD","---","Operating Units","Stand Alone Vision","MLR Customers","SHCE Member Months",{"$f":"'Essbase Input'!$D$19","v":"IDB 2020"},"NO REINSURANCE","All Other Projects",1758,22,52,-12,0,null,{"$f":"P63+Q63","v":1780},{"$f":"V63","v":1780}]
["Life/Disability",4,null,null,1.2,"PY2","ADD","---","Operating Units","Non Stand Alone Dental/Vision","MLR Customers","Total Incurred Claims",{"$f":"'Essbase Input'!$D$19","v":"IDB 2020"},"NO REINSURANCE","All Other Projects",0,0,0,0,0,null,{"$f":"P64+R64+S64+T64","v":0}]
[null,4,null,null,1.2,"PY2","SUB","---","Operating Units","Non Stand Alone Dental/Vision","MLR Customers","50010 - Physician Cap Paid - External",{"$f":"'Essbase Input'!$D$19","v":"IDB 2020"},"NO REINSURANCE","0000003413 - General Administrative",0,0,0,0,0,null,{"$f":"P65+R65+S65+T65","v":0}]
[null,4,null,null,1.2,"PY2","SUB","---","Operating Units","Non Stand Alone Dental/Vision","MLR Customers","50619 - Internal Capitation Pd - Other",{"$f":"'Essbase Input'!$D$19","v":"IDB 2020"},"NO REINSURANCE","All Other Projects",0,0,0,0,0,null,0]
[null,4,null,null,1.2,"PY2","SUB","---","Operating Units","Non Stand Alone Dental/Vision","MLR Customers","Rate Credits NonTaxable",{"$f":"'Essbase Input'!$D$19","v":"IDB 2020"},"NO REINSURANCE","All Other Projects",0,0,0,0,0,null,0,{"$f":"V64-V65-V66-V67","v":0}]
[null,4,null,null,2.1,"PY2","ADD","R","Operating Units","Non Stand Alone Dental/Vision","MLR Customers","Health Premiums Earned",{"$f":"'Essbase Input'!$D$19","v":"IDB 2020"},"NO REINSURANCE","All Other Projects",0,0,0,0,0,null,{"$f":"P68+Q68","v":0},{"$f":"V68","v":0}]
[null,4,null,null,2.2000000000000002,"PY2","ADD","---","Operating Units","Non Stand Alone Dental/Vision","MLR Customers","Federal Taxes and Assessments","IDB Periods","Reinsurance","All Other Projects",0,0,0,-143.59,-264.37,null,{"$f":"P69","v":0}]
[null,4,null,null,2.2000000000000002,"PY2","ADD","---","Operating Units","Non Stand Alone Dental/Vision","MLR Customers","State Ins, Prem and Other Tax","IDB Periods","Reinsurance","All Other Projects",0,0,0,0,0,null,{"$f":"P70","v":0}]
[null,4,null,null,2.2000000000000002,"PY2","ADD","---","Operating Units","Non Stand Alone Dental/Vision","MLR Customers","Reg Authority Licenses & Fees","IDB Periods","Reinsurance","All Other Projects",0,0,0,0,0,null,0,{"$f":"SUM(V69:V71)","v":0}]
[null,4,null,null,3.1,"PY2","ADD","---","Operating Units","Non Stand Alone Dental/Vision","MLR Customers","SHCE Member Months",{"$f":"'Essbase Input'!$D$19","v":"IDB 2020"},"NO REINSURANCE","All Other Projects",0,0,0,0,0,null,{"$f":"P72+Q72","v":0},{"$f":"V72","v":0}]
["Oth Bus (excl by Stat)",4,null,null,1.2,"PY2","ADD","---","Operating Units","Other Bus(excluded by Statute)","MLR Customers","Total Incurred Claims",{"$f":"'Essbase Input'!$D$19","v":"IDB 2020"},"NO REINSURANCE","All Other Projects",0,0,0,0,0,null,{"$f":"P73+R73+S73+T73","v":0}]
[null,4,null,null,1.2,"PY2","SUB","---","Operating Units","Other Bus(excluded by Statute)","MLR Customers","50010 - Physician Cap Paid - External",{"$f":"'Essbase Input'!$D$19","v":"IDB 2020"},"NO REINSURANCE","0000003413 - General Administrative",0,0,0,0,0,null,{"$f":"P74+R74+S74+T74","v":0}]
[null,4,null,null,1.2,"PY2","SUB","---","Operating Units","Other Bus(excluded by Statute)","MLR Customers","50619 - Internal Capitation Pd - Other",{"$f":"'Essbase Input'!$D$19","v":"IDB 2020"},"NO REINSURANCE","All Other Projects",0,0,0,0,0,null,0]
[null,4,null,null,1.2,"PY2","SUB","---","Operating Units","Other Bus(excluded by Statute)","MLR Customers","Rate Credits NonTaxable",{"$f":"'Essbase Input'!$D$19","v":"IDB 2020"},"NO REINSURANCE","All Other Projects",0,0,0,0,0,null,0,{"$f":"V73-V74-V75-V76","v":0}]
[null,4,null,null,2.1,"PY2","ADD","R","Operating Units","Other Bus(excluded by Statute)","MLR Customers","Health Premiums Earned",{"$f":"'Essbase Input'!$D$19","v":"IDB 2020"},"NO REINSURANCE","All Other Projects",0,0,0,0,0,null,{"$f":"P77+Q77","v":0},{"$f":"V77","v":0}]
[null,4,null,null,2.2000000000000002,"PY2","ADD","---","Operating Units","Other Bus(excluded by Statute)","MLR Customers","Federal Taxes and Assessments","IDB Periods","Reinsurance","All Other Projects",0,0,0,0,0,null,{"$f":"P78","v":0}]
[null,4,null,null,2.2000000000000002,"PY2","ADD","---","Operating Units","Other Bus(excluded by Statute)","MLR Customers","State Ins, Prem and Other Tax","IDB Periods","Reinsurance","All Other Projects",0,0,0,0,0,null,{"$f":"P79","v":0}]
[null,4,null,null,2.2000000000000002,"PY2","ADD","---","Operating Units","Other Bus(excluded by Statute)","MLR Customers","Reg Authority Licenses & Fees","IDB Periods","Reinsurance","All Other Projects",0,0,0,0,0,null,0,{"$f":"SUM(V78:V80)","v":0}]
[null,4,null,null,3.1,"PY2","ADD","---","Operating Units","Other Bus(excluded by Statute)","MLR Customers","SHCE Member Months",{"$f":"'Essbase Input'!$D$19","v":"IDB 2020"},"NO REINSURANCE","All Other Projects",0,0,0,0,0,null,{"$f":"P81+Q81","v":0},{"$f":"V81","v":0}]
["UHC Domestic\nStand Alone Dental\nBlank Cust",4,"A",null,1.2,"PY2","ADD","---","UnitedHealthcare Domestic","Stand Alone Dental","Blank Customer","Total Incurred Claims",{"$f":"'Essbase Input'!$D$19","v":"IDB 2020"},"NO REINSURANCE","All Other Projects",0,0,0,0,0,null,{"$f":"P82+R82+S82+T82","v":0}]
[null,4,"A",null,1.2,"PY2","SUB","---","UnitedHealthcare Domestic","Stand Alone Dental","Blank Customer","50010 - Physician Cap Paid - External",{"$f":"'Essbase Input'!$D$19","v":"IDB 2020"},"NO REINSURANCE","0000003413 - General Administrative",0,0,0,0,0,null,{"$f":"P83+R83+S83+T83","v":0}]
[null,4,"A",null,1.2,"PY2","SUB","---","UnitedHealthcare Domestic","Stand Alone Dental","Blank Customer","50619 - Internal Capitation Pd - Other",{"$f":"'Essbase Input'!$D$19","v":"IDB 2020"},"NO REINSURANCE","All Other Projects",0,0,0,0,0,null,0]
[null,4,"A",null,1.2,"PY2","SUB","---","UnitedHealthcare Domestic","Stand Alone Dental","Blank Customer","Rate Credits NonTaxable",{"$f":"'Essbase Input'!$D$19","v":"IDB 2020"},"NO REINSURANCE","All Other Projects",0,0,0,0,0,null,0,{"$f":"V82-V83-V84-V85","v":0}]
[null,4,"A",null,2.1,"PY2","ADD","R","UnitedHealthcare Domestic","Stand Alone Dental","Blank Customer","Health Premiums Earned",{"$f":"'Essbase Input'!$D$19","v":"IDB 2020"},"NO REINSURANCE","All Other Projects",0,0,0,0,0,null,{"$f":"P86+Q86","v":0},{"$f":"V86","v":0}]
[null,4,"A",null,2.2000000000000002,"PY2","ADD","---","UnitedHealthcare Domestic","Stand Alone Dental","Blank Customer","Federal Taxes and Assessments","IDB Periods","Reinsurance","All Other Projects",0,0,0,0,0,null,{"$f":"P87","v":0}]
[null,4,"A",null,2.2000000000000002,"PY2","ADD","---","UnitedHealthcare Domestic","Stand Alone Dental","Blank Customer","State Ins, Prem and Other Tax","IDB Periods","Reinsurance","All Other Projects",0,0,0,0,0,null,{"$f":"P88","v":0}]
[null,4,"A",null,2.2000000000000002,"PY2","ADD","---","UnitedHealthcare Domestic","Stand Alone Dental","Blank Customer","Reg Authority Licenses & Fees","IDB Periods","Reinsurance","All Other Projects",0,0,0,0,0,null,0,{"$f":"SUM(V87:V89)","v":0}]
[null,4,"A",null,3.1,"PY2","ADD","---","UnitedHealthcare Domestic","Stand Alone Dental","Blank Customer","SHCE Member Months",{"$f":"'Essbase Input'!$D$19","v":"IDB 2020"},"NO REINSURANCE","All Other Projects",0,0,0,0,0,null,{"$f":"P90+Q90","v":0},{"$f":"V90","v":0}]
["UHC Domestic\nStand Alone Dental\nNot Comp Health",4,"A",null,1.2,"PY2","ADD","---","UnitedHealthcare Domestic","Stand Alone Dental","Not Comp Health Coverage","Total Incurred Claims",{"$f":"'Essbase Input'!$D$19","v":"IDB 2020"},"NO REINSURANCE","All Other Projects",82938.64,-1300.4899999999998,-1041.4399999999996,0,0,null,{"$f":"P91+R91+S91+T91","v":81897.2}]
[null,4,"A",null,1.2,"PY2","SUB","---","UnitedHealthcare Domestic","Stand Alone Dental","Not Comp Health Coverage","50010 - Physician Cap Paid - External",{"$f":"'Essbase Input'!$D$19","v":"IDB 2020"},"NO REINSURANCE","0000003413 - General Administrative",0,0,0,0,0,null,{"$f":"P92+R92+S92+T92","v":0}]
[null,4,"A",null,1.2,"PY2","SUB","---","UnitedHealthcare Domestic","Stand Alone Dental","Not Comp Health Coverage","50619 - Internal Capitation Pd - Other",{"$f":"'Essbase Input'!$D$19","v":"IDB 2020"},"NO REINSURANCE","All Other Projects",0,0,0,0,0,null,0]
[null,4,"A",null,1.2,"PY2","SUB","---","UnitedHealthcare Domestic","Stand Alone Dental","Not Comp Health Coverage","Rate Credits NonTaxable",{"$f":"'Essbase Input'!$D$19","v":"IDB 2020"},"NO REINSURANCE","All Other Projects",0,0,0,0,0,null,0,{"$f":"V91-V92-V93-V94","v":81897.2}]
[null,4,"A",null,2.1,"PY2","ADD","R","UnitedHealthcare Domestic","Stand Alone Dental","Not Comp Health Coverage","Health Premiums Earned",{"$f":"'Essbase Input'!$D$19","v":"IDB 2020"},"NO REINSURANCE","All Other Projects",-196914.67,-625.4100000000002,-95.280000000000086,0,0,null,{"$f":"P95+Q95","v":-197540.08000000002},{"$f":"V95","v":-197540.08000000002}]
[null,4,"A",null,2.2000000000000002,"PY2","ADD","---","UnitedHealthcare Domestic","Stand Alone Dental","Not Comp Health Coverage","Federal Taxes and Assessments","IDB Periods","Reinsurance","All Other Projects",4609.4699999999993,0,0,0,0,null,{"$f":"P96","v":4609.4699999999993}]
[null,4,"A",null,2.2000000000000002,"PY2","ADD","---","UnitedHealthcare Domestic","Stand Alone Dental","Not Comp Health Coverage","State Ins, Prem and Other Tax","IDB Periods","Reinsurance","All Other Projects",19394.93,4505,17509.12,8569.18,761.22,null,{"$f":"P97","v":19394.93}]
[null,4,"A",null,2.2000000000000002,"PY2","ADD","---","UnitedHealthcare Domestic","Stand Alone Dental","Not Comp Health Coverage","Reg Authority Licenses & Fees","IDB Periods","Reinsurance","All Other Projects",0,0,0,0,0,null,0,{"$f":"SUM(V96:V98)","v":24004.400000000001}]
[null,4,"A",null,3.1,"PY2","ADD","---","UnitedHealthcare Domestic","Stand Alone Dental","Not Comp Health Coverage","SHCE Member Months",{"$f":"'Essbase Input'!$D$19","v":"IDB 2020"},"NO REINSURANCE","All Other Projects",4005,10,46,0,0,null,{"$f":"P99+Q99","v":4015},{"$f":"V99","v":4015}]
["UHC International\nStand Alone Dental\nMLR Customer",4,"A","B",1.2,"PY2","ADD","---","UnitedHealthcare International","Stand Alone Dental","MLR Customers","Total Incurred Claims",{"$f":"'Essbase Input'!$D$19","v":"IDB 2020"},"NO REINSURANCE","All Other Projects",0,0,0,0,0,null,{"$f":"P100+R100+S100+T100","v":0}]
[null,4,"A","B",1.2,"PY2","SUB","---","UnitedHealthcare International","Stand Alone Dental","MLR Customers","50010 - Physician Cap Paid - External",{"$f":"'Essbase Input'!$D$19","v":"IDB 2020"},"NO REINSURANCE","0000003413 - General Administrative",0,0,0,0,0,null,{"$f":"P101+R101+S101+T101","v":0}]
[null,4,"A","B",1.2,"PY2","SUB","---","UnitedHealthcare International","Stand Alone Dental","MLR Customers","50619 - Internal Capitation Pd - Other",{"$f":"'Essbase Input'!$D$19","v":"IDB 2020"},"NO REINSURANCE","All Other Projects",0,0,0,0,0,null,0]
[null,4,"A","B",1.2,"PY2","SUB","---","UnitedHealthcare International","Stand Alone Dental","MLR Customers","Rate Credits NonTaxable",{"$f":"'Essbase Input'!$D$19","v":"IDB 2020"},"NO REINSURANCE","All Other Projects",0,0,0,0,0,null,0,{"$f":"V100-V101-V102-V103","v":0}]
[null,4,"A","B",2.1,"PY2","ADD","R","UnitedHealthcare International","Stand Alone Dental","MLR Customers","Health Premiums Earned",{"$f":"'Essbase Input'!$D$19","v":"IDB 2020"},"NO REINSURANCE","All Other Projects",0,0,0,0,0,null,{"$f":"P104+Q104","v":0},{"$f":"V104","v":0}]
[null,4,"A","B",2.2000000000000002,"PY2","ADD","---","UnitedHealthcare International","Stand Alone Dental","MLR Customers","Federal Taxes and Assessments","IDB Periods","Reinsurance","All Other Projects",0,0,0,0,0,null,{"$f":"P105","v":0}]
[null,4,"A","B",2.2000000000000002,"PY2","ADD","---","UnitedHealthcare International","Stand Alone Dental","MLR Customers","State Ins, Prem and Other Tax","IDB Periods","Reinsurance","All Other Projects",0,0,0,0,0,null,{"$f":"P106","v":0}]
[null,4,"A","B",2.2000000000000002,"PY2","ADD","---","UnitedHealthcare International","Stand Alone Dental","MLR Customers","Reg Authority Licenses & Fees","IDB Periods","Reinsurance","All Other Projects",0,0,0,0,0,null,0,{"$f":"SUM(V105:V107)","v":0}]
[null,4,"A","B",3.1,"PY2","ADD","---","UnitedHealthcare International","Stand Alone Dental","MLR Customers","SHCE Member Months",{"$f":"'Essbase Input'!$D$19","v":"IDB 2020"},"NO REINSURANCE","All Other Projects",0,0,0,0,0,null,{"$f":"P108+Q108","v":0},{"$f":"V108","v":0}]
["Optum\nStand Alone Dental\nMLR Customer",4,"A","B",1.2,"PY2","ADD","---","Optum","Stand Alone Dental","MLR Customers","Total Incurred Claims",{"$f":"'Essbase Input'!$D$19","v":"IDB 2020"},"NO REINSURANCE","All Other Projects",0,0,0,0,0,null,{"$f":"P109+R109+S109+T109","v":0}]
[null,4,"A","B",1.2,"PY2","SUB","---","Optum","Stand Alone Dental","MLR Customers","50010 - Physician Cap Paid - External",{"$f":"'Essbase Input'!$D$19","v":"IDB 2020"},"NO REINSURANCE","0000003413 - General Administrative",0,0,0,0,0,null,{"$f":"P110+R110+S110+T110","v":0}]
[null,4,"A","B",1.2,"PY2","SUB","---","Optum","Stand Alone Dental","MLR Customers","50619 - Internal Capitation Pd - Other",{"$f":"'Essbase Input'!$D$19","v":"IDB 2020"},"NO REINSURANCE","All Other Projects",0,0,0,0,0,null,0]
[null,4,"A","B",1.2,"PY2","SUB","---","Optum","Stand Alone Dental","MLR Customers","Rate Credits NonTaxable",{"$f":"'Essbase Input'!$D$19","v":"IDB 2020"},"NO REINSURANCE","All Other Projects",0,0,0,0,0,null,0,{"$f":"V109-V110-V111-V112","v":0}]
[null,4,"A","B",2.1,"PY2","ADD","R","Optum","Stand Alone Dental","MLR Customers","Health Premiums Earned",{"$f":"'Essbase Input'!$D$19","v":"IDB 2020"},"NO REINSURANCE","All Other Projects",0,0,0,0,0,null,{"$f":"P113+Q113","v":0},{"$f":"V113","v":0}]
[null,4,"A","B",2.2000000000000002,"PY2","ADD","---","Optum","Stand Alone Dental","MLR Customers","Federal Taxes and Assessments","IDB Periods","Reinsurance","All Other Projects",0,0,0,0,0,null,{"$f":"P114","v":0}]
[null,4,"A","B",2.2000000000000002,"PY2","ADD","---","Optum","Stand Alone Dental","MLR Customers","State Ins, Prem and Other Tax","IDB Periods","Reinsurance","All Other Projects",0,0,0,0,0,null,{"$f":"P115","v":0}]
[null,4,"A","B",2.2000000000000002,"PY2","ADD","---","Optum","Stand Alone Dental","MLR Customers","Reg Authority Licenses & Fees","IDB Periods","Reinsurance","All Other Projects",0,0,0,0,0,null,0,{"$f":"SUM(V114:V116)","v":0}]
[null,4,"A","B",3.1,"PY2","ADD","---","Optum","Stand Alone Dental","MLR Customers","SHCE Member Months",{"$f":"'Essbase Input'!$D$19","v":"IDB 2020"},"NO REINSURANCE","All Other Projects",0,0,0,0,0,null,{"$f":"P117+Q117","v":0},{"$f":"V117","v":0}]
["Elims Mkt Grp\nStand Alone Dental\nMLR Customer",4,"A","B",1.2,"PY2","ADD","---","Eliminations Market Group","Stand Alone Dental","MLR Customers","Total Incurred Claims",{"$f":"'Essbase Input'!$D$19","v":"IDB 2020"},"NO REINSURANCE","All Other Projects",0,0,0,0,0,null,{"$f":"P118+R118+S118+T118","v":0}]
[null,4,"A","B",1.2,"PY2","SUB","---","Eliminations Market Group","Stand Alone Dental","MLR Customers","50010 - Physician Cap Paid - External",{"$f":"'Essbase Input'!$D$19","v":"IDB 2020"},"NO REINSURANCE","0000003413 - General Administrative",0,0,0,0,0,null,{"$f":"P119+R119+S119+T119","v":0}]
[null,4,"A","B",1.2,"PY2","SUB","---","Eliminations Market Group","Stand Alone Dental","MLR Customers","50619 - Internal Capitation Pd - Other",{"$f":"'Essbase Input'!$D$19","v":"IDB 2020"},"NO REINSURANCE","All Other Projects",0,0,0,0,0,null,0]
[null,4,"A","B",1.2,"PY2","SUB","---","Eliminations Market Group","Stand Alone Dental","MLR Customers","Rate Credits NonTaxable",{"$f":"'Essbase Input'!$D$19","v":"IDB 2020"},"NO REINSURANCE","All Other Projects",0,0,0,0,0,null,0,{"$f":"V118-V119-V120-V121","v":0}]
[null,4,"A","B",2.1,"PY2","ADD","R","Eliminations Market Group","Stand Alone Dental","MLR Customers","Health Premiums Earned",{"$f":"'Essbase Input'!$D$19","v":"IDB 2020"},"NO REINSURANCE","All Other Projects",0,0,0,0,0,null,{"$f":"P122+Q122","v":0},{"$f":"V122","v":0}]
[null,4,"A","B",2.2000000000000002,"PY2","ADD","---","Eliminations Market Group","Stand Alone Dental","MLR Customers","Federal Taxes and Assessments","IDB Periods","Reinsurance","All Other Projects",0,0,0,0,0,null,{"$f":"P123","v":0}]
[null,4,"A","B",2.2000000000000002,"PY2","ADD","---","Eliminations Market Group","Stand Alone Dental","MLR Customers","State Ins, Prem and Other Tax","IDB Periods","Reinsurance","All Other Projects",0,0,0,0,0,null,{"$f":"P124","v":0}]
[null,4,"A","B",2.2000000000000002,"PY2","ADD","---","Eliminations Market Group","Stand Alone Dental","MLR Customers","Reg Authority Licenses & Fees","IDB Periods","Reinsurance","All Other Projects",0,0,0,0,0,null,0,{"$f":"SUM(V123:V125)","v":0}]
[null,4,"A","B",3.1,"PY2","ADD","---","Eliminations Market Group","Stand Alone Dental","MLR Customers","SHCE Member Months",{"$f":"'Essbase Input'!$D$19","v":"IDB 2020"},"NO REINSURANCE","All Other Projects",0,0,0,0,0,null,{"$f":"P126+Q126","v":0},{"$f":"V126","v":0}]
["Corp Mkt Grp\nStand Alone Dental\nMLR Customer",4,"A","B",1.2,"PY2","ADD","---","Corp Market Group Rollup","Stand Alone Dental","MLR Customers","Total Incurred Claims",{"$f":"'Essbase Input'!$D$19","v":"IDB 2020"},"NO REINSURANCE","All Other Projects",0,0,0,0,0,null,{"$f":"P127+R127+S127+T127","v":0}]
[null,4,"A","B",1.2,"PY2","SUB","---","Corp Market Group Rollup","Stand Alone Dental","MLR Customers","50010 - Physician Cap Paid - External",{"$f":"'Essbase Input'!$D$19","v":"IDB 2020"},"NO REINSURANCE","0000003413 - General Administrative",0,0,0,0,0,null,{"$f":"P128+R128+S128+T128","v":0}]
[null,4,"A","B",1.2,"PY2","SUB","---","Corp Market Group Rollup","Stand Alone Dental","MLR Customers","50619 - Internal Capitation Pd - Other",{"$f":"'Essbase Input'!$D$19","v":"IDB 2020"},"NO REINSURANCE","All Other Projects",0,0,0,0,0,null,0]
[null,4,"A","B",1.2,"PY2","SUB","---","Corp Market Group Rollup","Stand Alone Dental","MLR Customers","Rate Credits NonTaxable",{"$f":"'Essbase Input'!$D$19","v":"IDB 2020"},"NO REINSURANCE","All Other Projects",0,0,0,0,0,null,0,{"$f":"V127-V128-V129-V130","v":0}]
[null,4,"A","B",2.1,"PY2","ADD","R","Corp Market Group Rollup","Stand Alone Dental","MLR Customers","Health Premiums Earned",{"$f":"'Essbase Input'!$D$19","v":"IDB 2020"},"NO REINSURANCE","All Other Projects",0,0,0,0,0,null,{"$f":"P131+Q131","v":0},{"$f":"V131","v":0}]
[null,4,"A","B",2.2000000000000002,"PY2","ADD","---","Corp Market Group Rollup","Stand Alone Dental","MLR Customers","Federal Taxes and Assessments","IDB Periods","Reinsurance","All Other Projects",0,0,0,0,0,null,{"$f":"P132","v":0}]
[null,4,"A","B",2.2000000000000002,"PY2","ADD","---","Corp Market Group Rollup","Stand Alone Dental","MLR Customers","State Ins, Prem and Other Tax","IDB Periods","Reinsurance","All Other Projects",0,0,0,0,0,null,{"$f":"P133","v":0}]
[null,4,"A","B",2.2000000000000002,"PY2","ADD","---","Corp Market Group Rollup","Stand Alone Dental","MLR Customers","Reg Authority Licenses & Fees","IDB Periods","Reinsurance","All Other Projects",0,0,0,0,0,null,0,{"$f":"SUM(V132:V134)","v":0}]
[null,4,"A","B",3.1,"PY2","ADD","---","Corp Market Group Rollup","Stand Alone Dental","MLR Customers","SHCE Member Months",{"$f":"'Essbase Input'!$D$19","v":"IDB 2020"},"NO REINSURANCE","All Other Projects",0,0,0,0,0,null,{"$f":"P135+Q135","v":0},{"$f":"V135","v":0}]
["Non-UHG\nStand Alone Dental\nMLR Customer",4,"A","B",1.2,"PY2","ADD","---","Non UnitedHealth Group Rollup","Stand Alone Dental","MLR Customers","Total Incurred Claims",{"$f":"'Essbase Input'!$D$19","v":"IDB 2020"},"NO REINSURANCE","All Other Projects",0,0,0,0,0,null,{"$f":"P136+R136+S136+T136","v":0}]
[null,4,"A","B",1.2,"PY2","SUB","---","Non UnitedHealth Group Rollup","Stand Alone Dental","MLR Customers","50010 - Physician Cap Paid - External",{"$f":"'Essbase Input'!$D$19","v":"IDB 2020"},"NO REINSURANCE","0000003413 - General Administrative",0,0,0,0,0,null,{"$f":"P137+R137+S137+T137","v":0}]
[null,4,"A","B",1.2,"PY2","SUB","---","Non UnitedHealth Group Rollup","Stand Alone Dental","MLR Customers","50619 - Internal Capitation Pd - Other",{"$f":"'Essbase Input'!$D$19","v":"IDB 2020"},"NO REINSURANCE","All Other Projects",0,0,0,0,0,null,0]
[null,4,"A","B",1.2,"PY2","SUB","---","Non UnitedHealth Group Rollup","Stand Alone Dental","MLR Customers","Rate Credits NonTaxable",{"$f":"'Essbase Input'!$D$19","v":"IDB 2020"},"NO REINSURANCE","All Other Projects",0,0,0,0,0,null,0,{"$f":"V136-V137-V138-V139","v":0}]
[null,4,"A","B",2.1,"PY2","ADD","R","Non UnitedHealth Group Rollup","Stand Alone Dental","MLR Customers","Health Premiums Earned",{"$f":"'Essbase Input'!$D$19","v":"IDB 2020"},"NO REINSURANCE","All Other Projects",0,0,0,0,0,null,{"$f":"P140+Q140","v":0},{"$f":"V140","v":0}]
[null,4,"A","B",2.2000000000000002,"PY2","ADD","---","Non UnitedHealth Group Rollup","Stand Alone Dental","MLR Customers","Federal Taxes and Assessments","IDB Periods","Reinsurance","All Other Projects",0,0,0,0,0,null,{"$f":"P141","v":0}]
[null,4,"A","B",2.2000000000000002,"PY2","ADD","---","Non UnitedHealth Group Rollup","Stand Alone Dental","MLR Customers","State Ins, Prem and Other Tax","IDB Periods","Reinsurance","All Other Projects",0,0,0,0,0,null,{"$f":"P142","v":0}]
[null,4,"A","B",2.2000000000000002,"PY2","ADD","---","Non UnitedHealth Group Rollup","Stand Alone Dental","MLR Customers","Reg Authority Licenses & Fees","IDB Periods","Reinsurance","All Other Projects",0,0,0,0,0,null,0,{"$f":"SUM(V141:V143)","v":0}]
[null,4,"A","B",3.1,"PY2","ADD","---","Non UnitedHealth Group Rollup","Stand Alone Dental","MLR Customers","SHCE Member Months",{"$f":"'Essbase Input'!$D$19","v":"IDB 2020"},"NO REINSURANCE","All Other Projects",0,0,0,0,0,null,{"$f":"P144+Q144","v":0},{"$f":"V144","v":0}]
["All OUs \np306155 \nMLR Customers",4,null,null,1.2,"PY2","ADD","---","Operating Units","306155 - Package Savings Disc - Vision","MLR Customers","Total Incurred Claims",{"$f":"'Essbase Input'!$D$19","v":"IDB 2020"},"NO REINSURANCE","All Other Projects",0,0,0,0,0,null,{"$f":"P145+R145+S145+T145","v":0}]
[null,4,null,null,1.2,"PY2","SUB","---","Operating Units","306155 - Package Savings Disc - Vision","MLR Customers","50010 - Physician Cap Paid - External",{"$f":"'Essbase Input'!$D$19","v":"IDB 2020"},"NO REINSURANCE","0000003413 - General Administrative",0,0,0,0,0,null,{"$f":"P146+R146+S146+T146","v":0}]
[null,4,null,null,1.2,"PY2","SUB","---","Operating Units","306155 - Package Savings Disc - Vision","MLR Customers","50619 - Internal Capitation Pd - Other",{"$f":"'Essbase Input'!$D$19","v":"IDB 2020"},"NO REINSURANCE","All Other Projects",0,0,0,0,0,null,0]
[null,4,null,null,1.2,"PY2","SUB","---","Operating Units","306155 - Package Savings Disc - Vision","MLR Customers","Rate Credits NonTaxable",{"$f":"'Essbase Input'!$D$19","v":"IDB 2020"},"NO REINSURANCE","All Other Projects",0,0,0,0,0,null,0,{"$f":"V145-V146-V147-V148","v":0}]
[null,4,null,null,2.1,"PY2","ADD","R","Operating Units","306155 - Package Savings Disc - Vision","MLR Customers","Health Premiums Earned",{"$f":"'Essbase Input'!$D$19","v":"IDB 2020"},"NO REINSURANCE","All Other Projects",0,0,0,0,0,null,{"$f":"P149+Q149","v":0},{"$f":"V149","v":0}]
[null,4,null,null,2.2000000000000002,"PY2","ADD","---","Operating Units","306155 - Package Savings Disc - Vision","MLR Customers","Federal Taxes and Assessments","IDB Periods","Reinsurance","All Other Projects",0,0,0,0,0,null,{"$f":"P150","v":0}]
[null,4,null,null,2.2000000000000002,"PY2","ADD","---","Operating Units","306155 - Package Savings Disc - Vision","MLR Customers","State Ins, Prem and Other Tax","IDB Periods","Reinsurance","All Other Projects",0,0,0,0,0,null,{"$f":"P151","v":0}]
[null,4,null,null,2.2000000000000002,"PY2","ADD","---","Operating Units","306155 - Package Savings Disc - Vision","MLR Customers","Reg Authority Licenses & Fees","IDB Periods","Reinsurance","All Other Projects",0,0,0,0,0,null,0,{"$f":"SUM(V150:V152)","v":0}]
[null,4,null,null,3.1,"PY2","ADD","---","Operating Units","306155 - Package Savings Disc - Vision","MLR Customers","SHCE Member Months",{"$f":"'Essbase Input'!$D$19","v":"IDB 2020"},"NO REINSURANCE","All Other Projects",0,0,0,0,0,null,{"$f":"P153+Q153","v":0},{"$f":"V153","v":0}]
["All OUs \np306156 \nMLR Customers",4,null,null,1.2,"PY2","ADD","---","Operating Units","306156 - Package Savings - Dental","MLR Customers","Total Incurred Claims",{"$f":"'Essbase Input'!$D$19","v":"IDB 2020"},"NO REINSURANCE","All Other Projects",0,0,0,0,0,null,{"$f":"P154+R154+S154+T154","v":0}]
[null,4,null,null,1.2,"PY2","SUB","---","Operating Units","306156 - Package Savings - Dental","MLR Customers","50010 - Physician Cap Paid - External",{"$f":"'Essbase Input'!$D$19","v":"IDB 2020"},"NO REINSURANCE","0000003413 - General Administrative",0,0,0,0,0,null,{"$f":"P155+R155+S155+T155","v":0}]
[null,4,null,null,1.2,"PY2","SUB","---","Operating Units","306156 - Package Savings - Dental","MLR Customers","50619 - Internal Capitation Pd - Other",{"$f":"'Essbase Input'!$D$19","v":"IDB 2020"},"NO REINSURANCE","All Other Projects",0,0,0,0,0,null,0]
[null,4,null,null,1.2,"PY2","SUB","---","Operating Units","306156 - Package Savings - Dental","MLR Customers","Rate Credits NonTaxable",{"$f":"'Essbase Input'!$D$19","v":"IDB 2020"},"NO REINSURANCE","All Other Projects",0,0,0,0,0,null,0,{"$f":"V154-V155-V156-V157","v":0}]
[null,4,null,null,2.1,"PY2","ADD","R","Operating Units","306156 - Package Savings - Dental","MLR Customers","Health Premiums Earned",{"$f":"'Essbase Input'!$D$19","v":"IDB 2020"},"NO REINSURANCE","All Other Projects",0,0,0,0,0,null,{"$f":"P158+Q158","v":0},{"$f":"V158","v":0}]
[null,4,null,null,2.2000000000000002,"PY2","ADD","---","Operating Units","306156 - Package Savings - Dental","MLR Customers","Federal Taxes and Assessments","IDB Periods","Reinsurance","All Other Projects",0,0,0,0,0,null,{"$f":"P159","v":0}]
[null,4,null,null,2.2000000000000002,"PY2","ADD","---","Operating Units","306156 - Package Savings - Dental","MLR Customers","State Ins, Prem and Other Tax","IDB Periods","Reinsurance","All Other Projects",0,0,0,0,0,null,{"$f":"P160","v":0}]
[null,4,null,null,2.2000000000000002,"PY2","ADD","---","Operating Units","306156 - Package Savings - Dental","MLR Customers","Reg Authority Licenses & Fees","IDB Periods","Reinsurance","All Other Projects",0,0,0,0,0,null,0,{"$f":"SUM(V159:V161)","v":0}]
[null,4,null,null,3.1,"PY2","ADD","---","Operating Units","306156 - Package Savings - Dental","MLR Customers","SHCE Member Months",{"$f":"'Essbase Input'!$D$19","v":"IDB 2020"},"NO REINSURANCE","All Other Projects",0,0,0,0,0,null,{"$f":"P162+Q162","v":0},{"$f":"V162","v":0}]
["All OUs \np305402 \nMLR Customers",4,null,null,1.2,"PY2","ADD","---","Operating Units","305402 - Managed Transplant Risk SD","MLR Customers","Total Incurred Claims",{"$f":"'Essbase Input'!$D$19","v":"IDB 2020"},"NO REINSURANCE","All Other Projects",0,0,0,0,0,null,{"$f":"P163+R163+S163+T163","v":0}]
[null,4,null,null,1.2,"PY2","SUB","---","Operating Units","305402 - Managed Transplant Risk SD","MLR Customers","50010 - Physician Cap Paid - External",{"$f":"'Essbase Input'!$D$19","v":"IDB 2020"},"NO REINSURANCE","0000003413 - General Administrative",0,0,0,0,0,null,{"$f":"P164+R164+S164+T164","v":0}]
[null,4,null,null,1.2,"PY2","SUB","---","Operating Units","305402 - Managed Transplant Risk SD","MLR Customers","50619 - Internal Capitation Pd - Other",{"$f":"'Essbase Input'!$D$19","v":"IDB 2020"},"NO REINSURANCE","All Other Projects",0,0,0,0,0,null,0]
[null,4,null,null,1.2,"PY2","SUB","---","Operating Units","305402 - Managed Transplant Risk SD","MLR Customers","Rate Credits NonTaxable",{"$f":"'Essbase Input'!$D$19","v":"IDB 2020"},"NO REINSURANCE","All Other Projects",0,0,0,0,0,null,0,{"$f":"V163-V164-V165-V166","v":0}]
[null,4,null,null,2.1,"PY2","ADD","R","Operating Units","305402 - Managed Transplant Risk SD","MLR Customers","Health Premiums Earned",{"$f":"'Essbase Input'!$D$19","v":"IDB 2020"},"NO REINSURANCE","All Other Projects",0,0,0,0,0,null,{"$f":"P167+Q167","v":0},{"$f":"V167","v":0}]
[null,4,null,null,2.2000000000000002,"PY2","ADD","---","Operating Units","305402 - Managed Transplant Risk SD","MLR Customers","Federal Taxes and Assessments","IDB Periods","Reinsurance","All Other Projects",0,0,0,0,0,null,{"$f":"P168","v":0}]
[null,4,null,null,2.2000000000000002,"PY2","ADD","---","Operating Units","305402 - Managed Transplant Risk SD","MLR Customers","State Ins, Prem and Other Tax","IDB Periods","Reinsurance","All Other Projects",0,0,0,0,0,null,{"$f":"P169","v":0}]
[null,4,null,null,2.2000000000000002,"PY2","ADD","---","Operating Units","305402 - Managed Transplant Risk SD","MLR Customers","Reg Authority Licenses & Fees","IDB Periods","Reinsurance","All Other Projects",0,0,0,0,0,null,0,{"$f":"SUM(V168:V170)","v":0}]
[null,4,null,null,3.1,"PY2","ADD","---","Operating Units","305402 - Managed Transplant Risk SD","MLR Customers","SHCE Member Months",{"$f":"'Essbase Input'!$D$19","v":"IDB 2020"},"NO REINSURANCE","All Other Projects",0,0,0,0,0,null,{"$f":"P171+Q171","v":0},{"$f":"V171","v":0}]
["All OUs \np430083 \nMLR Customers",4,null,null,1.2,"PY2","ADD","---","Operating Units","430083 - PBM ePrescribe","MLR Customers","Total Incurred Claims",{"$f":"'Essbase Input'!$D$19","v":"IDB 2020"},"NO REINSURANCE","All Other Projects",0,0,0,0,0,null,{"$f":"P172+R172+S172+T172","v":0}]
[null,4,null,null,1.2,"PY2","SUB","---","Operating Units","430083 - PBM ePrescribe","MLR Customers","50010 - Physician Cap Paid - External",{"$f":"'Essbase Input'!$D$19","v":"IDB 2020"},"NO REINSURANCE","0000003413 - General Administrative",0,0,0,0,0,null,{"$f":"P173+R173+S173+T173","v":0}]
[null,4,null,null,1.2,"PY2","SUB","---","Operating Units","430083 - PBM ePrescribe","MLR Customers","50619 - Internal Capitation Pd - Other",{"$f":"'Essbase Input'!$D$19","v":"IDB 2020"},"NO REINSURANCE","All Other Projects",0,0,0,0,0,null,0]
[null,4,null,null,1.2,"PY2","SUB","---","Operating Units","430083 - PBM ePrescribe","MLR Customers","Rate Credits NonTaxable",{"$f":"'Essbase Input'!$D$19","v":"IDB 2020"},"NO REINSURANCE","All Other Projects",0,0,0,0,0,null,0,{"$f":"V172-V173-V174-V175","v":0}]
[null,4,null,null,2.1,"PY2","ADD","R","Operating Units","430083 - PBM ePrescribe","MLR Customers","Health Premiums Earned",{"$f":"'Essbase Input'!$D$19","v":"IDB 2020"},"NO REINSURANCE","All Other Projects",0,0,0,0,0,null,{"$f":"P176+Q176","v":0},{"$f":"V176","v":0}]
[null,4,null,null,2.2000000000000002,"PY2","ADD","---","Operating Units","430083 - PBM ePrescribe","MLR Customers","Federal Taxes and Assessments","IDB Periods","Reinsurance","All Other Projects",0,0,0,0,0,null,{"$f":"P177","v":0}]
[null,4,null,null,2.2000000000000002,"PY2","ADD","---","Operating Units","430083 - PBM ePrescribe","MLR Customers","State Ins, Prem and Other Tax","IDB Periods","Reinsurance","All Other Projects",0,0,0,0,0,null,{"$f":"P178","v":0}]
[null,4,null,null,2.2000000000000002,"PY2","ADD","---","Operating Units","430083 - PBM ePrescribe","MLR Customers","Reg Authority Licenses & Fees","IDB Periods","Reinsurance","All Other Projects",0,0,0,0,0,null,0,{"$f":"SUM(V177:V179)","v":0}]
[null,4,null,null,3.1,"PY2","ADD","---","Operating Units","430083 - PBM ePrescribe","MLR Customers","SHCE Member Months",{"$f":"'Essbase Input'!$D$19","v":"IDB 2020"},"NO REINSURANCE","All Other Projects",0,0,0,0,0,null,{"$f":"P180+Q180","v":0},{"$f":"V180","v":0}]
["All OUs \np430084 \nMLR Customers",4,null,null,1.2,"PY2","ADD","---","Operating Units","430084 - PreCheck My Script Fee","MLR Customers","Total Incurred Claims",{"$f":"'Essbase Input'!$D$19","v":"IDB 2020"},"NO REINSURANCE","All Other Projects",0,0,0,0,0,null,{"$f":"P181+R181+S181+T181","v":0}]
[null,4,null,null,1.2,"PY2","SUB","---","Operating Units","430084 - PreCheck My Script Fee","MLR Customers","50010 - Physician Cap Paid - External",{"$f":"'Essbase Input'!$D$19","v":"IDB 2020"},"NO REINSURANCE","0000003413 - General Administrative",0,0,0,0,0,null,{"$f":"P182+R182+S182+T182","v":0}]
[null,4,null,null,1.2,"PY2","SUB","---","Operating Units","430084 - PreCheck My Script Fee","MLR Customers","50619 - Internal Capitation Pd - Other",{"$f":"'Essbase Input'!$D$19","v":"IDB 2020"},"NO REINSURANCE","All Other Projects",0,0,0,0,0,null,0]
[null,4,null,null,1.2,"PY2","SUB","---","Operating Units","430084 - PreCheck My Script Fee","MLR Customers","Rate Credits NonTaxable",{"$f":"'Essbase Input'!$D$19","v":"IDB 2020"},"NO REINSURANCE","All Other Projects",0,0,0,0,0,null,0,{"$f":"V181-V182-V183-V184","v":0}]
[null,4,null,null,2.1,"PY2","ADD","R","Operating Units","430084 - PreCheck My Script Fee","MLR Customers","Health Premiums Earned",{"$f":"'Essbase Input'!$D$19","v":"IDB 2020"},"NO REINSURANCE","All Other Projects",0,0,0,0,0,null,{"$f":"P185+Q185","v":0},{"$f":"V185","v":0}]
[null,4,null,null,2.2000000000000002,"PY2","ADD","---","Operating Units","430084 - PreCheck My Script Fee","MLR Customers","Federal Taxes and Assessments","IDB Periods","Reinsurance","All Other Projects",0,0,0,0,0,null,{"$f":"P186","v":0}]
[null,4,null,null,2.2000000000000002,"PY2","ADD","---","Operating Units","430084 - PreCheck My Script Fee","MLR Customers","State Ins, Prem and Other Tax","IDB Periods","Reinsurance","All Other Projects",0,0,0,0,0,null,{"$f":"P187","v":0}]
[null,4,null,null,2.2000000000000002,"PY2","ADD","---","Operating Units","430084 - PreCheck My Script Fee","MLR Customers","Reg Authority Licenses & Fees","IDB Periods","Reinsurance","All Other Projects",0,0,0,0,0,null,0,{"$f":"SUM(V186:V188)","v":0}]
[null,4,null,null,3.1,"PY2","ADD","---","Operating Units","430084 - PreCheck My Script Fee","MLR Customers","SHCE Member Months",{"$f":"'Essbase Input'!$D$19","v":"IDB 2020"},"NO REINSURANCE","All Other Projects",0,0,0,0,0,null,{"$f":"P189+Q189","v":0},{"$f":"V189","v":0}]
["All OUs \np430087 \nMLR Customers",4,null,null,1.2,"PY2","ADD","---","Operating Units","430087 - PBM EGWP","MLR Customers","Total Incurred Claims",{"$f":"'Essbase Input'!$D$19","v":"IDB 2020"},"NO REINSURANCE","All Other Projects",0,0,0,0,0,null,{"$f":"P190+R190+S190+T190","v":0}]
[null,4,null,null,1.2,"PY2","SUB","---","Operating Units","430087 - PBM EGWP","MLR Customers","50010 - Physician Cap Paid - External",{"$f":"'Essbase Input'!$D$19","v":"IDB 2020"},"NO REINSURANCE","0000003413 - General Administrative",0,0,0,0,0,null,{"$f":"P191+R191+S191+T191","v":0}]
[null,4,null,null,1.2,"PY2","SUB","---","Operating Units","430087 - PBM EGWP","MLR Customers","50619 - Internal Capitation Pd - Other",{"$f":"'Essbase Input'!$D$19","v":"IDB 2020"},"NO REINSURANCE","All Other Projects",0,0,0,0,0,null,0]
[null,4,null,null,1.2,"PY2","SUB","---","Operating Units","430087 - PBM EGWP","MLR Customers","Rate Credits NonTaxable",{"$f":"'Essbase Input'!$D$19","v":"IDB 2020"},"NO REINSURANCE","All Other Projects",0,0,0,0,0,null,0,{"$f":"V190-V191-V192-V193","v":0}]
[null,4,null,null,2.1,"PY2","ADD","R","Operating Units","430087 - PBM EGWP","MLR Customers","Health Premiums Earned",{"$f":"'Essbase Input'!$D$19","v":"IDB 2020"},"NO REINSURANCE","All Other Projects",0,0,0,0,0,null,{"$f":"P194+Q194","v":0},{"$f":"V194","v":0}]
[null,4,null,null,2.2000000000000002,"PY2","ADD","---","Operating Units","430087 - PBM EGWP","MLR Customers","Federal Taxes and Assessments","IDB Periods","Reinsurance","All Other Projects",0,0,0,0,0,null,{"$f":"P195","v":0}]
[null,4,null,null,2.2000000000000002,"PY2","ADD","---","Operating Units","430087 - PBM EGWP","MLR Customers","State Ins, Prem and Other Tax","IDB Periods","Reinsurance","All Other Projects",0,0,0,0,0,null,{"$f":"P196","v":0}]
[null,4,null,null,2.2000000000000002,"PY2","ADD","---","Operating Units","430087 - PBM EGWP","MLR Customers","Reg Authority Licenses & Fees","IDB Periods","Reinsurance","All Other Projects",0,0,0,0,0,null,0,{"$f":"SUM(V195:V197)","v":0}]
[null,4,null,null,3.1,"PY2","ADD","---","Operating Units","430087 - PBM EGWP","MLR Customers","SHCE Member Months",{"$f":"'Essbase Input'!$D$19","v":"IDB 2020"},"NO REINSURANCE","All Other Projects",0,0,0,0,0,null,{"$f":"P198+Q198","v":0},{"$f":"V198","v":0}]
["All OUs \np430088 \nMLR Customers",4,null,null,1.2,"PY2","ADD","---","Operating Units","430088 - PBM ECOB","MLR Customers","Total Incurred Claims",{"$f":"'Essbase Input'!$D$19","v":"IDB 2020"},"NO REINSURANCE","All Other Projects",0,0,0,0,0,null,{"$f":"P199+R199+S199+T199","v":0}]
[null,4,null,null,1.2,"PY2","SUB","---","Operating Units","430088 - PBM ECOB","MLR Customers","50010 - Physician Cap Paid - External",{"$f":"'Essbase Input'!$D$19","v":"IDB 2020"},"NO REINSURANCE","0000003413 - General Administrative",0,0,0,0,0,null,{"$f":"P200+R200+S200+T200","v":0}]
[null,4,null,null,1.2,"PY2","SUB","---","Operating Units","430088 - PBM ECOB","MLR Customers","50619 - Internal Capitation Pd - Other",{"$f":"'Essbase Input'!$D$19","v":"IDB 2020"},"NO REINSURANCE","All Other Projects",0,0,0,0,0,null,0]
[null,4,null,null,1.2,"PY2","SUB","---","Operating Units","430088 - PBM ECOB","MLR Customers","Rate Credits NonTaxable",{"$f":"'Essbase Input'!$D$19","v":"IDB 2020"},"NO REINSURANCE","All Other Projects",0,0,0,0,0,null,0,{"$f":"V199-V200-V201-V202","v":0}]
[null,4,null,null,2.1,"PY2","ADD","R","Operating Units","430088 - PBM ECOB","MLR Customers","Health Premiums Earned",{"$f":"'Essbase Input'!$D$19","v":"IDB 2020"},"NO REINSURANCE","All Other Projects",0,0,0,0,0,null,{"$f":"P203+Q203","v":0},{"$f":"V203","v":0}]
[null,4,null,null,2.2000000000000002,"PY2","ADD","---","Operating Units","430088 - PBM ECOB","MLR Customers","Federal Taxes and Assessments","IDB Periods","Reinsurance","All Other Projects",0,0,0,0,0,null,{"$f":"P204","v":0}]
[null,4,null,null,2.2000000000000002,"PY2","ADD","---","Operating Units","430088 - PBM ECOB","MLR Customers","State Ins, Prem and Other Tax","IDB Periods","Reinsurance","All Other Projects",0,0,0,0,0,null,{"$f":"P205","v":0}]
[null,4,null,null,2.2000000000000002,"PY2","ADD","---","Operating Units","430088 - PBM ECOB","MLR Customers","Reg Authority Licenses & Fees","IDB Periods","Reinsurance","All Other Projects",0,0,0,0,0,null,0,{"$f":"SUM(V204:V206)","v":0}]
[null,4,null,null,3.1,"PY2","ADD","---","Operating Units","430088 - PBM ECOB","MLR Customers","SHCE Member Months",{"$f":"'Essbase Input'!$D$19","v":"IDB 2020"},"NO REINSURANCE","All Other Projects",0,0,0,0,0,null,{"$f":"P207+Q207","v":0},{"$f":"V207","v":0}]
["All OUs \np430089 \nMLR Customers",4,null,null,1.2,"PY2","ADD","---","Operating Units","430089 - PBM Clinical","MLR Customers","Total Incurred Claims",{"$f":"'Essbase Input'!$D$19","v":"IDB 2020"},"NO REINSURANCE","All Other Projects",0,0,0,0,0,null,{"$f":"P208+R208+S208+T208","v":0}]
[null,4,null,null,1.2,"PY2","SUB","---","Operating Units","430089 - PBM Clinical","MLR Customers","50010 - Physician Cap Paid - External",{"$f":"'Essbase Input'!$D$19","v":"IDB 2020"},"NO REINSURANCE","0000003413 - General Administrative",0,0,0,0,0,null,{"$f":"P209+R209+S209+T209","v":0}]
[null,4,null,null,1.2,"PY2","SUB","---","Operating Units","430089 - PBM Clinical","MLR Customers","50619 - Internal Capitation Pd - Other",{"$f":"'Essbase Input'!$D$19","v":"IDB 2020"},"NO REINSURANCE","All Other Projects",0,0,0,0,0,null,0]
[null,4,null,null,1.2,"PY2","SUB","---","Operating Units","430089 - PBM Clinical","MLR Customers","Rate Credits NonTaxable",{"$f":"'Essbase Input'!$D$19","v":"IDB 2020"},"NO REINSURANCE","All Other Projects",0,0,0,0,0,null,0,{"$f":"V208-V209-V210-V211","v":0}]
[null,4,null,null,2.1,"PY2","ADD","R","Operating Units","430089 - PBM Clinical","MLR Customers","Health Premiums Earned",{"$f":"'Essbase Input'!$D$19","v":"IDB 2020"},"NO REINSURANCE","All Other Projects",0,0,0,0,0,null,{"$f":"P212+Q212","v":0},{"$f":"V212","v":0}]
[null,4,null,null,2.2000000000000002,"PY2","ADD","---","Operating Units","430089 - PBM Clinical","MLR Customers","Federal Taxes and Assessments","IDB Periods","Reinsurance","All Other Projects",0,0,0,0,0,null,{"$f":"P213","v":0}]
[null,4,null,null,2.2000000000000002,"PY2","ADD","---","Operating Units","430089 - PBM Clinical","MLR Customers","State Ins, Prem and Other Tax","IDB Periods","Reinsurance","All Other Projects",0,0,0,0,0,null,{"$f":"P214","v":0}]
[null,4,null,null,2.2000000000000002,"PY2","ADD","---","Operating Units","430089 - PBM Clinical","MLR Customers","Reg Authority Licenses & Fees","IDB Periods","Reinsurance","All Other Projects",0,0,0,0,0,null,0,{"$f":"SUM(V213:V215)","v":0}]
[null,4,null,null,3.1,"PY2","ADD","---","Operating Units","430089 - PBM Clinical","MLR Customers","SHCE Member Months",{"$f":"'Essbase Input'!$D$19","v":"IDB 2020"},"NO REINSURANCE","All Other Projects",0,0,0,0,0,null,{"$f":"P216+Q216","v":0},{"$f":"V216","v":0}]
[]
[null,null,null,null,null,null,null,null,null,null,null,null,null,null,null,null,null,null,null,null,null,null,"UHIC/UIC","GRI/UHLIC","DBP-CA"]
[null,null,"A","B",1.2,"Claims",null,null,null,null,null,null,null,null,null,null,null,null,null,null,null,null,{"$f":"SUMIF($E$9:$E$217,E219,$W$9:$W$217)","v":88099.739999999991},{"$f":"W219-SUMIFS($W$9:$W$217,$E$9:$E$217,$E219,$C$9:$C$217,C219)","v":6202.5399999999936},{"$f":"W219-SUMIFS($W$9:$W$217,$E$9:$E$217,$E219,$D$9:$D$217,D219)","v":88099.739999999991}]
[null,null,"A","B",2.1,"Premium",null,null,null,null,null,null,null,null,null,null,null,null,null,null,null,null,{"$f":"SUMIF($E$9:$E$217,E220,$W$9:$W$217)","v":-212150.66000000003},{"$f":"W220-SUMIFS($W$9:$W$217,$E$9:$E$217,$E220,$C$9:$C$217,C220)","v":-14610.580000000016},{"$f":"W220-SUMIFS($W$9:$W$217,$E$9:$E$217,$E220,$D$9:$D$217,D220)","v":-212150.66000000003}]
[null,null,"A","B",2.2000000000000002,"Taxes",null,null,null,null,null,null,null,null,null,null,null,null,null,null,null,null,{"$f":"SUMIF($E$9:$E$217,E221,$W$9:$W$217)","v":26085.370000000003},{"$f":"W221-SUMIFS($W$9:$W$217,$E$9:$E$217,$E221,$C$9:$C$217,C221)","v":2080.9700000000012},26085.370000000003]
[null,null,"A","B",3.1,"Life Years",null,null,null,null,null,null,null,null,null,null,null,null,null,null,null,null,{"$f":"SUMIF($E$9:$E$217,E222,$W$9:$W$217)","v":5795},1780,5795]
[]
[null,null,null,null,null,"Net",null,null,null,null,null,null,null,null,null,null,null,null,null,null,null,null,{"$f":"SUM(W219:W221)","v":-97965.550000000047},{"$f":"SUM(X219:X221)","v":-6327.0700000000215},{"$f":"SUM(Y219:Y221)","v":-97965.550000000047}]

{"sheet":"EB PT 4 PY1","index":10,"n_rows":224,"n_cols":25,"rows_kept":224,"cut":false,"hidden":true,"merged":[]}
[null,"Part","REF1","REF2","Ln","Col","Adj","Rev","-OU","-Prod","-Cust",{"$f":"\"Account\"","v":"Account"},{"$f":"\"IDB Period\"","v":"IDB Period"},{"$f":"\"Reinsurance\"","v":"Reinsurance"},{"$f":"\"Project\"","v":"Project"},1,1,2,3]
[null,null,null,null,null,null,null,null,null,null,null,null,null,null,null,"Views","Views","Views","Views"]
[null,null,null,null,null,null,null,null,null,null,null,null,null,null,null,"Sources","Sources","Sources","Sources"]
[null,null,null,null,null,null,null,null,null,null,null,null,null,null,null,"Departments","Departments","Departments","Departments"]
[null,null,null,null,null,null,null,null,null,null,null,null,null,null,null,"NAIC Supp HC Exhibit","NAIC Supp HC Exhibit","NAIC Supp HC Exhibit","NAIC Supp HC Exhibit"]
[null,null,null,null,null,null,null,null,null,null,null,null,null,null,null,{"$f":"'Essbase Input'!$C$8","v":"UnitedHealthcare Life Ins Co"},{"$f":"'Essbase Input'!$C$8","v":"UnitedHealthcare Life Ins Co"},{"$f":"'Essbase Input'!$C$8","v":"UnitedHealthcare Life Ins Co"},{"$f":"'Essbase Input'!$C$8","v":"UnitedHealthcare Life Ins Co"}]
[null,null,null,null,null,null,null,null,null,null,null,null,null,null,null,{"$f":"'Essbase Input'!$C$9","v":"California - CA"},{"$f":"'Essbase Input'!$C$9","v":"California - CA"},{"$f":"'Essbase Input'!$C$9","v":"California - CA"},{"$f":"'Essbase Input'!$C$9","v":"California - CA"}]
[null,null,null,null,null,null,null,null,null,null,null,null,null,null,null,{"$f":"'Essbase Input'!$C$18","v":"2021"},{"$f":"'Essbase Input'!$C$17","v":"2022"},{"$f":"'Essbase Input'!$C$17","v":"2022"},{"$f":"'Essbase Input'!$C$16","v":"2023"}]
[null,null,null,null,null,null,null,null,null,null,null,null,null,null,null,"Total Year","March_Bal","Total Year","March_Bal"]
["CMS MLR",4,null,null,"1.2-","PY1","ADD","---","Operating Units","Other Health Business","MLR Customers","Total Incurred Claims",{"$f":"'Essbase Input'!$D$18","v":"IDB 2021"},"NO REINSURANCE","All Other Projects",94396.640000000014,-1900.69,-2043.0500000000002,-38.65,null,null,{"$f":"P10+R10+S10+T10","v":92314.940000000017}]
[null,4,null,null,"1.2-","PY1","SUB","---","Operating Units","Other Health Business","MLR Customers","50010 - Physician Cap Paid - External",{"$f":"'Essbase Input'!$D$18","v":"IDB 2021"},"NO REINSURANCE","0000003413 - General Administrative",0,0,0,0,null,null,{"$f":"P11+R11+S11+T11","v":0}]
[null,4,null,null,"1.2-","PY1","SUB","---","Operating Units","Other Health Business","MLR Customers","50619 - Internal Capitation Pd - Other",{"$f":"'Essbase Input'!$D$18","v":"IDB 2021"},"NO REINSURANCE","All Other Projects",0,0,0,0,null,null,0]
[null,4,null,null,"1.2-","PY1","SUB","---","Operating Units","Other Health Business","MLR Customers","Rate Credits NonTaxable",{"$f":"'Essbase Input'!$D$18","v":"IDB 2021"},"NO REINSURANCE","All Other Projects",0,0,0,0,null,null,0,{"$f":"V10-V11-V12-V13","v":92314.940000000017}]
[null,4,null,null,"2.1-","PY1","ADD","R","Operating Units","Other Health Business","MLR Customers","Health Premiums Earned",{"$f":"'Essbase Input'!$D$18","v":"IDB 2021"},"NO REINSURANCE","All Other Projects",-175173.12000000002,-207.94000000000003,-176.59000000000003,0,null,null,{"$f":"P14+Q14","v":-175381.06000000003},{"$f":"V14","v":-175381.06000000003}]
[null,4,null,null,"2.2-","PY1","ADD","---","Operating Units","Other Health Business","MLR Customers","Federal Taxes and Assessments","IDB Periods","Reinsurance","All Other Projects",5047.6799999999967,1706.2499999999998,6223.4800000000005,-106.91999999999982,null,null,{"$f":"P15","v":5047.6799999999967}]
[null,4,null,null,"2.2-","PY1","ADD","---","Operating Units","Other Health Business","MLR Customers","State Ins, Prem and Other Tax","IDB Periods","Reinsurance","All Other Projects",17599.78,996.53000000000009,8856.77,827.50000000000011,null,null,{"$f":"P16","v":17599.78}]
[null,4,null,null,"2.2-","PY1","ADD","---","Operating Units","Other Health Business","MLR Customers","Reg Authority Licenses & Fees","IDB Periods","Reinsurance","All Other Projects",0,0,0,0,null,null,0,{"$f":"SUM(V15:V17)","v":22647.459999999995}]
[null,4,null,null,"3.1-","PY1","ADD","---","Operating Units","Other Health Business","MLR Customers","SHCE Member Months",{"$f":"'Essbase Input'!$D$18","v":"IDB 2021"},"NO REINSURANCE","All Other Projects",4887,8,-8,0,null,null,{"$f":"P18+Q18","v":4895},{"$f":"V18","v":4895}]
["GRI",4,null,null,"1.2-","PY1","ADD","---","Operating Units","Stand Alone Dental","MLR Customers","Total Incurred Claims",{"$f":"'Essbase Input'!$D$18","v":"IDB 2021"},"NO REINSURANCE","All Other Projects",87437.680000000008,-647.46,-768.98,-38.47,null,null,{"$f":"P19+R19+S19+T19","v":86630.23000000001}]
[null,4,null,null,"1.2-","PY1","SUB","---","Operating Units","Stand Alone Dental","MLR Customers","50010 - Physician Cap Paid - External",{"$f":"'Essbase Input'!$D$18","v":"IDB 2021"},"NO REINSURANCE","0000003413 - General Administrative",0,0,0,0,null,null,{"$f":"P20+R20+S20+T20","v":0}]
[null,4,null,null,"1.2-","PY1","SUB","---","Operating Units","Stand Alone Dental","MLR Customers","50619 - Internal Capitation Pd - Other",{"$f":"'Essbase Input'!$D$18","v":"IDB 2021"},"NO REINSURANCE","All Other Projects",0,0,0,0,null,null,0]
[null,4,null,null,"1.2-","PY1","SUB","---","Operating Units","Stand Alone Dental","MLR Customers","Rate Credits NonTaxable",{"$f":"'Essbase Input'!$D$18","v":"IDB 2021"},"NO REINSURANCE","All Other Projects",0,0,0,0,null,null,0,{"$f":"V19-V20-V21-V22","v":86630.23000000001}]
[null,4,null,null,"2.1-","PY1","ADD","R","Operating Units","Stand Alone Dental","MLR Customers","Health Premiums Earned",{"$f":"'Essbase Input'!$D$18","v":"IDB 2021"},"NO REINSURANCE","All Other Projects",-162005.72,-189.04000000000002,-163.79000000000002,0,null,null,{"$f":"P23+Q23","v":-162194.76},{"$f":"V23","v":-162194.76}]
[null,4,null,null,"2.2-","PY1","ADD","---","Operating Units","Stand Alone Dental","MLR Customers","Federal Taxes and Assessments","IDB Periods","Reinsurance","All Other Projects",4458.3899999999967,1757.38,5568.76,-178.69999999999993,null,null,{"$f":"P24","v":4458.3899999999967}]
[null,4,null,null,"2.2-","PY1","ADD","---","Operating Units","Stand Alone Dental","MLR Customers","State Ins, Prem and Other Tax","IDB Periods","Reinsurance","All Other Projects",17544.129999999997,925.87000000000012,8599.42,768.99,null,null,{"$f":"P25","v":17544.129999999997}]
[null,4,null,null,"2.2-","PY1","ADD","---","Operating Units","Stand Alone Dental","MLR Customers","Reg Authority Licenses & Fees","IDB Periods","Reinsurance","All Other Projects",0,0,0,0,null,null,0,{"$f":"SUM(V24:V26)","v":22002.519999999993}]
[null,4,null,null,"3.1-","PY1","ADD","---","Operating Units","Stand Alone Dental","MLR Customers","SHCE Member Months",{"$f":"'Essbase Input'!$D$18","v":"IDB 2021"},"NO REINSURANCE","All Other Projects",3345,5,3,0,null,null,{"$f":"P27+Q27","v":3350},{"$f":"V27","v":3350}]
["SAD/Ind",4,null,null,"1.2-","PY1","ADD","---","UnitedHealthcare Domestic","Stand Alone Dental","Individual","Total Incurred Claims",{"$f":"'Essbase Input'!$D$18","v":"IDB 2021"},"NO REINSURANCE","All Other Projects",0,0,0,0,null,null,{"$f":"P28+R28+S28+T28","v":0}]
[null,4,null,null,"1.2-","PY1","SUB","---","UnitedHealthcare Domestic","Stand Alone Dental","Individual","50010 - Physician Cap Paid - External",{"$f":"'Essbase Input'!$D$18","v":"IDB 2021"},"NO REINSURANCE","0000003413 - General Administrative",0,0,0,0,null,null,{"$f":"P29+R29+S29+T29","v":0}]
[null,4,null,null,"1.2-","PY1","SUB","---","UnitedHealthcare Domestic","Stand Alone Dental","Individual","50619 - Internal Capitation Pd - Other",{"$f":"'Essbase Input'!$D$18","v":"IDB 2021"},"NO REINSURANCE","All Other Projects",0,0,0,0,null,null,0]
[null,4,null,null,"1.2-","PY1","SUB","---","UnitedHealthcare Domestic","Stand Alone Dental","Individual","Rate Credits NonTaxable",{"$f":"'Essbase Input'!$D$18","v":"IDB 2021"},"NO REINSURANCE","All Other Projects",0,0,0,0,null,null,0,{"$f":"V28-V29-V30-V31","v":0}]
[null,4,null,null,"2.1-","PY1","ADD","R","UnitedHealthcare Domestic","Stand Alone Dental","Individual","Health Premiums Earned",{"$f":"'Essbase Input'!$D$18","v":"IDB 2021"},"NO REINSURANCE","All Other Projects",0,0,0,0,null,null,{"$f":"P32+Q32","v":0},{"$f":"V32","v":0}]
[null,4,null,null,"2.2-","PY1","ADD","---","UnitedHealthcare Domestic","Stand Alone Dental","Individual","Federal Taxes and Assessments","IDB Periods","Reinsurance","All Other Projects",0,0,0,0,null,null,{"$f":"P33","v":0}]
[null,4,null,null,"2.2-","PY1","ADD","---","UnitedHealthcare Domestic","Stand Alone Dental","Individual","State Ins, Prem and Other Tax","IDB Periods","Reinsurance","All Other Projects",35.010000000000005,8.6999999999999993,30.24,7.77,null,null,{"$f":"P34","v":35.010000000000005}]
[null,4,null,null,"2.2-","PY1","ADD","---","UnitedHealthcare Domestic","Stand Alone Dental","Individual","Reg Authority Licenses & Fees","IDB Periods","Reinsurance","All Other Projects",0,0,0,0,null,null,0,{"$f":"SUM(V33:V35)","v":35.010000000000005}]
[null,4,null,null,"3.1-","PY1","ADD","---","UnitedHealthcare Domestic","Stand Alone Dental","Individual","SHCE Member Months",{"$f":"'Essbase Input'!$D$18","v":"IDB 2021"},"NO REINSURANCE","All Other Projects",0,0,0,0,null,null,{"$f":"P36+Q36","v":0},{"$f":"V36","v":0}]
["SAD/SG",4,null,null,"1.2-","PY1","ADD","---","UnitedHealthcare Domestic","Stand Alone Dental","Small Group Employer","Total Incurred Claims",{"$f":"'Essbase Input'!$D$18","v":"IDB 2021"},"NO REINSURANCE","All Other Projects",0,0,0,0,null,null,{"$f":"P37+R37+S37+T37","v":0}]
[null,4,null,null,"1.2-","PY1","SUB","---","UnitedHealthcare Domestic","Stand Alone Dental","Small Group Employer","50010 - Physician Cap Paid - External",{"$f":"'Essbase Input'!$D$18","v":"IDB 2021"},"NO REINSURANCE","0000003413 - General Administrative",0,0,0,0,null,null,{"$f":"P38+R38+S38+T38","v":0}]
[null,4,null,null,"1.2-","PY1","SUB","---","UnitedHealthcare Domestic","Stand Alone Dental","Small Group Employer","50619 - Internal Capitation Pd - Other",{"$f":"'Essbase Input'!$D$18","v":"IDB 2021"},"NO REINSURANCE","All Other Projects",0,0,0,0,null,null,0]
[null,4,null,null,"1.2-","PY1","SUB","---","UnitedHealthcare Domestic","Stand Alone Dental","Small Group Employer","Rate Credits NonTaxable",{"$f":"'Essbase Input'!$D$18","v":"IDB 2021"},"NO REINSURANCE","All Other Projects",0,0,0,0,null,null,0,{"$f":"V37-V38-V39-V40","v":0}]
[null,4,null,null,"2.1-","PY1","ADD","R","UnitedHealthcare Domestic","Stand Alone Dental","Small Group Employer","Health Premiums Earned",{"$f":"'Essbase Input'!$D$18","v":"IDB 2021"},"NO REINSURANCE","All Other Projects",0,0,0,0,null,null,{"$f":"P41+Q41","v":0},{"$f":"V41","v":0}]
[null,4,null,null,"2.2-","PY1","ADD","---","UnitedHealthcare Domestic","Stand Alone Dental","Small Group Employer","Federal Taxes and Assessments","IDB Periods","Reinsurance","All Other Projects",0,0,0,0,null,null,{"$f":"P42","v":0}]
[null,4,null,null,"2.2-","PY1","ADD","---","UnitedHealthcare Domestic","Stand Alone Dental","Small Group Employer","State Ins, Prem and Other Tax","IDB Periods","Reinsurance","All Other Projects",0,0,0,0,null,null,{"$f":"P43","v":0}]
[null,4,null,null,"2.2-","PY1","ADD","---","UnitedHealthcare Domestic","Stand Alone Dental","Small Group Employer","Reg Authority Licenses & Fees","IDB Periods","Reinsurance","All Other Projects",0,0,0,0,null,null,0,{"$f":"SUM(V42:V44)","v":0}]
[null,4,null,null,"3.1-","PY1","ADD","---","UnitedHealthcare Domestic","Stand Alone Dental","Small Group Employer","SHCE Member Months",{"$f":"'Essbase Input'!$D$18","v":"IDB 2021"},"NO REINSURANCE","All Other Projects",0,0,0,0,null,null,{"$f":"P45+Q45","v":0},{"$f":"V45","v":0}]
["SAD/LG",4,null,null,"1.2-","PY1","ADD","---","UnitedHealthcare Domestic","Stand Alone Dental","Large Group Employer","Total Incurred Claims",{"$f":"'Essbase Input'!$D$18","v":"IDB 2021"},"NO REINSURANCE","All Other Projects",0,0,0,0,null,null,{"$f":"P46+R46+S46+T46","v":0}]
[null,4,null,null,"1.2-","PY1","SUB","---","UnitedHealthcare Domestic","Stand Alone Dental","Large Group Employer","50010 - Physician Cap Paid - External",{"$f":"'Essbase Input'!$D$18","v":"IDB 2021"},"NO REINSURANCE","0000003413 - General Administrative",0,0,0,0,null,null,{"$f":"P47+R47+S47+T47","v":0}]
[null,4,null,null,"1.2-","PY1","SUB","---","UnitedHealthcare Domestic","Stand Alone Dental","Large Group Employer","50619 - Internal Capitation Pd - Other",{"$f":"'Essbase Input'!$D$18","v":"IDB 2021"},"NO REINSURANCE","All Other Projects",0,0,0,0,null,null,0]
[null,4,null,null,"1.2-","PY1","SUB","---","UnitedHealthcare Domestic","Stand Alone Dental","Large Group Employer","Rate Credits NonTaxable",{"$f":"'Essbase Input'!$D$18","v":"IDB 2021"},"NO REINSURANCE","All Other Projects",0,0,0,0,null,null,0,{"$f":"V46-V47-V48-V49","v":0}]
[null,4,null,null,"2.1-","PY1","ADD","R","UnitedHealthcare Domestic","Stand Alone Dental","Large Group Employer","Health Premiums Earned",{"$f":"'Essbase Input'!$D$18","v":"IDB 2021"},"NO REINSURANCE","All Other Projects",0,0,0,0,null,null,{"$f":"P50+Q50","v":0},{"$f":"V50","v":0}]
[null,4,null,null,"2.2-","PY1","ADD","---","UnitedHealthcare Domestic","Stand Alone Dental","Large Group Employer","Federal Taxes and Assessments","IDB Periods","Reinsurance","All Other Projects",4458.3899999999967,1757.38,5568.76,-178.69999999999993,null,null,{"$f":"P51","v":4458.3899999999967}]
[null,4,null,null,"2.2-","PY1","ADD","---","UnitedHealthcare Domestic","Stand Alone Dental","Large Group Employer","State Ins, Prem and Other Tax","IDB Periods","Reinsurance","All Other Projects",0,0,0,0,null,null,{"$f":"P52","v":0}]
[null,4,null,null,"2.2-","PY1","ADD","---","UnitedHealthcare Domestic","Stand Alone Dental","Large Group Employer","Reg Authority Licenses & Fees","IDB Periods","Reinsurance","All Other Projects",0,0,0,0,null,null,0,{"$f":"SUM(V51:V53)","v":4458.3899999999967}]
[null,4,null,null,"3.1-","PY1","ADD","---","UnitedHealthcare Domestic","Stand Alone Dental","Large Group Employer","SHCE Member Months",{"$f":"'Essbase Input'!$D$18","v":"IDB 2021"},"NO REINSURANCE","All Other Projects",0,0,0,0,null,null,{"$f":"P54+Q54","v":0},{"$f":"V54","v":0}]
["Vision",4,null,null,1.2,"PY1","ADD","---","Operating Units","Stand Alone Vision","MLR Customers","Total Incurred Claims",{"$f":"'Essbase Input'!$D$18","v":"IDB 2021"},"NO REINSURANCE","All Other Projects",6958.9600000000009,-1253.2299999999998,-1274.0700000000002,-0.18,null,null,{"$f":"P55+R55+S55+T55","v":5684.7100000000009}]
[null,4,null,null,1.2,"PY1","SUB","---","Operating Units","Stand Alone Vision","MLR Customers","50010 - Physician Cap Paid - External",{"$f":"'Essbase Input'!$D$18","v":"IDB 2021"},"NO REINSURANCE","0000003413 - General Administrative",0,0,0,0,null,null,{"$f":"P56+R56+S56+T56","v":0}]
[null,4,null,null,1.2,"PY1","SUB","---","Operating Units","Stand Alone Vision","MLR Customers","50619 - Internal Capitation Pd - Other",{"$f":"'Essbase Input'!$D$18","v":"IDB 2021"},"NO REINSURANCE","All Other Projects",0,0,0,0,null,null,0]
[null,4,null,null,1.2,"PY1","SUB","---","Operating Units","Stand Alone Vision","MLR Customers","Rate Credits NonTaxable",{"$f":"'Essbase Input'!$D$18","v":"IDB 2021"},"NO REINSURANCE","All Other Projects",0,0,0,0,null,null,0,{"$f":"V55-V56-V57-V58","v":5684.7100000000009}]
[null,4,null,null,2.1,"PY1","ADD","R","Operating Units","Stand Alone Vision","MLR Customers","Health Premiums Earned",{"$f":"'Essbase Input'!$D$18","v":"IDB 2021"},"NO REINSURANCE","All Other Projects",-13167.400000000001,-18.899999999999999,-12.799999999999997,0,null,null,{"$f":"P59+Q59","v":-13186.300000000001},{"$f":"V59","v":-13186.300000000001}]
[null,4,null,null,2.2000000000000002,"PY1","ADD","---","Operating Units","Stand Alone Vision","MLR Customers","Federal Taxes and Assessments","IDB Periods","Reinsurance","All Other Projects",589.29,-49.659999999999982,798.31000000000006,336.15000000000003,null,null,{"$f":"P60","v":589.29}]
[null,4,null,null,2.2000000000000002,"PY1","ADD","---","Operating Units","Stand Alone Vision","MLR Customers","State Ins, Prem and Other Tax","IDB Periods","Reinsurance","All Other Projects",55.650000000000006,70.660000000000011,257.34999999999997,58.510000000000005,null,null,{"$f":"P61","v":55.650000000000006}]
[null,4,null,null,2.2000000000000002,"PY1","ADD","---","Operating Units","Stand Alone Vision","MLR Customers","Reg Authority Licenses & Fees","IDB Periods","Reinsurance","All Other Projects",0,0,0,0,null,null,0,{"$f":"SUM(V60:V62)","v":644.93999999999994}]
[null,4,null,null,3.1,"PY1","ADD","---","Operating Units","Stand Alone Vision","MLR Customers","SHCE Member Months",{"$f":"'Essbase Input'!$D$18","v":"IDB 2021"},"NO REINSURANCE","All Other Projects",1542,3,-11,0,null,null,{"$f":"P63+Q63","v":1545},{"$f":"V63","v":1545}]
["Life/Disability",4,null,null,1.2,"PY1","ADD","---","Operating Units","Non Stand Alone Dental/Vision","MLR Customers","Total Incurred Claims",{"$f":"'Essbase Input'!$D$18","v":"IDB 2021"},"NO REINSURANCE","All Other Projects",0,0,0,0,null,null,{"$f":"P64+R64+S64+T64","v":0}]
[null,4,null,null,1.2,"PY1","SUB","---","Operating Units","Non Stand Alone Dental/Vision","MLR Customers","50010 - Physician Cap Paid - External",{"$f":"'Essbase Input'!$D$18","v":"IDB 2021"},"NO REINSURANCE","0000003413 - General Administrative",0,0,0,0,null,null,{"$f":"P65+R65+S65+T65","v":0}]
[null,4,null,null,1.2,"PY1","SUB","---","Operating Units","Non Stand Alone Dental/Vision","MLR Customers","50619 - Internal Capitation Pd - Other",{"$f":"'Essbase Input'!$D$18","v":"IDB 2021"},"NO REINSURANCE","All Other Projects",0,0,0,0,null,null,0]
[null,4,null,null,1.2,"PY1","SUB","---","Operating Units","Non Stand Alone Dental/Vision","MLR Customers","Rate Credits NonTaxable",{"$f":"'Essbase Input'!$D$18","v":"IDB 2021"},"NO REINSURANCE","All Other Projects",0,0,0,0,null,null,0,{"$f":"V64-V65-V66-V67","v":0}]
[null,4,null,null,2.1,"PY1","ADD","R","Operating Units","Non Stand Alone Dental/Vision","MLR Customers","Health Premiums Earned",{"$f":"'Essbase Input'!$D$18","v":"IDB 2021"},"NO REINSURANCE","All Other Projects",0,0,0,0,null,null,{"$f":"P68+Q68","v":0},{"$f":"V68","v":0}]
[null,4,null,null,2.2000000000000002,"PY1","ADD","---","Operating Units","Non Stand Alone Dental/Vision","MLR Customers","Federal Taxes and Assessments","IDB Periods","Reinsurance","All Other Projects",0,-1.47,-143.59,-264.37,null,null,{"$f":"P69","v":0}]
[null,4,null,null,2.2000000000000002,"PY1","ADD","---","Operating Units","Non Stand Alone Dental/Vision","MLR Customers","State Ins, Prem and Other Tax","IDB Periods","Reinsurance","All Other Projects",0,0,0,0,null,null,{"$f":"P70","v":0}]
[null,4,null,null,2.2000000000000002,"PY1","ADD","---","Operating Units","Non Stand Alone Dental/Vision","MLR Customers","Reg Authority Licenses & Fees","IDB Periods","Reinsurance","All Other Projects",0,0,0,0,null,null,0,{"$f":"SUM(V69:V71)","v":0}]
[null,4,null,null,3.1,"PY1","ADD","---","Operating Units","Non Stand Alone Dental/Vision","MLR Customers","SHCE Member Months",{"$f":"'Essbase Input'!$D$18","v":"IDB 2021"},"NO REINSURANCE","All Other Projects",0,0,0,0,null,null,{"$f":"P72+Q72","v":0},{"$f":"V72","v":0}]
["Oth Bus (excl by Stat)",4,null,null,1.2,"PY1","ADD","---","Operating Units","Other Bus(excluded by Statute)","MLR Customers","Total Incurred Claims",{"$f":"'Essbase Input'!$D$18","v":"IDB 2021"},"NO REINSURANCE","All Other Projects",0,0,0,0,null,null,{"$f":"P73+R73+S73+T73","v":0}]
[null,4,null,null,1.2,"PY1","SUB","---","Operating Units","Other Bus(excluded by Statute)","MLR Customers","50010 - Physician Cap Paid - External",{"$f":"'Essbase Input'!$D$18","v":"IDB 2021"},"NO REINSURANCE","0000003413 - General Administrative",0,0,0,0,null,null,{"$f":"P74+R74+S74+T74","v":0}]
[null,4,null,null,1.2,"PY1","SUB","---","Operating Units","Other Bus(excluded by Statute)","MLR Customers","50619 - Internal Capitation Pd - Other",{"$f":"'Essbase Input'!$D$18","v":"IDB 2021"},"NO REINSURANCE","All Other Projects",0,0,0,0,null,null,0]
[null,4,null,null,1.2,"PY1","SUB","---","Operating Units","Other Bus(excluded by Statute)","MLR Customers","Rate Credits NonTaxable",{"$f":"'Essbase Input'!$D$18","v":"IDB 2021"},"NO REINSURANCE","All Other Projects",0,0,0,0,null,null,0,{"$f":"V73-V74-V75-V76","v":0}]
[null,4,null,null,2.1,"PY1","ADD","R","Operating Units","Other Bus(excluded by Statute)","MLR Customers","Health Premiums Earned",{"$f":"'Essbase Input'!$D$18","v":"IDB 2021"},"NO REINSURANCE","All Other Projects",0,0,0,0,null,null,{"$f":"P77+Q77","v":0},{"$f":"V77","v":0}]
[null,4,null,null,2.2000000000000002,"PY1","ADD","---","Operating Units","Other Bus(excluded by Statute)","MLR Customers","Federal Taxes and Assessments","IDB Periods","Reinsurance","All Other Projects",0,0,0,0,null,null,{"$f":"P78","v":0}]
[null,4,null,null,2.2000000000000002,"PY1","ADD","---","Operating Units","Other Bus(excluded by Statute)","MLR Customers","State Ins, Prem and Other Tax","IDB Periods","Reinsurance","All Other Projects",0,0,0,0,null,null,{"$f":"P79","v":0}]
[null,4,null,null,2.2000000000000002,"PY1","ADD","---","Operating Units","Other Bus(excluded by Statute)","MLR Customers","Reg Authority Licenses & Fees","IDB Periods","Reinsurance","All Other Projects",0,0,0,0,null,null,0,{"$f":"SUM(V78:V80)","v":0}]
[null,4,null,null,3.1,"PY1","ADD","---","Operating Units","Other Bus(excluded by Statute)","MLR Customers","SHCE Member Months",{"$f":"'Essbase Input'!$D$18","v":"IDB 2021"},"NO REINSURANCE","All Other Projects",0,0,0,0,null,null,{"$f":"P81+Q81","v":0},{"$f":"V81","v":0}]
["UHC Domestic\nStand Alone Dental\nBlank Cust",4,"A",null,1.2,"PY1","ADD","---","UnitedHealthcare Domestic","Stand Alone Dental","Blank Customer","Total Incurred Claims",{"$f":"'Essbase Input'!$D$18","v":"IDB 2021"},"NO REINSURANCE","All Other Projects",0,0,0,0,null,null,{"$f":"P82+R82+S82+T82","v":0}]
[null,4,"A",null,1.2,"PY1","SUB","---","UnitedHealthcare Domestic","Stand Alone Dental","Blank Customer","50010 - Physician Cap Paid - External",{"$f":"'Essbase Input'!$D$18","v":"IDB 2021"},"NO REINSURANCE","0000003413 - General Administrative",0,0,0,0,null,null,{"$f":"P83+R83+S83+T83","v":0}]
[null,4,"A",null,1.2,"PY1","SUB","---","UnitedHealthcare Domestic","Stand Alone Dental","Blank Customer","50619 - Internal Capitation Pd - Other",{"$f":"'Essbase Input'!$D$18","v":"IDB 2021"},"NO REINSURANCE","All Other Projects",0,0,0,0,null,null,0]
[null,4,"A",null,1.2,"PY1","SUB","---","UnitedHealthcare Domestic","Stand Alone Dental","Blank Customer","Rate Credits NonTaxable",{"$f":"'Essbase Input'!$D$18","v":"IDB 2021"},"NO REINSURANCE","All Other Projects",0,0,0,0,null,null,0,{"$f":"V82-V83-V84-V85","v":0}]
[null,4,"A",null,2.1,"PY1","ADD","R","UnitedHealthcare Domestic","Stand Alone Dental","Blank Customer","Health Premiums Earned",{"$f":"'Essbase Input'!$D$18","v":"IDB 2021"},"NO REINSURANCE","All Other Projects",0,0,0,0,null,null,{"$f":"P86+Q86","v":0},{"$f":"V86","v":0}]
[null,4,"A",null,2.2000000000000002,"PY1","ADD","---","UnitedHealthcare Domestic","Stand Alone Dental","Blank Customer","Federal Taxes and Assessments","IDB Periods","Reinsurance","All Other Projects",0,0,0,0,null,null,{"$f":"P87","v":0}]
[null,4,"A",null,2.2000000000000002,"PY1","ADD","---","UnitedHealthcare Domestic","Stand Alone Dental","Blank Customer","State Ins, Prem and Other Tax","IDB Periods","Reinsurance","All Other Projects",0,0,0,0,null,null,{"$f":"P88","v":0}]
[null,4,"A",null,2.2000000000000002,"PY1","ADD","---","UnitedHealthcare Domestic","Stand Alone Dental","Blank Customer","Reg Authority Licenses & Fees","IDB Periods","Reinsurance","All Other Projects",0,0,0,0,null,null,0,{"$f":"SUM(V87:V89)","v":0}]
[null,4,"A",null,3.1,"PY1","ADD","---","UnitedHealthcare Domestic","Stand Alone Dental","Blank Customer","SHCE Member Months",{"$f":"'Essbase Input'!$D$18","v":"IDB 2021"},"NO REINSURANCE","All Other Projects",0,0,0,0,null,null,{"$f":"P90+Q90","v":0},{"$f":"V90","v":0}]
["UHC Domestic\nStand Alone Dental\nNot Comp Health",4,"A",null,1.2,"PY1","ADD","---","UnitedHealthcare Domestic","Stand Alone Dental","Not Comp Health Coverage","Total Incurred Claims",{"$f":"'Essbase Input'!$D$18","v":"IDB 2021"},"NO REINSURANCE","All Other Projects",87437.680000000008,-647.46,-768.98,-38.47,null,null,{"$f":"P91+R91+S91+T91","v":86630.23000000001}]
[null,4,"A",null,1.2,"PY1","SUB","---","UnitedHealthcare Domestic","Stand Alone Dental","Not Comp Health Coverage","50010 - Physician Cap Paid - External",{"$f":"'Essbase Input'!$D$18","v":"IDB 2021"},"NO REINSURANCE","0000003413 - General Administrative",0,0,0,0,null,null,{"$f":"P92+R92+S92+T92","v":0}]
[null,4,"A",null,1.2,"PY1","SUB","---","UnitedHealthcare Domestic","Stand Alone Dental","Not Comp Health Coverage","50619 - Internal Capitation Pd - Other",{"$f":"'Essbase Input'!$D$18","v":"IDB 2021"},"NO REINSURANCE","All Other Projects",0,0,0,0,null,null,0]
[null,4,"A",null,1.2,"PY1","SUB","---","UnitedHealthcare Domestic","Stand Alone Dental","Not Comp Health Coverage","Rate Credits NonTaxable",{"$f":"'Essbase Input'!$D$18","v":"IDB 2021"},"NO REINSURANCE","All Other Projects",0,0,0,0,null,null,0,{"$f":"V91-V92-V93-V94","v":86630.23000000001}]
[null,4,"A",null,2.1,"PY1","ADD","R","UnitedHealthcare Domestic","Stand Alone Dental","Not Comp Health Coverage","Health Premiums Earned",{"$f":"'Essbase Input'!$D$18","v":"IDB 2021"},"NO REINSURANCE","All Other Projects",-162005.72,-189.04000000000002,-163.79000000000002,0,null,null,{"$f":"P95+Q95","v":-162194.76},{"$f":"V95","v":-162194.76}]
[null,4,"A",null,2.2000000000000002,"PY1","ADD","---","UnitedHealthcare Domestic","Stand Alone Dental","Not Comp Health Coverage","Federal Taxes and Assessments","IDB Periods","Reinsurance","All Other Projects",0,0,0,0,null,null,{"$f":"P96","v":0}]
[null,4,"A",null,2.2000000000000002,"PY1","ADD","---","UnitedHealthcare Domestic","Stand Alone Dental","Not Comp Health Coverage","State Ins, Prem and Other Tax","IDB Periods","Reinsurance","All Other Projects",17509.12,917.17000000000007,8569.18,761.22,null,null,{"$f":"P97","v":17509.12}]
[null,4,"A",null,2.2000000000000002,"PY1","ADD","---","UnitedHealthcare Domestic","Stand Alone Dental","Not Comp Health Coverage","Reg Authority Licenses & Fees","IDB Periods","Reinsurance","All Other Projects",0,0,0,0,null,null,0,{"$f":"SUM(V96:V98)","v":17509.12}]
[null,4,"A",null,3.1,"PY1","ADD","---","UnitedHealthcare Domestic","Stand Alone Dental","Not Comp Health Coverage","SHCE Member Months",{"$f":"'Essbase Input'!$D$18","v":"IDB 2021"},"NO REINSURANCE","All Other Projects",3345,5,3,0,null,null,{"$f":"P99+Q99","v":3350},{"$f":"V99","v":3350}]
["UHC International\nStand Alone Dental\nMLR Customer",4,"A","B",1.2,"PY1","ADD","---","UnitedHealthcare International","Stand Alone Dental","MLR Customers","Total Incurred Claims",{"$f":"'Essbase Input'!$D$18","v":"IDB 2021"},"NO REINSURANCE","All Other Projects",0,0,0,0,null,null,{"$f":"P100+R100+S100+T100","v":0}]
[null,4,"A","B",1.2,"PY1","SUB","---","UnitedHealthcare International","Stand Alone Dental","MLR Customers","50010 - Physician Cap Paid - External",{"$f":"'Essbase Input'!$D$18","v":"IDB 2021"},"NO REINSURANCE","0000003413 - General Administrative",0,0,0,0,null,null,{"$f":"P101+R101+S101+T101","v":0}]
[null,4,"A","B",1.2,"PY1","SUB","---","UnitedHealthcare International","Stand Alone Dental","MLR Customers","50619 - Internal Capitation Pd - Other",{"$f":"'Essbase Input'!$D$18","v":"IDB 2021"},"NO REINSURANCE","All Other Projects",0,0,0,0,null,null,0]
[null,4,"A","B",1.2,"PY1","SUB","---","UnitedHealthcare International","Stand Alone Dental","MLR Customers","Rate Credits NonTaxable",{"$f":"'Essbase Input'!$D$18","v":"IDB 2021"},"NO REINSURANCE","All Other Projects",0,0,0,0,null,null,0,{"$f":"V100-V101-V102-V103","v":0}]
[null,4,"A","B",2.1,"PY1","ADD","R","UnitedHealthcare International","Stand Alone Dental","MLR Customers","Health Premiums Earned",{"$f":"'Essbase Input'!$D$18","v":"IDB 2021"},"NO REINSURANCE","All Other Projects",0,0,0,0,null,null,{"$f":"P104+Q104","v":0},{"$f":"V104","v":0}]
[null,4,"A","B",2.2000000000000002,"PY1","ADD","---","UnitedHealthcare International","Stand Alone Dental","MLR Customers","Federal Taxes and Assessments","IDB Periods","Reinsurance","All Other Projects",0,0,0,0,null,null,{"$f":"P105","v":0}]
[null,4,"A","B",2.2000000000000002,"PY1","ADD","---","UnitedHealthcare International","Stand Alone Dental","MLR Customers","State Ins, Prem and Other Tax","IDB Periods","Reinsurance","All Other Projects",0,0,0,0,null,null,{"$f":"P106","v":0}]
[null,4,"A","B",2.2000000000000002,"PY1","ADD","---","UnitedHealthcare International","Stand Alone Dental","MLR Customers","Reg Authority Licenses & Fees","IDB Periods","Reinsurance","All Other Projects",0,0,0,0,null,null,0,{"$f":"SUM(V105:V107)","v":0}]
[null,4,"A","B",3.1,"PY1","ADD","---","UnitedHealthcare International","Stand Alone Dental","MLR Customers","SHCE Member Months",{"$f":"'Essbase Input'!$D$18","v":"IDB 2021"},"NO REINSURANCE","All Other Projects",0,0,0,0,null,null,{"$f":"P108+Q108","v":0},{"$f":"V108","v":0}]
["Optum\nStand Alone Dental\nMLR Customer",4,"A","B",1.2,"PY1","ADD","---","Optum","Stand Alone Dental","MLR Customers","Total Incurred Claims",{"$f":"'Essbase Input'!$D$18","v":"IDB 2021"},"NO REINSURANCE","All Other Projects",0,0,0,0,null,null,{"$f":"P109+R109+S109+T109","v":0}]
[null,4,"A","B",1.2,"PY1","SUB","---","Optum","Stand Alone Dental","MLR Customers","50010 - Physician Cap Paid - External",{"$f":"'Essbase Input'!$D$18","v":"IDB 2021"},"NO REINSURANCE","0000003413 - General Administrative",0,0,0,0,null,null,{"$f":"P110+R110+S110+T110","v":0}]
[null,4,"A","B",1.2,"PY1","SUB","---","Optum","Stand Alone Dental","MLR Customers","50619 - Internal Capitation Pd - Other",{"$f":"'Essbase Input'!$D$18","v":"IDB 2021"},"NO REINSURANCE","All Other Projects",0,0,0,0,null,null,0]
[null,4,"A","B",1.2,"PY1","SUB","---","Optum","Stand Alone Dental","MLR Customers","Rate Credits NonTaxable",{"$f":"'Essbase Input'!$D$18","v":"IDB 2021"},"NO REINSURANCE","All Other Projects",0,0,0,0,null,null,0,{"$f":"V109-V110-V111-V112","v":0}]
[null,4,"A","B",2.1,"PY1","ADD","R","Optum","Stand Alone Dental","MLR Customers","Health Premiums Earned",{"$f":"'Essbase Input'!$D$18","v":"IDB 2021"},"NO REINSURANCE","All Other Projects",0,0,0,0,null,null,{"$f":"P113+Q113","v":0},{"$f":"V113","v":0}]
[null,4,"A","B",2.2000000000000002,"PY1","ADD","---","Optum","Stand Alone Dental","MLR Customers","Federal Taxes and Assessments","IDB Periods","Reinsurance","All Other Projects",0,0,0,0,null,null,{"$f":"P114","v":0}]
[null,4,"A","B",2.2000000000000002,"PY1","ADD","---","Optum","Stand Alone Dental","MLR Customers","State Ins, Prem and Other Tax","IDB Periods","Reinsurance","All Other Projects",0,0,0,0,null,null,{"$f":"P115","v":0}]
[null,4,"A","B",2.2000000000000002,"PY1","ADD","---","Optum","Stand Alone Dental","MLR Customers","Reg Authority Licenses & Fees","IDB Periods","Reinsurance","All Other Projects",0,0,0,0,null,null,0,{"$f":"SUM(V114:V116)","v":0}]
[null,4,"A","B",3.1,"PY1","ADD","---","Optum","Stand Alone Dental","MLR Customers","SHCE Member Months",{"$f":"'Essbase Input'!$D$18","v":"IDB 2021"},"NO REINSURANCE","All Other Projects",0,0,0,0,null,null,{"$f":"P117+Q117","v":0},{"$f":"V117","v":0}]
["Elims Mkt Grp\nStand Alone Dental\nMLR Customer",4,"A","B",1.2,"PY1","ADD","---","Eliminations Market Group","Stand Alone Dental","MLR Customers","Total Incurred Claims",{"$f":"'Essbase Input'!$D$18","v":"IDB 2021"},"NO REINSURANCE","All Other Projects",0,0,0,0,null,null,{"$f":"P118+R118+S118+T118","v":0}]
[null,4,"A","B",1.2,"PY1","SUB","---","Eliminations Market Group","Stand Alone Dental","MLR Customers","50010 - Physician Cap Paid - External",{"$f":"'Essbase Input'!$D$18","v":"IDB 2021"},"NO REINSURANCE","0000003413 - General Administrative",0,0,0,0,null,null,{"$f":"P119+R119+S119+T119","v":0}]
[null,4,"A","B",1.2,"PY1","SUB","---","Eliminations Market Group","Stand Alone Dental","MLR Customers","50619 - Internal Capitation Pd - Other",{"$f":"'Essbase Input'!$D$18","v":"IDB 2021"},"NO REINSURANCE","All Other Projects",0,0,0,0,null,null,0]
[null,4,"A","B",1.2,"PY1","SUB","---","Eliminations Market Group","Stand Alone Dental","MLR Customers","Rate Credits NonTaxable",{"$f":"'Essbase Input'!$D$18","v":"IDB 2021"},"NO REINSURANCE","All Other Projects",0,0,0,0,null,null,0,{"$f":"V118-V119-V120-V121","v":0}]
[null,4,"A","B",2.1,"PY1","ADD","R","Eliminations Market Group","Stand Alone Dental","MLR Customers","Health Premiums Earned",{"$f":"'Essbase Input'!$D$18","v":"IDB 2021"},"NO REINSURANCE","All Other Projects",0,0,0,0,null,null,{"$f":"P122+Q122","v":0},{"$f":"V122","v":0}]
[null,4,"A","B",2.2000000000000002,"PY1","ADD","---","Eliminations Market Group","Stand Alone Dental","MLR Customers","Federal Taxes and Assessments","IDB Periods","Reinsurance","All Other Projects",0,0,0,0,null,null,{"$f":"P123","v":0}]
[null,4,"A","B",2.2000000000000002,"PY1","ADD","---","Eliminations Market Group","Stand Alone Dental","MLR Customers","State Ins, Prem and Other Tax","IDB Periods","Reinsurance","All Other Projects",0,0,0,0,null,null,{"$f":"P124","v":0}]
[null,4,"A","B",2.2000000000000002,"PY1","ADD","---","Eliminations Market Group","Stand Alone Dental","MLR Customers","Reg Authority Licenses & Fees","IDB Periods","Reinsurance","All Other Projects",0,0,0,0,null,null,0,{"$f":"SUM(V123:V125)","v":0}]
[null,4,"A","B",3.1,"PY1","ADD","---","Eliminations Market Group","Stand Alone Dental","MLR Customers","SHCE Member Months",{"$f":"'Essbase Input'!$D$18","v":"IDB 2021"},"NO REINSURANCE","All Other Projects",0,0,0,0,null,null,{"$f":"P126+Q126","v":0},{"$f":"V126","v":0}]
["Corp Mkt Grp\nStand Alone Dental\nMLR Customer",4,"A","B",1.2,"PY1","ADD","---","Corp Market Group Rollup","Stand Alone Dental","MLR Customers","Total Incurred Claims",{"$f":"'Essbase Input'!$D$18","v":"IDB 2021"},"NO REINSURANCE","All Other Projects",0,0,0,0,null,null,{"$f":"P127+R127+S127+T127","v":0}]
[null,4,"A","B",1.2,"PY1","SUB","---","Corp Market Group Rollup","Stand Alone Dental","MLR Customers","50010 - Physician Cap Paid - External",{"$f":"'Essbase Input'!$D$18","v":"IDB 2021"},"NO REINSURANCE","0000003413 - General Administrative",0,0,0,0,null,null,{"$f":"P128+R128+S128+T128","v":0}]
[null,4,"A","B",1.2,"PY1","SUB","---","Corp Market Group Rollup","Stand Alone Dental","MLR Customers","50619 - Internal Capitation Pd - Other",{"$f":"'Essbase Input'!$D$18","v":"IDB 2021"},"NO REINSURANCE","All Other Projects",0,0,0,0,null,null,0]
[null,4,"A","B",1.2,"PY1","SUB","---","Corp Market Group Rollup","Stand Alone Dental","MLR Customers","Rate Credits NonTaxable",{"$f":"'Essbase Input'!$D$18","v":"IDB 2021"},"NO REINSURANCE","All Other Projects",0,0,0,0,null,null,0,{"$f":"V127-V128-V129-V130","v":0}]
[null,4,"A","B",2.1,"PY1","ADD","R","Corp Market Group Rollup","Stand Alone Dental","MLR Customers","Health Premiums Earned",{"$f":"'Essbase Input'!$D$18","v":"IDB 2021"},"NO REINSURANCE","All Other Projects",0,0,0,0,null,null,{"$f":"P131+Q131","v":0},{"$f":"V131","v":0}]
[null,4,"A","B",2.2000000000000002,"PY1","ADD","---","Corp Market Group Rollup","Stand Alone Dental","MLR Customers","Federal Taxes and Assessments","IDB Periods","Reinsurance","All Other Projects",0,0,0,0,null,null,{"$f":"P132","v":0}]
[null,4,"A","B",2.2000000000000002,"PY1","ADD","---","Corp Market Group Rollup","Stand Alone Dental","MLR Customers","State Ins, Prem and Other Tax","IDB Periods","Reinsurance","All Other Projects",0,0,0,0,null,null,{"$f":"P133","v":0}]
[null,4,"A","B",2.2000000000000002,"PY1","ADD","---","Corp Market Group Rollup","Stand Alone Dental","MLR Customers","Reg Authority Licenses & Fees","IDB Periods","Reinsurance","All Other Projects",0,0,0,0,null,null,0,{"$f":"SUM(V132:V134)","v":0}]
[null,4,"A","B",3.1,"PY1","ADD","---","Corp Market Group Rollup","Stand Alone Dental","MLR Customers","SHCE Member Months",{"$f":"'Essbase Input'!$D$18","v":"IDB 2021"},"NO REINSURANCE","All Other Projects",0,0,0,0,null,null,{"$f":"P135+Q135","v":0},{"$f":"V135","v":0}]
["Non-UHG\nStand Alone Dental\nMLR Customer",4,"A","B",1.2,"PY1","ADD","---","Non UnitedHealth Group Rollup","Stand Alone Dental","MLR Customers","Total Incurred Claims",{"$f":"'Essbase Input'!$D$18","v":"IDB 2021"},"NO REINSURANCE","All Other Projects",0,0,0,0,null,null,{"$f":"P136+R136+S136+T136","v":0}]
[null,4,"A","B",1.2,"PY1","SUB","---","Non UnitedHealth Group Rollup","Stand Alone Dental","MLR Customers","50010 - Physician Cap Paid - External",{"$f":"'Essbase Input'!$D$18","v":"IDB 2021"},"NO REINSURANCE","0000003413 - General Administrative",0,0,0,0,null,null,{"$f":"P137+R137+S137+T137","v":0}]
[null,4,"A","B",1.2,"PY1","SUB","---","Non UnitedHealth Group Rollup","Stand Alone Dental","MLR Customers","50619 - Internal Capitation Pd - Other",{"$f":"'Essbase Input'!$D$18","v":"IDB 2021"},"NO REINSURANCE","All Other Projects",0,0,0,0,null,null,0]
[null,4,"A","B",1.2,"PY1","SUB","---","Non UnitedHealth Group Rollup","Stand Alone Dental","MLR Customers","Rate Credits NonTaxable",{"$f":"'Essbase Input'!$D$18","v":"IDB 2021"},"NO REINSURANCE","All Other Projects",0,0,0,0,null,null,0,{"$f":"V136-V137-V138-V139","v":0}]
[null,4,"A","B",2.1,"PY1","ADD","R","Non UnitedHealth Group Rollup","Stand Alone Dental","MLR Customers","Health Premiums Earned",{"$f":"'Essbase Input'!$D$18","v":"IDB 2021"},"NO REINSURANCE","All Other Projects",0,0,0,0,null,null,{"$f":"P140+Q140","v":0},{"$f":"V140","v":0}]
[null,4,"A","B",2.2000000000000002,"PY1","ADD","---","Non UnitedHealth Group Rollup","Stand Alone Dental","MLR Customers","Federal Taxes and Assessments","IDB Periods","Reinsurance","All Other Projects",0,0,0,0,null,null,{"$f":"P141","v":0}]
[null,4,"A","B",2.2000000000000002,"PY1","ADD","---","Non UnitedHealth Group Rollup","Stand Alone Dental","MLR Customers","State Ins, Prem and Other Tax","IDB Periods","Reinsurance","All Other Projects",0,0,0,0,null,null,{"$f":"P142","v":0}]
[null,4,"A","B",2.2000000000000002,"PY1","ADD","---","Non UnitedHealth Group Rollup","Stand Alone Dental","MLR Customers","Reg Authority Licenses & Fees","IDB Periods","Reinsurance","All Other Projects",0,0,0,0,null,null,0,{"$f":"SUM(V141:V143)","v":0}]
[null,4,"A","B",3.1,"PY1","ADD","---","Non UnitedHealth Group Rollup","Stand Alone Dental","MLR Customers","SHCE Member Months",{"$f":"'Essbase Input'!$D$18","v":"IDB 2021"},"NO REINSURANCE","All Other Projects",0,0,0,0,null,null,{"$f":"P144+Q144","v":0},{"$f":"V144","v":0}]
["All OUs \np306155 \nMLR Customers",4,null,null,1.2,"PY1","ADD","---","Operating Units","306155 - Package Savings Disc - Vision","MLR Customers","Total Incurred Claims",{"$f":"'Essbase Input'!$D$18","v":"IDB 2021"},"NO REINSURANCE","All Other Projects",0,0,0,0,null,null,{"$f":"P145+R145+S145+T145","v":0}]
[null,4,null,null,1.2,"PY1","SUB","---","Operating Units","306155 - Package Savings Disc - Vision","MLR Customers","50010 - Physician Cap Paid - External",{"$f":"'Essbase Input'!$D$18","v":"IDB 2021"},"NO REINSURANCE","0000003413 - General Administrative",0,0,0,0,null,null,{"$f":"P146+R146+S146+T146","v":0}]
[null,4,null,null,1.2,"PY1","SUB","---","Operating Units","306155 - Package Savings Disc - Vision","MLR Customers","50619 - Internal Capitation Pd - Other",{"$f":"'Essbase Input'!$D$18","v":"IDB 2021"},"NO REINSURANCE","All Other Projects",0,0,0,0,null,null,0]
[null,4,null,null,1.2,"PY1","SUB","---","Operating Units","306155 - Package Savings Disc - Vision","MLR Customers","Rate Credits NonTaxable",{"$f":"'Essbase Input'!$D$18","v":"IDB 2021"},"NO REINSURANCE","All Other Projects",0,0,0,0,null,null,0,{"$f":"V145-V146-V147-V148","v":0}]
[null,4,null,null,2.1,"PY1","ADD","R","Operating Units","306155 - Package Savings Disc - Vision","MLR Customers","Health Premiums Earned",{"$f":"'Essbase Input'!$D$18","v":"IDB 2021"},"NO REINSURANCE","All Other Projects",0,0,0,0,null,null,{"$f":"P149+Q149","v":0},{"$f":"V149","v":0}]
[null,4,null,null,2.2000000000000002,"PY1","ADD","---","Operating Units","306155 - Package Savings Disc - Vision","MLR Customers","Federal Taxes and Assessments","IDB Periods","Reinsurance","All Other Projects",0,0,0,0,null,null,{"$f":"P150","v":0}]
[null,4,null,null,2.2000000000000002,"PY1","ADD","---","Operating Units","306155 - Package Savings Disc - Vision","MLR Customers","State Ins, Prem and Other Tax","IDB Periods","Reinsurance","All Other Projects",0,0,0,0,null,null,{"$f":"P151","v":0}]
[null,4,null,null,2.2000000000000002,"PY1","ADD","---","Operating Units","306155 - Package Savings Disc - Vision","MLR Customers","Reg Authority Licenses & Fees","IDB Periods","Reinsurance","All Other Projects",0,0,0,0,null,null,0,{"$f":"SUM(V150:V152)","v":0}]
[null,4,null,null,3.1,"PY1","ADD","---","Operating Units","306155 - Package Savings Disc - Vision","MLR Customers","SHCE Member Months",{"$f":"'Essbase Input'!$D$18","v":"IDB 2021"},"NO REINSURANCE","All Other Projects",0,0,0,0,null,null,{"$f":"P153+Q153","v":0},{"$f":"V153","v":0}]
["All OUs \np306156 \nMLR Customers",4,null,null,1.2,"PY1","ADD","---","Operating Units","306156 - Package Savings - Dental","MLR Customers","Total Incurred Claims",{"$f":"'Essbase Input'!$D$18","v":"IDB 2021"},"NO REINSURANCE","All Other Projects",0,0,0,0,null,null,{"$f":"P154+R154+S154+T154","v":0}]
[null,4,null,null,1.2,"PY1","SUB","---","Operating Units","306156 - Package Savings - Dental","MLR Customers","50010 - Physician Cap Paid - External",{"$f":"'Essbase Input'!$D$18","v":"IDB 2021"},"NO REINSURANCE","0000003413 - General Administrative",0,0,0,0,null,null,{"$f":"P155+R155+S155+T155","v":0}]
[null,4,null,null,1.2,"PY1","SUB","---","Operating Units","306156 - Package Savings - Dental","MLR Customers","50619 - Internal Capitation Pd - Other",{"$f":"'Essbase Input'!$D$18","v":"IDB 2021"},"NO REINSURANCE","All Other Projects",0,0,0,0,null,null,0]
[null,4,null,null,1.2,"PY1","SUB","---","Operating Units","306156 - Package Savings - Dental","MLR Customers","Rate Credits NonTaxable",{"$f":"'Essbase Input'!$D$18","v":"IDB 2021"},"NO REINSURANCE","All Other Projects",0,0,0,0,null,null,0,{"$f":"V154-V155-V156-V157","v":0}]
[null,4,null,null,2.1,"PY1","ADD","R","Operating Units","306156 - Package Savings - Dental","MLR Customers","Health Premiums Earned",{"$f":"'Essbase Input'!$D$18","v":"IDB 2021"},"NO REINSURANCE","All Other Projects",0,0,0,0,null,null,{"$f":"P158+Q158","v":0},{"$f":"V158","v":0}]
[null,4,null,null,2.2000000000000002,"PY1","ADD","---","Operating Units","306156 - Package Savings - Dental","MLR Customers","Federal Taxes and Assessments","IDB Periods","Reinsurance","All Other Projects",0,0,0,0,null,null,{"$f":"P159","v":0}]
[null,4,null,null,2.2000000000000002,"PY1","ADD","---","Operating Units","306156 - Package Savings - Dental","MLR Customers","State Ins, Prem and Other Tax","IDB Periods","Reinsurance","All Other Projects",0,0,0,0,null,null,{"$f":"P160","v":0}]
[null,4,null,null,2.2000000000000002,"PY1","ADD","---","Operating Units","306156 - Package Savings - Dental","MLR Customers","Reg Authority Licenses & Fees","IDB Periods","Reinsurance","All Other Projects",0,0,0,0,null,null,0,{"$f":"SUM(V159:V161)","v":0}]
[null,4,null,null,3.1,"PY1","ADD","---","Operating Units","306156 - Package Savings - Dental","MLR Customers","SHCE Member Months",{"$f":"'Essbase Input'!$D$18","v":"IDB 2021"},"NO REINSURANCE","All Other Projects",0,0,0,0,null,null,{"$f":"P162+Q162","v":0},{"$f":"V162","v":0}]
["All OUs \np305402 \nMLR Customers",4,null,null,1.2,"PY1","ADD","---","Operating Units","305402 - Managed Transplant Risk SD","MLR Customers","Total Incurred Claims",{"$f":"'Essbase Input'!$D$18","v":"IDB 2021"},"NO REINSURANCE","All Other Projects",0,0,0,0,null,null,{"$f":"P163+R163+S163+T163","v":0}]
[null,4,null,null,1.2,"PY1","SUB","---","Operating Units","305402 - Managed Transplant Risk SD","MLR Customers","50010 - Physician Cap Paid - External",{"$f":"'Essbase Input'!$D$18","v":"IDB 2021"},"NO REINSURANCE","0000003413 - General Administrative",0,0,0,0,null,null,{"$f":"P164+R164+S164+T164","v":0}]
[null,4,null,null,1.2,"PY1","SUB","---","Operating Units","305402 - Managed Transplant Risk SD","MLR Customers","50619 - Internal Capitation Pd - Other",{"$f":"'Essbase Input'!$D$18","v":"IDB 2021"},"NO REINSURANCE","All Other Projects",0,0,0,0,null,null,0]
[null,4,null,null,1.2,"PY1","SUB","---","Operating Units","305402 - Managed Transplant Risk SD","MLR Customers","Rate Credits NonTaxable",{"$f":"'Essbase Input'!$D$18","v":"IDB 2021"},"NO REINSURANCE","All Other Projects",0,0,0,0,null,null,0,{"$f":"V163-V164-V165-V166","v":0}]
[null,4,null,null,2.1,"PY1","ADD","R","Operating Units","305402 - Managed Transplant Risk SD","MLR Customers","Health Premiums Earned",{"$f":"'Essbase Input'!$D$18","v":"IDB 2021"},"NO REINSURANCE","All Other Projects",0,0,0,0,null,null,{"$f":"P167+Q167","v":0},{"$f":"V167","v":0}]
[null,4,null,null,2.2000000000000002,"PY1","ADD","---","Operating Units","305402 - Managed Transplant Risk SD","MLR Customers","Federal Taxes and Assessments","IDB Periods","Reinsurance","All Other Projects",0,0,0,0,null,null,{"$f":"P168","v":0}]
[null,4,null,null,2.2000000000000002,"PY1","ADD","---","Operating Units","305402 - Managed Transplant Risk SD","MLR Customers","State Ins, Prem and Other Tax","IDB Periods","Reinsurance","All Other Projects",0,0,0,0,null,null,{"$f":"P169","v":0}]
[null,4,null,null,2.2000000000000002,"PY1","ADD","---","Operating Units","305402 - Managed Transplant Risk SD","MLR Customers","Reg Authority Licenses & Fees","IDB Periods","Reinsurance","All Other Projects",0,0,0,0,null,null,0,{"$f":"SUM(V168:V170)","v":0}]
[null,4,null,null,3.1,"PY1","ADD","---","Operating Units","305402 - Managed Transplant Risk SD","MLR Customers","SHCE Member Months",{"$f":"'Essbase Input'!$D$18","v":"IDB 2021"},"NO REINSURANCE","All Other Projects",0,0,0,0,null,null,{"$f":"P171+Q171","v":0},{"$f":"V171","v":0}]
["All OUs \np430083 \nMLR Customers",4,null,null,1.2,"PY1","ADD","---","Operating Units","430083 - PBM ePrescribe","MLR Customers","Total Incurred Claims",{"$f":"'Essbase Input'!$D$18","v":"IDB 2021"},"NO REINSURANCE","All Other Projects",0,0,0,0,null,null,{"$f":"P172+R172+S172+T172","v":0}]
[null,4,null,null,1.2,"PY1","SUB","---","Operating Units","430083 - PBM ePrescribe","MLR Customers","50010 - Physician Cap Paid - External",{"$f":"'Essbase Input'!$D$18","v":"IDB 2021"},"NO REINSURANCE","0000003413 - General Administrative",0,0,0,0,null,null,{"$f":"P173+R173+S173+T173","v":0}]
[null,4,null,null,1.2,"PY1","SUB","---","Operating Units","430083 - PBM ePrescribe","MLR Customers","50619 - Internal Capitation Pd - Other",{"$f":"'Essbase Input'!$D$18","v":"IDB 2021"},"NO REINSURANCE","All Other Projects",0,0,0,0,null,null,0]
[null,4,null,null,1.2,"PY1","SUB","---","Operating Units","430083 - PBM ePrescribe","MLR Customers","Rate Credits NonTaxable",{"$f":"'Essbase Input'!$D$18","v":"IDB 2021"},"NO REINSURANCE","All Other Projects",0,0,0,0,null,null,0,{"$f":"V172-V173-V174-V175","v":0}]
[null,4,null,null,2.1,"PY1","ADD","R","Operating Units","430083 - PBM ePrescribe","MLR Customers","Health Premiums Earned",{"$f":"'Essbase Input'!$D$18","v":"IDB 2021"},"NO REINSURANCE","All Other Projects",0,0,0,0,null,null,{"$f":"P176+Q176","v":0},{"$f":"V176","v":0}]
[null,4,null,null,2.2000000000000002,"PY1","ADD","---","Operating Units","430083 - PBM ePrescribe","MLR Customers","Federal Taxes and Assessments","IDB Periods","Reinsurance","All Other Projects",0,0,0,0,null,null,{"$f":"P177","v":0}]
[null,4,null,null,2.2000000000000002,"PY1","ADD","---","Operating Units","430083 - PBM ePrescribe","MLR Customers","State Ins, Prem and Other Tax","IDB Periods","Reinsurance","All Other Projects",0,0,0,0,null,null,{"$f":"P178","v":0}]
[null,4,null,null,2.2000000000000002,"PY1","ADD","---","Operating Units","430083 - PBM ePrescribe","MLR Customers","Reg Authority Licenses & Fees","IDB Periods","Reinsurance","All Other Projects",0,0,0,0,null,null,0,{"$f":"SUM(V177:V179)","v":0}]
[null,4,null,null,3.1,"PY1","ADD","---","Operating Units","430083 - PBM ePrescribe","MLR Customers","SHCE Member Months",{"$f":"'Essbase Input'!$D$18","v":"IDB 2021"},"NO REINSURANCE","All Other Projects",0,0,0,0,null,null,{"$f":"P180+Q180","v":0},{"$f":"V180","v":0}]
["All OUs \np430084 \nMLR Customers",4,null,null,1.2,"PY1","ADD","---","Operating Units","430084 - PreCheck My Script Fee","MLR Customers","Total Incurred Claims",{"$f":"'Essbase Input'!$D$18","v":"IDB 2021"},"NO REINSURANCE","All Other Projects",0,0,0,0,null,null,{"$f":"P181+R181+S181+T181","v":0}]
[null,4,null,null,1.2,"PY1","SUB","---","Operating Units","430084 - PreCheck My Script Fee","MLR Customers","50010 - Physician Cap Paid - External",{"$f":"'Essbase Input'!$D$18","v":"IDB 2021"},"NO REINSURANCE","0000003413 - General Administrative",0,0,0,0,null,null,{"$f":"P182+R182+S182+T182","v":0}]
[null,4,null,null,1.2,"PY1","SUB","---","Operating Units","430084 - PreCheck My Script Fee","MLR Customers","50619 - Internal Capitation Pd - Other",{"$f":"'Essbase Input'!$D$18","v":"IDB 2021"},"NO REINSURANCE","All Other Projects",0,0,0,0,null,null,0]
[null,4,null,null,1.2,"PY1","SUB","---","Operating Units","430084 - PreCheck My Script Fee","MLR Customers","Rate Credits NonTaxable",{"$f":"'Essbase Input'!$D$18","v":"IDB 2021"},"NO REINSURANCE","All Other Projects",0,0,0,0,null,null,0,{"$f":"V181-V182-V183-V184","v":0}]
[null,4,null,null,2.1,"PY1","ADD","R","Operating Units","430084 - PreCheck My Script Fee","MLR Customers","Health Premiums Earned",{"$f":"'Essbase Input'!$D$18","v":"IDB 2021"},"NO REINSURANCE","All Other Projects",0,0,0,0,null,null,{"$f":"P185+Q185","v":0},{"$f":"V185","v":0}]
[null,4,null,null,2.2000000000000002,"PY1","ADD","---","Operating Units","430084 - PreCheck My Script Fee","MLR Customers","Federal Taxes and Assessments","IDB Periods","Reinsurance","All Other Projects",0,0,0,0,null,null,{"$f":"P186","v":0}]
[null,4,null,null,2.2000000000000002,"PY1","ADD","---","Operating Units","430084 - PreCheck My Script Fee","MLR Customers","State Ins, Prem and Other Tax","IDB Periods","Reinsurance","All Other Projects",0,0,0,0,null,null,{"$f":"P187","v":0}]
[null,4,null,null,2.2000000000000002,"PY1","ADD","---","Operating Units","430084 - PreCheck My Script Fee","MLR Customers","Reg Authority Licenses & Fees","IDB Periods","Reinsurance","All Other Projects",0,0,0,0,null,null,0,{"$f":"SUM(V186:V188)","v":0}]
[null,4,null,null,3.1,"PY1","ADD","---","Operating Units","430084 - PreCheck My Script Fee","MLR Customers","SHCE Member Months",{"$f":"'Essbase Input'!$D$18","v":"IDB 2021"},"NO REINSURANCE","All Other Projects",0,0,0,0,null,null,{"$f":"P189+Q189","v":0},{"$f":"V189","v":0}]
["All OUs \np430087 \nMLR Customers",4,null,null,1.2,"PY1","ADD","---","Operating Units","430087 - PBM EGWP","MLR Customers","Total Incurred Claims",{"$f":"'Essbase Input'!$D$18","v":"IDB 2021"},"NO REINSURANCE","All Other Projects",0,0,0,0,null,null,{"$f":"P190+R190+S190+T190","v":0}]
[null,4,null,null,1.2,"PY1","SUB","---","Operating Units","430087 - PBM EGWP","MLR Customers","50010 - Physician Cap Paid - External",{"$f":"'Essbase Input'!$D$18","v":"IDB 2021"},"NO REINSURANCE","0000003413 - General Administrative",0,0,0,0,null,null,{"$f":"P191+R191+S191+T191","v":0}]
[null,4,null,null,1.2,"PY1","SUB","---","Operating Units","430087 - PBM EGWP","MLR Customers","50619 - Internal Capitation Pd - Other",{"$f":"'Essbase Input'!$D$18","v":"IDB 2021"},"NO REINSURANCE","All Other Projects",0,0,0,0,null,null,0]
[null,4,null,null,1.2,"PY1","SUB","---","Operating Units","430087 - PBM EGWP","MLR Customers","Rate Credits NonTaxable",{"$f":"'Essbase Input'!$D$18","v":"IDB 2021"},"NO REINSURANCE","All Other Projects",0,0,0,0,null,null,0,{"$f":"V190-V191-V192-V193","v":0}]
[null,4,null,null,2.1,"PY1","ADD","R","Operating Units","430087 - PBM EGWP","MLR Customers","Health Premiums Earned",{"$f":"'Essbase Input'!$D$18","v":"IDB 2021"},"NO REINSURANCE","All Other Projects",0,0,0,0,null,null,{"$f":"P194+Q194","v":0},{"$f":"V194","v":0}]
[null,4,null,null,2.2000000000000002,"PY1","ADD","---","Operating Units","430087 - PBM EGWP","MLR Customers","Federal Taxes and Assessments","IDB Periods","Reinsurance","All Other Projects",0,0,0,0,null,null,{"$f":"P195","v":0}]
[null,4,null,null,2.2000000000000002,"PY1","ADD","---","Operating Units","430087 - PBM EGWP","MLR Customers","State Ins, Prem and Other Tax","IDB Periods","Reinsurance","All Other Projects",0,0,0,0,null,null,{"$f":"P196","v":0}]
[null,4,null,null,2.2000000000000002,"PY1","ADD","---","Operating Units","430087 - PBM EGWP","MLR Customers","Reg Authority Licenses & Fees","IDB Periods","Reinsurance","All Other Projects",0,0,0,0,null,null,0,{"$f":"SUM(V195:V197)","v":0}]
[null,4,null,null,3.1,"PY1","ADD","---","Operating Units","430087 - PBM EGWP","MLR Customers","SHCE Member Months",{"$f":"'Essbase Input'!$D$18","v":"IDB 2021"},"NO REINSURANCE","All Other Projects",0,0,0,0,null,null,{"$f":"P198+Q198","v":0},{"$f":"V198","v":0}]
["All OUs \np430088 \nMLR Customers",4,null,null,1.2,"PY1","ADD","---","Operating Units","430088 - PBM ECOB","MLR Customers","Total Incurred Claims",{"$f":"'Essbase Input'!$D$18","v":"IDB 2021"},"NO REINSURANCE","All Other Projects",0,0,0,0,null,null,{"$f":"P199+R199+S199+T199","v":0}]
[null,4,null,null,1.2,"PY1","SUB","---","Operating Units","430088 - PBM ECOB","MLR Customers","50010 - Physician Cap Paid - External",{"$f":"'Essbase Input'!$D$18","v":"IDB 2021"},"NO REINSURANCE","0000003413 - General Administrative",0,0,0,0,null,null,{"$f":"P200+R200+S200+T200","v":0}]
[null,4,null,null,1.2,"PY1","SUB","---","Operating Units","430088 - PBM ECOB","MLR Customers","50619 - Internal Capitation Pd - Other",{"$f":"'Essbase Input'!$D$18","v":"IDB 2021"},"NO REINSURANCE","All Other Projects",0,0,0,0,null,null,0]
[null,4,null,null,1.2,"PY1","SUB","---","Operating Units","430088 - PBM ECOB","MLR Customers","Rate Credits NonTaxable",{"$f":"'Essbase Input'!$D$18","v":"IDB 2021"},"NO REINSURANCE","All Other Projects",0,0,0,0,null,null,0,{"$f":"V199-V200-V201-V202","v":0}]
[null,4,null,null,2.1,"PY1","ADD","R","Operating Units","430088 - PBM ECOB","MLR Customers","Health Premiums Earned",{"$f":"'Essbase Input'!$D$18","v":"IDB 2021"},"NO REINSURANCE","All Other Projects",0,0,0,0,null,null,{"$f":"P203+Q203","v":0},{"$f":"V203","v":0}]
[null,4,null,null,2.2000000000000002,"PY1","ADD","---","Operating Units","430088 - PBM ECOB","MLR Customers","Federal Taxes and Assessments","IDB Periods","Reinsurance","All Other Projects",0,0,0,0,null,null,{"$f":"P204","v":0}]
[null,4,null,null,2.2000000000000002,"PY1","ADD","---","Operating Units","430088 - PBM ECOB","MLR Customers","State Ins, Prem and Other Tax","IDB Periods","Reinsurance","All Other Projects",0,0,0,0,null,null,{"$f":"P205","v":0}]
[null,4,null,null,2.2000000000000002,"PY1","ADD","---","Operating Units","430088 - PBM ECOB","MLR Customers","Reg Authority Licenses & Fees","IDB Periods","Reinsurance","All Other Projects",0,0,0,0,null,null,0,{"$f":"SUM(V204:V206)","v":0}]
[null,4,null,null,3.1,"PY1","ADD","---","Operating Units","430088 - PBM ECOB","MLR Customers","SHCE Member Months",{"$f":"'Essbase Input'!$D$18","v":"IDB 2021"},"NO REINSURANCE","All Other Projects",0,0,0,0,null,null,{"$f":"P207+Q207","v":0},{"$f":"V207","v":0}]
["All OUs \np430089 \nMLR Customers",4,null,null,1.2,"PY1","ADD","---","Operating Units","430089 - PBM Clinical","MLR Customers","Total Incurred Claims",{"$f":"'Essbase Input'!$D$18","v":"IDB 2021"},"NO REINSURANCE","All Other Projects",0,0,0,0,null,null,{"$f":"P208+R208+S208+T208","v":0}]
[null,4,null,null,1.2,"PY1","SUB","---","Operating Units","430089 - PBM Clinical","MLR Customers","50010 - Physician Cap Paid - External",{"$f":"'Essbase Input'!$D$18","v":"IDB 2021"},"NO REINSURANCE","0000003413 - General Administrative",0,0,0,0,null,null,{"$f":"P209+R209+S209+T209","v":0}]
[null,4,null,null,1.2,"PY1","SUB","---","Operating Units","430089 - PBM Clinical","MLR Customers","50619 - Internal Capitation Pd - Other",{"$f":"'Essbase Input'!$D$18","v":"IDB 2021"},"NO REINSURANCE","All Other Projects",0,0,0,0,null,null,0]
[null,4,null,null,1.2,"PY1","SUB","---","Operating Units","430089 - PBM Clinical","MLR Customers","Rate Credits NonTaxable",{"$f":"'Essbase Input'!$D$18","v":"IDB 2021"},"NO REINSURANCE","All Other Projects",0,0,0,0,null,null,0,{"$f":"V208-V209-V210-V211","v":0}]
[null,4,null,null,2.1,"PY1","ADD","R","Operating Units","430089 - PBM Clinical","MLR Customers","Health Premiums Earned",{"$f":"'Essbase Input'!$D$18","v":"IDB 2021"},"NO REINSURANCE","All Other Projects",0,0,0,0,null,null,{"$f":"P212+Q212","v":0},{"$f":"V212","v":0}]
[null,4,null,null,2.2000000000000002,"PY1","ADD","---","Operating Units","430089 - PBM Clinical","MLR Customers","Federal Taxes and Assessments","IDB Periods","Reinsurance","All Other Projects",0,0,0,0,null,null,{"$f":"P213","v":0}]
[null,4,null,null,2.2000000000000002,"PY1","ADD","---","Operating Units","430089 - PBM Clinical","MLR Customers","State Ins, Prem and Other Tax","IDB Periods","Reinsurance","All Other Projects",0,0,0,0,null,null,{"$f":"P214","v":0}]
[null,4,null,null,2.2000000000000002,"PY1","ADD","---","Operating Units","430089 - PBM Clinical","MLR Customers","Reg Authority Licenses & Fees","IDB Periods","Reinsurance","All Other Projects",0,0,0,0,null,null,0,{"$f":"SUM(V213:V215)","v":0}]
[null,4,null,null,3.1,"PY1","ADD","---","Operating Units","430089 - PBM Clinical","MLR Customers","SHCE Member Months",{"$f":"'Essbase Input'!$D$18","v":"IDB 2021"},"NO REINSURANCE","All Other Projects",0,0,0,0,null,null,{"$f":"P216+Q216","v":0},{"$f":"V216","v":0}]
[]
[null,null,null,null,null,null,null,null,null,null,null,null,null,null,null,null,null,null,null,null,null,null,"UHIC/UIC","GRI/UHLIC","DBP-CA"]
[null,null,"A","B",1.2,"Claims",null,null,null,null,null,null,null,null,null,null,null,null,null,null,null,null,{"$f":"SUMIF($E$9:$E$217,E219,$W$9:$W$217)","v":92314.940000000017},{"$f":"W219-SUMIFS($W$9:$W$217,$E$9:$E$217,$E219,$C$9:$C$217,C219)","v":5684.7100000000064},{"$f":"W219-SUMIFS($W$9:$W$217,$E$9:$E$217,$E219,$D$9:$D$217,D219)","v":92314.940000000017}]
[null,null,"A","B",2.1,"Premium",null,null,null,null,null,null,null,null,null,null,null,null,null,null,null,null,{"$f":"SUMIF($E$9:$E$217,E220,$W$9:$W$217)","v":-175381.06},{"$f":"W220-SUMIFS($W$9:$W$217,$E$9:$E$217,$E220,$C$9:$C$217,C220)","v":-13186.299999999988},{"$f":"W220-SUMIFS($W$9:$W$217,$E$9:$E$217,$E220,$D$9:$D$217,D220)","v":-175381.06}]
[null,null,"A","B",2.2000000000000002,"Taxes",null,null,null,null,null,null,null,null,null,null,null,null,null,null,null,null,{"$f":"SUMIF($E$9:$E$217,E221,$W$9:$W$217)","v":18154.059999999998},644.93999999999869,18154.059999999998]
[null,null,"A","B",3.1,"Life Years",null,null,null,null,null,null,null,null,null,null,null,null,null,null,null,null,{"$f":"SUMIF($E$9:$E$217,E222,$W$9:$W$217)","v":4895},1545,4895]
[]
[null,null,null,null,null,"Net",null,null,null,null,null,null,null,null,null,null,null,null,null,null,null,null,{"$f":"SUM(W219:W221)","v":-64912.059999999983},{"$f":"SUM(X219:X221)","v":-6856.6499999999833},{"$f":"SUM(Y219:Y221)","v":-64912.059999999983}]

{"sheet":"EB PT 4 CY","index":11,"n_rows":224,"n_cols":25,"rows_kept":224,"cut":false,"hidden":true,"merged":[]}
[null,"Part","REF1","REF2","Ln","Col","Adj","Rev","-OU","-Prod","-Cust",{"$f":"\"Account\"","v":"Account"},{"$f":"\"IDB Period\"","v":"IDB Period"},{"$f":"\"Reinsurance\"","v":"Reinsurance"},{"$f":"\"Project\"","v":"Project"},1,1]
[null,null,null,null,null,null,null,null,null,null,null,null,null,null,null,"Views","Views"]
[null,null,null,null,null,null,null,null,null,null,null,null,null,null,null,"Sources","Sources"]
[null,null,null,null,null,null,null,null,null,null,null,null,null,null,null,"Departments","Departments"]
[null,null,null,null,null,null,null,null,null,null,null,null,null,null,null,"NAIC Supp HC Exhibit","NAIC Supp HC Exhibit"]
[null,null,null,null,null,null,null,null,null,null,null,null,null,null,null,{"$f":"'Essbase Input'!$C$8","v":"UnitedHealthcare Life Ins Co"},{"$f":"'Essbase Input'!$C$8","v":"UnitedHealthcare Life Ins Co"}]
[null,null,null,null,null,null,null,null,null,null,null,null,null,null,null,{"$f":"'Essbase Input'!$C$9","v":"California - CA"},{"$f":"'Essbase Input'!$C$9","v":"California - CA"}]
[null,null,null,null,null,null,null,null,null,null,null,null,null,null,null,{"$f":"'Essbase Input'!$C$17","v":"2022"},{"$f":"'Essbase Input'!$C$16","v":"2023"}]
[null,null,null,null,null,null,null,null,null,null,null,null,null,null,null,"Total Year","March_Bal"]
["CMS MLR",4,null,null,"1.2-","CY","ADD","---","Operating Units","Other Health Business","MLR Customers","Total Incurred Claims",{"$f":"'Essbase Input'!$D$17","v":"IDB 2022"},"NO REINSURANCE","All Other Projects",82442.749999999985,3506.8300000000008,null,null,null,null,{"$f":"P10+Q10","v":85949.579999999987}]
[null,4,null,null,"1.2-","CY","SUB","---","Operating Units","Other Health Business","MLR Customers","50010 - Physician Cap Paid - External",{"$f":"'Essbase Input'!$D$17","v":"IDB 2022"},"NO REINSURANCE","0000003413 - General Administrative",0,0,null,null,null,null,{"$f":"P11+Q11","v":0}]
[null,4,null,null,"1.2-","CY","SUB","---","Operating Units","Other Health Business","MLR Customers","50619 - Internal Capitation Pd - Other",{"$f":"'Essbase Input'!$D$17","v":"IDB 2022"},"NO REINSURANCE","All Other Projects",0,0,null,null,null,null,{"$f":"P12+Q12","v":0}]
[null,4,null,null,"1.2-","CY","SUB","---","Operating Units","Other Health Business","MLR Customers","Rate Credits NonTaxable",{"$f":"'Essbase Input'!$D$17","v":"IDB 2022"},"NO REINSURANCE","All Other Projects",0,0,null,null,null,null,{"$f":"P13+Q13","v":0},{"$f":"V10-V11-V12-V13","v":85949.579999999987}]
[null,4,null,null,"2.1-","CY","ADD","R","Operating Units","Other Health Business","MLR Customers","Health Premiums Earned",{"$f":"'Essbase Input'!$D$17","v":"IDB 2022"},"NO REINSURANCE","All Other Projects",-156028.83000000002,186.73000000000002,null,null,null,null,{"$f":"P14+Q14","v":-155842.1},{"$f":"V14","v":-155842.1}]
[null,4,null,null,"2.2-","CY","ADD","---","Operating Units","Other Health Business","MLR Customers","Federal Taxes and Assessments","IDB Periods","Reinsurance","All Other Projects",6223.4800000000005,-106.91999999999982,null,null,null,null,{"$f":"P15","v":6223.4800000000005}]
[null,4,null,null,"2.2-","CY","ADD","---","Operating Units","Other Health Business","MLR Customers","State Ins, Prem and Other Tax","IDB Periods","Reinsurance","All Other Projects",8856.77,827.50000000000011,null,null,null,null,{"$f":"P16","v":8856.77}]
[null,4,null,null,"2.2-","CY","ADD","---","Operating Units","Other Health Business","MLR Customers","Reg Authority Licenses & Fees","IDB Periods","Reinsurance","All Other Projects",0,0,null,null,null,null,0,{"$f":"SUM(V15:V17)","v":15080.25}]
[null,4,null,null,"3.1-","CY","ADD","---","Operating Units","Other Health Business","MLR Customers","SHCE Member Months",{"$f":"'Essbase Input'!$D$17","v":"IDB 2022"},"NO REINSURANCE","All Other Projects",4196,-10,null,null,null,null,{"$f":"P18+Q18","v":4186},{"$f":"V18","v":4186}]
["GRI",4,null,null,"1.2-","CY","ADD","---","Operating Units","Stand Alone Dental","MLR Customers","Total Incurred Claims",{"$f":"'Essbase Input'!$D$17","v":"IDB 2022"},"NO REINSURANCE","All Other Projects",76499.89,3559.21,null,null,null,null,80059.100000000006]
[null,4,null,null,"1.2-","CY","SUB","---","Operating Units","Stand Alone Dental","MLR Customers","50010 - Physician Cap Paid - External",{"$f":"'Essbase Input'!$D$17","v":"IDB 2022"},"NO REINSURANCE","0000003413 - General Administrative",0,0,null,null,null,null,0]
[null,4,null,null,"1.2-","CY","SUB","---","Operating Units","Stand Alone Dental","MLR Customers","50619 - Internal Capitation Pd - Other",{"$f":"'Essbase Input'!$D$17","v":"IDB 2022"},"NO REINSURANCE","All Other Projects",0,0,null,null,null,null,0]
[null,4,null,null,"1.2-","CY","SUB","---","Operating Units","Stand Alone Dental","MLR Customers","Rate Credits NonTaxable",{"$f":"'Essbase Input'!$D$17","v":"IDB 2022"},"NO REINSURANCE","All Other Projects",0,0,null,null,null,null,0,{"$f":"V19-V20-V21-V22","v":80059.100000000006}]
[null,4,null,null,"2.1-","CY","ADD","R","Operating Units","Stand Alone Dental","MLR Customers","Health Premiums Earned",{"$f":"'Essbase Input'!$D$17","v":"IDB 2022"},"NO REINSURANCE","All Other Projects",-145153.69000000003,133.17000000000002,null,null,null,null,-145020.52000000002,{"$f":"V23","v":-145020.52000000002}]
[null,4,null,null,"2.2-","CY","ADD","---","Operating Units","Stand Alone Dental","MLR Customers","Federal Taxes and Assessments","IDB Periods","Reinsurance","All Other Projects",5568.76,-178.69999999999993,null,null,null,null,{"$f":"P24","v":5568.76}]
[null,4,null,null,"2.2-","CY","ADD","---","Operating Units","Stand Alone Dental","MLR Customers","State Ins, Prem and Other Tax","IDB Periods","Reinsurance","All Other Projects",8599.42,768.99,null,null,null,null,{"$f":"P25","v":8599.42}]
[null,4,null,null,"2.2-","CY","ADD","---","Operating Units","Stand Alone Dental","MLR Customers","Reg Authority Licenses & Fees","IDB Periods","Reinsurance","All Other Projects",0,0,null,null,null,null,0,{"$f":"SUM(V24:V26)","v":14168.18}]
[null,4,null,null,"3.1-","CY","ADD","---","Operating Units","Stand Alone Dental","MLR Customers","SHCE Member Months",{"$f":"'Essbase Input'!$D$17","v":"IDB 2022"},"NO REINSURANCE","All Other Projects",2908,-3,null,null,null,null,{"$f":"P27+Q27","v":2905},{"$f":"V27","v":2905}]
["SAD/Ind",4,null,null,"1.2-","CY","ADD","---","UnitedHealthcare Domestic","Stand Alone Dental","Individual","Total Incurred Claims",{"$f":"'Essbase Input'!$D$17","v":"IDB 2022"},"NO REINSURANCE","All Other Projects",0,0,null,null,null,null,0]
[null,4,null,null,"1.2-","CY","SUB","---","UnitedHealthcare Domestic","Stand Alone Dental","Individual","50010 - Physician Cap Paid - External",{"$f":"'Essbase Input'!$D$17","v":"IDB 2022"},"NO REINSURANCE","0000003413 - General Administrative",0,0,null,null,null,null,0]
[null,4,null,null,"1.2-","CY","SUB","---","UnitedHealthcare Domestic","Stand Alone Dental","Individual","50619 - Internal Capitation Pd - Other",{"$f":"'Essbase Input'!$D$17","v":"IDB 2022"},"NO REINSURANCE","All Other Projects",0,0,null,null,null,null,0]
[null,4,null,null,"1.2-","CY","SUB","---","UnitedHealthcare Domestic","Stand Alone Dental","Individual","Rate Credits NonTaxable",{"$f":"'Essbase Input'!$D$17","v":"IDB 2022"},"NO REINSURANCE","All Other Projects",0,0,null,null,null,null,0,{"$f":"V28-V29-V30-V31","v":0}]
[null,4,null,null,"2.1-","CY","ADD","R","UnitedHealthcare Domestic","Stand Alone Dental","Individual","Health Premiums Earned",{"$f":"'Essbase Input'!$D$17","v":"IDB 2022"},"NO REINSURANCE","All Other Projects",0,0,null,null,null,null,0,{"$f":"V32","v":0}]
[null,4,null,null,"2.2-","CY","ADD","---","UnitedHealthcare Domestic","Stand Alone Dental","Individual","Federal Taxes and Assessments","IDB Periods","Reinsurance","All Other Projects",0,0,null,null,null,null,{"$f":"P33","v":0}]
[null,4,null,null,"2.2-","CY","ADD","---","UnitedHealthcare Domestic","Stand Alone Dental","Individual","State Ins, Prem and Other Tax","IDB Periods","Reinsurance","All Other Projects",30.24,7.77,null,null,null,null,{"$f":"P34","v":30.24}]
[null,4,null,null,"2.2-","CY","ADD","---","UnitedHealthcare Domestic","Stand Alone Dental","Individual","Reg Authority Licenses & Fees","IDB Periods","Reinsurance","All Other Projects",0,0,null,null,null,null,0,{"$f":"SUM(V33:V35)","v":30.24}]
[null,4,null,null,"3.1-","CY","ADD","---","UnitedHealthcare Domestic","Stand Alone Dental","Individual","SHCE Member Months",{"$f":"'Essbase Input'!$D$17","v":"IDB 2022"},"NO REINSURANCE","All Other Projects",0,0,null,null,null,null,{"$f":"P36+Q36","v":0},{"$f":"V36","v":0}]
["SAD/SG",4,null,null,"1.2-","CY","ADD","---","UnitedHealthcare Domestic","Stand Alone Dental","Small Group Employer","Total Incurred Claims",{"$f":"'Essbase Input'!$D$17","v":"IDB 2022"},"NO REINSURANCE","All Other Projects",0,0,null,null,null,null,0]
[null,4,null,null,"1.2-","CY","SUB","---","UnitedHealthcare Domestic","Stand Alone Dental","Small Group Employer","50010 - Physician Cap Paid - External",{"$f":"'Essbase Input'!$D$17","v":"IDB 2022"},"NO REINSURANCE","0000003413 - General Administrative",0,0,null,null,null,null,0]
[null,4,null,null,"1.2-","CY","SUB","---","UnitedHealthcare Domestic","Stand Alone Dental","Small Group Employer","50619 - Internal Capitation Pd - Other",{"$f":"'Essbase Input'!$D$17","v":"IDB 2022"},"NO REINSURANCE","All Other Projects",0,0,null,null,null,null,0]
[null,4,null,null,"1.2-","CY","SUB","---","UnitedHealthcare Domestic","Stand Alone Dental","Small Group Employer","Rate Credits NonTaxable",{"$f":"'Essbase Input'!$D$17","v":"IDB 2022"},"NO REINSURANCE","All Other Projects",0,0,null,null,null,null,0,{"$f":"V37-V38-V39-V40","v":0}]
[null,4,null,null,"2.1-","CY","ADD","R","UnitedHealthcare Domestic","Stand Alone Dental","Small Group Employer","Health Premiums Earned",{"$f":"'Essbase Input'!$D$17","v":"IDB 2022"},"NO REINSURANCE","All Other Projects",0,0,null,null,null,null,0,{"$f":"V41","v":0}]
[null,4,null,null,"2.2-","CY","ADD","---","UnitedHealthcare Domestic","Stand Alone Dental","Small Group Employer","Federal Taxes and Assessments","IDB Periods","Reinsurance","All Other Projects",0,0,null,null,null,null,{"$f":"P42","v":0}]
[null,4,null,null,"2.2-","CY","ADD","---","UnitedHealthcare Domestic","Stand Alone Dental","Small Group Employer","State Ins, Prem and Other Tax","IDB Periods","Reinsurance","All Other Projects",0,0,null,null,null,null,{"$f":"P43","v":0}]
[null,4,null,null,"2.2-","CY","ADD","---","UnitedHealthcare Domestic","Stand Alone Dental","Small Group Employer","Reg Authority Licenses & Fees","IDB Periods","Reinsurance","All Other Projects",0,0,null,null,null,null,0,{"$f":"SUM(V42:V44)","v":0}]
[null,4,null,null,"3.1-","CY","ADD","---","UnitedHealthcare Domestic","Stand Alone Dental","Small Group Employer","SHCE Member Months",{"$f":"'Essbase Input'!$D$17","v":"IDB 2022"},"NO REINSURANCE","All Other Projects",0,0,null,null,null,null,{"$f":"P45+Q45","v":0},{"$f":"V45","v":0}]
["SAD/LG",4,null,null,"1.2-","CY","ADD","---","UnitedHealthcare Domestic","Stand Alone Dental","Large Group Employer","Total Incurred Claims",{"$f":"'Essbase Input'!$D$17","v":"IDB 2022"},"NO REINSURANCE","All Other Projects",0,0,null,null,null,null,0]
[null,4,null,null,"1.2-","CY","SUB","---","UnitedHealthcare Domestic","Stand Alone Dental","Large Group Employer","50010 - Physician Cap Paid - External",{"$f":"'Essbase Input'!$D$17","v":"IDB 2022"},"NO REINSURANCE","0000003413 - General Administrative",0,0,null,null,null,null,0]
[null,4,null,null,"1.2-","CY","SUB","---","UnitedHealthcare Domestic","Stand Alone Dental","Large Group Employer","50619 - Internal Capitation Pd - Other",{"$f":"'Essbase Input'!$D$17","v":"IDB 2022"},"NO REINSURANCE","All Other Projects",0,0,null,null,null,null,0]
[null,4,null,null,"1.2-","CY","SUB","---","UnitedHealthcare Domestic","Stand Alone Dental","Large Group Employer","Rate Credits NonTaxable",{"$f":"'Essbase Input'!$D$17","v":"IDB 2022"},"NO REINSURANCE","All Other Projects",0,0,null,null,null,null,0,{"$f":"V46-V47-V48-V49","v":0}]
[null,4,null,null,"2.1-","CY","ADD","R","UnitedHealthcare Domestic","Stand Alone Dental","Large Group Employer","Health Premiums Earned",{"$f":"'Essbase Input'!$D$17","v":"IDB 2022"},"NO REINSURANCE","All Other Projects",0,0,null,null,null,null,0,{"$f":"V50","v":0}]
[null,4,null,null,"2.2-","CY","ADD","---","UnitedHealthcare Domestic","Stand Alone Dental","Large Group Employer","Federal Taxes and Assessments","IDB Periods","Reinsurance","All Other Projects",5568.76,-178.69999999999993,null,null,null,null,{"$f":"P51","v":5568.76}]
[null,4,null,null,"2.2-","CY","ADD","---","UnitedHealthcare Domestic","Stand Alone Dental","Large Group Employer","State Ins, Prem and Other Tax","IDB Periods","Reinsurance","All Other Projects",0,0,null,null,null,null,{"$f":"P52","v":0}]
[null,4,null,null,"2.2-","CY","ADD","---","UnitedHealthcare Domestic","Stand Alone Dental","Large Group Employer","Reg Authority Licenses & Fees","IDB Periods","Reinsurance","All Other Projects",0,0,null,null,null,null,0,{"$f":"SUM(V51:V53)","v":5568.76}]
[null,4,null,null,"3.1-","CY","ADD","---","UnitedHealthcare Domestic","Stand Alone Dental","Large Group Employer","SHCE Member Months",{"$f":"'Essbase Input'!$D$17","v":"IDB 2022"},"NO REINSURANCE","All Other Projects",0,0,null,null,null,null,{"$f":"P54+Q54","v":0},{"$f":"V54","v":0}]
["Vision",4,null,null,1.2,"CY","ADD","---","Operating Units","Stand Alone Vision","MLR Customers","Total Incurred Claims",{"$f":"'Essbase Input'!$D$17","v":"IDB 2022"},"NO REINSURANCE","All Other Projects",5942.8600000000006,-52.379999999999995,null,null,null,null,5890.4800000000005]
[null,4,null,null,1.2,"CY","SUB","---","Operating Units","Stand Alone Vision","MLR Customers","50010 - Physician Cap Paid - External",{"$f":"'Essbase Input'!$D$17","v":"IDB 2022"},"NO REINSURANCE","0000003413 - General Administrative",0,0,null,null,null,null,0]
[null,4,null,null,1.2,"CY","SUB","---","Operating Units","Stand Alone Vision","MLR Customers","50619 - Internal Capitation Pd - Other",{"$f":"'Essbase Input'!$D$17","v":"IDB 2022"},"NO REINSURANCE","All Other Projects",0,0,null,null,null,null,0]
[null,4,null,null,1.2,"CY","SUB","---","Operating Units","Stand Alone Vision","MLR Customers","Rate Credits NonTaxable",{"$f":"'Essbase Input'!$D$17","v":"IDB 2022"},"NO REINSURANCE","All Other Projects",0,0,null,null,null,null,0,{"$f":"V55-V56-V57-V58","v":5890.4800000000005}]
[null,4,null,null,2.1,"CY","ADD","R","Operating Units","Stand Alone Vision","MLR Customers","Health Premiums Earned",{"$f":"'Essbase Input'!$D$17","v":"IDB 2022"},"NO REINSURANCE","All Other Projects",-10875.140000000001,53.56,null,null,null,null,-10821.580000000002,{"$f":"V59","v":-10821.580000000002}]
[null,4,null,null,2.2000000000000002,"CY","ADD","---","Operating Units","Stand Alone Vision","MLR Customers","Federal Taxes and Assessments","IDB Periods","Reinsurance","All Other Projects",798.31000000000006,336.15000000000003,null,null,null,null,{"$f":"P60","v":798.31000000000006}]
[null,4,null,null,2.2000000000000002,"CY","ADD","---","Operating Units","Stand Alone Vision","MLR Customers","State Ins, Prem and Other Tax","IDB Periods","Reinsurance","All Other Projects",257.34999999999997,58.510000000000005,null,null,null,null,{"$f":"P61","v":257.34999999999997}]
[null,4,null,null,2.2000000000000002,"CY","ADD","---","Operating Units","Stand Alone Vision","MLR Customers","Reg Authority Licenses & Fees","IDB Periods","Reinsurance","All Other Projects",0,0,null,null,null,null,0,{"$f":"SUM(V60:V62)","v":1055.6600000000001}]
[null,4,null,null,3.1,"CY","ADD","---","Operating Units","Stand Alone Vision","MLR Customers","SHCE Member Months",{"$f":"'Essbase Input'!$D$17","v":"IDB 2022"},"NO REINSURANCE","All Other Projects",1288,-7,null,null,null,null,{"$f":"P63+Q63","v":1281},{"$f":"V63","v":1281}]
["Life/Disability",4,null,null,1.2,"CY","ADD","---","Operating Units","Non Stand Alone Dental/Vision","MLR Customers","Total Incurred Claims",{"$f":"'Essbase Input'!$D$17","v":"IDB 2022"},"NO REINSURANCE","All Other Projects",0,0,null,null,null,null,0]
[null,4,null,null,1.2,"CY","SUB","---","Operating Units","Non Stand Alone Dental/Vision","MLR Customers","50010 - Physician Cap Paid - External",{"$f":"'Essbase Input'!$D$17","v":"IDB 2022"},"NO REINSURANCE","0000003413 - General Administrative",0,0,null,null,null,null,0]
[null,4,null,null,1.2,"CY","SUB","---","Operating Units","Non Stand Alone Dental/Vision","MLR Customers","50619 - Internal Capitation Pd - Other",{"$f":"'Essbase Input'!$D$17","v":"IDB 2022"},"NO REINSURANCE","All Other Projects",0,0,null,null,null,null,0]
[null,4,null,null,1.2,"CY","SUB","---","Operating Units","Non Stand Alone Dental/Vision","MLR Customers","Rate Credits NonTaxable",{"$f":"'Essbase Input'!$D$17","v":"IDB 2022"},"NO REINSURANCE","All Other Projects",0,0,null,null,null,null,0,{"$f":"V64-V65-V66-V67","v":0}]
[null,4,null,null,2.1,"CY","ADD","R","Operating Units","Non Stand Alone Dental/Vision","MLR Customers","Health Premiums Earned",{"$f":"'Essbase Input'!$D$17","v":"IDB 2022"},"NO REINSURANCE","All Other Projects",0,0,null,null,null,null,0,{"$f":"V68","v":0}]
[null,4,null,null,2.2000000000000002,"CY","ADD","---","Operating Units","Non Stand Alone Dental/Vision","MLR Customers","Federal Taxes and Assessments","IDB Periods","Reinsurance","All Other Projects",-143.59,-264.37,null,null,null,null,{"$f":"P69","v":-143.59}]
[null,4,null,null,2.2000000000000002,"CY","ADD","---","Operating Units","Non Stand Alone Dental/Vision","MLR Customers","State Ins, Prem and Other Tax","IDB Periods","Reinsurance","All Other Projects",0,0,null,null,null,null,{"$f":"P70","v":0}]
[null,4,null,null,2.2000000000000002,"CY","ADD","---","Operating Units","Non Stand Alone Dental/Vision","MLR Customers","Reg Authority Licenses & Fees","IDB Periods","Reinsurance","All Other Projects",0,0,null,null,null,null,0,{"$f":"SUM(V69:V71)","v":-143.59}]
[null,4,null,null,3.1,"CY","ADD","---","Operating Units","Non Stand Alone Dental/Vision","MLR Customers","SHCE Member Months",{"$f":"'Essbase Input'!$D$17","v":"IDB 2022"},"NO REINSURANCE","All Other Projects",0,0,null,null,null,null,{"$f":"P72+Q72","v":0},{"$f":"V72","v":0}]
["Oth Bus (excl by Stat)",4,null,null,1.2,"CY","ADD","---","Operating Units","Other Bus(excluded by Statute)","MLR Customers","Total Incurred Claims",{"$f":"'Essbase Input'!$D$17","v":"IDB 2022"},"NO REINSURANCE","All Other Projects",0,0,null,null,null,null,0]
[null,4,null,null,1.2,"CY","SUB","---","Operating Units","Other Bus(excluded by Statute)","MLR Customers","50010 - Physician Cap Paid - External",{"$f":"'Essbase Input'!$D$17","v":"IDB 2022"},"NO REINSURANCE","0000003413 - General Administrative",0,0,null,null,null,null,0]
[null,4,null,null,1.2,"CY","SUB","---","Operating Units","Other Bus(excluded by Statute)","MLR Customers","50619 - Internal Capitation Pd - Other",{"$f":"'Essbase Input'!$D$17","v":"IDB 2022"},"NO REINSURANCE","All Other Projects",0,0,null,null,null,null,0]
[null,4,null,null,1.2,"CY","SUB","---","Operating Units","Other Bus(excluded by Statute)","MLR Customers","Rate Credits NonTaxable",{"$f":"'Essbase Input'!$D$17","v":"IDB 2022"},"NO REINSURANCE","All Other Projects",0,0,null,null,null,null,0,{"$f":"V73-V74-V75-V76","v":0}]
[null,4,null,null,2.1,"CY","ADD","R","Operating Units","Other Bus(excluded by Statute)","MLR Customers","Health Premiums Earned",{"$f":"'Essbase Input'!$D$17","v":"IDB 2022"},"NO REINSURANCE","All Other Projects",0,0,null,null,null,null,0,{"$f":"V77","v":0}]
[null,4,null,null,2.2000000000000002,"CY","ADD","---","Operating Units","Other Bus(excluded by Statute)","MLR Customers","Federal Taxes and Assessments","IDB Periods","Reinsurance","All Other Projects",0,0,null,null,null,null,{"$f":"P78","v":0}]
[null,4,null,null,2.2000000000000002,"CY","ADD","---","Operating Units","Other Bus(excluded by Statute)","MLR Customers","State Ins, Prem and Other Tax","IDB Periods","Reinsurance","All Other Projects",0,0,null,null,null,null,{"$f":"P79","v":0}]
[null,4,null,null,2.2000000000000002,"CY","ADD","---","Operating Units","Other Bus(excluded by Statute)","MLR Customers","Reg Authority Licenses & Fees","IDB Periods","Reinsurance","All Other Projects",0,0,null,null,null,null,0,{"$f":"SUM(V78:V80)","v":0}]
[null,4,null,null,3.1,"CY","ADD","---","Operating Units","Other Bus(excluded by Statute)","MLR Customers","SHCE Member Months",{"$f":"'Essbase Input'!$D$17","v":"IDB 2022"},"NO REINSURANCE","All Other Projects",0,0,null,null,null,null,{"$f":"P81+Q81","v":0},{"$f":"V81","v":0}]
["UHC Domestic\nStand Alone Dental\nBlank Cust",4,"A",null,1.2,"CY","ADD","---","UnitedHealthcare Domestic","Stand Alone Dental","Blank Customer","Total Incurred Claims",{"$f":"'Essbase Input'!$D$17","v":"IDB 2022"},"NO REINSURANCE","All Other Projects",0,0,null,null,null,null,0]
[null,4,"A",null,1.2,"CY","SUB","---","UnitedHealthcare Domestic","Stand Alone Dental","Blank Customer","50010 - Physician Cap Paid - External",{"$f":"'Essbase Input'!$D$17","v":"IDB 2022"},"NO REINSURANCE","0000003413 - General Administrative",0,0,null,null,null,null,0]
[null,4,"A",null,1.2,"CY","SUB","---","UnitedHealthcare Domestic","Stand Alone Dental","Blank Customer","50619 - Internal Capitation Pd - Other",{"$f":"'Essbase Input'!$D$17","v":"IDB 2022"},"NO REINSURANCE","All Other Projects",0,0,null,null,null,null,0]
[null,4,"A",null,1.2,"CY","SUB","---","UnitedHealthcare Domestic","Stand Alone Dental","Blank Customer","Rate Credits NonTaxable",{"$f":"'Essbase Input'!$D$17","v":"IDB 2022"},"NO REINSURANCE","All Other Projects",0,0,null,null,null,null,0,{"$f":"V82-V83-V84-V85","v":0}]
[null,4,"A",null,2.1,"CY","ADD","R","UnitedHealthcare Domestic","Stand Alone Dental","Blank Customer","Health Premiums Earned",{"$f":"'Essbase Input'!$D$17","v":"IDB 2022"},"NO REINSURANCE","All Other Projects",0,0,null,null,null,null,0,{"$f":"V86","v":0}]
[null,4,"A",null,2.2000000000000002,"CY","ADD","---","UnitedHealthcare Domestic","Stand Alone Dental","Blank Customer","Federal Taxes and Assessments","IDB Periods","Reinsurance","All Other Projects",0,0,null,null,null,null,{"$f":"P87","v":0}]
[null,4,"A",null,2.2000000000000002,"CY","ADD","---","UnitedHealthcare Domestic","Stand Alone Dental","Blank Customer","State Ins, Prem and Other Tax","IDB Periods","Reinsurance","All Other Projects",0,0,null,null,null,null,{"$f":"P88","v":0}]
[null,4,"A",null,2.2000000000000002,"CY","ADD","---","UnitedHealthcare Domestic","Stand Alone Dental","Blank Customer","Reg Authority Licenses & Fees","IDB Periods","Reinsurance","All Other Projects",0,0,null,null,null,null,0,{"$f":"SUM(V87:V89)","v":0}]
[null,4,"A",null,3.1,"CY","ADD","---","UnitedHealthcare Domestic","Stand Alone Dental","Blank Customer","SHCE Member Months",{"$f":"'Essbase Input'!$D$17","v":"IDB 2022"},"NO REINSURANCE","All Other Projects",0,0,null,null,null,null,{"$f":"P90+Q90","v":0},{"$f":"V90","v":0}]
["UHC Domestic\nStand Alone Dental\nNot Comp Health",4,"A",null,1.2,"CY","ADD","---","UnitedHealthcare Domestic","Stand Alone Dental","Not Comp Health Coverage","Total Incurred Claims",{"$f":"'Essbase Input'!$D$17","v":"IDB 2022"},"NO REINSURANCE","All Other Projects",76499.89,3559.21,null,null,null,null,80059.100000000006]
[null,4,"A",null,1.2,"CY","SUB","---","UnitedHealthcare Domestic","Stand Alone Dental","Not Comp Health Coverage","50010 - Physician Cap Paid - External",{"$f":"'Essbase Input'!$D$17","v":"IDB 2022"},"NO REINSURANCE","0000003413 - General Administrative",0,0,null,null,null,null,0]
[null,4,"A",null,1.2,"CY","SUB","---","UnitedHealthcare Domestic","Stand Alone Dental","Not Comp Health Coverage","50619 - Internal Capitation Pd - Other",{"$f":"'Essbase Input'!$D$17","v":"IDB 2022"},"NO REINSURANCE","All Other Projects",0,0,null,null,null,null,0]
[null,4,"A",null,1.2,"CY","SUB","---","UnitedHealthcare Domestic","Stand Alone Dental","Not Comp Health Coverage","Rate Credits NonTaxable",{"$f":"'Essbase Input'!$D$17","v":"IDB 2022"},"NO REINSURANCE","All Other Projects",0,0,null,null,null,null,0,{"$f":"V91-V92-V93-V94","v":80059.100000000006}]
[null,4,"A",null,2.1,"CY","ADD","R","UnitedHealthcare Domestic","Stand Alone Dental","Not Comp Health Coverage","Health Premiums Earned",{"$f":"'Essbase Input'!$D$17","v":"IDB 2022"},"NO REINSURANCE","All Other Projects",-145153.69000000003,133.17000000000002,null,null,null,null,-145020.52000000002,{"$f":"V95","v":-145020.52000000002}]
[null,4,"A",null,2.2000000000000002,"CY","ADD","---","UnitedHealthcare Domestic","Stand Alone Dental","Not Comp Health Coverage","Federal Taxes and Assessments","IDB Periods","Reinsurance","All Other Projects",0,0,null,null,null,null,{"$f":"P96","v":0}]
[null,4,"A",null,2.2000000000000002,"CY","ADD","---","UnitedHealthcare Domestic","Stand Alone Dental","Not Comp Health Coverage","State Ins, Prem and Other Tax","IDB Periods","Reinsurance","All Other Projects",8569.18,761.22,null,null,null,null,{"$f":"P97","v":8569.18}]
[null,4,"A",null,2.2000000000000002,"CY","ADD","---","UnitedHealthcare Domestic","Stand Alone Dental","Not Comp Health Coverage","Reg Authority Licenses & Fees","IDB Periods","Reinsurance","All Other Projects",0,0,null,null,null,null,0,{"$f":"SUM(V96:V98)","v":8569.18}]
[null,4,"A",null,3.1,"CY","ADD","---","UnitedHealthcare Domestic","Stand Alone Dental","Not Comp Health Coverage","SHCE Member Months",{"$f":"'Essbase Input'!$D$17","v":"IDB 2022"},"NO REINSURANCE","All Other Projects",2908,-3,null,null,null,null,{"$f":"P99+Q99","v":2905},{"$f":"V99","v":2905}]
["UHC International\nStand Alone Dental\nMLR Customer",4,"A","B",1.2,"CY","ADD","---","UnitedHealthcare International","Stand Alone Dental","MLR Customers","Total Incurred Claims",{"$f":"'Essbase Input'!$D$17","v":"IDB 2022"},"NO REINSURANCE","All Other Projects",0,0,null,null,null,null,0]
[null,4,"A","B",1.2,"CY","SUB","---","UnitedHealthcare International","Stand Alone Dental","MLR Customers","50010 - Physician Cap Paid - External",{"$f":"'Essbase Input'!$D$17","v":"IDB 2022"},"NO REINSURANCE","0000003413 - General Administrative",0,0,null,null,null,null,0]
[null,4,"A","B",1.2,"CY","SUB","---","UnitedHealthcare International","Stand Alone Dental","MLR Customers","50619 - Internal Capitation Pd - Other",{"$f":"'Essbase Input'!$D$17","v":"IDB 2022"},"NO REINSURANCE","All Other Projects",0,0,null,null,null,null,0]
[null,4,"A","B",1.2,"CY","SUB","---","UnitedHealthcare International","Stand Alone Dental","MLR Customers","Rate Credits NonTaxable",{"$f":"'Essbase Input'!$D$17","v":"IDB 2022"},"NO REINSURANCE","All Other Projects",0,0,null,null,null,null,0,{"$f":"V100-V101-V102-V103","v":0}]
[null,4,"A","B",2.1,"CY","ADD","R","UnitedHealthcare International","Stand Alone Dental","MLR Customers","Health Premiums Earned",{"$f":"'Essbase Input'!$D$17","v":"IDB 2022"},"NO REINSURANCE","All Other Projects",0,0,null,null,null,null,0,{"$f":"V104","v":0}]
[null,4,"A","B",2.2000000000000002,"CY","ADD","---","UnitedHealthcare International","Stand Alone Dental","MLR Customers","Federal Taxes and Assessments","IDB Periods","Reinsurance","All Other Projects",0,0,null,null,null,null,{"$f":"P105","v":0}]
[null,4,"A","B",2.2000000000000002,"CY","ADD","---","UnitedHealthcare International","Stand Alone Dental","MLR Customers","State Ins, Prem and Other Tax","IDB Periods","Reinsurance","All Other Projects",0,0,null,null,null,null,{"$f":"P106","v":0}]
[null,4,"A","B",2.2000000000000002,"CY","ADD","---","UnitedHealthcare International","Stand Alone Dental","MLR Customers","Reg Authority Licenses & Fees","IDB Periods","Reinsurance","All Other Projects",0,0,null,null,null,null,0,{"$f":"SUM(V105:V107)","v":0}]
[null,4,"A","B",3.1,"CY","ADD","---","UnitedHealthcare International","Stand Alone Dental","MLR Customers","SHCE Member Months",{"$f":"'Essbase Input'!$D$17","v":"IDB 2022"},"NO REINSURANCE","All Other Projects",0,0,null,null,null,null,{"$f":"P108+Q108","v":0},{"$f":"V108","v":0}]
["Optum\nStand Alone Dental\nMLR Customer",4,"A","B",1.2,"CY","ADD","---","Optum","Stand Alone Dental","MLR Customers","Total Incurred Claims",{"$f":"'Essbase Input'!$D$17","v":"IDB 2022"},"NO REINSURANCE","All Other Projects",0,0,null,null,null,null,0]
[null,4,"A","B",1.2,"CY","SUB","---","Optum","Stand Alone Dental","MLR Customers","50010 - Physician Cap Paid - External",{"$f":"'Essbase Input'!$D$17","v":"IDB 2022"},"NO REINSURANCE","0000003413 - General Administrative",0,0,null,null,null,null,0]
[null,4,"A","B",1.2,"CY","SUB","---","Optum","Stand Alone Dental","MLR Customers","50619 - Internal Capitation Pd - Other",{"$f":"'Essbase Input'!$D$17","v":"IDB 2022"},"NO REINSURANCE","All Other Projects",0,0,null,null,null,null,0]
[null,4,"A","B",1.2,"CY","SUB","---","Optum","Stand Alone Dental","MLR Customers","Rate Credits NonTaxable",{"$f":"'Essbase Input'!$D$17","v":"IDB 2022"},"NO REINSURANCE","All Other Projects",0,0,null,null,null,null,0,{"$f":"V109-V110-V111-V112","v":0}]
[null,4,"A","B",2.1,"CY","ADD","R","Optum","Stand Alone Dental","MLR Customers","Health Premiums Earned",{"$f":"'Essbase Input'!$D$17","v":"IDB 2022"},"NO REINSURANCE","All Other Projects",0,0,null,null,null,null,0,{"$f":"V113","v":0}]
[null,4,"A","B",2.2000000000000002,"CY","ADD","---","Optum","Stand Alone Dental","MLR Customers","Federal Taxes and Assessments","IDB Periods","Reinsurance","All Other Projects",0,0,null,null,null,null,{"$f":"P114","v":0}]
[null,4,"A","B",2.2000000000000002,"CY","ADD","---","Optum","Stand Alone Dental","MLR Customers","State Ins, Prem and Other Tax","IDB Periods","Reinsurance","All Other Projects",0,0,null,null,null,null,{"$f":"P115","v":0}]
[null,4,"A","B",2.2000000000000002,"CY","ADD","---","Optum","Stand Alone Dental","MLR Customers","Reg Authority Licenses & Fees","IDB Periods","Reinsurance","All Other Projects",0,0,null,null,null,null,0,{"$f":"SUM(V114:V116)","v":0}]
[null,4,"A","B",3.1,"CY","ADD","---","Optum","Stand Alone Dental","MLR Customers","SHCE Member Months",{"$f":"'Essbase Input'!$D$17","v":"IDB 2022"},"NO REINSURANCE","All Other Projects",0,0,null,null,null,null,{"$f":"P117+Q117","v":0},{"$f":"V117","v":0}]
["Elims Mkt Grp\nStand Alone Dental\nMLR Customer",4,"A","B",1.2,"CY","ADD","---","Eliminations Market Group","Stand Alone Dental","MLR Customers","Total Incurred Claims",{"$f":"'Essbase Input'!$D$17","v":"IDB 2022"},"NO REINSURANCE","All Other Projects",0,0,null,null,null,null,0]
[null,4,"A","B",1.2,"CY","SUB","---","Eliminations Market Group","Stand Alone Dental","MLR Customers","50010 - Physician Cap Paid - External",{"$f":"'Essbase Input'!$D$17","v":"IDB 2022"},"NO REINSURANCE","0000003413 - General Administrative",0,0,null,null,null,null,0]
[null,4,"A","B",1.2,"CY","SUB","---","Eliminations Market Group","Stand Alone Dental","MLR Customers","50619 - Internal Capitation Pd - Other",{"$f":"'Essbase Input'!$D$17","v":"IDB 2022"},"NO REINSURANCE","All Other Projects",0,0,null,null,null,null,0]
[null,4,"A","B",1.2,"CY","SUB","---","Eliminations Market Group","Stand Alone Dental","MLR Customers","Rate Credits NonTaxable",{"$f":"'Essbase Input'!$D$17","v":"IDB 2022"},"NO REINSURANCE","All Other Projects",0,0,null,null,null,null,0,{"$f":"V118-V119-V120-V121","v":0}]
[null,4,"A","B",2.1,"CY","ADD","R","Eliminations Market Group","Stand Alone Dental","MLR Customers","Health Premiums Earned",{"$f":"'Essbase Input'!$D$17","v":"IDB 2022"},"NO REINSURANCE","All Other Projects",0,0,null,null,null,null,0,{"$f":"V122","v":0}]
[null,4,"A","B",2.2000000000000002,"CY","ADD","---","Eliminations Market Group","Stand Alone Dental","MLR Customers","Federal Taxes and Assessments","IDB Periods","Reinsurance","All Other Projects",0,0,null,null,null,null,{"$f":"P123","v":0}]
[null,4,"A","B",2.2000000000000002,"CY","ADD","---","Eliminations Market Group","Stand Alone Dental","MLR Customers","State Ins, Prem and Other Tax","IDB Periods","Reinsurance","All Other Projects",0,0,null,null,null,null,{"$f":"P124","v":0}]
[null,4,"A","B",2.2000000000000002,"CY","ADD","---","Eliminations Market Group","Stand Alone Dental","MLR Customers","Reg Authority Licenses & Fees","IDB Periods","Reinsurance","All Other Projects",0,0,null,null,null,null,0,{"$f":"SUM(V123:V125)","v":0}]
[null,4,"A","B",3.1,"CY","ADD","---","Eliminations Market Group","Stand Alone Dental","MLR Customers","SHCE Member Months",{"$f":"'Essbase Input'!$D$17","v":"IDB 2022"},"NO REINSURANCE","All Other Projects",0,0,null,null,null,null,{"$f":"P126+Q126","v":0},{"$f":"V126","v":0}]
["Corp Mkt Grp\nStand Alone Dental\nMLR Customer",4,"A","B",1.2,"CY","ADD","---","Corp Market Group Rollup","Stand Alone Dental","MLR Customers","Total Incurred Claims",{"$f":"'Essbase Input'!$D$17","v":"IDB 2022"},"NO REINSURANCE","All Other Projects",0,0,null,null,null,null,0]
[null,4,"A","B",1.2,"CY","SUB","---","Corp Market Group Rollup","Stand Alone Dental","MLR Customers","50010 - Physician Cap Paid - External",{"$f":"'Essbase Input'!$D$17","v":"IDB 2022"},"NO REINSURANCE","0000003413 - General Administrative",0,0,null,null,null,null,0]
[null,4,"A","B",1.2,"CY","SUB","---","Corp Market Group Rollup","Stand Alone Dental","MLR Customers","50619 - Internal Capitation Pd - Other",{"$f":"'Essbase Input'!$D$17","v":"IDB 2022"},"NO REINSURANCE","All Other Projects",0,0,null,null,null,null,0]
[null,4,"A","B",1.2,"CY","SUB","---","Corp Market Group Rollup","Stand Alone Dental","MLR Customers","Rate Credits NonTaxable",{"$f":"'Essbase Input'!$D$17","v":"IDB 2022"},"NO REINSURANCE","All Other Projects",0,0,null,null,null,null,0,{"$f":"V127-V128-V129-V130","v":0}]
[null,4,"A","B",2.1,"CY","ADD","R","Corp Market Group Rollup","Stand Alone Dental","MLR Customers","Health Premiums Earned",{"$f":"'Essbase Input'!$D$17","v":"IDB 2022"},"NO REINSURANCE","All Other Projects",0,0,null,null,null,null,0,{"$f":"V131","v":0}]
[null,4,"A","B",2.2000000000000002,"CY","ADD","---","Corp Market Group Rollup","Stand Alone Dental","MLR Customers","Federal Taxes and Assessments","IDB Periods","Reinsurance","All Other Projects",0,0,null,null,null,null,{"$f":"P132","v":0}]
[null,4,"A","B",2.2000000000000002,"CY","ADD","---","Corp Market Group Rollup","Stand Alone Dental","MLR Customers","State Ins, Prem and Other Tax","IDB Periods","Reinsurance","All Other Projects",0,0,null,null,null,null,{"$f":"P133","v":0}]
[null,4,"A","B",2.2000000000000002,"CY","ADD","---","Corp Market Group Rollup","Stand Alone Dental","MLR Customers","Reg Authority Licenses & Fees","IDB Periods","Reinsurance","All Other Projects",0,0,null,null,null,null,0,{"$f":"SUM(V132:V134)","v":0}]
[null,4,"A","B",3.1,"CY","ADD","---","Corp Market Group Rollup","Stand Alone Dental","MLR Customers","SHCE Member Months",{"$f":"'Essbase Input'!$D$17","v":"IDB 2022"},"NO REINSURANCE","All Other Projects",0,0,null,null,null,null,{"$f":"P135+Q135","v":0},{"$f":"V135","v":0}]
["Non-UHG\nStand Alone Dental\nMLR Customer",4,"A","B",1.2,"CY","ADD","---","Non UnitedHealth Group Rollup","Stand Alone Dental","MLR Customers","Total Incurred Claims",{"$f":"'Essbase Input'!$D$17","v":"IDB 2022"},"NO REINSURANCE","All Other Projects",0,0,null,null,null,null,0]
[null,4,"A","B",1.2,"CY","SUB","---","Non UnitedHealth Group Rollup","Stand Alone Dental","MLR Customers","50010 - Physician Cap Paid - External",{"$f":"'Essbase Input'!$D$17","v":"IDB 2022"},"NO REINSURANCE","0000003413 - General Administrative",0,0,null,null,null,null,0]
[null,4,"A","B",1.2,"CY","SUB","---","Non UnitedHealth Group Rollup","Stand Alone Dental","MLR Customers","50619 - Internal Capitation Pd - Other",{"$f":"'Essbase Input'!$D$17","v":"IDB 2022"},"NO REINSURANCE","All Other Projects",0,0,null,null,null,null,0]
[null,4,"A","B",1.2,"CY","SUB","---","Non UnitedHealth Group Rollup","Stand Alone Dental","MLR Customers","Rate Credits NonTaxable",{"$f":"'Essbase Input'!$D$17","v":"IDB 2022"},"NO REINSURANCE","All Other Projects",0,0,null,null,null,null,0,{"$f":"V136-V137-V138-V139","v":0}]
[null,4,"A","B",2.1,"CY","ADD","R","Non UnitedHealth Group Rollup","Stand Alone Dental","MLR Customers","Health Premiums Earned",{"$f":"'Essbase Input'!$D$17","v":"IDB 2022"},"NO REINSURANCE","All Other Projects",0,0,null,null,null,null,0,{"$f":"V140","v":0}]
[null,4,"A","B",2.2000000000000002,"CY","ADD","---","Non UnitedHealth Group Rollup","Stand Alone Dental","MLR Customers","Federal Taxes and Assessments","IDB Periods","Reinsurance","All Other Projects",0,0,null,null,null,null,{"$f":"P141","v":0}]
[null,4,"A","B",2.2000000000000002,"CY","ADD","---","Non UnitedHealth Group Rollup","Stand Alone Dental","MLR Customers","State Ins, Prem and Other Tax","IDB Periods","Reinsurance","All Other Projects",0,0,null,null,null,null,{"$f":"P142","v":0}]
[null,4,"A","B",2.2000000000000002,"CY","ADD","---","Non UnitedHealth Group Rollup","Stand Alone Dental","MLR Customers","Reg Authority Licenses & Fees","IDB Periods","Reinsurance","All Other Projects",0,0,null,null,null,null,0,{"$f":"SUM(V141:V143)","v":0}]
[null,4,"A","B",3.1,"CY","ADD","---","Non UnitedHealth Group Rollup","Stand Alone Dental","MLR Customers","SHCE Member Months",{"$f":"'Essbase Input'!$D$17","v":"IDB 2022"},"NO REINSURANCE","All Other Projects",0,0,null,null,null,null,{"$f":"P144+Q144","v":0},{"$f":"V144","v":0}]
["All OUs \np306155 \nMLR Customers",4,null,null,1.2,"CY","ADD","---","Operating Units","306155 - Package Savings Disc - Vision","MLR Customers","Total Incurred Claims",{"$f":"'Essbase Input'!$D$17","v":"IDB 2022"},"NO REINSURANCE","All Other Projects",0,0,null,null,null,null,0]
[null,4,null,null,1.2,"CY","SUB","---","Operating Units","306155 - Package Savings Disc - Vision","MLR Customers","50010 - Physician Cap Paid - External",{"$f":"'Essbase Input'!$D$17","v":"IDB 2022"},"NO REINSURANCE","0000003413 - General Administrative",0,0,null,null,null,null,0]
[null,4,null,null,1.2,"CY","SUB","---","Operating Units","306155 - Package Savings Disc - Vision","MLR Customers","50619 - Internal Capitation Pd - Other",{"$f":"'Essbase Input'!$D$17","v":"IDB 2022"},"NO REINSURANCE","All Other Projects",0,0,null,null,null,null,0]
[null,4,null,null,1.2,"CY","SUB","---","Operating Units","306155 - Package Savings Disc - Vision","MLR Customers","Rate Credits NonTaxable",{"$f":"'Essbase Input'!$D$17","v":"IDB 2022"},"NO REINSURANCE","All Other Projects",0,0,null,null,null,null,0,{"$f":"V145-V146-V147-V148","v":0}]
[null,4,null,null,2.1,"CY","ADD","R","Operating Units","306155 - Package Savings Disc - Vision","MLR Customers","Health Premiums Earned",{"$f":"'Essbase Input'!$D$17","v":"IDB 2022"},"NO REINSURANCE","All Other Projects",0,0,null,null,null,null,0,{"$f":"V149","v":0}]
[null,4,null,null,2.2000000000000002,"CY","ADD","---","Operating Units","306155 - Package Savings Disc - Vision","MLR Customers","Federal Taxes and Assessments","IDB Periods","Reinsurance","All Other Projects",0,0,null,null,null,null,{"$f":"P150","v":0}]
[null,4,null,null,2.2000000000000002,"CY","ADD","---","Operating Units","306155 - Package Savings Disc - Vision","MLR Customers","State Ins, Prem and Other Tax","IDB Periods","Reinsurance","All Other Projects",0,0,null,null,null,null,{"$f":"P151","v":0}]
[null,4,null,null,2.2000000000000002,"CY","ADD","---","Operating Units","306155 - Package Savings Disc - Vision","MLR Customers","Reg Authority Licenses & Fees","IDB Periods","Reinsurance","All Other Projects",0,0,null,null,null,null,0,{"$f":"SUM(V150:V152)","v":0}]
[null,4,null,null,3.1,"CY","ADD","---","Operating Units","306155 - Package Savings Disc - Vision","MLR Customers","SHCE Member Months",{"$f":"'Essbase Input'!$D$17","v":"IDB 2022"},"NO REINSURANCE","All Other Projects",0,0,null,null,null,null,{"$f":"P153+Q153","v":0},{"$f":"V153","v":0}]
["All OUs \np306156 \nMLR Customers",4,null,null,1.2,"CY","ADD","---","Operating Units","306156 - Package Savings - Dental","MLR Customers","Total Incurred Claims",{"$f":"'Essbase Input'!$D$17","v":"IDB 2022"},"NO REINSURANCE","All Other Projects",0,0,null,null,null,null,0]
[null,4,null,null,1.2,"CY","SUB","---","Operating Units","306156 - Package Savings - Dental","MLR Customers","50010 - Physician Cap Paid - External",{"$f":"'Essbase Input'!$D$17","v":"IDB 2022"},"NO REINSURANCE","0000003413 - General Administrative",0,0,null,null,null,null,0]
[null,4,null,null,1.2,"CY","SUB","---","Operating Units","306156 - Package Savings - Dental","MLR Customers","50619 - Internal Capitation Pd - Other",{"$f":"'Essbase Input'!$D$17","v":"IDB 2022"},"NO REINSURANCE","All Other Projects",0,0,null,null,null,null,0]
[null,4,null,null,1.2,"CY","SUB","---","Operating Units","306156 - Package Savings - Dental","MLR Customers","Rate Credits NonTaxable",{"$f":"'Essbase Input'!$D$17","v":"IDB 2022"},"NO REINSURANCE","All Other Projects",0,0,null,null,null,null,0,{"$f":"V154-V155-V156-V157","v":0}]
[null,4,null,null,2.1,"CY","ADD","R","Operating Units","306156 - Package Savings - Dental","MLR Customers","Health Premiums Earned",{"$f":"'Essbase Input'!$D$17","v":"IDB 2022"},"NO REINSURANCE","All Other Projects",0,0,null,null,null,null,0,{"$f":"V158","v":0}]
[null,4,null,null,2.2000000000000002,"CY","ADD","---","Operating Units","306156 - Package Savings - Dental","MLR Customers","Federal Taxes and Assessments","IDB Periods","Reinsurance","All Other Projects",0,0,null,null,null,null,{"$f":"P159","v":0}]
[null,4,null,null,2.2000000000000002,"CY","ADD","---","Operating Units","306156 - Package Savings - Dental","MLR Customers","State Ins, Prem and Other Tax","IDB Periods","Reinsurance","All Other Projects",0,0,null,null,null,null,{"$f":"P160","v":0}]
[null,4,null,null,2.2000000000000002,"CY","ADD","---","Operating Units","306156 - Package Savings - Dental","MLR Customers","Reg Authority Licenses & Fees","IDB Periods","Reinsurance","All Other Projects",0,0,null,null,null,null,0,{"$f":"SUM(V159:V161)","v":0}]
[null,4,null,null,3.1,"CY","ADD","---","Operating Units","306156 - Package Savings - Dental","MLR Customers","SHCE Member Months",{"$f":"'Essbase Input'!$D$17","v":"IDB 2022"},"NO REINSURANCE","All Other Projects",0,0,null,null,null,null,{"$f":"P162+Q162","v":0},{"$f":"V162","v":0}]
["All OUs \np305402 \nMLR Customers",4,null,null,1.2,"CY","ADD","---","Operating Units","305402 - Managed Transplant Risk SD","MLR Customers","Total Incurred Claims",{"$f":"'Essbase Input'!$D$17","v":"IDB 2022"},"NO REINSURANCE","All Other Projects",0,0,null,null,null,null,0]
[null,4,null,null,1.2,"CY","SUB","---","Operating Units","305402 - Managed Transplant Risk SD","MLR Customers","50010 - Physician Cap Paid - External",{"$f":"'Essbase Input'!$D$17","v":"IDB 2022"},"NO REINSURANCE","0000003413 - General Administrative",0,0,null,null,null,null,0]
[null,4,null,null,1.2,"CY","SUB","---","Operating Units","305402 - Managed Transplant Risk SD","MLR Customers","50619 - Internal Capitation Pd - Other",{"$f":"'Essbase Input'!$D$17","v":"IDB 2022"},"NO REINSURANCE","All Other Projects",0,0,null,null,null,null,0]
[null,4,null,null,1.2,"CY","SUB","---","Operating Units","305402 - Managed Transplant Risk SD","MLR Customers","Rate Credits NonTaxable",{"$f":"'Essbase Input'!$D$17","v":"IDB 2022"},"NO REINSURANCE","All Other Projects",0,0,null,null,null,null,0,{"$f":"V163-V164-V165-V166","v":0}]
[null,4,null,null,2.1,"CY","ADD","R","Operating Units","305402 - Managed Transplant Risk SD","MLR Customers","Health Premiums Earned",{"$f":"'Essbase Input'!$D$17","v":"IDB 2022"},"NO REINSURANCE","All Other Projects",0,0,null,null,null,null,0,{"$f":"V167","v":0}]
[null,4,null,null,2.2000000000000002,"CY","ADD","---","Operating Units","305402 - Managed Transplant Risk SD","MLR Customers","Federal Taxes and Assessments","IDB Periods","Reinsurance","All Other Projects",0,0,null,null,null,null,{"$f":"P168","v":0}]
[null,4,null,null,2.2000000000000002,"CY","ADD","---","Operating Units","305402 - Managed Transplant Risk SD","MLR Customers","State Ins, Prem and Other Tax","IDB Periods","Reinsurance","All Other Projects",0,0,null,null,null,null,{"$f":"P169","v":0}]
[null,4,null,null,2.2000000000000002,"CY","ADD","---","Operating Units","305402 - Managed Transplant Risk SD","MLR Customers","Reg Authority Licenses & Fees","IDB Periods","Reinsurance","All Other Projects",0,0,null,null,null,null,0,{"$f":"SUM(V168:V170)","v":0}]
[null,4,null,null,3.1,"CY","ADD","---","Operating Units","305402 - Managed Transplant Risk SD","MLR Customers","SHCE Member Months",{"$f":"'Essbase Input'!$D$17","v":"IDB 2022"},"NO REINSURANCE","All Other Projects",0,0,null,null,null,null,{"$f":"P171+Q171","v":0},{"$f":"V171","v":0}]
["All OUs \np430083 \nMLR Customers",4,null,null,1.2,"CY","ADD","---","Operating Units","430083 - PBM ePrescribe","MLR Customers","Total Incurred Claims",{"$f":"'Essbase Input'!$D$17","v":"IDB 2022"},"NO REINSURANCE","All Other Projects",0,0,null,null,null,null,0]
[null,4,null,null,1.2,"CY","SUB","---","Operating Units","430083 - PBM ePrescribe","MLR Customers","50010 - Physician Cap Paid - External",{"$f":"'Essbase Input'!$D$17","v":"IDB 2022"},"NO REINSURANCE","0000003413 - General Administrative",0,0,null,null,null,null,0]
[null,4,null,null,1.2,"CY","SUB","---","Operating Units","430083 - PBM ePrescribe","MLR Customers","50619 - Internal Capitation Pd - Other",{"$f":"'Essbase Input'!$D$17","v":"IDB 2022"},"NO REINSURANCE","All Other Projects",0,0,null,null,null,null,0]
[null,4,null,null,1.2,"CY","SUB","---","Operating Units","430083 - PBM ePrescribe","MLR Customers","Rate Credits NonTaxable",{"$f":"'Essbase Input'!$D$17","v":"IDB 2022"},"NO REINSURANCE","All Other Projects",0,0,null,null,null,null,0,{"$f":"V172-V173-V174-V175","v":0}]
[null,4,null,null,2.1,"CY","ADD","R","Operating Units","430083 - PBM ePrescribe","MLR Customers","Health Premiums Earned",{"$f":"'Essbase Input'!$D$17","v":"IDB 2022"},"NO REINSURANCE","All Other Projects",0,0,null,null,null,null,0,{"$f":"V176","v":0}]
[null,4,null,null,2.2000000000000002,"CY","ADD","---","Operating Units","430083 - PBM ePrescribe","MLR Customers","Federal Taxes and Assessments","IDB Periods","Reinsurance","All Other Projects",0,0,null,null,null,null,{"$f":"P177","v":0}]
[null,4,null,null,2.2000000000000002,"CY","ADD","---","Operating Units","430083 - PBM ePrescribe","MLR Customers","State Ins, Prem and Other Tax","IDB Periods","Reinsurance","All Other Projects",0,0,null,null,null,null,{"$f":"P178","v":0}]
[null,4,null,null,2.2000000000000002,"CY","ADD","---","Operating Units","430083 - PBM ePrescribe","MLR Customers","Reg Authority Licenses & Fees","IDB Periods","Reinsurance","All Other Projects",0,0,null,null,null,null,0,{"$f":"SUM(V177:V179)","v":0}]
[null,4,null,null,3.1,"CY","ADD","---","Operating Units","430083 - PBM ePrescribe","MLR Customers","SHCE Member Months",{"$f":"'Essbase Input'!$D$17","v":"IDB 2022"},"NO REINSURANCE","All Other Projects",0,0,null,null,null,null,{"$f":"P180+Q180","v":0},{"$f":"V180","v":0}]
["All OUs \np430084 \nMLR Customers",4,null,null,1.2,"CY","ADD","---","Operating Units","430084 - PreCheck My Script Fee","MLR Customers","Total Incurred Claims",{"$f":"'Essbase Input'!$D$17","v":"IDB 2022"},"NO REINSURANCE","All Other Projects",0,0,null,null,null,null,0]
[null,4,null,null,1.2,"CY","SUB","---","Operating Units","430084 - PreCheck My Script Fee","MLR Customers","50010 - Physician Cap Paid - External",{"$f":"'Essbase Input'!$D$17","v":"IDB 2022"},"NO REINSURANCE","0000003413 - General Administrative",0,0,null,null,null,null,0]
[null,4,null,null,1.2,"CY","SUB","---","Operating Units","430084 - PreCheck My Script Fee","MLR Customers","50619 - Internal Capitation Pd - Other",{"$f":"'Essbase Input'!$D$17","v":"IDB 2022"},"NO REINSURANCE","All Other Projects",0,0,null,null,null,null,0]
[null,4,null,null,1.2,"CY","SUB","---","Operating Units","430084 - PreCheck My Script Fee","MLR Customers","Rate Credits NonTaxable",{"$f":"'Essbase Input'!$D$17","v":"IDB 2022"},"NO REINSURANCE","All Other Projects",0,0,null,null,null,null,0,{"$f":"V181-V182-V183-V184","v":0}]
[null,4,null,null,2.1,"CY","ADD","R","Operating Units","430084 - PreCheck My Script Fee","MLR Customers","Health Premiums Earned",{"$f":"'Essbase Input'!$D$17","v":"IDB 2022"},"NO REINSURANCE","All Other Projects",0,0,null,null,null,null,0,{"$f":"V185","v":0}]
[null,4,null,null,2.2000000000000002,"CY","ADD","---","Operating Units","430084 - PreCheck My Script Fee","MLR Customers","Federal Taxes and Assessments","IDB Periods","Reinsurance","All Other Projects",0,0,null,null,null,null,{"$f":"P186","v":0}]
[null,4,null,null,2.2000000000000002,"CY","ADD","---","Operating Units","430084 - PreCheck My Script Fee","MLR Customers","State Ins, Prem and Other Tax","IDB Periods","Reinsurance","All Other Projects",0,0,null,null,null,null,{"$f":"P187","v":0}]
[null,4,null,null,2.2000000000000002,"CY","ADD","---","Operating Units","430084 - PreCheck My Script Fee","MLR Customers","Reg Authority Licenses & Fees","IDB Periods","Reinsurance","All Other Projects",0,0,null,null,null,null,0,{"$f":"SUM(V186:V188)","v":0}]
[null,4,null,null,3.1,"CY","ADD","---","Operating Units","430084 - PreCheck My Script Fee","MLR Customers","SHCE Member Months",{"$f":"'Essbase Input'!$D$17","v":"IDB 2022"},"NO REINSURANCE","All Other Projects",0,0,null,null,null,null,{"$f":"P189+Q189","v":0},{"$f":"V189","v":0}]
["All OUs \np430087 \nMLR Customers",4,null,null,1.2,"CY","ADD","---","Operating Units","430087 - PBM EGWP","MLR Customers","Total Incurred Claims",{"$f":"'Essbase Input'!$D$17","v":"IDB 2022"},"NO REINSURANCE","All Other Projects",0,0,null,null,null,null,0]
[null,4,null,null,1.2,"CY","SUB","---","Operating Units","430087 - PBM EGWP","MLR Customers","50010 - Physician Cap Paid - External",{"$f":"'Essbase Input'!$D$17","v":"IDB 2022"},"NO REINSURANCE","0000003413 - General Administrative",0,0,null,null,null,null,0]
[null,4,null,null,1.2,"CY","SUB","---","Operating Units","430087 - PBM EGWP","MLR Customers","50619 - Internal Capitation Pd - Other",{"$f":"'Essbase Input'!$D$17","v":"IDB 2022"},"NO REINSURANCE","All Other Projects",0,0,null,null,null,null,0]
[null,4,null,null,1.2,"CY","SUB","---","Operating Units","430087 - PBM EGWP","MLR Customers","Rate Credits NonTaxable",{"$f":"'Essbase Input'!$D$17","v":"IDB 2022"},"NO REINSURANCE","All Other Projects",0,0,null,null,null,null,0,{"$f":"V190-V191-V192-V193","v":0}]
[null,4,null,null,2.1,"CY","ADD","R","Operating Units","430087 - PBM EGWP","MLR Customers","Health Premiums Earned",{"$f":"'Essbase Input'!$D$17","v":"IDB 2022"},"NO REINSURANCE","All Other Projects",0,0,null,null,null,null,0,{"$f":"V194","v":0}]
[null,4,null,null,2.2000000000000002,"CY","ADD","---","Operating Units","430087 - PBM EGWP","MLR Customers","Federal Taxes and Assessments","IDB Periods","Reinsurance","All Other Projects",0,0,null,null,null,null,{"$f":"P195","v":0}]
[null,4,null,null,2.2000000000000002,"CY","ADD","---","Operating Units","430087 - PBM EGWP","MLR Customers","State Ins, Prem and Other Tax","IDB Periods","Reinsurance","All Other Projects",0,0,null,null,null,null,{"$f":"P196","v":0}]
[null,4,null,null,2.2000000000000002,"CY","ADD","---","Operating Units","430087 - PBM EGWP","MLR Customers","Reg Authority Licenses & Fees","IDB Periods","Reinsurance","All Other Projects",0,0,null,null,null,null,0,{"$f":"SUM(V195:V197)","v":0}]
[null,4,null,null,3.1,"CY","ADD","---","Operating Units","430087 - PBM EGWP","MLR Customers","SHCE Member Months",{"$f":"'Essbase Input'!$D$17","v":"IDB 2022"},"NO REINSURANCE","All Other Projects",0,0,null,null,null,null,{"$f":"P198+Q198","v":0},{"$f":"V198","v":0}]
["All OUs \np430088 \nMLR Customers",4,null,null,1.2,"CY","ADD","---","Operating Units","430088 - PBM ECOB","MLR Customers","Total Incurred Claims",{"$f":"'Essbase Input'!$D$17","v":"IDB 2022"},"NO REINSURANCE","All Other Projects",0,0,null,null,null,null,0]
[null,4,null,null,1.2,"CY","SUB","---","Operating Units","430088 - PBM ECOB","MLR Customers","50010 - Physician Cap Paid - External",{"$f":"'Essbase Input'!$D$17","v":"IDB 2022"},"NO REINSURANCE","0000003413 - General Administrative",0,0,null,null,null,null,0]
[null,4,null,null,1.2,"CY","SUB","---","Operating Units","430088 - PBM ECOB","MLR Customers","50619 - Internal Capitation Pd - Other",{"$f":"'Essbase Input'!$D$17","v":"IDB 2022"},"NO REINSURANCE","All Other Projects",0,0,null,null,null,null,0]
[null,4,null,null,1.2,"CY","SUB","---","Operating Units","430088 - PBM ECOB","MLR Customers","Rate Credits NonTaxable",{"$f":"'Essbase Input'!$D$17","v":"IDB 2022"},"NO REINSURANCE","All Other Projects",0,0,null,null,null,null,0,{"$f":"V199-V200-V201-V202","v":0}]
[null,4,null,null,2.1,"CY","ADD","R","Operating Units","430088 - PBM ECOB","MLR Customers","Health Premiums Earned",{"$f":"'Essbase Input'!$D$17","v":"IDB 2022"},"NO REINSURANCE","All Other Projects",0,0,null,null,null,null,0,{"$f":"V203","v":0}]
[null,4,null,null,2.2000000000000002,"CY","ADD","---","Operating Units","430088 - PBM ECOB","MLR Customers","Federal Taxes and Assessments","IDB Periods","Reinsurance","All Other Projects",0,0,null,null,null,null,{"$f":"P204","v":0}]
[null,4,null,null,2.2000000000000002,"CY","ADD","---","Operating Units","430088 - PBM ECOB","MLR Customers","State Ins, Prem and Other Tax","IDB Periods","Reinsurance","All Other Projects",0,0,null,null,null,null,{"$f":"P205","v":0}]
[null,4,null,null,2.2000000000000002,"CY","ADD","---","Operating Units","430088 - PBM ECOB","MLR Customers","Reg Authority Licenses & Fees","IDB Periods","Reinsurance","All Other Projects",0,0,null,null,null,null,0,{"$f":"SUM(V204:V206)","v":0}]
[null,4,null,null,3.1,"CY","ADD","---","Operating Units","430088 - PBM ECOB","MLR Customers","SHCE Member Months",{"$f":"'Essbase Input'!$D$17","v":"IDB 2022"},"NO REINSURANCE","All Other Projects",0,0,null,null,null,null,{"$f":"P207+Q207","v":0},{"$f":"V207","v":0}]
["All OUs \np430089 \nMLR Customers",4,null,null,1.2,"CY","ADD","---","Operating Units","430089 - PBM Clinical","MLR Customers","Total Incurred Claims",{"$f":"'Essbase Input'!$D$17","v":"IDB 2022"},"NO REINSURANCE","All Other Projects",0,0,null,null,null,null,0]
[null,4,null,null,1.2,"CY","SUB","---","Operating Units","430089 - PBM Clinical","MLR Customers","50010 - Physician Cap Paid - External",{"$f":"'Essbase Input'!$D$17","v":"IDB 2022"},"NO REINSURANCE","0000003413 - General Administrative",0,0,null,null,null,null,0]
[null,4,null,null,1.2,"CY","SUB","---","Operating Units","430089 - PBM Clinical","MLR Customers","50619 - Internal Capitation Pd - Other",{"$f":"'Essbase Input'!$D$17","v":"IDB 2022"},"NO REINSURANCE","All Other Projects",0,0,null,null,null,null,0]
[null,4,null,null,1.2,"CY","SUB","---","Operating Units","430089 - PBM Clinical","MLR Customers","Rate Credits NonTaxable",{"$f":"'Essbase Input'!$D$17","v":"IDB 2022"},"NO REINSURANCE","All Other Projects",0,0,null,null,null,null,0,{"$f":"V208-V209-V210-V211","v":0}]
[null,4,null,null,2.1,"CY","ADD","R","Operating Units","430089 - PBM Clinical","MLR Customers","Health Premiums Earned",{"$f":"'Essbase Input'!$D$17","v":"IDB 2022"},"NO REINSURANCE","All Other Projects",0,0,null,null,null,null,0,{"$f":"V212","v":0}]
[null,4,null,null,2.2000000000000002,"CY","ADD","---","Operating Units","430089 - PBM Clinical","MLR Customers","Federal Taxes and Assessments","IDB Periods","Reinsurance","All Other Projects",0,0,null,null,null,null,{"$f":"P213","v":0}]
[null,4,null,null,2.2000000000000002,"CY","ADD","---","Operating Units","430089 - PBM Clinical","MLR Customers","State Ins, Prem and Other Tax","IDB Periods","Reinsurance","All Other Projects",0,0,null,null,null,null,{"$f":"P214","v":0}]
[null,4,null,null,2.2000000000000002,"CY","ADD","---","Operating Units","430089 - PBM Clinical","MLR Customers","Reg Authority Licenses & Fees","IDB Periods","Reinsurance","All Other Projects",0,0,null,null,null,null,0,{"$f":"SUM(V213:V215)","v":0}]
[null,4,null,null,3.1,"CY","ADD","---","Operating Units","430089 - PBM Clinical","MLR Customers","SHCE Member Months",{"$f":"'Essbase Input'!$D$17","v":"IDB 2022"},"NO REINSURANCE","All Other Projects",0,0,null,null,null,null,{"$f":"P216+Q216","v":0},{"$f":"V216","v":0}]
[]
[null,null,null,null,null,null,null,null,null,null,null,null,null,null,null,null,null,null,null,null,null,null,"UHIC/UIC","GRI/UHLIC","DBP-CA"]
[null,null,"A","B",1.2,"Claims",null,null,null,null,null,null,null,null,null,null,null,null,null,null,null,null,{"$f":"SUMIF($E$9:$E$217,E219,$W$9:$W$217)","v":85949.58},{"$f":"W219-SUMIFS($W$9:$W$217,$E$9:$E$217,$E219,$C$9:$C$217,C219)","v":5890.4799999999959},{"$f":"W219-SUMIFS($W$9:$W$217,$E$9:$E$217,$E219,$D$9:$D$217,D219)","v":85949.58}]
[null,null,"A","B",2.1,"Premium",null,null,null,null,null,null,null,null,null,null,null,null,null,null,null,null,{"$f":"SUMIF($E$9:$E$217,E220,$W$9:$W$217)","v":-155842.10000000003},{"$f":"W220-SUMIFS($W$9:$W$217,$E$9:$E$217,$E220,$C$9:$C$217,C220)","v":-10821.580000000016},{"$f":"W220-SUMIFS($W$9:$W$217,$E$9:$E$217,$E220,$D$9:$D$217,D220)","v":-155842.10000000003}]
[null,null,"A","B",2.2000000000000002,"Taxes",null,null,null,null,null,null,null,null,null,null,null,null,null,null,null,null,{"$f":"SUMIF($E$9:$E$217,E221,$W$9:$W$217)","v":9481.25},912.06999999999971,9481.25]
[null,null,"A","B",3.1,"Life Years",null,null,null,null,null,null,null,null,null,null,null,null,null,null,null,null,{"$f":"SUMIF($E$9:$E$217,E222,$W$9:$W$217)","v":4186},{"$f":"W222-SUMIFS($W$9:$W$217,$E$9:$E$217,$E222,$C$9:$C$217,C222)","v":1281},4186]
[]
[null,null,null,null,null,"Net",null,null,null,null,null,null,null,null,null,null,null,null,null,null,null,null,{"$f":"SUM(W219:W221)","v":-60411.270000000033},{"$f":"SUM(X219:X221)","v":-4019.0300000000207},{"$f":"SUM(Y219:Y221)","v":-60411.270000000033}]

{"sheet":"Pt 1 Summary of Data","index":12,"n_rows":58,"n_cols":52,"rows_kept":58,"cut":false,"hidden":true,"merged":[[14,29,15,29],[14,47,15,47],[14,49,15,49],[14,48,15,48],[13,30,13,31],[13,32,13,36],[13,38,13,44],[14,37,15,37],[14,46,15,46],[57,2,57,3],[11,1,11,3],[54,2,54,3],[14,20,15,20],[14,28,15,28],[13,1,16,3],[5,1,5,3],[7,1,7,3],[9,1,9,3],[14,17,15,17],[14,19,15,19]]}
[null,"Department of Managed Health Care/Department of Insurance",null,null,null,null,null,null,null,"<<< DHMO","DPPO >>>"]
[null,"Medical Loss Ratio Reporting Form: Dental Coverage"]
[null,"Part 1 - Summary of Data"]
[]
[null,"Health Plan ID",null,null,null,null,null,"Federal Tax Exempt "]
[null,{"$f":"'Cover Page'!C7","v":97179},null,null,null,null,null,{"$f":"'Cover Page'!C10","v":"No"}]
[null,"Legal Name"]
[null,{"$f":"'Cover Page'!C8","v":"UnitedHealthcare Life Insurance Company"}]
[null,"dBA"]
[null,{"$f":"'Cover Page'!C9","v":"N/A"}]
[null,"MLR Reporting Year"]
[null,{"$f":"'Cover Page'!C6","v":"2022"}]
[]
[null,"UHG NOTES SECTION:\nBase tab.  This tab is a direct pull from the ledger.\nThe base tab plus the \"Adj\" tab makes the \"Final' tab",null,null,null,null,"Health Insurance Coverage",null,null,null,null,null,"Health Insurance Coverage",null,null,null,null,"Stand Alone \nDental\n(Ind/SG/LG)",null,"Stand Alone \nVision","Non-Stand Alone \nDental/Vision","Other Bus\n(excluded by Statute)\nMISC 1","Other Bus\n(excluded by Statute)\nMISC 2","Other Bus\n(excluded by Statute)\nMISC 3","Other Bus\n(excluded by Statute)\nMISC 4","Other Bus\n(excluded by Statute)\nMISC 5","Other Bus\n(excluded by Statute)\nMISC 6","Other Bus\n(excluded by Statute)\nMISC 7","Other Bus\n(excluded by Statute)\nless MISC (1-7)","Other Bus\n(excluded by Statute)","Stand Alone Dental\nUHC Dom.\nNon-Ind/SG/LG",null,"Stand Alone Dental\nNon-UHC Dom.",null,null,null,null,null,"These products don't fall into any node and need to be remapped!",null,null,null,null,null,null,null,"Grand Total","Grand Total",null,"Reference"]
[null,null,null,null,null,null,"DHMO Products",null,null,null,null,null,"DPPO & Indemnity Products",null,null,null,null,"Dental",null,"Vision","Life/Disability","Stop Loss","Stop Loss","Supp Hospital","Medicare Supp","Student Health","Wrap","Ind Short Term","Other Bus\n(\"Catch-All\")","Other Bus\n(excluded by Statute)",null,null,null,null,null,null,null,"Other\nStand Alone Dent\n",null,null,null,null,null,null,null,null,"Other Health Bus \nper DMHC","Other Health Bus \nper CMS (Col 41)","DMHC Rpt vs. CMS Rpt\n(Oth Health Bus - Col 41)","CMS Lines"]
[null,null,null,null,"Individual",null,"Small Group",null,"Large Group",null,"Individual",null,"Small Group",null,"Large Group",null,null,null,null,null,null,"PROD Range 322***","PROD Range 150***","PROD Range 204***","PROD Range 203***","PROD Range 112/113***","PROD 202080","PROD 106410",null,null,"UHC Dom.\nStand Alone Dent\nBlank Cust","UHC Dom.\nStand Alone Dent\nNot Comp Health","UHC International\nStand Alone Dent\nMLR Customer","Optum\nStand Alone Dent\nMLR Customer","Elims Mkt Grp\nStand Alone Dent\nMLR Customer","Corp Mkt Grp\nStand Alone Dent\nMLR Customer","Non-UHG\nStand Alone Dent\nMLR Customer","Other\nDifferences","All OUs \np306156 \nMLR Customers","All OUs \np305402 \nMLR Customers","All OUs \np430083 \nMLR Customers","All OUs \np430084 \nMLR Customers","All OUs \np430087 \nMLR Customers","All OUs \np430088 \nMLR Customers","All OUs \np430089 \nMLR Customers","OTHER\n(Not in categories to the left)"]
[null,null,null,null,"Total as of ","Total as of ","Total as of ","Total as of ","Total as of ","Total as of ","Total as of ","Total as of ","Total as of ","Total as of ","Total as of ","Total as of ",null,"Total as of ",null,"Total as of ","Total as of ","Total as of ","Total as of ","Total as of ","Total as of ","Total as of ","Total as of ","Total as of ","Total as of ","Total as of ","Total as of ","Total as of ","Total as of ","Total as of ","Total as of ","Total as of ","Total as of ","Total as of ","Total as of ","Total as of ","Total as of ","Total as of ","Total as of ","Total as of ","Total as of ","Total as of ","Total as of ","Total as of ","Total as of ","Total as of "]
[null,null,null,"Part 1\nNOTE: REFER TO MLR INSTRUCTIONS FOR IMPORTANT ",{"$f":"\"12/31/\"&RIGHT('Essbase Input'!$C$17,2)","v":"12/31/22"},{"$f":"\"3/31/\"&RIGHT('Essbase Input'!$C$16,2)","v":"3/31/23"},{"$f":"\"12/31/\"&RIGHT('Essbase Input'!$C$17,2)","v":"12/31/22"},{"$f":"\"3/31/\"&RIGHT('Essbase Input'!$C$16,2)","v":"3/31/23"},{"$f":"\"12/31/\"&RIGHT('Essbase Input'!$C$17,2)","v":"12/31/22"},{"$f":"\"3/31/\"&RIGHT('Essbase Input'!$C$16,2)","v":"3/31/23"},{"$f":"\"12/31/\"&RIGHT('Essbase Input'!$C$17,2)","v":"12/31/22"},{"$f":"\"3/31/\"&RIGHT('Essbase Input'!$C$16,2)","v":"3/31/23"},{"$f":"\"12/31/\"&RIGHT('Essbase Input'!$C$17,2)","v":"12/31/22"},{"$f":"\"3/31/\"&RIGHT('Essbase Input'!$C$16,2)","v":"3/31/23"},{"$f":"\"12/31/\"&RIGHT('Essbase Input'!$C$17,2)","v":"12/31/22"},{"$f":"\"3/31/\"&RIGHT('Essbase Input'!$C$16,2)","v":"3/31/23"},null,{"$f":"\"12/31/\"&RIGHT('Essbase Input'!$C$17,2)","v":"12/31/22"},null,{"$f":"\"12/31/\"&RIGHT('Essbase Input'!$C$17,2)","v":"12/31/22"},{"$f":"\"12/31/\"&RIGHT('Essbase Input'!$C$17,2)","v":"12/31/22"},{"$f":"\"12/31/\"&RIGHT('Essbase Input'!$C$17,2)","v":"12/31/22"},{"$f":"\"12/31/\"&RIGHT('Essbase Input'!$C$17,2)","v":"12/31/22"},{"$f":"\"12/31/\"&RIGHT('Essbase Input'!$C$17,2)","v":"12/31/22"},{"$f":"\"12/31/\"&RIGHT('Essbase Input'!$C$17,2)","v":"12/31/22"},{"$f":"\"12/31/\"&RIGHT('Essbase Input'!$C$17,2)","v":"12/31/22"},{"$f":"\"12/31/\"&RIGHT('Essbase Input'!$C$17,2)","v":"12/31/22"},{"$f":"\"12/31/\"&RIGHT('Essbase Input'!$C$17,2)","v":"12/31/22"},{"$f":"\"12/31/\"&RIGHT('Essbase Input'!$C$17,2)","v":"12/31/22"},{"$f":"\"12/31/\"&RIGHT('Essbase Input'!$C$17,2)","v":"12/31/22"},{"$f":"\"12/31/\"&RIGHT('Essbase Input'!$C$17,2)","v":"12/31/22"},{"$f":"\"12/31/\"&RIGHT('Essbase Input'!$C$17,2)","v":"12/31/22"},{"$f":"\"12/31/\"&RIGHT('Essbase Input'!$C$17,2)","v":"12/31/22"},{"$f":"\"12/31/\"&RIGHT('Essbase Input'!$C$17,2)","v":"12/31/22"},{"$f":"\"12/31/\"&RIGHT('Essbase Input'!$C$17,2)","v":"12/31/22"},{"$f":"\"12/31/\"&RIGHT('Essbase Input'!$C$17,2)","v":"12/31/22"},{"$f":"\"12/31/\"&RIGHT('Essbase Input'!$C$17,2)","v":"12/31/22"},{"$f":"\"12/31/\"&RIGHT('Essbase Input'!$C$17,2)","v":"12/31/22"},{"$f":"\"12/31/\"&RIGHT('Essbase Input'!$C$17,2)","v":"12/31/22"},{"$f":"\"12/31/\"&RIGHT('Essbase Input'!$C$17,2)","v":"12/31/22"},{"$f":"\"12/31/\"&RIGHT('Essbase Input'!$C$17,2)","v":"12/31/22"},{"$f":"\"12/31/\"&RIGHT('Essbase Input'!$C$17,2)","v":"12/31/22"},{"$f":"\"12/31/\"&RIGHT('Essbase Input'!$C$17,2)","v":"12/31/22"},{"$f":"\"12/31/\"&RIGHT('Essbase Input'!$C$17,2)","v":"12/31/22"},{"$f":"\"12/31/\"&RIGHT('Essbase Input'!$C$17,2)","v":"12/31/22"},{"$f":"\"12/31/\"&RIGHT('Essbase Input'!$C$17,2)","v":"12/31/22"},{"$f":"\"12/31/\"&RIGHT('Essbase Input'!$C$17,2)","v":"12/31/22"},{"$f":"\"12/31/\"&RIGHT('Essbase Input'!$C$17,2)","v":"12/31/22"},{"$f":"\"12/31/\"&RIGHT('Essbase Input'!$C$17,2)","v":"12/31/22"},{"$f":"\"12/31/\"&RIGHT('Essbase Input'!$C$17,2)","v":"12/31/22"}]
[null,null,null,"INFORMATION ABOUT COMPLETING EACH COLUMN AND ROW.",1,2,3,4,5,6,7,8,9,10,11,12]
[null,"1.","Premium"]
[null,null,1.1000000000000001,"Total direct premium earned",{"$f":"IF(VLOOKUP('Essbase Input'!$C$8,Tables!$B$4:$F$16,5,FALSE)=\"DPPO\",\"\",'Pt 2 Premium and Claims'!E22+'Pt 2 Premium and Claims'!E23-'Pt 2 Premium and Claims'!E24-'Pt 2 Premium and Claims'!E25)","v":""},{"$f":"IF(VLOOKUP('Essbase Input'!$C$8,Tables!$B$4:$F$16,5,FALSE)=\"DPPO\",\"\",'Pt 2 Premium and Claims'!F22+'Pt 2 Premium and Claims'!F23-'Pt 2 Premium and Claims'!F24-'Pt 2 Premium and Claims'!F25)","v":""},{"$f":"IF(VLOOKUP('Essbase Input'!$C$8,Tables!$B$4:$F$16,5,FALSE)=\"DPPO\",\"\",'Pt 2 Premium and Claims'!G22+'Pt 2 Premium and Claims'!G23-'Pt 2 Premium and Claims'!G24-'Pt 2 Premium and Claims'!G25)","v":""},{"$f":"IF(VLOOKUP('Essbase Input'!$C$8,Tables!$B$4:$F$16,5,FALSE)=\"DPPO\",\"\",'Pt 2 Premium and Claims'!H22+'Pt 2 Premium and Claims'!H23-'Pt 2 Premium and Claims'!H24-'Pt 2 Premium and Claims'!H25)","v":""},{"$f":"IF(VLOOKUP('Essbase Input'!$C$8,Tables!$B$4:$F$16,5,FALSE)=\"DPPO\",\"\",'Pt 2 Premium and Claims'!I22+'Pt 2 Premium and Claims'!I23-'Pt 2 Premium and Claims'!I24-'Pt 2 Premium and Claims'!I25)","v":""},{"$f":"IF(VLOOKUP('Essbase Input'!$C$8,Tables!$B$4:$F$16,5,FALSE)=\"DPPO\",\"\",'Pt 2 Premium and Claims'!J22+'Pt 2 Premium and Claims'!J23-'Pt 2 Premium and Claims'!J24-'Pt 2 Premium and Claims'!J25)","v":""},{"$f":"IF(VLOOKUP('Essbase Input'!$C$8,Tables!$B$4:$F$16,5,FALSE)=\"DHMO\",\"\",'Pt 2 Premium and Claims'!K22+'Pt 2 Premium and Claims'!K23-'Pt 2 Premium and Claims'!K24-'Pt 2 Premium and Claims'!K25)","v":145317.48000000004},{"$f":"IF(VLOOKUP('Essbase Input'!$C$8,Tables!$B$4:$F$16,5,FALSE)=\"DHMO\",\"\",'Pt 2 Premium and Claims'!L22+'Pt 2 Premium and Claims'!L23-'Pt 2 Premium and Claims'!L24-'Pt 2 Premium and Claims'!L25)","v":145020.52000000002},{"$f":"IF(VLOOKUP('Essbase Input'!$C$8,Tables!$B$4:$F$16,5,FALSE)=\"DHMO\",\"\",IF(OR('Essbase Input'!$C$8=\"Golden Rule Insurance Company\",'Essbase Input'!$C$8=\"UnitedHealthcare Life Ins Co\",'Essbase Input'!$C$8=\"Mid-West Nat Life Ins Co of TN\",'Essbase Input'!$C$8=\"The Chesapeake Life Ins. Co.\"),\"\",'Pt 2 Premium and Claims'!M22+'Pt 2 Premium and Claims'!M23-'Pt 2 Premium and Claims'!M24-'Pt 2 Premium and Claims'!M25))","v":""},{"$f":"IF(VLOOKUP('Essbase Input'!$C$8,Tables!$B$4:$F$16,5,FALSE)=\"DHMO\",\"\",IF(OR('Essbase Input'!$C$8=\"Golden Rule Insurance Company\",'Essbase Input'!$C$8=\"UnitedHealthcare Life Ins Co\",'Essbase Input'!$C$8=\"Mid-West Nat Life Ins Co of TN\",'Essbase Input'!$C$8=\"The Chesapeake Life Ins. Co.\"),\"\",'Pt 2 Premium and Claims'!N22+'Pt 2 Premium and Claims'!N23-'Pt 2 Premium and Claims'!N24-'Pt 2 Premium and Claims'!N25))","v":""},{"$f":"IF(VLOOKUP('Essbase Input'!$C$8,Tables!$B$4:$F$16,5,FALSE)=\"DHMO\",\"\",IF(OR('Essbase Input'!$C$8=\"Golden Rule Insurance Company\",'Essbase Input'!$C$8=\"UnitedHealthcare Life Ins Co\",'Essbase Input'!$C$8=\"Mid-West Nat Life Ins Co of TN\",'Essbase Input'!$C$8=\"The Chesapeake Life Ins. Co.\"),\"\",'Pt 2 Premium and Claims'!O22+'Pt 2 Premium and Claims'!O23-'Pt 2 Premium and Claims'!O24-'Pt 2 Premium and Claims'!O25))","v":""},{"$f":"IF(VLOOKUP('Essbase Input'!$C$8,Tables!$B$4:$F$16,5,FALSE)=\"DHMO\",\"\",IF(OR('Essbase Input'!$C$8=\"Golden Rule Insurance Company\",'Essbase Input'!$C$8=\"UnitedHealthcare Life Ins Co\",'Essbase Input'!$C$8=\"Mid-West Nat Life Ins Co of TN\",'Essbase Input'!$C$8=\"The Chesapeake Life Ins. Co.\"),\"\",'Pt 2 Premium and Claims'!P22+'Pt 2 Premium and Claims'!P23-'Pt 2 Premium and Claims'!P24-'Pt 2 Premium and Claims'!P25))","v":""},null,{"$f":"IF(O21=\"\",0,O21)+IF(M21=\"\",0,M21)+IF(K21=\"\",0,K21)+IF(I21=\"\",0,I21)+IF(G21=\"\",0,G21)+IF(E21=\"\",0,E21)","v":145317.48000000004},null,{"$f":"+'Pt 2 Premium and Claims'!T22+'Pt 2 Premium and Claims'!T23-'Pt 2 Premium and Claims'!T24-'Pt 2 Premium and Claims'!T25","v":10887.94},{"$f":"+'Pt 2 Premium and Claims'!U22+'Pt 2 Premium and Claims'!U23-'Pt 2 Premium and Claims'!U24-'Pt 2 Premium and Claims'!U25","v":0},{"$f":"+'Pt 2 Premium and Claims'!V22+'Pt 2 Premium and Claims'!V23-'Pt 2 Premium and Claims'!V24-'Pt 2 Premium and Claims'!V25","v":0},{"$f":"+'Pt 2 Premium and Claims'!W22+'Pt 2 Premium and Claims'!W23-'Pt 2 Premium and Claims'!W24-'Pt 2 Premium and Claims'!W25","v":0},{"$f":"+'Pt 2 Premium and Claims'!X22+'Pt 2 Premium and Claims'!X23-'Pt 2 Premium and Claims'!X24-'Pt 2 Premium and Claims'!X25","v":0},{"$f":"+'Pt 2 Premium and Claims'!Y22+'Pt 2 Premium and Claims'!Y23-'Pt 2 Premium and Claims'!Y24-'Pt 2 Premium and Claims'!Y25","v":0},{"$f":"+'Pt 2 Premium and Claims'!Z22+'Pt 2 Premium and Claims'!Z23-'Pt 2 Premium and Claims'!Z24-'Pt 2 Premium and Claims'!Z25","v":0},{"$f":"+'Pt 2 Premium and Claims'!AA22+'Pt 2 Premium and Claims'!AA23-'Pt 2 Premium and Claims'!AA24-'Pt 2 Premium and Claims'!AA25","v":0},{"$f":"+'Pt 2 Premium and Claims'!AB22+'Pt 2 Premium and Claims'!AB23-'Pt 2 Premium and Claims'!AB24-'Pt 2 Premium and Claims'!AB25","v":0},{"$f":"+'Pt 2 Premium and Claims'!AC22+'Pt 2 Premium and Claims'!AC23-'Pt 2 Premium and Claims'!AC24-'Pt 2 Premium and Claims'!AC25","v":0},{"$f":"SUM(V21:AC21)","v":0},{"$f":"+'Pt 2 Premium and Claims'!AE22+'Pt 2 Premium and Claims'!AE23-'Pt 2 Premium and Claims'!AE24-'Pt 2 Premium and Claims'!AE25","v":0},{"$f":"+'Pt 2 Premium and Claims'!AF22+'Pt 2 Premium and Claims'!AF23-'Pt 2 Premium and Claims'!AF24-'Pt 2 Premium and Claims'!AF25","v":145317.48000000004},{"$f":"+'Pt 2 Premium and Claims'!AG22+'Pt 2 Premium and Claims'!AG23-'Pt 2 Premium and Claims'!AG24-'Pt 2 Premium and Claims'!AG25","v":0},{"$f":"+'Pt 2 Premium and Claims'!AH22+'Pt 2 Premium and Claims'!AH23-'Pt 2 Premium and Claims'!AH24-'Pt 2 Premium and Claims'!AH25","v":0},{"$f":"+'Pt 2 Premium and Claims'!AI22+'Pt 2 Premium and Claims'!AI23-'Pt 2 Premium and Claims'!AI24-'Pt 2 Premium and Claims'!AI25","v":0},{"$f":"+'Pt 2 Premium and Claims'!AJ22+'Pt 2 Premium and Claims'!AJ23-'Pt 2 Premium and Claims'!AJ24-'Pt 2 Premium and Claims'!AJ25","v":0},{"$f":"+'Pt 2 Premium and Claims'!AK22+'Pt 2 Premium and Claims'!AK23-'Pt 2 Premium and Claims'!AK24-'Pt 2 Premium and Claims'!AK25","v":0},{"$f":"SUM(AE21:AK21)","v":145317.48000000004},{"$f":"+'Pt 2 Premium and Claims'!AM22+'Pt 2 Premium and Claims'!AM23-'Pt 2 Premium and Claims'!AM24-'Pt 2 Premium and Claims'!AM25","v":0},{"$f":"+'Pt 2 Premium and Claims'!AN22+'Pt 2 Premium and Claims'!AN23-'Pt 2 Premium and Claims'!AN24-'Pt 2 Premium and Claims'!AN25","v":0},{"$f":"+'Pt 2 Premium and Claims'!AO22+'Pt 2 Premium and Claims'!AO23-'Pt 2 Premium and Claims'!AO24-'Pt 2 Premium and Claims'!AO25","v":0},{"$f":"+'Pt 2 Premium and Claims'!AP22+'Pt 2 Premium and Claims'!AP23-'Pt 2 Premium and Claims'!AP24-'Pt 2 Premium and Claims'!AP25","v":0},{"$f":"+'Pt 2 Premium and Claims'!AQ22+'Pt 2 Premium and Claims'!AQ23-'Pt 2 Premium and Claims'!AQ24-'Pt 2 Premium and Claims'!AQ25","v":0},{"$f":"+'Pt 2 Premium and Claims'!AR22+'Pt 2 Premium and Claims'!AR23-'Pt 2 Premium and Claims'!AR24-'Pt 2 Premium and Claims'!AR25","v":0},{"$f":"+'Pt 2 Premium and Claims'!AS22+'Pt 2 Premium and Claims'!AS23-'Pt 2 Premium and Claims'!AS24-'Pt 2 Premium and Claims'!AS25","v":0},{"$f":"SUM(AM21:AS21)","v":0},{"$f":"IF(OR('Essbase Input'!$C$8=\"Golden Rule Insurance Company\",'Essbase Input'!$C$8=\"UnitedHealthcare Life Ins Co\",'Essbase Input'!$C$8=\"Mid-West Nat Life Ins Co of TN\",'Essbase Input'!$C$8=\"The Chesapeake Life Ins. Co.\"),SUM(R21:U21,AD21,AT21),IF('Essbase Input'!$C$8=\"Dental Benefit Prov CA Inc\",SUM(R21:U21,AD21,AE21:AF21,AT21),SUM(R21:U21,AD21,AL21,AT21)))","v":156205.42000000004},{"$f":"+'Pt 2 Premium and Claims'!AV22+'Pt 2 Premium and Claims'!AV23-'Pt 2 Premium and Claims'!AV24-'Pt 2 Premium and Claims'!AV25","v":156205.42000000001},{"$f":"AU21-AV21","v":0},"Pt 1, Ln 1.1"]
[]
[null,"2.","Claims"]
[null,null,2.1,"Total incurred claims (MLR Form Part 2, Line 2.11)",{"$f":"IF(VLOOKUP('Essbase Input'!$C$8,Tables!$B$4:$F$16,5,FALSE)=\"DPPO\",\"\",'Pt 2 Premium and Claims'!E51)","v":""},{"$f":"IF(VLOOKUP('Essbase Input'!$C$8,Tables!$B$4:$F$16,5,FALSE)=\"DPPO\",\"\",'Pt 2 Premium and Claims'!F51)","v":""},{"$f":"IF(VLOOKUP('Essbase Input'!$C$8,Tables!$B$4:$F$16,5,FALSE)=\"DPPO\",\"\",'Pt 2 Premium and Claims'!G51)","v":""},{"$f":"IF(VLOOKUP('Essbase Input'!$C$8,Tables!$B$4:$F$16,5,FALSE)=\"DPPO\",\"\",'Pt 2 Premium and Claims'!H51)","v":""},{"$f":"IF(VLOOKUP('Essbase Input'!$C$8,Tables!$B$4:$F$16,5,FALSE)=\"DPPO\",\"\",'Pt 2 Premium and Claims'!I51)","v":""},{"$f":"IF(VLOOKUP('Essbase Input'!$C$8,Tables!$B$4:$F$16,5,FALSE)=\"DPPO\",\"\",'Pt 2 Premium and Claims'!J51)","v":""},{"$f":"IF(VLOOKUP('Essbase Input'!$C$8,Tables!$B$4:$F$16,5,FALSE)=\"DHMO\",\"\",'Pt 2 Premium and Claims'!K51)","v":75730.91},{"$f":"IF(VLOOKUP('Essbase Input'!$C$8,Tables!$B$4:$F$16,5,FALSE)=\"DHMO\",\"\",'Pt 2 Premium and Claims'!L51)","v":80059.100000000006},{"$f":"IF(VLOOKUP('Essbase Input'!$C$8,Tables!$B$4:$F$16,5,FALSE)=\"DHMO\",\"\",IF(OR('Essbase Input'!$C$8=\"Golden Rule Insurance Company\",'Essbase Input'!$C$8=\"UnitedHealthcare Life Ins Co\",'Essbase Input'!$C$8=\"Mid-West Nat Life Ins Co of TN\",'Essbase Input'!$C$8=\"The Chesapeake Life Ins. Co.\"),\"\",'Pt 2 Premium and Claims'!M51))","v":""},{"$f":"IF(VLOOKUP('Essbase Input'!$C$8,Tables!$B$4:$F$16,5,FALSE)=\"DHMO\",\"\",IF(OR('Essbase Input'!$C$8=\"Golden Rule Insurance Company\",'Essbase Input'!$C$8=\"UnitedHealthcare Life Ins Co\",'Essbase Input'!$C$8=\"Mid-West Nat Life Ins Co of TN\",'Essbase Input'!$C$8=\"The Chesapeake Life Ins. Co.\"),\"\",'Pt 2 Premium and Claims'!N51))","v":""},{"$f":"IF(VLOOKUP('Essbase Input'!$C$8,Tables!$B$4:$F$16,5,FALSE)=\"DHMO\",\"\",IF(OR('Essbase Input'!$C$8=\"Golden Rule Insurance Company\",'Essbase Input'!$C$8=\"UnitedHealthcare Life Ins Co\",'Essbase Input'!$C$8=\"Mid-West Nat Life Ins Co of TN\",'Essbase Input'!$C$8=\"The Chesapeake Life Ins. Co.\"),\"\",'Pt 2 Premium and Claims'!O51))","v":""},{"$f":"IF(VLOOKUP('Essbase Input'!$C$8,Tables!$B$4:$F$16,5,FALSE)=\"DHMO\",\"\",IF(OR('Essbase Input'!$C$8=\"Golden Rule Insurance Company\",'Essbase Input'!$C$8=\"UnitedHealthcare Life Ins Co\",'Essbase Input'!$C$8=\"Mid-West Nat Life Ins Co of TN\",'Essbase Input'!$C$8=\"The Chesapeake Life Ins. Co.\"),\"\",'Pt 2 Premium and Claims'!P51))","v":""},null,{"$f":"IF(O24=\"\",0,O24)+IF(M24=\"\",0,M24)+IF(K24=\"\",0,K24)+IF(I24=\"\",0,I24)+IF(G24=\"\",0,G24)+IF(E24=\"\",0,E24)","v":75730.91},null,{"$f":"+'Pt 2 Premium and Claims'!T51","v":4667.7000000000007},{"$f":"+'Pt 2 Premium and Claims'!U51","v":0},{"$f":"+'Pt 2 Premium and Claims'!V51","v":0},{"$f":"+'Pt 2 Premium and Claims'!W51","v":0},{"$f":"+'Pt 2 Premium and Claims'!X51","v":0},{"$f":"+'Pt 2 Premium and Claims'!Y51","v":0},{"$f":"+'Pt 2 Premium and Claims'!Z51","v":0},{"$f":"+'Pt 2 Premium and Claims'!AA51","v":0},{"$f":"+'Pt 2 Premium and Claims'!AB51","v":0},{"$f":"+'Pt 2 Premium and Claims'!AC51","v":0},{"$f":"SUM(V24:AC24)","v":0},{"$f":"+'Pt 2 Premium and Claims'!AE51","v":0},{"$f":"+'Pt 2 Premium and Claims'!AF51","v":75730.91},{"$f":"+'Pt 2 Premium and Claims'!AG51","v":0},{"$f":"+'Pt 2 Premium and Claims'!AH51","v":0},{"$f":"+'Pt 2 Premium and Claims'!AI51","v":0},{"$f":"+'Pt 2 Premium and Claims'!AJ51","v":0},{"$f":"+'Pt 2 Premium and Claims'!AK51","v":0},{"$f":"SUM(AE24:AK24)","v":75730.91},{"$f":"+'Pt 2 Premium and Claims'!AM51","v":0},{"$f":"+'Pt 2 Premium and Claims'!AN51","v":0},{"$f":"+'Pt 2 Premium and Claims'!AO51","v":0},{"$f":"+'Pt 2 Premium and Claims'!AP51","v":0},{"$f":"+'Pt 2 Premium and Claims'!AQ51","v":0},{"$f":"+'Pt 2 Premium and Claims'!AR51","v":0},{"$f":"+'Pt 2 Premium and Claims'!AS51","v":0},{"$f":"SUM(AM24:AS24)","v":0},{"$f":"IF(OR('Essbase Input'!$C$8=\"Golden Rule Insurance Company\",'Essbase Input'!$C$8=\"UnitedHealthcare Life Ins Co\",'Essbase Input'!$C$8=\"Mid-West Nat Life Ins Co of TN\",'Essbase Input'!$C$8=\"The Chesapeake Life Ins. Co.\"),SUM(R24:U24,AD24,AT24),IF('Essbase Input'!$C$8=\"Dental Benefit Prov CA Inc\",SUM(R24:U24,AD24,AE24:AF24,AT24),SUM(R24:U24,AD24,AL24,AT24)))","v":80398.61},{"$f":"+'Pt 2 Premium and Claims'!AV51","v":80398.61},{"$f":"AU24-AV24","v":0},"Pt 1, Ln 2.1"]
[]
[null,"3.","Federal and State Taxes and Licensing or Regulatory Fees"]
[null,null,3.1,"Federal taxes and assessments incurred by the reporting health plan or health insurer during the MLR reporting year "]
[null,null,null,"  3.1 a  Federal income taxes deductible from premium in MLR calculations ",{"$f":"IF(VLOOKUP('Essbase Input'!$C$8,Tables!$B$4:$F$16,5,FALSE)=\"DPPO\",\"\",'EB PT 1'!K16)","v":""},{"$f":"E28","v":""},{"$f":"IF(VLOOKUP('Essbase Input'!$C$8,Tables!$B$4:$F$16,5,FALSE)=\"DPPO\",\"\",'EB PT 1'!M16)","v":""},{"$f":"G28","v":""},{"$f":"IF(VLOOKUP('Essbase Input'!$C$8,Tables!$B$4:$F$16,5,FALSE)=\"DPPO\",\"\",'EB PT 1'!O16)","v":""},{"$f":"I28","v":""},{"$f":"IF(VLOOKUP('Essbase Input'!$C$8,Tables!$B$4:$F$16,5,FALSE)=\"DHMO\",\"\",IF(OR('Essbase Input'!$C$8=\"Golden Rule Insurance Company\",'Essbase Input'!$C$8=\"UnitedHealthcare Life Ins Co\",'Essbase Input'!$C$8=\"Mid-West Nat Life Ins Co of TN\",'Essbase Input'!$C$8=\"The Chesapeake Life Ins. Co.\"),'EB PT 1'!Q16,'EB PT 1'!K16))","v":5568.76},{"$f":"K28","v":5568.76},{"$f":"IF(VLOOKUP('Essbase Input'!$C$8,Tables!$B$4:$F$16,5,FALSE)=\"DHMO\",\"\",IF(OR('Essbase Input'!$C$8=\"Golden Rule Insurance Company\",'Essbase Input'!$C$8=\"UnitedHealthcare Life Ins Co\",'Essbase Input'!$C$8=\"Mid-West Nat Life Ins Co of TN\",'Essbase Input'!$C$8=\"The Chesapeake Life Ins. Co.\"),\"\",'EB PT 1'!M16))","v":""},{"$f":"M28","v":""},{"$f":"IF(VLOOKUP('Essbase Input'!$C$8,Tables!$B$4:$F$16,5,FALSE)=\"DHMO\",\"\",IF(OR('Essbase Input'!$C$8=\"Golden Rule Insurance Company\",'Essbase Input'!$C$8=\"UnitedHealthcare Life Ins Co\",'Essbase Input'!$C$8=\"Mid-West Nat Life Ins Co of TN\",'Essbase Input'!$C$8=\"The Chesapeake Life Ins. Co.\"),\"\",'EB PT 1'!O16))","v":""},{"$f":"O28","v":""},null,{"$f":"IF(O28=\"\",0,O28)+IF(M28=\"\",0,M28)+IF(K28=\"\",0,K28)+IF(I28=\"\",0,I28)+IF(G28=\"\",0,G28)+IF(E28=\"\",0,E28)","v":5568.76},null,{"$f":"+'EB PT 1'!S16","v":798.31000000000006},{"$f":"+'EB PT 1'!T16","v":-143.59},{"$f":"+'EB PT 1'!U16+'EB PT 1'!V16+'EB PT 1'!W16","v":0},{"$f":"+'EB PT 1'!AA16+'EB PT 1'!Y16+'EB PT 1'!X16+'EB PT 1'!Z16","v":0},{"$f":"+'EB PT 1'!AB16+'EB PT 1'!AC16+'EB PT 1'!AD16+'EB PT 1'!AE16","v":0},{"$f":"+'EB PT 1'!AG16+'EB PT 1'!AH16+'EB PT 1'!AI16+'EB PT 1'!AF16","v":0},{"$f":"+'EB PT 1'!AJ16+'EB PT 1'!AK16","v":0},{"$f":"+'EB PT 1'!AL16","v":0},{"$f":"+'EB PT 1'!AM16","v":0},{"$f":"+'EB PT 1'!AN16-SUM(V28:AB28)","v":0},{"$f":"SUM(V28:AC28)","v":0},{"$f":"+'EB PT 1'!AO16","v":0},{"$f":"+'EB PT 1'!AP16","v":0},{"$f":"+'EB PT 1'!AQ16","v":0},{"$f":"+'EB PT 1'!AR16","v":0},{"$f":"+'EB PT 1'!AS16","v":0},{"$f":"+'EB PT 1'!AT16","v":0},{"$f":"+'EB PT 1'!AU16","v":0},{"$f":"SUM(AE28:AK28)","v":0},{"$f":"+'EB PT 1'!AV16","v":0},{"$f":"+'EB PT 1'!AW16","v":0},{"$f":"+'EB PT 1'!AX16","v":0},{"$f":"+'EB PT 1'!AY16","v":0},{"$f":"+'EB PT 1'!AZ16","v":0},{"$f":"+'EB PT 1'!BA16","v":0},{"$f":"+'EB PT 1'!BB16","v":0},{"$f":"SUM(AM28:AS28)","v":0},{"$f":"IF(OR('Essbase Input'!$C$8=\"Golden Rule Insurance Company\",'Essbase Input'!$C$8=\"UnitedHealthcare Life Ins Co\",'Essbase Input'!$C$8=\"Mid-West Nat Life Ins Co of TN\",'Essbase Input'!$C$8=\"The Chesapeake Life Ins. Co.\"),SUM(R28:U28,AD28,AT28),IF('Essbase Input'!$C$8=\"Dental Benefit Prov CA Inc\",SUM(R28:U28,AD28,AE28:AF28,AT28),SUM(R28:U28,AD28,AL28,AT28)))","v":6223.4800000000005},{"$f":"+'EB PT 1'!BD16","v":6223.4800000000005},{"$f":"AU28-AV28","v":0},"Pt 1, Ln 3.1a"]
[null,null,null,"  3.1 b  Other Federal Taxes (other than income tax) and assessments deductible from premium",{"$f":"IF(VLOOKUP('Essbase Input'!$C$8,Tables!$B$4:$F$16,5,FALSE)=\"DPPO\",\"\",'EB PT 1'!K18-'EB PT 1'!K19)","v":""},{"$f":"E29","v":""},{"$f":"IF(VLOOKUP('Essbase Input'!$C$8,Tables!$B$4:$F$16,5,FALSE)=\"DPPO\",\"\",'EB PT 1'!M18-'EB PT 1'!M19)","v":""},{"$f":"G29","v":""},{"$f":"IF(VLOOKUP('Essbase Input'!$C$8,Tables!$B$4:$F$16,5,FALSE)=\"DPPO\",\"\",'EB PT 1'!O18-'EB PT 1'!O19)","v":""},{"$f":"I29","v":""},{"$f":"IF(VLOOKUP('Essbase Input'!$C$8,Tables!$B$4:$F$16,5,FALSE)=\"DHMO\",\"\",IF(OR('Essbase Input'!$C$8=\"Golden Rule Insurance Company\",'Essbase Input'!$C$8=\"UnitedHealthcare Life Ins Co\",'Essbase Input'!$C$8=\"Mid-West Nat Life Ins Co of TN\",'Essbase Input'!$C$8=\"The Chesapeake Life Ins. Co.\"),'EB PT 1'!Q18-'EB PT 1'!Q23,'EB PT 1'!K18-'EB PT 1'!K19))","v":0},{"$f":"K29","v":0},{"$f":"IF(VLOOKUP('Essbase Input'!$C$8,Tables!$B$4:$F$16,5,FALSE)=\"DHMO\",\"\",IF(OR('Essbase Input'!$C$8=\"Golden Rule Insurance Company\",'Essbase Input'!$C$8=\"UnitedHealthcare Life Ins Co\",'Essbase Input'!$C$8=\"Mid-West Nat Life Ins Co of TN\",'Essbase Input'!$C$8=\"The Chesapeake Life Ins. Co.\"),\"\",'EB PT 1'!M18-'EB PT 1'!M19))","v":""},{"$f":"M29","v":""},{"$f":"IF(VLOOKUP('Essbase Input'!$C$8,Tables!$B$4:$F$16,5,FALSE)=\"DHMO\",\"\",IF(OR('Essbase Input'!$C$8=\"Golden Rule Insurance Company\",'Essbase Input'!$C$8=\"UnitedHealthcare Life Ins Co\",'Essbase Input'!$C$8=\"Mid-West Nat Life Ins Co of TN\",'Essbase Input'!$C$8=\"The Chesapeake Life Ins. Co.\"),\"\",'EB PT 1'!O18-'EB PT 1'!O19))","v":""},{"$f":"O29","v":""},null,{"$f":"IF(O29=\"\",0,O29)+IF(M29=\"\",0,M29)+IF(K29=\"\",0,K29)+IF(I29=\"\",0,I29)+IF(G29=\"\",0,G29)+IF(E29=\"\",0,E29)","v":0},null,{"$f":"+'EB PT 1'!S18-'EB PT 1'!S19","v":0},{"$f":"+'EB PT 1'!T18-'EB PT 1'!T19","v":0},{"$f":"+('EB PT 1'!U18-'EB PT 1'!U19)+('EB PT 1'!V18-'EB PT 1'!V19)+('EB PT 1'!W18-'EB PT 1'!W19)","v":0},{"$f":"+('EB PT 1'!Y18-'EB PT 1'!Y19)+('EB PT 1'!AA18-'EB PT 1'!AA19)+('EB PT 1'!X18-'EB PT 1'!X19)+('EB PT 1'!Z18-'EB PT 1'!Z19)","v":0},{"$f":"+('EB PT 1'!AC18-'EB PT 1'!AC19)+('EB PT 1'!AB18-'EB PT 1'!AB19)+('EB PT 1'!AD18-'EB PT 1'!AD19)+('EB PT 1'!AE18-'EB PT 1'!AE19)","v":0},{"$f":"+('EB PT 1'!AG18-'EB PT 1'!AG19)+('EB PT 1'!AH18-'EB PT 1'!AH19)+('EB PT 1'!AI18-'EB PT 1'!AI19)+('EB PT 1'!AF18-'EB PT 1'!AF19)","v":0},{"$f":"('EB PT 1'!AJ18-'EB PT 1'!AJ19)+('EB PT 1'!AK18-'EB PT 1'!AK19)","v":0},{"$f":"('EB PT 1'!AL18-'EB PT 1'!AL19)","v":0},{"$f":"('EB PT 1'!AM18-'EB PT 1'!AM19)","v":0},{"$f":"+'EB PT 1'!AN18-'EB PT 1'!AN19-SUM(V29:AB29)","v":0},{"$f":"SUM(V29:AC29)","v":0},{"$f":"('EB PT 1'!AO18-'EB PT 1'!AO19)","v":0},{"$f":"('EB PT 1'!AP18-'EB PT 1'!AP19)","v":0},{"$f":"('EB PT 1'!AQ18-'EB PT 1'!AQ19)","v":0},{"$f":"('EB PT 1'!AR18-'EB PT 1'!AR19)","v":0},{"$f":"('EB PT 1'!AS18-'EB PT 1'!AS19)","v":0},{"$f":"('EB PT 1'!AT18-'EB PT 1'!AT19)","v":0},{"$f":"('EB PT 1'!AU18-'EB PT 1'!AU19)","v":0},{"$f":"SUM(AE29:AK29)","v":0},{"$f":"('EB PT 1'!AV18-'EB PT 1'!AV19)","v":0},{"$f":"('EB PT 1'!AW18-'EB PT 1'!AW19)","v":0},{"$f":"('EB PT 1'!AX18-'EB PT 1'!AX19)","v":0},{"$f":"('EB PT 1'!AY18-'EB PT 1'!AY19)","v":0},{"$f":"('EB PT 1'!AZ18-'EB PT 1'!AZ19)","v":0},{"$f":"('EB PT 1'!BA18-'EB PT 1'!BA19)","v":0},{"$f":"('EB PT 1'!BB18-'EB PT 1'!BB19)","v":0},{"$f":"SUM(AM29:AS29)","v":0},{"$f":"IF(OR('Essbase Input'!$C$8=\"Golden Rule Insurance Company\",'Essbase Input'!$C$8=\"UnitedHealthcare Life Ins Co\",'Essbase Input'!$C$8=\"Mid-West Nat Life Ins Co of TN\",'Essbase Input'!$C$8=\"The Chesapeake Life Ins. Co.\"),SUM(R29:U29,AD29,AT29),IF('Essbase Input'!$C$8=\"Dental Benefit Prov CA Inc\",SUM(R29:U29,AD29,AE29:AF29,AT29),SUM(R29:U29,AD29,AL29,AT29)))","v":0},{"$f":"+'EB PT 1'!BD18-'EB PT 1'!BD23","v":0},{"$f":"AU29-AV29","v":0},"Pt 1, Ln 3.1d"]
[null,null,3.2,"State insurance, premium and other taxes incurred by the reporting health plan or heath insurer during the MLR reporting year (deductible from premium in MLR calculation)"]
[null,null,null,"  3.2 a   State income, excise, business, and other taxes",{"$f":"IF(VLOOKUP('Essbase Input'!$C$8,Tables!$B$4:$F$16,5,FALSE)=\"DPPO\",\"\",'EB PT 1'!K21+'EB PT 1'!K22+'EB PT 1'!K24+'EB PT 1'!K23)","v":""},{"$f":"E31","v":""},{"$f":"IF(VLOOKUP('Essbase Input'!$C$8,Tables!$B$4:$F$16,5,FALSE)=\"DPPO\",\"\",'EB PT 1'!M21+'EB PT 1'!M22+'EB PT 1'!M24+'EB PT 1'!M23)","v":""},{"$f":"G31","v":""},{"$f":"IF(VLOOKUP('Essbase Input'!$C$8,Tables!$B$4:$F$16,5,FALSE)=\"DPPO\",\"\",'EB PT 1'!O21+'EB PT 1'!O22+'EB PT 1'!O24+'EB PT 1'!O23)","v":""},{"$f":"I31","v":""},{"$f":"IF(VLOOKUP('Essbase Input'!$C$8,Tables!$B$4:$F$16,5,FALSE)=\"DHMO\",\"\",IF(OR('Essbase Input'!$C$8=\"Golden Rule Insurance Company\",'Essbase Input'!$C$8=\"UnitedHealthcare Life Ins Co\",'Essbase Input'!$C$8=\"Mid-West Nat Life Ins Co of TN\",'Essbase Input'!$C$8=\"The Chesapeake Life Ins. Co.\"),'EB PT 1'!Q21+'EB PT 1'!Q22+'EB PT 1'!Q27,'EB PT 1'!K21+'EB PT 1'!K22+'EB PT 1'!K24+'EB PT 1'!K23))","v":5195.04},{"$f":"K31","v":5195.04},{"$f":"IF(VLOOKUP('Essbase Input'!$C$8,Tables!$B$4:$F$16,5,FALSE)=\"DHMO\",\"\",IF(OR('Essbase Input'!$C$8=\"Golden Rule Insurance Company\",'Essbase Input'!$C$8=\"UnitedHealthcare Life Ins Co\",'Essbase Input'!$C$8=\"Mid-West Nat Life Ins Co of TN\",'Essbase Input'!$C$8=\"The Chesapeake Life Ins. Co.\"),\"\",'EB PT 1'!M21+'EB PT 1'!M22+'EB PT 1'!M24+'EB PT 1'!M23))","v":""},{"$f":"M31","v":""},{"$f":"IF(VLOOKUP('Essbase Input'!$C$8,Tables!$B$4:$F$16,5,FALSE)=\"DHMO\",\"\",IF(OR('Essbase Input'!$C$8=\"Golden Rule Insurance Company\",'Essbase Input'!$C$8=\"UnitedHealthcare Life Ins Co\",'Essbase Input'!$C$8=\"Mid-West Nat Life Ins Co of TN\",'Essbase Input'!$C$8=\"The Chesapeake Life Ins. Co.\"),\"\",'EB PT 1'!O21+'EB PT 1'!O22+'EB PT 1'!O24+'EB PT 1'!O23))","v":""},{"$f":"O31","v":""},null,{"$f":"IF(O31=\"\",0,O31)+IF(M31=\"\",0,M31)+IF(K31=\"\",0,K31)+IF(I31=\"\",0,I31)+IF(G31=\"\",0,G31)+IF(E31=\"\",0,E31)","v":5195.04},null,{"$f":"+'EB PT 1'!S21+'EB PT 1'!S22+'EB PT 1'!S23+'EB PT 1'!S24","v":2.27},{"$f":"+'EB PT 1'!T21+'EB PT 1'!T22+'EB PT 1'!T24+'EB PT 1'!T23","v":0},{"$f":"+('EB PT 1'!U21+'EB PT 1'!U22+'EB PT 1'!U24+'EB PT 1'!U23)+('EB PT 1'!V21+'EB PT 1'!V22+'EB PT 1'!V24+'EB PT 1'!V23)+('EB PT 1'!W21+'EB PT 1'!W22+'EB PT 1'!W24+'EB PT 1'!W23)","v":0},{"$f":"+('EB PT 1'!Y21+'EB PT 1'!Y22+'EB PT 1'!Y24+'EB PT 1'!Y23)+('EB PT 1'!AA21+'EB PT 1'!AA22+'EB PT 1'!AA24+'EB PT 1'!AA23)+('EB PT 1'!X21+'EB PT 1'!X22+'EB PT 1'!X24+'EB PT 1'!X23)+('EB PT 1'!Z21+'EB PT 1'!Z22+'EB PT 1'!Z24+'EB PT 1'!Z23)","v":0},{"$f":"+('EB PT 1'!AC21+'EB PT 1'!AC22+'EB PT 1'!AC24+'EB PT 1'!AC23)+('EB PT 1'!AB21+'EB PT 1'!AB22+'EB PT 1'!AB24+'EB PT 1'!AB23)+('EB PT 1'!AD21+'EB PT 1'!AD22+'EB PT 1'!AD24+'EB PT 1'!AD23)+('EB PT 1'!AE21+'EB PT 1'!AE22+'EB PT 1'!AE24+'EB PT 1'!AE23)","v":0},{"$f":"+('EB PT 1'!AG21+'EB PT 1'!AG22+'EB PT 1'!AG24+'EB PT 1'!AG23)+('EB PT 1'!AH21+'EB PT 1'!AH22+'EB PT 1'!AH24+'EB PT 1'!AH23)+('EB PT 1'!AI21+'EB PT 1'!AI22+'EB PT 1'!AI24+'EB PT 1'!AI23)+('EB PT 1'!AF21+'EB PT 1'!AF22+'EB PT 1'!AF24+'EB PT 1'!AF23)","v":0},{"$f":"+('EB PT 1'!AJ21+'EB PT 1'!AJ22+'EB PT 1'!AJ24+'EB PT 1'!AJ23)+('EB PT 1'!AK21+'EB PT 1'!AK22+'EB PT 1'!AK24+'EB PT 1'!AK23)","v":0},{"$f":"+('EB PT 1'!AL21+'EB PT 1'!AL22+'EB PT 1'!AL24+'EB PT 1'!AL23)","v":0},{"$f":"+('EB PT 1'!AM21+'EB PT 1'!AM22+'EB PT 1'!AM24+'EB PT 1'!AM23)","v":0},{"$f":"+'EB PT 1'!AN21+'EB PT 1'!AN22+'EB PT 1'!AN24+'EB PT 1'!AN23-SUM(V31:AB31)","v":0},{"$f":"SUM(V31:AC31)","v":0},{"$f":"+('EB PT 1'!AO21+'EB PT 1'!AO22+'EB PT 1'!AO24+'EB PT 1'!AO23)","v":0},{"$f":"+('EB PT 1'!AP21+'EB PT 1'!AP22+'EB PT 1'!AP24+'EB PT 1'!AP23)","v":5164.8},{"$f":"+('EB PT 1'!AQ21+'EB PT 1'!AQ22+'EB PT 1'!AQ24+'EB PT 1'!AQ23)","v":0},{"$f":"+('EB PT 1'!AR21+'EB PT 1'!AR22+'EB PT 1'!AR24+'EB PT 1'!AR23)","v":0},{"$f":"+('EB PT 1'!AS21+'EB PT 1'!AS22+'EB PT 1'!AS24+'EB PT 1'!AS23)","v":0},{"$f":"+('EB PT 1'!AT21+'EB PT 1'!AT22+'EB PT 1'!AT24+'EB PT 1'!AT23)","v":0},{"$f":"+('EB PT 1'!AU21+'EB PT 1'!AU22+'EB PT 1'!AU24+'EB PT 1'!AU23)","v":0},{"$f":"SUM(AE31:AK31)","v":5164.8},{"$f":"+('EB PT 1'!AV21+'EB PT 1'!AV22+'EB PT 1'!AV24+'EB PT 1'!AV23)","v":0},{"$f":"+('EB PT 1'!AW21+'EB PT 1'!AW22+'EB PT 1'!AW24+'EB PT 1'!AW23)","v":0},{"$f":"+('EB PT 1'!AX21+'EB PT 1'!AX22+'EB PT 1'!AX24+'EB PT 1'!AX23)","v":0},{"$f":"+('EB PT 1'!AY21+'EB PT 1'!AY22+'EB PT 1'!AY24+'EB PT 1'!AY23)","v":0},{"$f":"+('EB PT 1'!AZ21+'EB PT 1'!AZ22+'EB PT 1'!AZ24+'EB PT 1'!AZ23)","v":0},{"$f":"+('EB PT 1'!BA21+'EB PT 1'!BA22+'EB PT 1'!BA24+'EB PT 1'!BA23)","v":0},{"$f":"+('EB PT 1'!BB21+'EB PT 1'!BB22+'EB PT 1'!BB24+'EB PT 1'!BB23)","v":0},{"$f":"SUM(AM31:AS31)","v":0},{"$f":"IF(OR('Essbase Input'!$C$8=\"Golden Rule Insurance Company\",'Essbase Input'!$C$8=\"UnitedHealthcare Life Ins Co\",'Essbase Input'!$C$8=\"Mid-West Nat Life Ins Co of TN\",'Essbase Input'!$C$8=\"The Chesapeake Life Ins. Co.\"),SUM(R31:U31,AD31,AT31),IF('Essbase Input'!$C$8=\"Dental Benefit Prov CA Inc\",SUM(R31:U31,AD31,AE31:AF31,AT31),SUM(R31:U31,AD31,AL31,AT31)))","v":5197.3100000000004},{"$f":"+'EB PT 1'!BD21+'EB PT 1'!BD22+'EB PT 1'!BD27+'EB PT 1'!BD23","v":5197.3100000000004},{"$f":"AU31-AV31","v":0},"Pt 1, Ln 3.2a"]
[null,null,null,"  3.2 b   State premium taxes ",{"$f":"IF(VLOOKUP('Essbase Input'!$C$8,Tables!$B$4:$F$16,5,FALSE)=\"DPPO\",\"\",'EB PT 1'!K26-'EB PT 1'!K27)","v":""},{"$f":"E32","v":""},{"$f":"IF(VLOOKUP('Essbase Input'!$C$8,Tables!$B$4:$F$16,5,FALSE)=\"DPPO\",\"\",'EB PT 1'!M26-'EB PT 1'!M27)","v":""},{"$f":"G32","v":""},{"$f":"IF(VLOOKUP('Essbase Input'!$C$8,Tables!$B$4:$F$16,5,FALSE)=\"DPPO\",\"\",'EB PT 1'!O26-'EB PT 1'!O27)","v":""},{"$f":"I32","v":""},{"$f":"IF(VLOOKUP('Essbase Input'!$C$8,Tables!$B$4:$F$16,5,FALSE)=\"DHMO\",\"\",IF(OR('Essbase Input'!$C$8=\"Golden Rule Insurance Company\",'Essbase Input'!$C$8=\"UnitedHealthcare Life Ins Co\",'Essbase Input'!$C$8=\"Mid-West Nat Life Ins Co of TN\",'Essbase Input'!$C$8=\"The Chesapeake Life Ins. Co.\"),'EB PT 1'!Q26-'EB PT 1'!Q27,'EB PT 1'!K26-'EB PT 1'!K27))","v":3404.38},{"$f":"K32","v":3404.38},{"$f":"IF(VLOOKUP('Essbase Input'!$C$8,Tables!$B$4:$F$16,5,FALSE)=\"DHMO\",\"\",IF(OR('Essbase Input'!$C$8=\"Golden Rule Insurance Company\",'Essbase Input'!$C$8=\"UnitedHealthcare Life Ins Co\",'Essbase Input'!$C$8=\"Mid-West Nat Life Ins Co of TN\",'Essbase Input'!$C$8=\"The Chesapeake Life Ins. Co.\"),\"\",'EB PT 1'!M26-'EB PT 1'!M27))","v":""},{"$f":"M32","v":""},{"$f":"IF(VLOOKUP('Essbase Input'!$C$8,Tables!$B$4:$F$16,5,FALSE)=\"DHMO\",\"\",IF(OR('Essbase Input'!$C$8=\"Golden Rule Insurance Company\",'Essbase Input'!$C$8=\"UnitedHealthcare Life Ins Co\",'Essbase Input'!$C$8=\"Mid-West Nat Life Ins Co of TN\",'Essbase Input'!$C$8=\"The Chesapeake Life Ins. Co.\"),\"\",'EB PT 1'!O26-'EB PT 1'!O27))","v":""},{"$f":"O32","v":""},null,{"$f":"IF(O32=\"\",0,O32)+IF(M32=\"\",0,M32)+IF(K32=\"\",0,K32)+IF(I32=\"\",0,I32)+IF(G32=\"\",0,G32)+IF(E32=\"\",0,E32)","v":3404.38},null,{"$f":"+'EB PT 1'!S26-'EB PT 1'!S27","v":255.07999999999998},{"$f":"+'EB PT 1'!T26-'EB PT 1'!T27","v":0},{"$f":"+('EB PT 1'!U26-'EB PT 1'!U27)+('EB PT 1'!V26-'EB PT 1'!V27)+('EB PT 1'!W26-'EB PT 1'!W27)","v":0},{"$f":"+('EB PT 1'!Y26-'EB PT 1'!Y27)+('EB PT 1'!AA26-'EB PT 1'!AA27)+('EB PT 1'!X26-'EB PT 1'!X27)+('EB PT 1'!Z26-'EB PT 1'!Z27)","v":0},{"$f":"+('EB PT 1'!AC26-'EB PT 1'!AC27)+('EB PT 1'!AB26-'EB PT 1'!AB27)+('EB PT 1'!AD26-'EB PT 1'!AD27)+('EB PT 1'!AE26-'EB PT 1'!AE27)","v":0},{"$f":"+('EB PT 1'!AG26-'EB PT 1'!AG27)+('EB PT 1'!AH26-'EB PT 1'!AH27)+('EB PT 1'!AI26-'EB PT 1'!AI27)+('EB PT 1'!AF26-'EB PT 1'!AF27)","v":0},{"$f":"('EB PT 1'!AJ26-'EB PT 1'!AJ27)+('EB PT 1'!AK26-'EB PT 1'!AK27)","v":0},{"$f":"('EB PT 1'!AL26-'EB PT 1'!AL27)","v":0},{"$f":"('EB PT 1'!AM26-'EB PT 1'!AM27)","v":0},{"$f":"+'EB PT 1'!AN26-'EB PT 1'!AN27-SUM(V32:AB32)","v":0},{"$f":"SUM(V32:AC32)","v":0},{"$f":"('EB PT 1'!AO26-'EB PT 1'!AO27)","v":0},{"$f":"('EB PT 1'!AP26-'EB PT 1'!AP27)","v":3404.38},{"$f":"('EB PT 1'!AQ26-'EB PT 1'!AQ27)","v":0},{"$f":"('EB PT 1'!AR26-'EB PT 1'!AR27)","v":0},{"$f":"('EB PT 1'!AS26-'EB PT 1'!AS27)","v":0},{"$f":"('EB PT 1'!AT26-'EB PT 1'!AT27)","v":0},{"$f":"('EB PT 1'!AU26-'EB PT 1'!AU27)","v":0},{"$f":"SUM(AE32:AK32)","v":3404.38},{"$f":"('EB PT 1'!AV26-'EB PT 1'!AV27)","v":0},{"$f":"('EB PT 1'!AW26-'EB PT 1'!AW27)","v":0},{"$f":"('EB PT 1'!AX26-'EB PT 1'!AX27)","v":0},{"$f":"('EB PT 1'!AY26-'EB PT 1'!AY27)","v":0},{"$f":"('EB PT 1'!AZ26-'EB PT 1'!AZ27)","v":0},{"$f":"('EB PT 1'!BA26-'EB PT 1'!BA27)","v":0},{"$f":"('EB PT 1'!BB26-'EB PT 1'!BB27)","v":0},{"$f":"SUM(AM32:AS32)","v":0},{"$f":"IF(OR('Essbase Input'!$C$8=\"Golden Rule Insurance Company\",'Essbase Input'!$C$8=\"UnitedHealthcare Life Ins Co\",'Essbase Input'!$C$8=\"Mid-West Nat Life Ins Co of TN\",'Essbase Input'!$C$8=\"The Chesapeake Life Ins. Co.\"),SUM(R32:U32,AD32,AT32),IF('Essbase Input'!$C$8=\"Dental Benefit Prov CA Inc\",SUM(R32:U32,AD32,AE32:AF32,AT32),SUM(R32:U32,AD32,AL32,AT32)))","v":3659.46},{"$f":"+'EB PT 1'!BD26-'EB PT 1'!BD27","v":3659.46},{"$f":"AU32-AV32","v":0},"Pt 1, Ln 3.2b"]
[null,null,null,"  3.2 c   Community benefit expenditures ",{"$f":"IF(VLOOKUP('Essbase Input'!$C$8,Tables!$B$4:$F$16,5,FALSE)=\"DPPO\",\"\",0)","v":""},{"$f":"E33","v":""},{"$f":"IF(VLOOKUP('Essbase Input'!$C$8,Tables!$B$4:$F$16,5,FALSE)=\"DPPO\",\"\",0)","v":""},{"$f":"G33","v":""},{"$f":"IF(VLOOKUP('Essbase Input'!$C$8,Tables!$B$4:$F$16,5,FALSE)=\"DPPO\",\"\",0)","v":""},{"$f":"I33","v":""},{"$f":"IF(VLOOKUP('Essbase Input'!$C$8,Tables!$B$4:$F$16,5,FALSE)=\"DHMO\",\"\",IF(OR('Essbase Input'!$C$8=\"Golden Rule Insurance Company\",'Essbase Input'!$C$8=\"UnitedHealthcare Life Ins Co\",'Essbase Input'!$C$8=\"Mid-West Nat Life Ins Co of TN\",'Essbase Input'!$C$8=\"The Chesapeake Life Ins. Co.\"),0,0))","v":0},{"$f":"K33","v":0},{"$f":"IF(VLOOKUP('Essbase Input'!$C$8,Tables!$B$4:$F$16,5,FALSE)=\"DHMO\",\"\",IF(OR('Essbase Input'!$C$8=\"Golden Rule Insurance Company\",'Essbase Input'!$C$8=\"UnitedHealthcare Life Ins Co\",'Essbase Input'!$C$8=\"Mid-West Nat Life Ins Co of TN\",'Essbase Input'!$C$8=\"The Chesapeake Life Ins. Co.\"),\"\",0))","v":""},{"$f":"M33","v":""},{"$f":"IF(VLOOKUP('Essbase Input'!$C$8,Tables!$B$4:$F$16,5,FALSE)=\"DHMO\",\"\",IF(OR('Essbase Input'!$C$8=\"Golden Rule Insurance Company\",'Essbase Input'!$C$8=\"UnitedHealthcare Life Ins Co\",'Essbase Input'!$C$8=\"Mid-West Nat Life Ins Co of TN\",'Essbase Input'!$C$8=\"The Chesapeake Life Ins. Co.\"),\"\",0))","v":""},{"$f":"O33","v":""},null,{"$f":"IF(O33=\"\",0,O33)+IF(M33=\"\",0,M33)+IF(K33=\"\",0,K33)+IF(I33=\"\",0,I33)+IF(G33=\"\",0,G33)+IF(E33=\"\",0,E33)","v":0},null,0,0,0,0,0,0,0,0,0,0,{"$f":"SUM(V33:AC33)","v":0},0,0,0,0,0,0,0,{"$f":"SUM(AE33:AK33)","v":0},0,0,0,0,0,0,0,{"$f":"SUM(AM33:AS33)","v":0},{"$f":"IF(OR('Essbase Input'!$C$8=\"Golden Rule Insurance Company\",'Essbase Input'!$C$8=\"UnitedHealthcare Life Ins Co\",'Essbase Input'!$C$8=\"Mid-West Nat Life Ins Co of TN\",'Essbase Input'!$C$8=\"The Chesapeake Life Ins. Co.\"),SUM(R33:U33,AD33,AT33),IF('Essbase Input'!$C$8=\"Dental Benefit Prov CA Inc\",SUM(R33:U33,AD33,AE33:AF33,AT33),SUM(R33:U33,AD33,AL33,AT33)))","v":0},0,{"$f":"AU33-AV33","v":0},"Pt 1, Ln 3.2c"]
[null,null,3.3,"Regulatory authority licenses and fees",{"$f":"IF(VLOOKUP('Essbase Input'!$C$8,Tables!$B$4:$F$16,5,FALSE)=\"DPPO\",\"\",'EB PT 1'!K31)","v":""},{"$f":"E34","v":""},{"$f":"IF(VLOOKUP('Essbase Input'!$C$8,Tables!$B$4:$F$16,5,FALSE)=\"DPPO\",\"\",'EB PT 1'!M31)","v":""},{"$f":"G34","v":""},{"$f":"IF(VLOOKUP('Essbase Input'!$C$8,Tables!$B$4:$F$16,5,FALSE)=\"DPPO\",\"\",'EB PT 1'!O31)","v":""},{"$f":"I34","v":""},{"$f":"IF(VLOOKUP('Essbase Input'!$C$8,Tables!$B$4:$F$16,5,FALSE)=\"DHMO\",\"\",IF(OR('Essbase Input'!$C$8=\"Golden Rule Insurance Company\",'Essbase Input'!$C$8=\"UnitedHealthcare Life Ins Co\",'Essbase Input'!$C$8=\"Mid-West Nat Life Ins Co of TN\",'Essbase Input'!$C$8=\"The Chesapeake Life Ins. Co.\"),'EB PT 1'!Q31,'EB PT 1'!K31))","v":0},{"$f":"K34","v":0},{"$f":"IF(VLOOKUP('Essbase Input'!$C$8,Tables!$B$4:$F$16,5,FALSE)=\"DHMO\",\"\",IF(OR('Essbase Input'!$C$8=\"Golden Rule Insurance Company\",'Essbase Input'!$C$8=\"UnitedHealthcare Life Ins Co\",'Essbase Input'!$C$8=\"Mid-West Nat Life Ins Co of TN\",'Essbase Input'!$C$8=\"The Chesapeake Life Ins. Co.\"),\"\",'EB PT 1'!M31))","v":""},{"$f":"M34","v":""},{"$f":"IF(VLOOKUP('Essbase Input'!$C$8,Tables!$B$4:$F$16,5,FALSE)=\"DHMO\",\"\",IF(OR('Essbase Input'!$C$8=\"Golden Rule Insurance Company\",'Essbase Input'!$C$8=\"UnitedHealthcare Life Ins Co\",'Essbase Input'!$C$8=\"Mid-West Nat Life Ins Co of TN\",'Essbase Input'!$C$8=\"The Chesapeake Life Ins. Co.\"),\"\",'EB PT 1'!O31))","v":""},{"$f":"O34","v":""},null,{"$f":"IF(O34=\"\",0,O34)+IF(M34=\"\",0,M34)+IF(K34=\"\",0,K34)+IF(I34=\"\",0,I34)+IF(G34=\"\",0,G34)+IF(E34=\"\",0,E34)","v":0},null,{"$f":"+'EB PT 1'!S31","v":0},{"$f":"+'EB PT 1'!T31","v":0},{"$f":"+'EB PT 1'!U31+'EB PT 1'!V31+'EB PT 1'!W31","v":0},{"$f":"+'EB PT 1'!X31+'EB PT 1'!Y31+'EB PT 1'!Z31+'EB PT 1'!AA31","v":0},{"$f":"+'EB PT 1'!AC31+'EB PT 1'!AD31+'EB PT 1'!AE31+'EB PT 1'!AB31","v":0},{"$f":"+'EB PT 1'!AG31+'EB PT 1'!AH31+'EB PT 1'!AI31+'EB PT 1'!AF31","v":0},{"$f":"+'EB PT 1'!AJ31+'EB PT 1'!AK31","v":0},{"$f":"+'EB PT 1'!AL31","v":0},{"$f":"+'EB PT 1'!AM31","v":0},{"$f":"+'EB PT 1'!AN31-SUM(V34:AB34)","v":0},{"$f":"SUM(V34:AC34)","v":0},{"$f":"+'EB PT 1'!AO31","v":0},{"$f":"+'EB PT 1'!AP31","v":0},{"$f":"+'EB PT 1'!AQ31","v":0},{"$f":"+'EB PT 1'!AR31","v":0},{"$f":"+'EB PT 1'!AS31","v":0},{"$f":"+'EB PT 1'!AT31","v":0},{"$f":"+'EB PT 1'!AU31","v":0},{"$f":"SUM(AE34:AK34)","v":0},{"$f":"+'EB PT 1'!AV31","v":0},{"$f":"+'EB PT 1'!AW31","v":0},{"$f":"+'EB PT 1'!AX31","v":0},{"$f":"+'EB PT 1'!AY31","v":0},{"$f":"+'EB PT 1'!AZ31","v":0},{"$f":"+'EB PT 1'!BA31","v":0},{"$f":"+'EB PT 1'!BB31","v":0},{"$f":"SUM(AM34:AS34)","v":0},{"$f":"IF(OR('Essbase Input'!$C$8=\"Golden Rule Insurance Company\",'Essbase Input'!$C$8=\"UnitedHealthcare Life Ins Co\",'Essbase Input'!$C$8=\"Mid-West Nat Life Ins Co of TN\",'Essbase Input'!$C$8=\"The Chesapeake Life Ins. Co.\"),SUM(R34:U34,AD34,AT34),IF('Essbase Input'!$C$8=\"Dental Benefit Prov CA Inc\",SUM(R34:U34,AD34,AE34:AF34,AT34),SUM(R34:U34,AD34,AL34,AT34)))","v":0},{"$f":"+'EB PT 1'!BD31","v":0},{"$f":"AU34-AV34","v":0},"Pt 1, Ln 3.3 (3.3a + 3.3b)"]
[null,null,3.4,"Total Federal and State Taxes and fees to be excluded from premium",{"$f":"IF(VLOOKUP('Essbase Input'!$C$8,Tables!$B$4:$F$16,5,FALSE)=\"DPPO\",\"\",SUM(E$28:E$29,E$31,E$34+IF($H$6=\"No\",IF(MAX(E$32:E$33)=0,MIN(E$32:E$33),MAX(E$32:E$33)),SUM(E$32:E$33))))","v":""},{"$f":"IF(VLOOKUP('Essbase Input'!$C$8,Tables!$B$4:$F$16,5,FALSE)=\"DPPO\",\"\",SUM(F$28:F$29,F$31,F$34+IF($H$6=\"No\",IF(MAX(F$32:F$33)=0,MIN(F$32:F$33),MAX(F$32:F$33)),SUM(F$32:F$33))))","v":""},{"$f":"IF(VLOOKUP('Essbase Input'!$C$8,Tables!$B$4:$F$16,5,FALSE)=\"DPPO\",\"\",SUM(G$28:G$29,G$31,G$34+IF($H$6=\"No\",IF(MAX(G$32:G$33)=0,MIN(G$32:G$33),MAX(G$32:G$33)),SUM(G$32:G$33))))","v":""},{"$f":"IF(VLOOKUP('Essbase Input'!$C$8,Tables!$B$4:$F$16,5,FALSE)=\"DPPO\",\"\",SUM(H$28:H$29,H$31,H$34+IF($H$6=\"No\",IF(MAX(H$32:H$33)=0,MIN(H$32:H$33),MAX(H$32:H$33)),SUM(H$32:H$33))))","v":""},{"$f":"IF(VLOOKUP('Essbase Input'!$C$8,Tables!$B$4:$F$16,5,FALSE)=\"DPPO\",\"\",SUM(I$28:I$29,I$31,I$34+IF($H$6=\"No\",IF(MAX(I$32:I$33)=0,MIN(I$32:I$33),MAX(I$32:I$33)),SUM(I$32:I$33))))","v":""},{"$f":"IF(VLOOKUP('Essbase Input'!$C$8,Tables!$B$4:$F$16,5,FALSE)=\"DPPO\",\"\",SUM(J$28:J$29,J$31,J$34+IF($H$6=\"No\",IF(MAX(J$32:J$33)=0,MIN(J$32:J$33),MAX(J$32:J$33)),SUM(J$32:J$33))))","v":""},{"$f":"IF(VLOOKUP('Essbase Input'!$C$8,Tables!$B$4:$F$16,5,FALSE)=\"DHMO\",\"\",SUM(K$28:K$29,K$31,K$34+IF($H$6=\"No\",IF(MAX(K$32:K$33)=0,MIN(K$32:K$33),MAX(K$32:K$33)),SUM(K$32:K$33))))","v":14168.18},{"$f":"IF(VLOOKUP('Essbase Input'!$C$8,Tables!$B$4:$F$16,5,FALSE)=\"DHMO\",\"\",SUM(L$28:L$29,L$31,L$34+IF($H$6=\"No\",IF(MAX(L$32:L$33)=0,MIN(L$32:L$33),MAX(L$32:L$33)),SUM(L$32:L$33))))","v":14168.18},{"$f":"IF(VLOOKUP('Essbase Input'!$C$8,Tables!$B$4:$F$16,5,FALSE)=\"DHMO\",\"\",IF(OR('Essbase Input'!$C$8=\"Golden Rule Insurance Company\",'Essbase Input'!$C$8=\"UnitedHealthcare Life Ins Co\",'Essbase Input'!$C$8=\"Mid-West Nat Life Ins Co of TN\",'Essbase Input'!$C$8=\"The Chesapeake Life Ins. Co.\"),\"\",SUM(M$28:M$29,M$31,M$34+IF($H$6=\"No\",IF(MAX(M$32:M$33)=0,MIN(M$32:M$33),MAX(M$32:M$33)),SUM(M$32:M$33)))))","v":""},{"$f":"IF(VLOOKUP('Essbase Input'!$C$8,Tables!$B$4:$F$16,5,FALSE)=\"DHMO\",\"\",IF(OR('Essbase Input'!$C$8=\"Golden Rule Insurance Company\",'Essbase Input'!$C$8=\"UnitedHealthcare Life Ins Co\",'Essbase Input'!$C$8=\"Mid-West Nat Life Ins Co of TN\",'Essbase Input'!$C$8=\"The Chesapeake Life Ins. Co.\"),\"\",SUM(N$28:N$29,N$31,N$34+IF($H$6=\"No\",IF(MAX(N$32:N$33)=0,MIN(N$32:N$33),MAX(N$32:N$33)),SUM(N$32:N$33)))))","v":""},{"$f":"IF(VLOOKUP('Essbase Input'!$C$8,Tables!$B$4:$F$16,5,FALSE)=\"DHMO\",\"\",IF(OR('Essbase Input'!$C$8=\"Golden Rule Insurance Company\",'Essbase Input'!$C$8=\"UnitedHealthcare Life Ins Co\",'Essbase Input'!$C$8=\"Mid-West Nat Life Ins Co of TN\",'Essbase Input'!$C$8=\"The Chesapeake Life Ins. Co.\"),\"\",SUM(O$28:O$29,O$31,O$34+IF($H$6=\"No\",IF(MAX(O$32:O$33)=0,MIN(O$32:O$33),MAX(O$32:O$33)),SUM(O$32:O$33)))))","v":""},{"$f":"IF(VLOOKUP('Essbase Input'!$C$8,Tables!$B$4:$F$16,5,FALSE)=\"DHMO\",\"\",IF(OR('Essbase Input'!$C$8=\"Golden Rule Insurance Company\",'Essbase Input'!$C$8=\"UnitedHealthcare Life Ins Co\",'Essbase Input'!$C$8=\"Mid-West Nat Life Ins Co of TN\",'Essbase Input'!$C$8=\"The Chesapeake Life Ins. Co.\"),\"\",SUM(P$28:P$29,P$31,P$34+IF($H$6=\"No\",IF(MAX(P$32:P$33)=0,MIN(P$32:P$33),MAX(P$32:P$33)),SUM(P$32:P$33)))))","v":""},null,{"$f":"IF(O35=\"\",0,O35)+IF(M35=\"\",0,M35)+IF(K35=\"\",0,K35)+IF(I35=\"\",0,I35)+IF(G35=\"\",0,G35)+IF(E35=\"\",0,E35)","v":14168.18},null,{"$f":"SUM(T$28:T$29,T$31,T$34+IF($H$6=\"No\",IF(MAX(T$32:T$33)=0,MIN(T$32:T$33),MAX(T$32:T$33)),SUM(T$32:T$33)))","v":1055.6600000000001},-143.59,0,0,0,0,0,0,0,0,{"$f":"SUM(V35:AC35)","v":0},{"$f":"SUM(AE$28:AE$29,AE$31,AE$34+IF($H$6=\"No\",IF(MAX(AE$32:AE$33)=0,MIN(AE$32:AE$33),MAX(AE$32:AE$33)),SUM(AE$32:AE$33)))","v":0},8569.18,0,0,0,0,0,{"$f":"SUM(AE35:AK35)","v":8569.18},{"$f":"SUM(AM$28:AM$29,AM$31,AM$34+IF($H$6=\"No\",IF(MAX(AM$32:AM$33)=0,MIN(AM$32:AM$33),MAX(AM$32:AM$33)),SUM(AM$32:AM$33)))","v":0},0,0,0,0,0,0,{"$f":"SUM(AM35:AS35)","v":0},{"$f":"IF(OR('Essbase Input'!$C$8=\"Golden Rule Insurance Company\",'Essbase Input'!$C$8=\"UnitedHealthcare Life Ins Co\",'Essbase Input'!$C$8=\"Mid-West Nat Life Ins Co of TN\",'Essbase Input'!$C$8=\"The Chesapeake Life Ins. Co.\"),SUM(R35:U35,AD35,AT35),IF('Essbase Input'!$C$8=\"Dental Benefit Prov CA Inc\",SUM(R35:U35,AD35,AE35:AF35,AT35),SUM(R35:U35,AD35,AL35,AT35)))","v":15080.25},{"$f":"SUM(AV$28:AV$29,AV$31,AV$34+IF($H$6=\"No\",IF(MAX(AV$32:AV$33)=0,MIN(AV$32:AV$33),MAX(AV$32:AV$33)),SUM(AV$32:AV$33)))","v":15080.25},{"$f":"AU35-AV35","v":0}]
[]
[null,"4.","Non-Claims Costs "]
[null,null,4.0999999999999996,"Direct sales salaries and benefits",{"$f":"IF(VLOOKUP('Essbase Input'!$C$8,Tables!$B$4:$F$16,5,FALSE)=\"DPPO\",\"\",'EB PT 1'!K35)","v":""},{"$f":"E38","v":""},{"$f":"IF(VLOOKUP('Essbase Input'!$C$8,Tables!$B$4:$F$16,5,FALSE)=\"DPPO\",\"\",'EB PT 1'!M35)","v":""},{"$f":"G38","v":""},{"$f":"IF(VLOOKUP('Essbase Input'!$C$8,Tables!$B$4:$F$16,5,FALSE)=\"DPPO\",\"\",'EB PT 1'!O35)","v":""},{"$f":"I38","v":""},{"$f":"IF(VLOOKUP('Essbase Input'!$C$8,Tables!$B$4:$F$16,5,FALSE)=\"DHMO\",\"\",IF(OR('Essbase Input'!$C$8=\"Golden Rule Insurance Company\",'Essbase Input'!$C$8=\"UnitedHealthcare Life Ins Co\",'Essbase Input'!$C$8=\"Mid-West Nat Life Ins Co of TN\",'Essbase Input'!$C$8=\"The Chesapeake Life Ins. Co.\"),'EB PT 1'!Q35,'EB PT 1'!K35))","v":0},{"$f":"K38","v":0},{"$f":"IF(VLOOKUP('Essbase Input'!$C$8,Tables!$B$4:$F$16,5,FALSE)=\"DHMO\",\"\",IF(OR('Essbase Input'!$C$8=\"Golden Rule Insurance Company\",'Essbase Input'!$C$8=\"UnitedHealthcare Life Ins Co\",'Essbase Input'!$C$8=\"Mid-West Nat Life Ins Co of TN\",'Essbase Input'!$C$8=\"The Chesapeake Life Ins. Co.\"),\"\",'EB PT 1'!M35))","v":""},{"$f":"M38","v":""},{"$f":"IF(VLOOKUP('Essbase Input'!$C$8,Tables!$B$4:$F$16,5,FALSE)=\"DHMO\",\"\",IF(OR('Essbase Input'!$C$8=\"Golden Rule Insurance Company\",'Essbase Input'!$C$8=\"UnitedHealthcare Life Ins Co\",'Essbase Input'!$C$8=\"Mid-West Nat Life Ins Co of TN\",'Essbase Input'!$C$8=\"The Chesapeake Life Ins. Co.\"),\"\",'EB PT 1'!O35))","v":""},{"$f":"O38","v":""},null,{"$f":"IF(O38=\"\",0,O38)+IF(M38=\"\",0,M38)+IF(K38=\"\",0,K38)+IF(I38=\"\",0,I38)+IF(G38=\"\",0,G38)+IF(E38=\"\",0,E38)","v":0},null,{"$f":"+'EB PT 1'!S35","v":0},{"$f":"+'EB PT 1'!T35","v":0},{"$f":"+'EB PT 1'!U35+'EB PT 1'!V35+'EB PT 1'!W35","v":0},{"$f":"+'EB PT 1'!Y35+'EB PT 1'!AA35+'EB PT 1'!X35+'EB PT 1'!Z35","v":0},{"$f":"+'EB PT 1'!AC35+'EB PT 1'!AB35+'EB PT 1'!AD35+'EB PT 1'!AE35","v":0},{"$f":"+'EB PT 1'!AG35+'EB PT 1'!AH35+'EB PT 1'!AI35+'EB PT 1'!AF35","v":0},{"$f":"+'EB PT 1'!AJ35+'EB PT 1'!AK35","v":0},{"$f":"+'EB PT 1'!AL35","v":0},{"$f":"+'EB PT 1'!AM35","v":0},{"$f":"+'EB PT 1'!AN35-SUM(V38:AB38)","v":0},{"$f":"SUM(V38:AC38)","v":0},{"$f":"+'EB PT 1'!AO35","v":0},{"$f":"+'EB PT 1'!AP35","v":0},{"$f":"+'EB PT 1'!AQ35","v":0},{"$f":"+'EB PT 1'!AR35","v":0},{"$f":"+'EB PT 1'!AS35","v":0},{"$f":"+'EB PT 1'!AT35","v":0},{"$f":"+'EB PT 1'!AU35","v":0},{"$f":"SUM(AE38:AK38)","v":0},{"$f":"+'EB PT 1'!AV35","v":0},{"$f":"+'EB PT 1'!AW35","v":0},{"$f":"+'EB PT 1'!AX35","v":0},{"$f":"+'EB PT 1'!AY35","v":0},{"$f":"+'EB PT 1'!AZ35","v":0},{"$f":"+'EB PT 1'!BA35","v":0},{"$f":"+'EB PT 1'!BB35","v":0},{"$f":"SUM(AM38:AS38)","v":0},{"$f":"IF(OR('Essbase Input'!$C$8=\"Golden Rule Insurance Company\",'Essbase Input'!$C$8=\"UnitedHealthcare Life Ins Co\",'Essbase Input'!$C$8=\"Mid-West Nat Life Ins Co of TN\",'Essbase Input'!$C$8=\"The Chesapeake Life Ins. Co.\"),SUM(R38:U38,AD38,AT38),IF('Essbase Input'!$C$8=\"Dental Benefit Prov CA Inc\",SUM(R38:U38,AD38,AE38:AF38,AT38),SUM(R38:U38,AD38,AL38,AT38)))","v":0},{"$f":"+'EB PT 1'!BD35","v":0},{"$f":"AU38-AV38","v":0},"Pt 1, Ln 5.3"]
[null,null,4.2,"Agents and brokers fees and commissions",{"$f":"IF(VLOOKUP('Essbase Input'!$C$8,Tables!$B$4:$F$16,5,FALSE)=\"DPPO\",\"\",'EB PT 1'!K37)","v":""},{"$f":"E39","v":""},{"$f":"IF(VLOOKUP('Essbase Input'!$C$8,Tables!$B$4:$F$16,5,FALSE)=\"DPPO\",\"\",'EB PT 1'!M37)","v":""},{"$f":"G39","v":""},{"$f":"IF(VLOOKUP('Essbase Input'!$C$8,Tables!$B$4:$F$16,5,FALSE)=\"DPPO\",\"\",'EB PT 1'!O37)","v":""},{"$f":"I39","v":""},{"$f":"IF(VLOOKUP('Essbase Input'!$C$8,Tables!$B$4:$F$16,5,FALSE)=\"DHMO\",\"\",IF(OR('Essbase Input'!$C$8=\"Golden Rule Insurance Company\",'Essbase Input'!$C$8=\"UnitedHealthcare Life Ins Co\",'Essbase Input'!$C$8=\"Mid-West Nat Life Ins Co of TN\",'Essbase Input'!$C$8=\"The Chesapeake Life Ins. Co.\"),'EB PT 1'!Q37,'EB PT 1'!K37))","v":9184.49},{"$f":"K39","v":9184.49},{"$f":"IF(VLOOKUP('Essbase Input'!$C$8,Tables!$B$4:$F$16,5,FALSE)=\"DHMO\",\"\",IF(OR('Essbase Input'!$C$8=\"Golden Rule Insurance Company\",'Essbase Input'!$C$8=\"UnitedHealthcare Life Ins Co\",'Essbase Input'!$C$8=\"Mid-West Nat Life Ins Co of TN\",'Essbase Input'!$C$8=\"The Chesapeake Life Ins. Co.\"),\"\",'EB PT 1'!M37))","v":""},{"$f":"M39","v":""},{"$f":"IF(VLOOKUP('Essbase Input'!$C$8,Tables!$B$4:$F$16,5,FALSE)=\"DHMO\",\"\",IF(OR('Essbase Input'!$C$8=\"Golden Rule Insurance Company\",'Essbase Input'!$C$8=\"UnitedHealthcare Life Ins Co\",'Essbase Input'!$C$8=\"Mid-West Nat Life Ins Co of TN\",'Essbase Input'!$C$8=\"The Chesapeake Life Ins. Co.\"),\"\",'EB PT 1'!O37))","v":""},{"$f":"O39","v":""},null,{"$f":"IF(O39=\"\",0,O39)+IF(M39=\"\",0,M39)+IF(K39=\"\",0,K39)+IF(I39=\"\",0,I39)+IF(G39=\"\",0,G39)+IF(E39=\"\",0,E39)","v":9184.49},null,{"$f":"+'EB PT 1'!S37","v":166.6},{"$f":"+'EB PT 1'!T37","v":0},{"$f":"+'EB PT 1'!U37+'EB PT 1'!V37+'EB PT 1'!W37","v":0},{"$f":"+'EB PT 1'!Y37+'EB PT 1'!AA37+'EB PT 1'!X37+'EB PT 1'!Z37","v":0},{"$f":"+'EB PT 1'!AC37+'EB PT 1'!AB37+'EB PT 1'!AD37+'EB PT 1'!AE37","v":0},{"$f":"+'EB PT 1'!AG37+'EB PT 1'!AH37+'EB PT 1'!AI37+'EB PT 1'!AF37","v":0},{"$f":"+'EB PT 1'!AJ37+'EB PT 1'!AK37","v":0},{"$f":"+'EB PT 1'!AL37","v":0},{"$f":"+'EB PT 1'!AM37","v":0},{"$f":"+'EB PT 1'!AN37-SUM(V39:AB39)","v":0},{"$f":"SUM(V39:AC39)","v":0},{"$f":"+'EB PT 1'!AO37","v":0},{"$f":"+'EB PT 1'!AP37","v":9184.49},{"$f":"+'EB PT 1'!AQ37","v":0},{"$f":"+'EB PT 1'!AR37","v":0},{"$f":"+'EB PT 1'!AS37","v":0},{"$f":"+'EB PT 1'!AT37","v":0},{"$f":"+'EB PT 1'!AU37","v":0},{"$f":"SUM(AE39:AK39)","v":9184.49},{"$f":"+'EB PT 1'!AV37","v":0},{"$f":"+'EB PT 1'!AW37","v":0},{"$f":"+'EB PT 1'!AX37","v":0},{"$f":"+'EB PT 1'!AY37","v":0},{"$f":"+'EB PT 1'!AZ37","v":0},{"$f":"+'EB PT 1'!BA37","v":0},{"$f":"+'EB PT 1'!BB37","v":0},{"$f":"SUM(AM39:AS39)","v":0},{"$f":"IF(OR('Essbase Input'!$C$8=\"Golden Rule Insurance Company\",'Essbase Input'!$C$8=\"UnitedHealthcare Life Ins Co\",'Essbase Input'!$C$8=\"Mid-West Nat Life Ins Co of TN\",'Essbase Input'!$C$8=\"The Chesapeake Life Ins. Co.\"),SUM(R39:U39,AD39,AT39),IF('Essbase Input'!$C$8=\"Dental Benefit Prov CA Inc\",SUM(R39:U39,AD39,AE39:AF39,AT39),SUM(R39:U39,AD39,AL39,AT39)))","v":9351.09},{"$f":"+'EB PT 1'!BD37","v":9351.09},{"$f":"AU39-AV39","v":0},"Pt 1, Ln 5.4"]
[null,null,4.3,"Other taxes"]
[null,null,null,"4.3a   Taxes and assessments (exclude amounts reported in Section 3 or Line 10) \n",{"$f":"IF(VLOOKUP('Essbase Input'!$C$8,Tables!$B$4:$F$16,5,FALSE)=\"DPPO\",\"\",'EB PT 1'!K39)","v":""},{"$f":"E41","v":""},{"$f":"IF(VLOOKUP('Essbase Input'!$C$8,Tables!$B$4:$F$16,5,FALSE)=\"DPPO\",\"\",'EB PT 1'!M39)","v":""},{"$f":"G41","v":""},{"$f":"IF(VLOOKUP('Essbase Input'!$C$8,Tables!$B$4:$F$16,5,FALSE)=\"DPPO\",\"\",'EB PT 1'!O39)","v":""},{"$f":"I41","v":""},{"$f":"IF(VLOOKUP('Essbase Input'!$C$8,Tables!$B$4:$F$16,5,FALSE)=\"DHMO\",\"\",IF(OR('Essbase Input'!$C$8=\"Golden Rule Insurance Company\",'Essbase Input'!$C$8=\"UnitedHealthcare Life Ins Co\",'Essbase Input'!$C$8=\"Mid-West Nat Life Ins Co of TN\",'Essbase Input'!$C$8=\"The Chesapeake Life Ins. Co.\"),'EB PT 1'!Q39,'EB PT 1'!K39))","v":3488.43},{"$f":"K41","v":3488.43},{"$f":"IF(VLOOKUP('Essbase Input'!$C$8,Tables!$B$4:$F$16,5,FALSE)=\"DHMO\",\"\",IF(OR('Essbase Input'!$C$8=\"Golden Rule Insurance Company\",'Essbase Input'!$C$8=\"UnitedHealthcare Life Ins Co\",'Essbase Input'!$C$8=\"Mid-West Nat Life Ins Co of TN\",'Essbase Input'!$C$8=\"The Chesapeake Life Ins. Co.\"),\"\",'EB PT 1'!M39))","v":""},{"$f":"M41","v":""},{"$f":"IF(VLOOKUP('Essbase Input'!$C$8,Tables!$B$4:$F$16,5,FALSE)=\"DHMO\",\"\",IF(OR('Essbase Input'!$C$8=\"Golden Rule Insurance Company\",'Essbase Input'!$C$8=\"UnitedHealthcare Life Ins Co\",'Essbase Input'!$C$8=\"Mid-West Nat Life Ins Co of TN\",'Essbase Input'!$C$8=\"The Chesapeake Life Ins. Co.\"),\"\",'EB PT 1'!O39))","v":""},{"$f":"O41","v":""},null,{"$f":"IF(O41=\"\",0,O41)+IF(M41=\"\",0,M41)+IF(K41=\"\",0,K41)+IF(I41=\"\",0,I41)+IF(G41=\"\",0,G41)+IF(E41=\"\",0,E41)","v":3488.43},null,{"$f":"+'EB PT 1'!S39","v":45.44},{"$f":"+'EB PT 1'!T39","v":667},{"$f":"+'EB PT 1'!U39+'EB PT 1'!V39+'EB PT 1'!W39","v":0},{"$f":"+'EB PT 1'!Y39+'EB PT 1'!AA39+'EB PT 1'!X39+'EB PT 1'!Z39","v":0},{"$f":"+'EB PT 1'!AC39+'EB PT 1'!AB39+'EB PT 1'!AD39+'EB PT 1'!AE39","v":0},{"$f":"+'EB PT 1'!AG39+'EB PT 1'!AH39+'EB PT 1'!AI39+'EB PT 1'!AF39","v":0},{"$f":"+'EB PT 1'!AJ39+'EB PT 1'!AK39","v":0},{"$f":"+'EB PT 1'!AL39","v":0},{"$f":"+'EB PT 1'!AM39","v":0},{"$f":"+'EB PT 1'!AN39-SUM(V41:AB41)","v":0},{"$f":"SUM(V41:AC41)","v":0},{"$f":"+'EB PT 1'!AO39","v":0},{"$f":"+'EB PT 1'!AP39","v":2882},{"$f":"+'EB PT 1'!AQ39","v":0},{"$f":"+'EB PT 1'!AR39","v":0},{"$f":"+'EB PT 1'!AS39","v":0},{"$f":"+'EB PT 1'!AT39","v":0},{"$f":"+'EB PT 1'!AU39","v":0},{"$f":"SUM(AE41:AK41)","v":2882},{"$f":"+'EB PT 1'!AV39","v":0},{"$f":"+'EB PT 1'!AW39","v":0},{"$f":"+'EB PT 1'!AX39","v":0},{"$f":"+'EB PT 1'!AY39","v":0},{"$f":"+'EB PT 1'!AZ39","v":0},{"$f":"+'EB PT 1'!BA39","v":0},{"$f":"+'EB PT 1'!BB39","v":0},{"$f":"SUM(AM41:AS41)","v":0},{"$f":"IF(OR('Essbase Input'!$C$8=\"Golden Rule Insurance Company\",'Essbase Input'!$C$8=\"UnitedHealthcare Life Ins Co\",'Essbase Input'!$C$8=\"Mid-West Nat Life Ins Co of TN\",'Essbase Input'!$C$8=\"The Chesapeake Life Ins. Co.\"),SUM(R41:U41,AD41,AT41),IF('Essbase Input'!$C$8=\"Dental Benefit Prov CA Inc\",SUM(R41:U41,AD41,AE41:AF41,AT41),SUM(R41:U41,AD41,AL41,AT41)))","v":4200.87},{"$f":"+'EB PT 1'!BD39","v":4200.87},{"$f":"AU41-AV41","v":0},"Pt 1, Ln 5.5a"]
[null,null,null,"4.3b   Fines and penalties of regulatory authorities (exclude amounts reported in Line 3.3)",{"$f":"IF(VLOOKUP('Essbase Input'!$C$8,Tables!$B$4:$F$16,5,FALSE)=\"DPPO\",\"\",0)","v":""},{"$f":"E42","v":""},{"$f":"IF(VLOOKUP('Essbase Input'!$C$8,Tables!$B$4:$F$16,5,FALSE)=\"DPPO\",\"\",0)","v":""},{"$f":"G42","v":""},{"$f":"IF(VLOOKUP('Essbase Input'!$C$8,Tables!$B$4:$F$16,5,FALSE)=\"DPPO\",\"\",0)","v":""},{"$f":"I42","v":""},{"$f":"IF(VLOOKUP('Essbase Input'!$C$8,Tables!$B$4:$F$16,5,FALSE)=\"DHMO\",\"\",IF(OR('Essbase Input'!$C$8=\"Golden Rule Insurance Company\",'Essbase Input'!$C$8=\"UnitedHealthcare Life Ins Co\",'Essbase Input'!$C$8=\"Mid-West Nat Life Ins Co of TN\",'Essbase Input'!$C$8=\"The Chesapeake Life Ins. Co.\"),0,0))","v":0},{"$f":"K42","v":0},{"$f":"IF(VLOOKUP('Essbase Input'!$C$8,Tables!$B$4:$F$16,5,FALSE)=\"DHMO\",\"\",IF(OR('Essbase Input'!$C$8=\"Golden Rule Insurance Company\",'Essbase Input'!$C$8=\"UnitedHealthcare Life Ins Co\",'Essbase Input'!$C$8=\"Mid-West Nat Life Ins Co of TN\",'Essbase Input'!$C$8=\"The Chesapeake Life Ins. Co.\"),\"\",0))","v":""},{"$f":"M42","v":""},{"$f":"IF(VLOOKUP('Essbase Input'!$C$8,Tables!$B$4:$F$16,5,FALSE)=\"DHMO\",\"\",IF(OR('Essbase Input'!$C$8=\"Golden Rule Insurance Company\",'Essbase Input'!$C$8=\"UnitedHealthcare Life Ins Co\",'Essbase Input'!$C$8=\"Mid-West Nat Life Ins Co of TN\",'Essbase Input'!$C$8=\"The Chesapeake Life Ins. Co.\"),\"\",0))","v":""},{"$f":"O42","v":""},null,{"$f":"IF(O42=\"\",0,O42)+IF(M42=\"\",0,M42)+IF(K42=\"\",0,K42)+IF(I42=\"\",0,I42)+IF(G42=\"\",0,G42)+IF(E42=\"\",0,E42)","v":0},null,0,0,0,0,0,0,0,0,0,0,{"$f":"SUM(V42:AC42)","v":0},0,0,0,0,0,0,0,{"$f":"SUM(AE42:AK42)","v":0},0,0,0,0,0,0,0,{"$f":"SUM(AM42:AS42)","v":0},{"$f":"IF(OR('Essbase Input'!$C$8=\"Golden Rule Insurance Company\",'Essbase Input'!$C$8=\"UnitedHealthcare Life Ins Co\",'Essbase Input'!$C$8=\"Mid-West Nat Life Ins Co of TN\",'Essbase Input'!$C$8=\"The Chesapeake Life Ins. Co.\"),SUM(R42:U42,AD42,AT42),IF('Essbase Input'!$C$8=\"Dental Benefit Prov CA Inc\",SUM(R42:U42,AD42,AE42:AF42,AT42),SUM(R42:U42,AD42,AL42,AT42)))","v":0},0,{"$f":"AU42-AV42","v":0},"Pt 1, Ln 5.5b"]
[null,null,4.4000000000000004,"Other general and administrative expenses",{"$f":"IF(VLOOKUP('Essbase Input'!$C$8,Tables!$B$4:$F$16,5,FALSE)=\"DPPO\",\"\",'EB PT 1'!K43+'EB PT 1'!K44+SUM('EB PT 1'!K45:K51))","v":""},{"$f":"E43","v":""},{"$f":"IF(VLOOKUP('Essbase Input'!$C$8,Tables!$B$4:$F$16,5,FALSE)=\"DPPO\",\"\",'EB PT 1'!M43+'EB PT 1'!M44+SUM('EB PT 1'!M45:M51))","v":""},{"$f":"G43","v":""},{"$f":"IF(VLOOKUP('Essbase Input'!$C$8,Tables!$B$4:$F$16,5,FALSE)=\"DPPO\",\"\",'EB PT 1'!O43+'EB PT 1'!O44+SUM('EB PT 1'!O45:O51))","v":""},{"$f":"I43","v":""},{"$f":"IF(VLOOKUP('Essbase Input'!$C$8,Tables!$B$4:$F$16,5,FALSE)=\"DHMO\",\"\",IF(OR('Essbase Input'!$C$8=\"Golden Rule Insurance Company\",'Essbase Input'!$C$8=\"UnitedHealthcare Life Ins Co\",'Essbase Input'!$C$8=\"Mid-West Nat Life Ins Co of TN\",'Essbase Input'!$C$8=\"The Chesapeake Life Ins. Co.\"),'EB PT 1'!Q43+'EB PT 1'!Q44+SUM('EB PT 1'!Q45:Q51),'EB PT 1'!K43+'EB PT 1'!K44+SUM('EB PT 1'!K45:K51)))","v":22452.769999999997},{"$f":"K43","v":22452.769999999997},{"$f":"IF(VLOOKUP('Essbase Input'!$C$8,Tables!$B$4:$F$16,5,FALSE)=\"DHMO\",\"\",IF(OR('Essbase Input'!$C$8=\"Golden Rule Insurance Company\",'Essbase Input'!$C$8=\"UnitedHealthcare Life Ins Co\",'Essbase Input'!$C$8=\"Mid-West Nat Life Ins Co of TN\",'Essbase Input'!$C$8=\"The Chesapeake Life Ins. Co.\"),\"\",'EB PT 1'!M43+'EB PT 1'!M44+SUM('EB PT 1'!M45:M51)))","v":""},{"$f":"M43","v":""},{"$f":"IF(VLOOKUP('Essbase Input'!$C$8,Tables!$B$4:$F$16,5,FALSE)=\"DHMO\",\"\",IF(OR('Essbase Input'!$C$8=\"Golden Rule Insurance Company\",'Essbase Input'!$C$8=\"UnitedHealthcare Life Ins Co\",'Essbase Input'!$C$8=\"Mid-West Nat Life Ins Co of TN\",'Essbase Input'!$C$8=\"The Chesapeake Life Ins. Co.\"),\"\",'EB PT 1'!O43+'EB PT 1'!O44+SUM('EB PT 1'!O45:O51)))","v":""},{"$f":"O43","v":""},null,{"$f":"IF(O43=\"\",0,O43)+IF(M43=\"\",0,M43)+IF(K43=\"\",0,K43)+IF(I43=\"\",0,I43)+IF(G43=\"\",0,G43)+IF(E43=\"\",0,E43)","v":22452.769999999997},null,{"$f":"+'EB PT 1'!S43+'EB PT 1'!S44+SUM('EB PT 1'!S45:S51)","v":2042.6599999999999},{"$f":"+'EB PT 1'!T43+'EB PT 1'!T44+SUM('EB PT 1'!T45:T51)","v":0},{"$f":"+('EB PT 1'!U43+'EB PT 1'!U44+SUM('EB PT 1'!U45:U51))+('EB PT 1'!V43+'EB PT 1'!V44+SUM('EB PT 1'!V45:V51))+('EB PT 1'!W43+'EB PT 1'!W44+SUM('EB PT 1'!W45:W51))","v":0},{"$f":"+('EB PT 1'!Y43+'EB PT 1'!Y44+SUM('EB PT 1'!Y45:Y51))+('EB PT 1'!AA43+'EB PT 1'!AA44+SUM('EB PT 1'!AA45:AA51))+('EB PT 1'!X43+'EB PT 1'!X44+SUM('EB PT 1'!X45:X51))+('EB PT 1'!Z43+'EB PT 1'!Z44+SUM('EB PT 1'!Z45:Z51))","v":0},{"$f":"+('EB PT 1'!AC43+'EB PT 1'!AC44+SUM('EB PT 1'!AC45:AC51))+('EB PT 1'!AB43+'EB PT 1'!AB44+SUM('EB PT 1'!AB45:AB51))+('EB PT 1'!AD43+'EB PT 1'!AD44+SUM('EB PT 1'!AD45:AD51))+('EB PT 1'!AE43+'EB PT 1'!AE44+SUM('EB PT 1'!AE45:AE51))","v":0},{"$f":"+('EB PT 1'!AG43+'EB PT 1'!AG44+SUM('EB PT 1'!AG45:AG51))+('EB PT 1'!AH43+'EB PT 1'!AH44+SUM('EB PT 1'!AH45:AH51))+('EB PT 1'!AI43+'EB PT 1'!AI44+SUM('EB PT 1'!AI45:AI51))+('EB PT 1'!AF43+'EB PT 1'!AF44+SUM('EB PT 1'!AF45:AF51))","v":0},{"$f":"+('EB PT 1'!AJ43+'EB PT 1'!AJ44+SUM('EB PT 1'!AJ45:AJ51))+('EB PT 1'!AK43+'EB PT 1'!AK44+SUM('EB PT 1'!AJ45:AK51))","v":0},{"$f":"+('EB PT 1'!AL43+'EB PT 1'!AL44+SUM('EB PT 1'!AL45:AL51))","v":0},{"$f":"+('EB PT 1'!AM43+'EB PT 1'!AM44+SUM('EB PT 1'!AM45:AM51))","v":0},{"$f":"+('EB PT 1'!AN43+'EB PT 1'!AN44+SUM('EB PT 1'!AN45:AN51))-SUM(V43:AB43)","v":0},{"$f":"SUM(V43:AC43)","v":0},{"$f":"+('EB PT 1'!AO43+'EB PT 1'!AO44+SUM('EB PT 1'!AO45:AO51))","v":0},{"$f":"+('EB PT 1'!AP43+'EB PT 1'!AP44+SUM('EB PT 1'!AP45:AP51))","v":6290.74},{"$f":"+('EB PT 1'!AQ43+'EB PT 1'!AQ44+SUM('EB PT 1'!AQ45:AQ51))","v":0},{"$f":"+('EB PT 1'!AR43+'EB PT 1'!AR44+SUM('EB PT 1'!AR45:AR51))","v":0},{"$f":"+('EB PT 1'!AS43+'EB PT 1'!AS44+SUM('EB PT 1'!AS45:AS51))","v":0},{"$f":"+('EB PT 1'!AT43+'EB PT 1'!AT44+SUM('EB PT 1'!AT45:AT51))","v":0},{"$f":"+('EB PT 1'!AU43+'EB PT 1'!AU44+SUM('EB PT 1'!AU45:AU51))","v":0},{"$f":"SUM(AE43:AK43)","v":6290.74},{"$f":"+('EB PT 1'!AV43+'EB PT 1'!AV44+SUM('EB PT 1'!AV45:AV51))","v":0},{"$f":"+('EB PT 1'!AW43+'EB PT 1'!AW44+SUM('EB PT 1'!AW45:AW51))","v":0},{"$f":"+('EB PT 1'!AX43+'EB PT 1'!AX44+SUM('EB PT 1'!AX45:AX51))","v":0},{"$f":"+('EB PT 1'!AY43+'EB PT 1'!AY44+SUM('EB PT 1'!AY45:AY51))","v":0},{"$f":"+('EB PT 1'!AZ43+'EB PT 1'!AZ44+SUM('EB PT 1'!AZ45:AZ51))","v":0},{"$f":"+('EB PT 1'!BA43+'EB PT 1'!BA44+SUM('EB PT 1'!BA45:BA51))","v":0},{"$f":"+('EB PT 1'!BB43+'EB PT 1'!BB44+SUM('EB PT 1'!BB45:BB51))","v":0},{"$f":"SUM(AM43:AS43)","v":0},{"$f":"IF(OR('Essbase Input'!$C$8=\"Golden Rule Insurance Company\",'Essbase Input'!$C$8=\"UnitedHealthcare Life Ins Co\",'Essbase Input'!$C$8=\"Mid-West Nat Life Ins Co of TN\",'Essbase Input'!$C$8=\"The Chesapeake Life Ins. Co.\"),SUM(R43:U43,AD43,AT43),IF('Essbase Input'!$C$8=\"Dental Benefit Prov CA Inc\",SUM(R43:U43,AD43,AE43:AF43,AT43),SUM(R43:U43,AD43,AL43,AT43)))","v":24495.429999999997},{"$f":"+'EB PT 1'!BD43+'EB PT 1'!BD44+SUM('EB PT 1'!BD45:BD51)","v":24495.43},{"$f":"AU43-AV43","v":0},"Pt 1, Ln 4.1-4.5 + 5.1 + 5.2 + 5.6"]
[null,null,4.5,"Total non-claims costs",{"$f":"IF(VLOOKUP('Essbase Input'!$C$8,Tables!$B$4:$F$16,5,FALSE)=\"DPPO\",\"\",SUM(SUM(E38:E39)+SUM(E41:E43)))","v":""},{"$f":"IF(VLOOKUP('Essbase Input'!$C$8,Tables!$B$4:$F$16,5,FALSE)=\"DPPO\",\"\",SUM(SUM(F38:F39)+SUM(F41:F43)))","v":""},{"$f":"IF(VLOOKUP('Essbase Input'!$C$8,Tables!$B$4:$F$16,5,FALSE)=\"DPPO\",\"\",SUM(SUM(G38:G39)+SUM(G41:G43)))","v":""},{"$f":"IF(VLOOKUP('Essbase Input'!$C$8,Tables!$B$4:$F$16,5,FALSE)=\"DPPO\",\"\",SUM(SUM(H38:H39)+SUM(H41:H43)))","v":""},{"$f":"IF(VLOOKUP('Essbase Input'!$C$8,Tables!$B$4:$F$16,5,FALSE)=\"DPPO\",\"\",SUM(SUM(I38:I39)+SUM(I41:I43)))","v":""},{"$f":"IF(VLOOKUP('Essbase Input'!$C$8,Tables!$B$4:$F$16,5,FALSE)=\"DPPO\",\"\",SUM(SUM(J38:J39)+SUM(J41:J43)))","v":""},{"$f":"IF(VLOOKUP('Essbase Input'!$C$8,Tables!$B$4:$F$16,5,FALSE)=\"DHMO\",\"\",SUM(SUM(K38:K39)+SUM(K41:K43)))","v":35125.689999999995},{"$f":"IF(VLOOKUP('Essbase Input'!$C$8,Tables!$B$4:$F$16,5,FALSE)=\"DHMO\",\"\",SUM(SUM(L38:L39)+SUM(L41:L43)))","v":35125.689999999995},{"$f":"IF(VLOOKUP('Essbase Input'!$C$8,Tables!$B$4:$F$16,5,FALSE)=\"DHMO\",\"\",IF(OR('Essbase Input'!$C$8=\"Golden Rule Insurance Company\",'Essbase Input'!$C$8=\"UnitedHealthcare Life Ins Co\",'Essbase Input'!$C$8=\"Mid-West Nat Life Ins Co of TN\",'Essbase Input'!$C$8=\"The Chesapeake Life Ins. Co.\"),\"\",SUM(SUM(M38:M39)+SUM(M41:M43))))","v":""},{"$f":"IF(VLOOKUP('Essbase Input'!$C$8,Tables!$B$4:$F$16,5,FALSE)=\"DHMO\",\"\",IF(OR('Essbase Input'!$C$8=\"Golden Rule Insurance Company\",'Essbase Input'!$C$8=\"UnitedHealthcare Life Ins Co\",'Essbase Input'!$C$8=\"Mid-West Nat Life Ins Co of TN\",'Essbase Input'!$C$8=\"The Chesapeake Life Ins. Co.\"),\"\",SUM(SUM(N38:N39)+SUM(N41:N43))))","v":""},{"$f":"IF(VLOOKUP('Essbase Input'!$C$8,Tables!$B$4:$F$16,5,FALSE)=\"DHMO\",\"\",IF(OR('Essbase Input'!$C$8=\"Golden Rule Insurance Company\",'Essbase Input'!$C$8=\"UnitedHealthcare Life Ins Co\",'Essbase Input'!$C$8=\"Mid-West Nat Life Ins Co of TN\",'Essbase Input'!$C$8=\"The Chesapeake Life Ins. Co.\"),\"\",SUM(SUM(O38:O39)+SUM(O41:O43))))","v":""},{"$f":"IF(VLOOKUP('Essbase Input'!$C$8,Tables!$B$4:$F$16,5,FALSE)=\"DHMO\",\"\",IF(OR('Essbase Input'!$C$8=\"Golden Rule Insurance Company\",'Essbase Input'!$C$8=\"UnitedHealthcare Life Ins Co\",'Essbase Input'!$C$8=\"Mid-West Nat Life Ins Co of TN\",'Essbase Input'!$C$8=\"The Chesapeake Life Ins. Co.\"),\"\",SUM(SUM(P38:P39)+SUM(P41:P43))))","v":""},null,{"$f":"IF(O44=\"\",0,O44)+IF(M44=\"\",0,M44)+IF(K44=\"\",0,K44)+IF(I44=\"\",0,I44)+IF(G44=\"\",0,G44)+IF(E44=\"\",0,E44)","v":35125.689999999995},null,{"$f":"SUM(SUM(T38:T39)+SUM(T41:T43))","v":2254.6999999999998},667,0,0,0,0,0,0,0,0,{"$f":"SUM(V44:AC44)","v":0},{"$f":"SUM(SUM(AE38:AE39)+SUM(AE41:AE43))","v":0},18357.23,0,0,0,0,0,{"$f":"SUM(AE44:AK44)","v":18357.23},{"$f":"SUM(SUM(AM38:AM39)+SUM(AM41:AM43))","v":0},0,0,0,0,0,0,{"$f":"SUM(AM44:AS44)","v":0},{"$f":"IF(OR('Essbase Input'!$C$8=\"Golden Rule Insurance Company\",'Essbase Input'!$C$8=\"UnitedHealthcare Life Ins Co\",'Essbase Input'!$C$8=\"Mid-West Nat Life Ins Co of TN\",'Essbase Input'!$C$8=\"The Chesapeake Life Ins. Co.\"),SUM(R44:U44,AD44,AT44),IF('Essbase Input'!$C$8=\"Dental Benefit Prov CA Inc\",SUM(R44:U44,AD44,AE44:AF44,AT44),SUM(R44:U44,AD44,AL44,AT44)))","v":38047.389999999992},{"$f":"SUM(SUM(AV38:AV39)+SUM(AV41:AV43))","v":38047.39},{"$f":"AU44-AV44","v":0}]
[]
[null,"5.","Other Indicators or information "]
[null,null,5.0999999999999996,"Number of covered lives",{"$f":"IF(VLOOKUP('Essbase Input'!$C$8,Tables!$B$4:$F$16,5,FALSE)=\"DPPO\",\"\",'EB PT 1'!K55)","v":""},{"$f":"E47","v":""},{"$f":"IF(VLOOKUP('Essbase Input'!$C$8,Tables!$B$4:$F$16,5,FALSE)=\"DPPO\",\"\",'EB PT 1'!M55)","v":""},{"$f":"G47","v":""},{"$f":"IF(VLOOKUP('Essbase Input'!$C$8,Tables!$B$4:$F$16,5,FALSE)=\"DPPO\",\"\",'EB PT 1'!O55)","v":""},{"$f":"I47","v":""},{"$f":"IF(VLOOKUP('Essbase Input'!$C$8,Tables!$B$4:$F$16,5,FALSE)=\"DHMO\",\"\",IF(OR('Essbase Input'!$C$8=\"Golden Rule Insurance Company\",'Essbase Input'!$C$8=\"UnitedHealthcare Life Ins Co\",'Essbase Input'!$C$8=\"Mid-West Nat Life Ins Co of TN\",'Essbase Input'!$C$8=\"The Chesapeake Life Ins. Co.\"),'EB PT 1'!Q55,'EB PT 1'!K55))","v":224},{"$f":"K47","v":224},{"$f":"IF(VLOOKUP('Essbase Input'!$C$8,Tables!$B$4:$F$16,5,FALSE)=\"DHMO\",\"\",IF(OR('Essbase Input'!$C$8=\"Golden Rule Insurance Company\",'Essbase Input'!$C$8=\"UnitedHealthcare Life Ins Co\",'Essbase Input'!$C$8=\"Mid-West Nat Life Ins Co of TN\",'Essbase Input'!$C$8=\"The Chesapeake Life Ins. Co.\"),\"\",'EB PT 1'!M55))","v":""},{"$f":"M47","v":""},{"$f":"IF(VLOOKUP('Essbase Input'!$C$8,Tables!$B$4:$F$16,5,FALSE)=\"DHMO\",\"\",IF(OR('Essbase Input'!$C$8=\"Golden Rule Insurance Company\",'Essbase Input'!$C$8=\"UnitedHealthcare Life Ins Co\",'Essbase Input'!$C$8=\"Mid-West Nat Life Ins Co of TN\",'Essbase Input'!$C$8=\"The Chesapeake Life Ins. Co.\"),\"\",'EB PT 1'!O55))","v":""},{"$f":"O47","v":""},null,{"$f":"IF(O47=\"\",0,O47)+IF(M47=\"\",0,M47)+IF(K47=\"\",0,K47)+IF(I47=\"\",0,I47)+IF(G47=\"\",0,G47)+IF(E47=\"\",0,E47)","v":224},null,{"$f":"+'EB PT 1'!S55","v":102},{"$f":"+'EB PT 1'!T55","v":0},{"$f":"+'EB PT 1'!U55+'EB PT 1'!V55+'EB PT 1'!W55","v":0},{"$f":"+'EB PT 1'!Y55+'EB PT 1'!AA55+'EB PT 1'!X55+'EB PT 1'!Z55","v":0},{"$f":"+'EB PT 1'!AC55+'EB PT 1'!AB55+'EB PT 1'!AD55+'EB PT 1'!AE55","v":0},{"$f":"+'EB PT 1'!AG55+'EB PT 1'!AH55+'EB PT 1'!AI55+'EB PT 1'!AF55","v":0},{"$f":"+'EB PT 1'!AJ55+'EB PT 1'!AK55","v":0},{"$f":"+'EB PT 1'!AL55","v":0},{"$f":"+'EB PT 1'!AM55","v":0},{"$f":"+'EB PT 1'!AN55-SUM(V47:AB47)","v":0},{"$f":"SUM(V47:AC47)","v":0},{"$f":"+'EB PT 1'!AO55","v":0},{"$f":"+'EB PT 1'!AP55","v":224},{"$f":"+'EB PT 1'!AQ55","v":0},{"$f":"+'EB PT 1'!AR55","v":0},{"$f":"+'EB PT 1'!AS55","v":0},{"$f":"+'EB PT 1'!AT55","v":0},{"$f":"+'EB PT 1'!AU55","v":0},{"$f":"SUM(AE47:AK47)","v":224},{"$f":"+'EB PT 1'!AV55","v":0},{"$f":"+'EB PT 1'!AW55","v":0},{"$f":"+'EB PT 1'!AX55","v":0},{"$f":"+'EB PT 1'!AY55","v":0},{"$f":"+'EB PT 1'!AZ55","v":0},{"$f":"+'EB PT 1'!BA55","v":0},{"$f":"+'EB PT 1'!BB55","v":0},{"$f":"SUM(AM47:AS47)","v":0},{"$f":"IF(OR('Essbase Input'!$C$8=\"Golden Rule Insurance Company\",'Essbase Input'!$C$8=\"UnitedHealthcare Life Ins Co\",'Essbase Input'!$C$8=\"Mid-West Nat Life Ins Co of TN\",'Essbase Input'!$C$8=\"The Chesapeake Life Ins. Co.\"),SUM(R47:U47,AD47,AT47),IF('Essbase Input'!$C$8=\"Dental Benefit Prov CA Inc\",SUM(R47:U47,AD47,AE47:AF47,AT47),SUM(R47:U47,AD47,AL47,AT47)))","v":326},{"$f":"+'EB PT 1'!BD55","v":326},{"$f":"AU47-AV47","v":0},"Pt 1, Ln 7.2"]
[null,null,5.2,"Member months",{"$f":"IF(VLOOKUP('Essbase Input'!$C$8,Tables!$B$4:$F$16,5,FALSE)=\"DPPO\",\"\",ROUND('EB PT 1'!K57,0))","v":""},{"$f":"IF(VLOOKUP('Essbase Input'!$C$8,Tables!$B$4:$F$16,5,FALSE)=\"DPPO\",\"\",ROUND('EB PT 1'!K58+'EB PT 1'!L59,0))","v":""},{"$f":"IF(VLOOKUP('Essbase Input'!$C$8,Tables!$B$4:$F$16,5,FALSE)=\"DPPO\",\"\",ROUND('EB PT 1'!M57,0))","v":""},{"$f":"IF(VLOOKUP('Essbase Input'!$C$8,Tables!$B$4:$F$16,5,FALSE)=\"DPPO\",\"\",ROUND('EB PT 1'!M58+'EB PT 1'!N59,0))","v":""},{"$f":"IF(VLOOKUP('Essbase Input'!$C$8,Tables!$B$4:$F$16,5,FALSE)=\"DPPO\",\"\",ROUND('EB PT 1'!O57,0))","v":""},{"$f":"IF(VLOOKUP('Essbase Input'!$C$8,Tables!$B$4:$F$16,5,FALSE)=\"DPPO\",\"\",ROUND('EB PT 1'!O58+'EB PT 1'!P59,0))","v":""},{"$f":"IF(VLOOKUP('Essbase Input'!$C$8,Tables!$B$4:$F$16,5,FALSE)=\"DHMO\",\"\",IF(OR('Essbase Input'!$C$8=\"Golden Rule Insurance Company\",'Essbase Input'!$C$8=\"UnitedHealthcare Life Ins Co\",'Essbase Input'!$C$8=\"Mid-West Nat Life Ins Co of TN\",'Essbase Input'!$C$8=\"The Chesapeake Life Ins. Co.\"),ROUND('EB PT 1'!Q57,0),ROUND('EB PT 1'!K57,0)))","v":2911},{"$f":"IF(VLOOKUP('Essbase Input'!$C$8,Tables!$B$4:$F$16,5,FALSE)=\"DHMO\",\"\",IF(OR('Essbase Input'!$C$8=\"Golden Rule Insurance Company\",'Essbase Input'!$C$8=\"UnitedHealthcare Life Ins Co\",'Essbase Input'!$C$8=\"Mid-West Nat Life Ins Co of TN\",'Essbase Input'!$C$8=\"The Chesapeake Life Ins. Co.\"),ROUND('EB PT 1'!Q58+'EB PT 1'!R59,0),ROUND('EB PT 1'!K58+'EB PT 1'!L59,0)))","v":2905},{"$f":"IF(VLOOKUP('Essbase Input'!$C$8,Tables!$B$4:$F$16,5,FALSE)=\"DHMO\",\"\",IF(OR('Essbase Input'!$C$8=\"Golden Rule Insurance Company\",'Essbase Input'!$C$8=\"UnitedHealthcare Life Ins Co\",'Essbase Input'!$C$8=\"Mid-West Nat Life Ins Co of TN\",'Essbase Input'!$C$8=\"The Chesapeake Life Ins. Co.\"),\"\",ROUND('EB PT 1'!M57,0)))","v":""},{"$f":"IF(VLOOKUP('Essbase Input'!$C$8,Tables!$B$4:$F$16,5,FALSE)=\"DHMO\",\"\",IF(OR('Essbase Input'!$C$8=\"Golden Rule Insurance Company\",'Essbase Input'!$C$8=\"UnitedHealthcare Life Ins Co\",'Essbase Input'!$C$8=\"Mid-West Nat Life Ins Co of TN\",'Essbase Input'!$C$8=\"The Chesapeake Life Ins. Co.\"),\"\",ROUND('EB PT 1'!M58+'EB PT 1'!N59,0)))","v":""},{"$f":"IF(VLOOKUP('Essbase Input'!$C$8,Tables!$B$4:$F$16,5,FALSE)=\"DHMO\",\"\",IF(OR('Essbase Input'!$C$8=\"Golden Rule Insurance Company\",'Essbase Input'!$C$8=\"UnitedHealthcare Life Ins Co\",'Essbase Input'!$C$8=\"Mid-West Nat Life Ins Co of TN\",'Essbase Input'!$C$8=\"The Chesapeake Life Ins. Co.\"),\"\",ROUND('EB PT 1'!O57,0)))","v":""},{"$f":"IF(VLOOKUP('Essbase Input'!$C$8,Tables!$B$4:$F$16,5,FALSE)=\"DHMO\",\"\",IF(OR('Essbase Input'!$C$8=\"Golden Rule Insurance Company\",'Essbase Input'!$C$8=\"UnitedHealthcare Life Ins Co\",'Essbase Input'!$C$8=\"Mid-West Nat Life Ins Co of TN\",'Essbase Input'!$C$8=\"The Chesapeake Life Ins. Co.\"),\"\",ROUND('EB PT 1'!O58+'EB PT 1'!P58,0)))","v":""},null,{"$f":"IF(O48=\"\",0,O48)+IF(M48=\"\",0,M48)+IF(K48=\"\",0,K48)+IF(I48=\"\",0,I48)+IF(G48=\"\",0,G48)+IF(E48=\"\",0,E48)","v":2911},null,{"$f":"ROUND('EB PT 1'!S57,0)","v":1265},{"$f":"ROUND('EB PT 1'!T57,0)","v":0},{"$f":"ROUND('EB PT 1'!U57,0)+ROUND('EB PT 1'!V57,0)+ROUND('EB PT 1'!W57,0)","v":0},{"$f":"ROUND('EB PT 1'!Y57,0)+ROUND('EB PT 1'!AA57,0)+ROUND('EB PT 1'!X57,0)+ROUND('EB PT 1'!Z57,0)","v":0},{"$f":"ROUND('EB PT 1'!AC57,0)+ROUND('EB PT 1'!AB57,0)+ROUND('EB PT 1'!AD57,0)+ROUND('EB PT 1'!AE57,0)","v":0},{"$f":"ROUND('EB PT 1'!AG57,0)+ROUND('EB PT 1'!AH57,0)+ROUND('EB PT 1'!AI57,0)+ROUND('EB PT 1'!AF57,0)","v":0},{"$f":"ROUND('EB PT 1'!AJ57,0)+ROUND('EB PT 1'!AK57,0)","v":0},{"$f":"ROUND('EB PT 1'!AL57,0)","v":0},{"$f":"ROUND('EB PT 1'!AM57,0)","v":0},{"$f":"ROUND('EB PT 1'!AN57,0)-SUM(V48:AB48)","v":0},{"$f":"SUM(V48:AC48)","v":0},{"$f":"ROUND('EB PT 1'!AO57,0)","v":0},{"$f":"ROUND('EB PT 1'!AP57,0)","v":2911},{"$f":"ROUND('EB PT 1'!AQ57,0)","v":0},{"$f":"ROUND('EB PT 1'!AR57,0)","v":0},{"$f":"ROUND('EB PT 1'!AS57,0)","v":0},{"$f":"ROUND('EB PT 1'!AT57,0)","v":0},{"$f":"ROUND('EB PT 1'!AU57,0)","v":0},{"$f":"SUM(AE48:AK48)","v":2911},{"$f":"ROUND('EB PT 1'!AV57,0)","v":0},{"$f":"ROUND('EB PT 1'!AW57,0)","v":0},{"$f":"ROUND('EB PT 1'!AX57,0)","v":0},{"$f":"ROUND('EB PT 1'!AY57,0)","v":0},{"$f":"ROUND('EB PT 1'!AZ57,0)","v":0},{"$f":"ROUND('EB PT 1'!BA57,0)","v":0},{"$f":"ROUND('EB PT 1'!BB57,0)","v":0},{"$f":"SUM(AM48:AS48)","v":0},{"$f":"IF(OR('Essbase Input'!$C$8=\"Golden Rule Insurance Company\",'Essbase Input'!$C$8=\"UnitedHealthcare Life Ins Co\",'Essbase Input'!$C$8=\"Mid-West Nat Life Ins Co of TN\",'Essbase Input'!$C$8=\"The Chesapeake Life Ins. Co.\"),SUM(R48:U48,AD48,AT48),IF('Essbase Input'!$C$8=\"Dental Benefit Prov CA Inc\",SUM(R48:U48,AD48,AE48:AF48,AT48),SUM(R48:U48,AD48,AL48,AT48)))","v":4176},{"$f":"ROUND('EB PT 1'!BD57,0)","v":4176},{"$f":"AU48-AV48","v":0},"Pt 1, Ln 7.4"]
[null,null,5.3,"Number of life-years",{"$f":"IF(VLOOKUP('Essbase Input'!$C$8,Tables!$B$4:$F$16,5,FALSE)=\"DPPO\",\"\",E48/12)","v":""},{"$f":"IF(VLOOKUP('Essbase Input'!$C$8,Tables!$B$4:$F$16,5,FALSE)=\"DPPO\",\"\",F48/12)","v":""},{"$f":"IF(VLOOKUP('Essbase Input'!$C$8,Tables!$B$4:$F$16,5,FALSE)=\"DPPO\",\"\",G48/12)","v":""},{"$f":"IF(VLOOKUP('Essbase Input'!$C$8,Tables!$B$4:$F$16,5,FALSE)=\"DPPO\",\"\",H48/12)","v":""},{"$f":"IF(VLOOKUP('Essbase Input'!$C$8,Tables!$B$4:$F$16,5,FALSE)=\"DPPO\",\"\",I48/12)","v":""},{"$f":"IF(VLOOKUP('Essbase Input'!$C$8,Tables!$B$4:$F$16,5,FALSE)=\"DPPO\",\"\",J48/12)","v":""},{"$f":"IF(VLOOKUP('Essbase Input'!$C$8,Tables!$B$4:$F$16,5,FALSE)=\"DHMO\",\"\",K48/12)","v":242.58333333333334},{"$f":"IF(VLOOKUP('Essbase Input'!$C$8,Tables!$B$4:$F$16,5,FALSE)=\"DHMO\",\"\",L48/12)","v":242.08333333333334},{"$f":"IF(VLOOKUP('Essbase Input'!$C$8,Tables!$B$4:$F$16,5,FALSE)=\"DHMO\",\"\",IF(OR('Essbase Input'!$C$8=\"Golden Rule Insurance Company\",'Essbase Input'!$C$8=\"UnitedHealthcare Life Ins Co\",'Essbase Input'!$C$8=\"Mid-West Nat Life Ins Co of TN\",'Essbase Input'!$C$8=\"The Chesapeake Life Ins. Co.\"),\"\",M48/12))","v":""},{"$f":"IF(VLOOKUP('Essbase Input'!$C$8,Tables!$B$4:$F$16,5,FALSE)=\"DHMO\",\"\",IF(OR('Essbase Input'!$C$8=\"Golden Rule Insurance Company\",'Essbase Input'!$C$8=\"UnitedHealthcare Life Ins Co\",'Essbase Input'!$C$8=\"Mid-West Nat Life Ins Co of TN\",'Essbase Input'!$C$8=\"The Chesapeake Life Ins. Co.\"),\"\",N48/12))","v":""},{"$f":"IF(VLOOKUP('Essbase Input'!$C$8,Tables!$B$4:$F$16,5,FALSE)=\"DHMO\",\"\",IF(OR('Essbase Input'!$C$8=\"Golden Rule Insurance Company\",'Essbase Input'!$C$8=\"UnitedHealthcare Life Ins Co\",'Essbase Input'!$C$8=\"Mid-West Nat Life Ins Co of TN\",'Essbase Input'!$C$8=\"The Chesapeake Life Ins. Co.\"),\"\",O48/12))","v":""},{"$f":"IF(VLOOKUP('Essbase Input'!$C$8,Tables!$B$4:$F$16,5,FALSE)=\"DHMO\",\"\",IF(OR('Essbase Input'!$C$8=\"Golden Rule Insurance Company\",'Essbase Input'!$C$8=\"UnitedHealthcare Life Ins Co\",'Essbase Input'!$C$8=\"Mid-West Nat Life Ins Co of TN\",'Essbase Input'!$C$8=\"The Chesapeake Life Ins. Co.\"),\"\",P48/12))","v":""},null,{"$f":"IF(O49=\"\",0,O49)+IF(M49=\"\",0,M49)+IF(K49=\"\",0,K49)+IF(I49=\"\",0,I49)+IF(G49=\"\",0,G49)+IF(E49=\"\",0,E49)","v":242.58333333333334},null,{"$f":"T48/12","v":105.41666666666667},0,0,0,{"$f":"X48/12","v":0},{"$f":"Y48/12","v":0},{"$f":"Z48/12","v":0},{"$f":"AA48/12","v":0},{"$f":"AB48/12","v":0},0,{"$f":"SUM(V49:AC49)","v":0},{"$f":"AE48/12","v":0},242.58333333333334,0,0,0,0,0,{"$f":"SUM(AE49:AK49)","v":242.58333333333334},{"$f":"AM48/12","v":0},0,0,0,0,0,0,{"$f":"SUM(AM49:AS49)","v":0},{"$f":"IF(OR('Essbase Input'!$C$8=\"Golden Rule Insurance Company\",'Essbase Input'!$C$8=\"UnitedHealthcare Life Ins Co\",'Essbase Input'!$C$8=\"Mid-West Nat Life Ins Co of TN\",'Essbase Input'!$C$8=\"The Chesapeake Life Ins. Co.\"),SUM(R49:U49,AD49,AT49),IF('Essbase Input'!$C$8=\"Dental Benefit Prov CA Inc\",SUM(R49:U49,AD49,AE49:AF49,AT49),SUM(R49:U49,AD49,AL49,AT49)))","v":348},{"$f":"AV48/12","v":348},{"$f":"AU49-AV49","v":0},"Pt 1, Ln 7.5",null,{"$f":"SUM(T49,U49,AD49,AL49,AT49)","v":348}]
[null,null,null,null,{"$f":"CONCATENATE(\"Grand Total as of 12/31/\",RIGHT('EB PT 1'!K11,2),\" for ALL markets in col. 1-12\")","v":"Grand Total as of 12/31/22 for ALL markets in col. 1-12"}]
[null,"6.","Net investment income and other gain / (loss) ",null,{"$f":"-'EB PT 1'!BE62","v":198.42999999999989}]
[null,"7.","Other Federal income taxes (exclude taxes on Line 3.1a and 3.1b) ",null,{"$f":"-'EB PT 1'!BE63","v":0}]
[]
[null,"Cell Keys:"]
[null,null,"Blank cells require input from Health plan or Health insurer"]
[null,null,"Grey cells require no data input "]
[null,null,"Pink cells require no data input - locked down"]
[null,null,"Blue cells: computed cell (formula cell)"]

{"sheet":"Pt 1 Summary of Data - Adj","index":13,"n_rows":58,"n_cols":47,"rows_kept":58,"cut":false,"hidden":true,"merged":[[14,46,15,46],[13,30,13,31],[13,32,13,36],[13,38,13,44],[14,17,15,17],[14,19,15,19],[14,20,15,20],[14,28,15,28],[14,29,15,29],[14,37,15,37],[57,2,57,3],[15,4,15,5],[15,6,15,7],[15,8,15,9],[15,10,15,11],[54,2,54,3],[13,1,16,3],[15,12,15,13],[15,14,15,15],[13,4,13,9],[13,10,13,15],[14,10,14,15],[14,4,14,9],[7,10,7,11],[9,1,9,3],[9,10,9,11],[11,1,11,3],[5,1,5,3],[7,1,7,3]]}
[null,"Department of Managed Health Care/Department of Insurance"]
[null,"Medical Loss Ratio Reporting Form: Dental Coverage"]
[null,"Part 1 - Summary of Data"]
[]
[null,"Health Plan ID",null,null,null,null,null,"Federal Tax Exempt "]
[null,{"$f":"'Cover Page'!C7","v":97179},null,null,null,null,null,{"$f":"'Cover Page'!C10","v":"No"}]
[null,"Legal Name"]
[null,{"$f":"'Cover Page'!C8","v":"UnitedHealthcare Life Insurance Company"}]
[null,"dBA"]
[null,{"$f":"'Cover Page'!C9","v":"N/A"}]
[null,"MLR Reporting Year"]
[null,{"$f":"'Cover Page'!C6","v":"2022"}]
[null,null,null,null,"INPUT","INPUT","INPUT","INPUT","INPUT","INPUT","INPUT","INPUT","INPUT","INPUT","INPUT","INPUT",null,"CALC",null,"INPUT","INPUT","INPUT","INPUT","INPUT","INPUT","INPUT","INPUT","INPUT","INPUT","CALC","INPUT","INPUT","INPUT","INPUT","INPUT","INPUT","INPUT","CALC","INPUT","INPUT","INPUT","INPUT","INPUT","INPUT","INPUT","CALC","CALC"]
[null,"UHG NOTES SECTION:\nADJustment tab.  This tab is used for topside adjusments not made to the ledger.\nThe base tab plus the \"Adj\" tab makes the \"Final' tab",null,null,"Health Insurance Coverage",null,null,null,null,null,"Health Insurance Coverage",null,null,null,null,null,null,"Stand Alone \nDental\n(Ind/SG/LG)",null,"Stand Alone \nVision","Non-Stand Alone \nDental/Vision","Other Bus\n(excluded by Statute)\nMISC 1","Other Bus\n(excluded by Statute)\nMISC 2","Other Bus\n(excluded by Statute)\nMISC 3","Other Bus\n(excluded by Statute)\nMISC 4","Other Bus\n(excluded by Statute)\nMISC 5","Other Bus\n(excluded by Statute)\nMISC 6","Other Bus\n(excluded by Statute)\nMISC 7","Other Bus\n(excluded by Statute)\nless MISC (1-7)","Other Bus\n(excluded by Statute)","Stand Alone Dental\nUHC Dom.\nNon-Ind/SG/LG",null,"Stand Alone Dental\nNon-UHC Dom.",null,null,null,null,null,"These products don't fall into any node and need to be remapped!",null,null,null,null,null,null,null,"Grand Total"]
[null,null,null,null,"DHMO Products",null,null,null,null,null,"DPPO & Indemnity Products",null,null,null,null,null,null,"Dental",null,"Vision","Life/Disability","Stop Loss","Stop Loss","Supp Hospital","Medicare Supp","Student Health","Wrap","Ind Short Term","Other Bus\n(\"Catch-All\")","Other Bus\n(excluded by Statute)",null,null,null,null,null,null,null,"Other\nStand Alone Dent\n",null,null,null,null,null,null,null,null,"Other Health Bus \nper DMHC"]
[null,null,null,null,"Individual",null,"Small Group",null,"Large Group",null,"Individual",null,"Small Group",null,"Large Group",null,null,null,null,null,null,"PROD Range 322***","PROD Range 150***","PROD Range 204***","PROD Range 203***","PROD Range 112/113***","PROD 202080","PROD 106410",null,null,"UHC Dom.\nStand Alone Dent\nBlank Cust","UHC Dom.\nStand Alone Dent\nNot Comp Health","UHC International\nStand Alone Dent\nMLR Customer","Optum\nStand Alone Dent\nMLR Customer","Elims Mkt Grp\nStand Alone Dent\nMLR Customer","Corp Mkt Grp\nStand Alone Dent\nMLR Customer","Non-UHG\nStand Alone Dent\nMLR Customer","Other\nDifferences","All OUs \np306156 \nMLR Customers","All OUs \np305402 \nMLR Customers","All OUs \np430083 \nMLR Customers","All OUs \np430084 \nMLR Customers","All OUs \np430087 \nMLR Customers","All OUs \np430088 \nMLR Customers","All OUs \np430089 \nMLR Customers","OTHER\n(Not in categories to the left)"]
[null,null,null,null,"Total as of ","Total as of ","Total as of ","Total as of ","Total as of ","Total as of ","Total as of ","Total as of ","Total as of ","Total as of ","Total as of ","Total as of ",null,"Total as of ",null,"Total as of ","Total as of ","Total as of ","Total as of ","Total as of ","Total as of ","Total as of ","Total as of ","Total as of ","Total as of ","Total as of ","Total as of ","Total as of ","Total as of ","Total as of ","Total as of ","Total as of ","Total as of ","Total as of ","Total as of ","Total as of ","Total as of ","Total as of ","Total as of ","Total as of ","Total as of ","Total as of ","Total as of "]
[null,null,null,"Part 1\nNOTE: REFER TO MLR INSTRUCTIONS FOR IMPORTANT ",{"$f":"\"12/31/\"&RIGHT('Essbase Input'!$C$17,2)","v":"12/31/22"},{"$f":"\"3/31/\"&RIGHT('Essbase Input'!$C$16,2)","v":"3/31/23"},{"$f":"\"12/31/\"&RIGHT('Essbase Input'!$C$17,2)","v":"12/31/22"},{"$f":"\"3/31/\"&RIGHT('Essbase Input'!$C$16,2)","v":"3/31/23"},{"$f":"\"12/31/\"&RIGHT('Essbase Input'!$C$17,2)","v":"12/31/22"},{"$f":"\"3/31/\"&RIGHT('Essbase Input'!$C$16,2)","v":"3/31/23"},{"$f":"\"12/31/\"&RIGHT('Essbase Input'!$C$17,2)","v":"12/31/22"},{"$f":"\"3/31/\"&RIGHT('Essbase Input'!$C$16,2)","v":"3/31/23"},{"$f":"\"12/31/\"&RIGHT('Essbase Input'!$C$17,2)","v":"12/31/22"},{"$f":"\"3/31/\"&RIGHT('Essbase Input'!$C$16,2)","v":"3/31/23"},{"$f":"\"12/31/\"&RIGHT('Essbase Input'!$C$17,2)","v":"12/31/22"},{"$f":"\"3/31/\"&RIGHT('Essbase Input'!$C$16,2)","v":"3/31/23"},null,{"$f":"\"12/31/\"&RIGHT('Essbase Input'!$C$17,2)","v":"12/31/22"},null,{"$f":"\"12/31/\"&RIGHT('Essbase Input'!$C$17,2)","v":"12/31/22"},{"$f":"\"12/31/\"&RIGHT('Essbase Input'!$C$17,2)","v":"12/31/22"},{"$f":"\"12/31/\"&RIGHT('Essbase Input'!$C$17,2)","v":"12/31/22"},{"$f":"\"12/31/\"&RIGHT('Essbase Input'!$C$17,2)","v":"12/31/22"},{"$f":"\"12/31/\"&RIGHT('Essbase Input'!$C$17,2)","v":"12/31/22"},{"$f":"\"12/31/\"&RIGHT('Essbase Input'!$C$17,2)","v":"12/31/22"},{"$f":"\"12/31/\"&RIGHT('Essbase Input'!$C$17,2)","v":"12/31/22"},{"$f":"\"12/31/\"&RIGHT('Essbase Input'!$C$17,2)","v":"12/31/22"},{"$f":"\"12/31/\"&RIGHT('Essbase Input'!$C$17,2)","v":"12/31/22"},{"$f":"\"12/31/\"&RIGHT('Essbase Input'!$C$17,2)","v":"12/31/22"},{"$f":"\"12/31/\"&RIGHT('Essbase Input'!$C$17,2)","v":"12/31/22"},{"$f":"\"12/31/\"&RIGHT('Essbase Input'!$C$17,2)","v":"12/31/22"},{"$f":"\"12/31/\"&RIGHT('Essbase Input'!$C$17,2)","v":"12/31/22"},{"$f":"\"12/31/\"&RIGHT('Essbase Input'!$C$17,2)","v":"12/31/22"},{"$f":"\"12/31/\"&RIGHT('Essbase Input'!$C$17,2)","v":"12/31/22"},{"$f":"\"12/31/\"&RIGHT('Essbase Input'!$C$17,2)","v":"12/31/22"},{"$f":"\"12/31/\"&RIGHT('Essbase Input'!$C$17,2)","v":"12/31/22"},{"$f":"\"12/31/\"&RIGHT('Essbase Input'!$C$17,2)","v":"12/31/22"},{"$f":"\"12/31/\"&RIGHT('Essbase Input'!$C$17,2)","v":"12/31/22"},{"$f":"\"12/31/\"&RIGHT('Essbase Input'!$C$17,2)","v":"12/31/22"},{"$f":"\"12/31/\"&RIGHT('Essbase Input'!$C$17,2)","v":"12/31/22"},{"$f":"\"12/31/\"&RIGHT('Essbase Input'!$C$17,2)","v":"12/31/22"},{"$f":"\"12/31/\"&RIGHT('Essbase Input'!$C$17,2)","v":"12/31/22"},{"$f":"\"12/31/\"&RIGHT('Essbase Input'!$C$17,2)","v":"12/31/22"},{"$f":"\"12/31/\"&RIGHT('Essbase Input'!$C$17,2)","v":"12/31/22"},{"$f":"\"12/31/\"&RIGHT('Essbase Input'!$C$17,2)","v":"12/31/22"},{"$f":"\"12/31/\"&RIGHT('Essbase Input'!$C$17,2)","v":"12/31/22"},{"$f":"\"12/31/\"&RIGHT('Essbase Input'!$C$17,2)","v":"12/31/22"}]
[null,null,null,"INFORMATION ABOUT COMPLETING EACH COLUMN AND ROW.",1,2,3,4,5,6,7,8,9,10,11,12]
[null,"1.","Premium"]
[null,null,1.1000000000000001,"Total direct premium earned",{"$f":"+'Pt 2 Premium and Claims - Adj'!E22+'Pt 2 Premium and Claims - Adj'!E23-'Pt 2 Premium and Claims - Adj'!E24-'Pt 2 Premium and Claims - Adj'!E25","v":0},{"$f":"+'Pt 2 Premium and Claims - Adj'!F22+'Pt 2 Premium and Claims - Adj'!F23-'Pt 2 Premium and Claims - Adj'!F24-'Pt 2 Premium and Claims - Adj'!F25","v":0},{"$f":"+'Pt 2 Premium and Claims - Adj'!G22+'Pt 2 Premium and Claims - Adj'!G23-'Pt 2 Premium and Claims - Adj'!G24-'Pt 2 Premium and Claims - Adj'!G25","v":0},{"$f":"+'Pt 2 Premium and Claims - Adj'!H22+'Pt 2 Premium and Claims - Adj'!H23-'Pt 2 Premium and Claims - Adj'!H24-'Pt 2 Premium and Claims - Adj'!H25","v":0},{"$f":"+'Pt 2 Premium and Claims - Adj'!I22+'Pt 2 Premium and Claims - Adj'!I23-'Pt 2 Premium and Claims - Adj'!I24-'Pt 2 Premium and Claims - Adj'!I25","v":0},{"$f":"+'Pt 2 Premium and Claims - Adj'!J22+'Pt 2 Premium and Claims - Adj'!J23-'Pt 2 Premium and Claims - Adj'!J24-'Pt 2 Premium and Claims - Adj'!J25","v":0},{"$f":"+'Pt 2 Premium and Claims - Adj'!K22+'Pt 2 Premium and Claims - Adj'!K23-'Pt 2 Premium and Claims - Adj'!K24-'Pt 2 Premium and Claims - Adj'!K25","v":0},{"$f":"+'Pt 2 Premium and Claims - Adj'!L22+'Pt 2 Premium and Claims - Adj'!L23-'Pt 2 Premium and Claims - Adj'!L24-'Pt 2 Premium and Claims - Adj'!L25","v":0},{"$f":"+'Pt 2 Premium and Claims - Adj'!M22+'Pt 2 Premium and Claims - Adj'!M23-'Pt 2 Premium and Claims - Adj'!M24-'Pt 2 Premium and Claims - Adj'!M25","v":0},{"$f":"+'Pt 2 Premium and Claims - Adj'!N22+'Pt 2 Premium and Claims - Adj'!N23-'Pt 2 Premium and Claims - Adj'!N24-'Pt 2 Premium and Claims - Adj'!N25","v":0},{"$f":"+'Pt 2 Premium and Claims - Adj'!O22+'Pt 2 Premium and Claims - Adj'!O23-'Pt 2 Premium and Claims - Adj'!O24-'Pt 2 Premium and Claims - Adj'!O25","v":0},{"$f":"+'Pt 2 Premium and Claims - Adj'!P22+'Pt 2 Premium and Claims - Adj'!P23-'Pt 2 Premium and Claims - Adj'!P24-'Pt 2 Premium and Claims - Adj'!P25","v":0},null,{"$f":"IF(O21=\"\",0,O21)+IF(M21=\"\",0,M21)+IF(K21=\"\",0,K21)+IF(I21=\"\",0,I21)+IF(G21=\"\",0,G21)+IF(E21=\"\",0,E21)","v":0},null,{"$f":"+'Pt 2 Premium and Claims - Adj'!T22+'Pt 2 Premium and Claims - Adj'!T23-'Pt 2 Premium and Claims - Adj'!T24-'Pt 2 Premium and Claims - Adj'!T25","v":0},{"$f":"+'Pt 2 Premium and Claims - Adj'!U22+'Pt 2 Premium and Claims - Adj'!U23-'Pt 2 Premium and Claims - Adj'!U24-'Pt 2 Premium and Claims - Adj'!U25","v":0},{"$f":"+'Pt 2 Premium and Claims - Adj'!V22+'Pt 2 Premium and Claims - Adj'!V23-'Pt 2 Premium and Claims - Adj'!V24-'Pt 2 Premium and Claims - Adj'!V25","v":0},{"$f":"+'Pt 2 Premium and Claims - Adj'!W22+'Pt 2 Premium and Claims - Adj'!W23-'Pt 2 Premium and Claims - Adj'!W24-'Pt 2 Premium and Claims - Adj'!W25","v":0},{"$f":"+'Pt 2 Premium and Claims - Adj'!X22+'Pt 2 Premium and Claims - Adj'!X23-'Pt 2 Premium and Claims - Adj'!X24-'Pt 2 Premium and Claims - Adj'!X25","v":0},{"$f":"+'Pt 2 Premium and Claims - Adj'!Y22+'Pt 2 Premium and Claims - Adj'!Y23-'Pt 2 Premium and Claims - Adj'!Y24-'Pt 2 Premium and Claims - Adj'!Y25","v":0},{"$f":"+'Pt 2 Premium and Claims - Adj'!Z22+'Pt 2 Premium and Claims - Adj'!Z23-'Pt 2 Premium and Claims - Adj'!Z24-'Pt 2 Premium and Claims - Adj'!Z25","v":0},{"$f":"+'Pt 2 Premium and Claims - Adj'!AA22+'Pt 2 Premium and Claims - Adj'!AA23-'Pt 2 Premium and Claims - Adj'!AA24-'Pt 2 Premium and Claims - Adj'!AA25","v":0},{"$f":"+'Pt 2 Premium and Claims - Adj'!AB22+'Pt 2 Premium and Claims - Adj'!AB23-'Pt 2 Premium and Claims - Adj'!AB24-'Pt 2 Premium and Claims - Adj'!AB25","v":0},{"$f":"+'Pt 2 Premium and Claims - Adj'!AC22+'Pt 2 Premium and Claims - Adj'!AC23-'Pt 2 Premium and Claims - Adj'!AC24-'Pt 2 Premium and Claims - Adj'!AC25","v":0},{"$f":"SUM(V21:AC21)","v":0},{"$f":"+'Pt 2 Premium and Claims - Adj'!AE22+'Pt 2 Premium and Claims - Adj'!AE23-'Pt 2 Premium and Claims - Adj'!AE24-'Pt 2 Premium and Claims - Adj'!AE25","v":0},{"$f":"+'Pt 2 Premium and Claims - Adj'!AF22+'Pt 2 Premium and Claims - Adj'!AF23-'Pt 2 Premium and Claims - Adj'!AF24-'Pt 2 Premium and Claims - Adj'!AF25","v":0},{"$f":"+'Pt 2 Premium and Claims - Adj'!AG22+'Pt 2 Premium and Claims - Adj'!AG23-'Pt 2 Premium and Claims - Adj'!AG24-'Pt 2 Premium and Claims - Adj'!AG25","v":0},{"$f":"+'Pt 2 Premium and Claims - Adj'!AH22+'Pt 2 Premium and Claims - Adj'!AH23-'Pt 2 Premium and Claims - Adj'!AH24-'Pt 2 Premium and Claims - Adj'!AH25","v":0},{"$f":"+'Pt 2 Premium and Claims - Adj'!AI22+'Pt 2 Premium and Claims - Adj'!AI23-'Pt 2 Premium and Claims - Adj'!AI24-'Pt 2 Premium and Claims - Adj'!AI25","v":0},{"$f":"+'Pt 2 Premium and Claims - Adj'!AJ22+'Pt 2 Premium and Claims - Adj'!AJ23-'Pt 2 Premium and Claims - Adj'!AJ24-'Pt 2 Premium and Claims - Adj'!AJ25","v":0},{"$f":"+'Pt 2 Premium and Claims - Adj'!AK22+'Pt 2 Premium and Claims - Adj'!AK23-'Pt 2 Premium and Claims - Adj'!AK24-'Pt 2 Premium and Claims - Adj'!AK25","v":0},{"$f":"SUM(AE21:AK21)","v":0},{"$f":"+'Pt 2 Premium and Claims - Adj'!AM22+'Pt 2 Premium and Claims - Adj'!AM23-'Pt 2 Premium and Claims - Adj'!AM24-'Pt 2 Premium and Claims - Adj'!AM25","v":0},{"$f":"+'Pt 2 Premium and Claims - Adj'!AN22+'Pt 2 Premium and Claims - Adj'!AN23-'Pt 2 Premium and Claims - Adj'!AN24-'Pt 2 Premium and Claims - Adj'!AN25","v":0},{"$f":"+'Pt 2 Premium and Claims - Adj'!AO22+'Pt 2 Premium and Claims - Adj'!AO23-'Pt 2 Premium and Claims - Adj'!AO24-'Pt 2 Premium and Claims - Adj'!AO25","v":0},{"$f":"+'Pt 2 Premium and Claims - Adj'!AP22+'Pt 2 Premium and Claims - Adj'!AP23-'Pt 2 Premium and Claims - Adj'!AP24-'Pt 2 Premium and Claims - Adj'!AP25","v":0},{"$f":"+'Pt 2 Premium and Claims - Adj'!AQ22+'Pt 2 Premium and Claims - Adj'!AQ23-'Pt 2 Premium and Claims - Adj'!AQ24-'Pt 2 Premium and Claims - Adj'!AQ25","v":0},{"$f":"+'Pt 2 Premium and Claims - Adj'!AR22+'Pt 2 Premium and Claims - Adj'!AR23-'Pt 2 Premium and Claims - Adj'!AR24-'Pt 2 Premium and Claims - Adj'!AR25","v":0},{"$f":"SUM(AL21:AR21)","v":0},{"$f":"IF(OR('Essbase Input'!$C$8=\"Golden Rule Insurance Company\",'Essbase Input'!$C$8=\"UnitedHealthcare Life Ins Co\",'Essbase Input'!$C$8=\"Mid-West Nat Life Ins Co of TN\",'Essbase Input'!$C$8=\"The Chesapeake Life Ins. Co.\"),SUM(Q21:T21,AC21,AS21),IF('Essbase Input'!$C$8=\"Dental Benefit Prov CA Inc\",SUM(Q21:T21,AC21,AD21:AE21,AS21),SUM(Q21:T21,AC21,AK21,AS21)))","v":0},{"$f":"+'Pt 2 Premium and Claims - Adj'!AU22+'Pt 2 Premium and Claims - Adj'!AU23-'Pt 2 Premium and Claims - Adj'!AU24-'Pt 2 Premium and Claims - Adj'!AU25","v":0}]
[]
[null,"2.","Claims"]
[null,null,2.1,"Total incurred claims (MLR Form Part 2, Line 2.11)",{"$f":"'Pt 2 Premium and Claims - Adj'!E51","v":0},{"$f":"'Pt 2 Premium and Claims - Adj'!F51","v":0},{"$f":"'Pt 2 Premium and Claims - Adj'!G51","v":0},{"$f":"'Pt 2 Premium and Claims - Adj'!H51","v":0},{"$f":"'Pt 2 Premium and Claims - Adj'!I51","v":0},{"$f":"'Pt 2 Premium and Claims - Adj'!J51","v":0},{"$f":"'Pt 2 Premium and Claims - Adj'!K51","v":0},{"$f":"'Pt 2 Premium and Claims - Adj'!L51","v":0},{"$f":"'Pt 2 Premium and Claims - Adj'!M51","v":0},{"$f":"'Pt 2 Premium and Claims - Adj'!N51","v":0},{"$f":"'Pt 2 Premium and Claims - Adj'!O51","v":0},{"$f":"'Pt 2 Premium and Claims - Adj'!P51","v":0},null,{"$f":"IF(O24=\"\",0,O24)+IF(M24=\"\",0,M24)+IF(K24=\"\",0,K24)+IF(I24=\"\",0,I24)+IF(G24=\"\",0,G24)+IF(E24=\"\",0,E24)","v":0},null,{"$f":"'Pt 2 Premium and Claims - Adj'!T51","v":0},{"$f":"'Pt 2 Premium and Claims - Adj'!U51","v":0},{"$f":"'Pt 2 Premium and Claims - Adj'!V51","v":0},{"$f":"'Pt 2 Premium and Claims - Adj'!W51","v":0},{"$f":"'Pt 2 Premium and Claims - Adj'!X51","v":0},{"$f":"'Pt 2 Premium and Claims - Adj'!Y51","v":0},{"$f":"'Pt 2 Premium and Claims - Adj'!Z51","v":0},{"$f":"'Pt 2 Premium and Claims - Adj'!AA51","v":0},{"$f":"'Pt 2 Premium and Claims - Adj'!AB51","v":0},{"$f":"'Pt 2 Premium and Claims - Adj'!AC51","v":0},{"$f":"SUM(V24:AC24)","v":0},{"$f":"'Pt 2 Premium and Claims - Adj'!AE51","v":0},{"$f":"'Pt 2 Premium and Claims - Adj'!AF51","v":0},{"$f":"'Pt 2 Premium and Claims - Adj'!AG51","v":0},{"$f":"'Pt 2 Premium and Claims - Adj'!AH51","v":0},{"$f":"'Pt 2 Premium and Claims - Adj'!AI51","v":0},{"$f":"'Pt 2 Premium and Claims - Adj'!AJ51","v":0},{"$f":"'Pt 2 Premium and Claims - Adj'!AK51","v":0},{"$f":"SUM(AE24:AK24)","v":0},{"$f":"'Pt 2 Premium and Claims - Adj'!AM51","v":0},{"$f":"'Pt 2 Premium and Claims - Adj'!AN51","v":0},{"$f":"'Pt 2 Premium and Claims - Adj'!AO51","v":0},{"$f":"'Pt 2 Premium and Claims - Adj'!AP51","v":0},{"$f":"'Pt 2 Premium and Claims - Adj'!AQ51","v":0},{"$f":"'Pt 2 Premium and Claims - Adj'!AR51","v":0},{"$f":"SUM(AL24:AR24)","v":0},{"$f":"IF(OR('Essbase Input'!$C$8=\"Golden Rule Insurance Company\",'Essbase Input'!$C$8=\"UnitedHealthcare Life Ins Co\",'Essbase Input'!$C$8=\"Mid-West Nat Life Ins Co of TN\",'Essbase Input'!$C$8=\"The Chesapeake Life Ins. Co.\"),SUM(Q24:T24,AC24,AS24),IF('Essbase Input'!$C$8=\"Dental Benefit Prov CA Inc\",SUM(Q24:T24,AC24,AD24:AE24,AS24),SUM(Q24:T24,AC24,AK24,AS24)))","v":0},{"$f":"'Pt 2 Premium and Claims - Adj'!AU51","v":0}]
[]
[null,"3.","Federal and State Taxes and Licensing or Regulatory Fees"]
[null,null,3.1,"Federal taxes and assessments incurred by the reporting health plan or health insurer during the MLR reporting year "]
[null,null,null,"  3.1 a  Federal income taxes deductible from premium in MLR calculations ",null,null,null,null,null,null,null,null,null,null,null,null,null,{"$f":"IF(O28=\"\",0,O28)+IF(M28=\"\",0,M28)+IF(K28=\"\",0,K28)+IF(I28=\"\",0,I28)+IF(G28=\"\",0,G28)+IF(E28=\"\",0,E28)","v":0},null,null,null,null,null,null,null,null,null,null,null,{"$f":"SUM(V28:AC28)","v":0},null,null,null,null,null,null,null,{"$f":"SUM(AE28:AK28)","v":0},null,null,null,null,null,null,{"$f":"SUM(AL28:AR28)","v":0},{"$f":"IF(OR('Essbase Input'!$C$8=\"Golden Rule Insurance Company\",'Essbase Input'!$C$8=\"UnitedHealthcare Life Ins Co\",'Essbase Input'!$C$8=\"Mid-West Nat Life Ins Co of TN\",'Essbase Input'!$C$8=\"The Chesapeake Life Ins. Co.\"),SUM(Q28:T28,AC28,AS28),IF('Essbase Input'!$C$8=\"Dental Benefit Prov CA Inc\",SUM(Q28:T28,AC28,AD28:AE28,AS28),SUM(Q28:T28,AC28,AK28,AS28)))","v":0}]
[null,null,null,"  3.1 b  Other Federal Taxes (other than income tax) and assessments deductible from premium",null,null,null,null,null,null,null,null,null,null,null,null,null,{"$f":"IF(O29=\"\",0,O29)+IF(M29=\"\",0,M29)+IF(K29=\"\",0,K29)+IF(I29=\"\",0,I29)+IF(G29=\"\",0,G29)+IF(E29=\"\",0,E29)","v":0},null,null,null,null,null,null,null,null,null,null,null,{"$f":"SUM(V29:AC29)","v":0},null,null,null,null,null,null,null,{"$f":"SUM(AE29:AK29)","v":0},null,null,null,null,null,null,{"$f":"SUM(AL29:AR29)","v":0},{"$f":"IF(OR('Essbase Input'!$C$8=\"Golden Rule Insurance Company\",'Essbase Input'!$C$8=\"UnitedHealthcare Life Ins Co\",'Essbase Input'!$C$8=\"Mid-West Nat Life Ins Co of TN\",'Essbase Input'!$C$8=\"The Chesapeake Life Ins. Co.\"),SUM(Q29:T29,AC29,AS29),IF('Essbase Input'!$C$8=\"Dental Benefit Prov CA Inc\",SUM(Q29:T29,AC29,AD29:AE29,AS29),SUM(Q29:T29,AC29,AK29,AS29)))","v":0}]
[null,null,3.2,"State insurance, premium and other taxes incurred by the reporting health plan or heath insurer during the MLR reporting year (deductible from premium in MLR calculation)"]
[null,null,null,"  3.2 a   State income, excise, business, and other taxes",null,null,null,null,null,null,null,null,null,null,null,null,null,{"$f":"IF(O31=\"\",0,O31)+IF(M31=\"\",0,M31)+IF(K31=\"\",0,K31)+IF(I31=\"\",0,I31)+IF(G31=\"\",0,G31)+IF(E31=\"\",0,E31)","v":0},null,null,null,null,null,null,null,null,null,null,null,{"$f":"SUM(V31:AC31)","v":0},null,null,null,null,null,null,null,{"$f":"SUM(AE31:AK31)","v":0},null,null,null,null,null,null,{"$f":"SUM(AL31:AR31)","v":0},{"$f":"IF(OR('Essbase Input'!$C$8=\"Golden Rule Insurance Company\",'Essbase Input'!$C$8=\"UnitedHealthcare Life Ins Co\",'Essbase Input'!$C$8=\"Mid-West Nat Life Ins Co of TN\",'Essbase Input'!$C$8=\"The Chesapeake Life Ins. Co.\"),SUM(Q31:T31,AC31,AS31),IF('Essbase Input'!$C$8=\"Dental Benefit Prov CA Inc\",SUM(Q31:T31,AC31,AD31:AE31,AS31),SUM(Q31:T31,AC31,AK31,AS31)))","v":0}]
[null,null,null,"  3.2 b   State premium taxes ",null,null,null,null,null,null,null,null,null,null,null,null,null,{"$f":"IF(O32=\"\",0,O32)+IF(M32=\"\",0,M32)+IF(K32=\"\",0,K32)+IF(I32=\"\",0,I32)+IF(G32=\"\",0,G32)+IF(E32=\"\",0,E32)","v":0},null,null,null,null,null,null,null,null,null,null,null,{"$f":"SUM(V32:AC32)","v":0},null,null,null,null,null,null,null,{"$f":"SUM(AE32:AK32)","v":0},null,null,null,null,null,null,{"$f":"SUM(AL32:AR32)","v":0},{"$f":"IF(OR('Essbase Input'!$C$8=\"Golden Rule Insurance Company\",'Essbase Input'!$C$8=\"UnitedHealthcare Life Ins Co\",'Essbase Input'!$C$8=\"Mid-West Nat Life Ins Co of TN\",'Essbase Input'!$C$8=\"The Chesapeake Life Ins. Co.\"),SUM(Q32:T32,AC32,AS32),IF('Essbase Input'!$C$8=\"Dental Benefit Prov CA Inc\",SUM(Q32:T32,AC32,AD32:AE32,AS32),SUM(Q32:T32,AC32,AK32,AS32)))","v":0}]
[null,null,null,"  3.2 c   Community benefit expenditures ",null,null,null,null,null,null,null,null,null,null,null,null,null,{"$f":"IF(O33=\"\",0,O33)+IF(M33=\"\",0,M33)+IF(K33=\"\",0,K33)+IF(I33=\"\",0,I33)+IF(G33=\"\",0,G33)+IF(E33=\"\",0,E33)","v":0},null,null,null,null,null,null,null,null,null,null,null,{"$f":"SUM(V33:AC33)","v":0},null,null,null,null,null,null,null,{"$f":"SUM(AE33:AK33)","v":0},null,null,null,null,null,null,{"$f":"SUM(AL33:AR33)","v":0},{"$f":"IF(OR('Essbase Input'!$C$8=\"Golden Rule Insurance Company\",'Essbase Input'!$C$8=\"UnitedHealthcare Life Ins Co\",'Essbase Input'!$C$8=\"Mid-West Nat Life Ins Co of TN\",'Essbase Input'!$C$8=\"The Chesapeake Life Ins. Co.\"),SUM(Q33:T33,AC33,AS33),IF('Essbase Input'!$C$8=\"Dental Benefit Prov CA Inc\",SUM(Q33:T33,AC33,AD33:AE33,AS33),SUM(Q33:T33,AC33,AK33,AS33)))","v":0}]
[null,null,3.3,"Regulatory authority licenses and fees",null,null,null,null,null,null,null,null,null,null,null,null,null,{"$f":"IF(O34=\"\",0,O34)+IF(M34=\"\",0,M34)+IF(K34=\"\",0,K34)+IF(I34=\"\",0,I34)+IF(G34=\"\",0,G34)+IF(E34=\"\",0,E34)","v":0},null,null,null,null,null,null,null,null,null,null,null,{"$f":"SUM(V34:AC34)","v":0},null,null,null,null,null,null,null,{"$f":"SUM(AE34:AK34)","v":0},null,null,null,null,null,null,{"$f":"SUM(AL34:AR34)","v":0},{"$f":"IF(OR('Essbase Input'!$C$8=\"Golden Rule Insurance Company\",'Essbase Input'!$C$8=\"UnitedHealthcare Life Ins Co\",'Essbase Input'!$C$8=\"Mid-West Nat Life Ins Co of TN\",'Essbase Input'!$C$8=\"The Chesapeake Life Ins. Co.\"),SUM(Q34:T34,AC34,AS34),IF('Essbase Input'!$C$8=\"Dental Benefit Prov CA Inc\",SUM(Q34:T34,AC34,AD34:AE34,AS34),SUM(Q34:T34,AC34,AK34,AS34)))","v":0}]
[null,null,3.4,"Total Federal and State Taxes and fees to be excluded from premium",{"$f":"IF(VLOOKUP('Essbase Input'!$C$8,Tables!$B$4:$F$16,5,FALSE)=\"DPPO\",\"\",SUM(E$28:E$29,E$31,E$34+IF($H$6=\"No\",IF(MAX(E$32:E$33)=0,MIN(E$32:E$33),MAX(E$32:E$33)),SUM(E$32:E$33))))","v":""},{"$f":"IF(VLOOKUP('Essbase Input'!$C$8,Tables!$B$4:$F$16,5,FALSE)=\"DPPO\",\"\",SUM(F$28:F$29,F$31,F$34+IF($H$6=\"No\",IF(MAX(F$32:F$33)=0,MIN(F$32:F$33),MAX(F$32:F$33)),SUM(F$32:F$33))))","v":""},{"$f":"IF(VLOOKUP('Essbase Input'!$C$8,Tables!$B$4:$F$16,5,FALSE)=\"DPPO\",\"\",SUM(G$28:G$29,G$31,G$34+IF($H$6=\"No\",IF(MAX(G$32:G$33)=0,MIN(G$32:G$33),MAX(G$32:G$33)),SUM(G$32:G$33))))","v":""},{"$f":"IF(VLOOKUP('Essbase Input'!$C$8,Tables!$B$4:$F$16,5,FALSE)=\"DPPO\",\"\",SUM(H$28:H$29,H$31,H$34+IF($H$6=\"No\",IF(MAX(H$32:H$33)=0,MIN(H$32:H$33),MAX(H$32:H$33)),SUM(H$32:H$33))))","v":""},{"$f":"IF(VLOOKUP('Essbase Input'!$C$8,Tables!$B$4:$F$16,5,FALSE)=\"DPPO\",\"\",SUM(I$28:I$29,I$31,I$34+IF($H$6=\"No\",IF(MAX(I$32:I$33)=0,MIN(I$32:I$33),MAX(I$32:I$33)),SUM(I$32:I$33))))","v":""},{"$f":"IF(VLOOKUP('Essbase Input'!$C$8,Tables!$B$4:$F$16,5,FALSE)=\"DPPO\",\"\",SUM(J$28:J$29,J$31,J$34+IF($H$6=\"No\",IF(MAX(J$32:J$33)=0,MIN(J$32:J$33),MAX(J$32:J$33)),SUM(J$32:J$33))))","v":""},{"$f":"IF(VLOOKUP('Essbase Input'!$C$8,Tables!$B$4:$F$16,5,FALSE)=\"DHMO\",\"\",SUM(K$28:K$29,K$31,K$34+IF($H$6=\"No\",IF(MAX(K$32:K$33)=0,MIN(K$32:K$33),MAX(K$32:K$33)),SUM(K$32:K$33))))","v":0},{"$f":"IF(VLOOKUP('Essbase Input'!$C$8,Tables!$B$4:$F$16,5,FALSE)=\"DHMO\",\"\",SUM(L$28:L$29,L$31,L$34+IF($H$6=\"No\",IF(MAX(L$32:L$33)=0,MIN(L$32:L$33),MAX(L$32:L$33)),SUM(L$32:L$33))))","v":0},{"$f":"IF(VLOOKUP('Essbase Input'!$C$8,Tables!$B$4:$F$16,5,FALSE)=\"DHMO\",\"\",IF(OR('Essbase Input'!$C$8=\"Golden Rule Insurance Company\",'Essbase Input'!$C$8=\"UnitedHealthcare Life Ins Co\",'Essbase Input'!$C$8=\"Mid-West Nat Life Ins Co of TN\",'Essbase Input'!$C$8=\"The Chesapeake Life Ins. Co.\"),\"\",SUM(M$28:M$29,M$31,M$34+IF($H$6=\"No\",IF(MAX(M$32:M$33)=0,MIN(M$32:M$33),MAX(M$32:M$33)),SUM(M$32:M$33)))))","v":""},{"$f":"IF(VLOOKUP('Essbase Input'!$C$8,Tables!$B$4:$F$16,5,FALSE)=\"DHMO\",\"\",IF(OR('Essbase Input'!$C$8=\"Golden Rule Insurance Company\",'Essbase Input'!$C$8=\"UnitedHealthcare Life Ins Co\",'Essbase Input'!$C$8=\"Mid-West Nat Life Ins Co of TN\",'Essbase Input'!$C$8=\"The Chesapeake Life Ins. Co.\"),\"\",SUM(N$28:N$29,N$31,N$34+IF($H$6=\"No\",IF(MAX(N$32:N$33)=0,MIN(N$32:N$33),MAX(N$32:N$33)),SUM(N$32:N$33)))))","v":""},{"$f":"IF(VLOOKUP('Essbase Input'!$C$8,Tables!$B$4:$F$16,5,FALSE)=\"DHMO\",\"\",IF(OR('Essbase Input'!$C$8=\"Golden Rule Insurance Company\",'Essbase Input'!$C$8=\"UnitedHealthcare Life Ins Co\",'Essbase Input'!$C$8=\"Mid-West Nat Life Ins Co of TN\",'Essbase Input'!$C$8=\"The Chesapeake Life Ins. Co.\"),\"\",SUM(O$28:O$29,O$31,O$34+IF($H$6=\"No\",IF(MAX(O$32:O$33)=0,MIN(O$32:O$33),MAX(O$32:O$33)),SUM(O$32:O$33)))))","v":""},{"$f":"IF(VLOOKUP('Essbase Input'!$C$8,Tables!$B$4:$F$16,5,FALSE)=\"DHMO\",\"\",IF(OR('Essbase Input'!$C$8=\"Golden Rule Insurance Company\",'Essbase Input'!$C$8=\"UnitedHealthcare Life Ins Co\",'Essbase Input'!$C$8=\"Mid-West Nat Life Ins Co of TN\",'Essbase Input'!$C$8=\"The Chesapeake Life Ins. Co.\"),\"\",SUM(P$28:P$29,P$31,P$34+IF($H$6=\"No\",IF(MAX(P$32:P$33)=0,MIN(P$32:P$33),MAX(P$32:P$33)),SUM(P$32:P$33)))))","v":""},null,{"$f":"IF(O35=\"\",0,O35)+IF(M35=\"\",0,M35)+IF(K35=\"\",0,K35)+IF(I35=\"\",0,I35)+IF(G35=\"\",0,G35)+IF(E35=\"\",0,E35)","v":0},null,{"$f":"SUM(T$28:T$29,T$31,T$34+IF($H$6=\"No\",IF(MAX(T$32:T$33)=0,MIN(T$32:T$33),MAX(T$32:T$33)),SUM(T$32:T$33)))","v":0},0,0,0,0,0,0,0,0,0,{"$f":"SUM(V35:AC35)","v":0},{"$f":"SUM(AE$28:AE$29,AE$31,AE$34+IF($H$6=\"No\",IF(MAX(AE$32:AE$33)=0,MIN(AE$32:AE$33),MAX(AE$32:AE$33)),SUM(AE$32:AE$33)))","v":0},0,0,0,0,0,0,{"$f":"SUM(AE35:AK35)","v":0},{"$f":"SUM(AM$28:AM$29,AM$31,AM$34+IF($H$6=\"No\",IF(MAX(AM$32:AM$33)=0,MIN(AM$32:AM$33),MAX(AM$32:AM$33)),SUM(AM$32:AM$33)))","v":0},0,0,0,0,0,{"$f":"SUM(AL35:AR35)","v":0},{"$f":"IF(OR('Essbase Input'!$C$8=\"Golden Rule Insurance Company\",'Essbase Input'!$C$8=\"UnitedHealthcare Life Ins Co\",'Essbase Input'!$C$8=\"Mid-West Nat Life Ins Co of TN\",'Essbase Input'!$C$8=\"The Chesapeake Life Ins. Co.\"),SUM(Q35:T35,AC35,AS35),IF('Essbase Input'!$C$8=\"Dental Benefit Prov CA Inc\",SUM(Q35:T35,AC35,AD35:AE35,AS35),SUM(Q35:T35,AC35,AK35,AS35)))","v":0},{"$f":"SUM(AU$28:AU$29,AU$31,AU$34+IF($H$6=\"No\",IF(MAX(AU$32:AU$33)=0,MIN(AU$32:AU$33),MAX(AU$32:AU$33)),SUM(AU$32:AU$33)))","v":0}]
[]
[null,"4.","Non-Claims Costs "]
[null,null,4.0999999999999996,"Direct sales salaries and benefits",null,null,null,null,null,null,null,null,null,null,null,null,null,{"$f":"IF(O38=\"\",0,O38)+IF(M38=\"\",0,M38)+IF(K38=\"\",0,K38)+IF(I38=\"\",0,I38)+IF(G38=\"\",0,G38)+IF(E38=\"\",0,E38)","v":0},null,null,null,null,null,null,null,null,null,null,null,{"$f":"SUM(V38:AC38)","v":0},null,null,null,null,null,null,null,{"$f":"SUM(AE38:AK38)","v":0},null,null,null,null,null,null,{"$f":"SUM(AL38:AR38)","v":0},{"$f":"IF(OR('Essbase Input'!$C$8=\"Golden Rule Insurance Company\",'Essbase Input'!$C$8=\"UnitedHealthcare Life Ins Co\",'Essbase Input'!$C$8=\"Mid-West Nat Life Ins Co of TN\",'Essbase Input'!$C$8=\"The Chesapeake Life Ins. Co.\"),SUM(Q38:T38,AC38,AS38),IF('Essbase Input'!$C$8=\"Dental Benefit Prov CA Inc\",SUM(Q38:T38,AC38,AD38:AE38,AS38),SUM(Q38:T38,AC38,AK38,AS38)))","v":0}]
[null,null,4.2,"Agents and brokers fees and commissions",null,null,null,null,null,null,null,null,null,null,null,null,null,{"$f":"IF(O39=\"\",0,O39)+IF(M39=\"\",0,M39)+IF(K39=\"\",0,K39)+IF(I39=\"\",0,I39)+IF(G39=\"\",0,G39)+IF(E39=\"\",0,E39)","v":0},null,null,null,null,null,null,null,null,null,null,null,{"$f":"SUM(V39:AC39)","v":0},null,null,null,null,null,null,null,{"$f":"SUM(AE39:AK39)","v":0},null,null,null,null,null,null,{"$f":"SUM(AL39:AR39)","v":0},{"$f":"IF(OR('Essbase Input'!$C$8=\"Golden Rule Insurance Company\",'Essbase Input'!$C$8=\"UnitedHealthcare Life Ins Co\",'Essbase Input'!$C$8=\"Mid-West Nat Life Ins Co of TN\",'Essbase Input'!$C$8=\"The Chesapeake Life Ins. Co.\"),SUM(Q39:T39,AC39,AS39),IF('Essbase Input'!$C$8=\"Dental Benefit Prov CA Inc\",SUM(Q39:T39,AC39,AD39:AE39,AS39),SUM(Q39:T39,AC39,AK39,AS39)))","v":0}]
[null,null,4.3,"Other taxes"]
[null,null,null,"4.3a   Taxes and assessments (exclude amounts reported in Section 3 or Line 10) \n",null,null,null,null,null,null,null,null,null,null,null,null,null,{"$f":"IF(O41=\"\",0,O41)+IF(M41=\"\",0,M41)+IF(K41=\"\",0,K41)+IF(I41=\"\",0,I41)+IF(G41=\"\",0,G41)+IF(E41=\"\",0,E41)","v":0},null,null,null,null,null,null,null,null,null,null,null,{"$f":"SUM(V41:AC41)","v":0},null,null,null,null,null,null,null,{"$f":"SUM(AE41:AK41)","v":0},null,null,null,null,null,null,{"$f":"SUM(AL41:AR41)","v":0},{"$f":"IF(OR('Essbase Input'!$C$8=\"Golden Rule Insurance Company\",'Essbase Input'!$C$8=\"UnitedHealthcare Life Ins Co\",'Essbase Input'!$C$8=\"Mid-West Nat Life Ins Co of TN\",'Essbase Input'!$C$8=\"The Chesapeake Life Ins. Co.\"),SUM(Q41:T41,AC41,AS41),IF('Essbase Input'!$C$8=\"Dental Benefit Prov CA Inc\",SUM(Q41:T41,AC41,AD41:AE41,AS41),SUM(Q41:T41,AC41,AK41,AS41)))","v":0}]
[null,null,null,"4.3b   Fines and penalties of regulatory authorities (exclude amounts reported in Line 3.3)",null,null,null,null,null,null,null,null,null,null,null,null,null,{"$f":"IF(O42=\"\",0,O42)+IF(M42=\"\",0,M42)+IF(K42=\"\",0,K42)+IF(I42=\"\",0,I42)+IF(G42=\"\",0,G42)+IF(E42=\"\",0,E42)","v":0},null,null,null,null,null,null,null,null,null,null,null,{"$f":"SUM(V42:AC42)","v":0},null,null,null,null,null,null,null,{"$f":"SUM(AE42:AK42)","v":0},null,null,null,null,null,null,{"$f":"SUM(AL42:AR42)","v":0},{"$f":"IF(OR('Essbase Input'!$C$8=\"Golden Rule Insurance Company\",'Essbase Input'!$C$8=\"UnitedHealthcare Life Ins Co\",'Essbase Input'!$C$8=\"Mid-West Nat Life Ins Co of TN\",'Essbase Input'!$C$8=\"The Chesapeake Life Ins. Co.\"),SUM(Q42:T42,AC42,AS42),IF('Essbase Input'!$C$8=\"Dental Benefit Prov CA Inc\",SUM(Q42:T42,AC42,AD42:AE42,AS42),SUM(Q42:T42,AC42,AK42,AS42)))","v":0}]
[null,null,4.4000000000000004,"Other general and administrative expenses",null,null,null,null,null,null,null,null,null,null,null,null,null,{"$f":"IF(O43=\"\",0,O43)+IF(M43=\"\",0,M43)+IF(K43=\"\",0,K43)+IF(I43=\"\",0,I43)+IF(G43=\"\",0,G43)+IF(E43=\"\",0,E43)","v":0},null,null,null,null,null,null,null,null,null,null,null,{"$f":"SUM(V43:AC43)","v":0},null,null,null,null,null,null,null,{"$f":"SUM(AE43:AK43)","v":0},null,null,null,null,null,null,{"$f":"SUM(AL43:AR43)","v":0},{"$f":"IF(OR('Essbase Input'!$C$8=\"Golden Rule Insurance Company\",'Essbase Input'!$C$8=\"UnitedHealthcare Life Ins Co\",'Essbase Input'!$C$8=\"Mid-West Nat Life Ins Co of TN\",'Essbase Input'!$C$8=\"The Chesapeake Life Ins. Co.\"),SUM(Q43:T43,AC43,AS43),IF('Essbase Input'!$C$8=\"Dental Benefit Prov CA Inc\",SUM(Q43:T43,AC43,AD43:AE43,AS43),SUM(Q43:T43,AC43,AK43,AS43)))","v":0}]
[null,null,4.5,"Total non-claims costs",{"$f":"IF(VLOOKUP('Essbase Input'!$C$8,Tables!$B$4:$F$16,5,FALSE)=\"DPPO\",\"\",SUM(SUM(E38:E39)+SUM(E41:E43)))","v":""},{"$f":"IF(VLOOKUP('Essbase Input'!$C$8,Tables!$B$4:$F$16,5,FALSE)=\"DPPO\",\"\",SUM(SUM(F38:F39)+SUM(F41:F43)))","v":""},{"$f":"IF(VLOOKUP('Essbase Input'!$C$8,Tables!$B$4:$F$16,5,FALSE)=\"DPPO\",\"\",SUM(SUM(G38:G39)+SUM(G41:G43)))","v":""},{"$f":"IF(VLOOKUP('Essbase Input'!$C$8,Tables!$B$4:$F$16,5,FALSE)=\"DPPO\",\"\",SUM(SUM(H38:H39)+SUM(H41:H43)))","v":""},{"$f":"IF(VLOOKUP('Essbase Input'!$C$8,Tables!$B$4:$F$16,5,FALSE)=\"DPPO\",\"\",SUM(SUM(I38:I39)+SUM(I41:I43)))","v":""},{"$f":"IF(VLOOKUP('Essbase Input'!$C$8,Tables!$B$4:$F$16,5,FALSE)=\"DPPO\",\"\",SUM(SUM(J38:J39)+SUM(J41:J43)))","v":""},{"$f":"IF(VLOOKUP('Essbase Input'!$C$8,Tables!$B$4:$F$16,5,FALSE)=\"DHMO\",\"\",SUM(SUM(K38:K39)+SUM(K41:K43)))","v":0},{"$f":"IF(VLOOKUP('Essbase Input'!$C$8,Tables!$B$4:$F$16,5,FALSE)=\"DHMO\",\"\",SUM(SUM(L38:L39)+SUM(L41:L43)))","v":0},{"$f":"IF(VLOOKUP('Essbase Input'!$C$8,Tables!$B$4:$F$16,5,FALSE)=\"DHMO\",\"\",IF(OR('Essbase Input'!$C$8=\"Golden Rule Insurance Company\",'Essbase Input'!$C$8=\"UnitedHealthcare Life Ins Co\",'Essbase Input'!$C$8=\"Mid-West Nat Life Ins Co of TN\",'Essbase Input'!$C$8=\"The Chesapeake Life Ins. Co.\"),\"\",SUM(SUM(M38:M39)+SUM(M41:M43))))","v":""},{"$f":"IF(VLOOKUP('Essbase Input'!$C$8,Tables!$B$4:$F$16,5,FALSE)=\"DHMO\",\"\",IF(OR('Essbase Input'!$C$8=\"Golden Rule Insurance Company\",'Essbase Input'!$C$8=\"UnitedHealthcare Life Ins Co\",'Essbase Input'!$C$8=\"Mid-West Nat Life Ins Co of TN\",'Essbase Input'!$C$8=\"The Chesapeake Life Ins. Co.\"),\"\",SUM(SUM(N38:N39)+SUM(N41:N43))))","v":""},{"$f":"IF(VLOOKUP('Essbase Input'!$C$8,Tables!$B$4:$F$16,5,FALSE)=\"DHMO\",\"\",IF(OR('Essbase Input'!$C$8=\"Golden Rule Insurance Company\",'Essbase Input'!$C$8=\"UnitedHealthcare Life Ins Co\",'Essbase Input'!$C$8=\"Mid-West Nat Life Ins Co of TN\",'Essbase Input'!$C$8=\"The Chesapeake Life Ins. Co.\"),\"\",SUM(SUM(O38:O39)+SUM(O41:O43))))","v":""},{"$f":"IF(VLOOKUP('Essbase Input'!$C$8,Tables!$B$4:$F$16,5,FALSE)=\"DHMO\",\"\",IF(OR('Essbase Input'!$C$8=\"Golden Rule Insurance Company\",'Essbase Input'!$C$8=\"UnitedHealthcare Life Ins Co\",'Essbase Input'!$C$8=\"Mid-West Nat Life Ins Co of TN\",'Essbase Input'!$C$8=\"The Chesapeake Life Ins. Co.\"),\"\",SUM(SUM(P38:P39)+SUM(P41:P43))))","v":""},null,{"$f":"IF(O44=\"\",0,O44)+IF(M44=\"\",0,M44)+IF(K44=\"\",0,K44)+IF(I44=\"\",0,I44)+IF(G44=\"\",0,G44)+IF(E44=\"\",0,E44)","v":0},null,{"$f":"SUM(SUM(T38:T39)+SUM(T41:T43))","v":0},0,0,0,0,0,0,0,0,0,{"$f":"SUM(V44:AC44)","v":0},{"$f":"SUM(SUM(AE38:AE39)+SUM(AE41:AE43))","v":0},0,0,0,0,0,0,{"$f":"SUM(AE44:AK44)","v":0},{"$f":"SUM(SUM(AM38:AM39)+SUM(AM41:AM43))","v":0},0,0,0,0,0,{"$f":"SUM(AL44:AR44)","v":0},{"$f":"IF(OR('Essbase Input'!$C$8=\"Golden Rule Insurance Company\",'Essbase Input'!$C$8=\"UnitedHealthcare Life Ins Co\",'Essbase Input'!$C$8=\"Mid-West Nat Life Ins Co of TN\",'Essbase Input'!$C$8=\"The Chesapeake Life Ins. Co.\"),SUM(Q44:T44,AC44,AS44),IF('Essbase Input'!$C$8=\"Dental Benefit Prov CA Inc\",SUM(Q44:T44,AC44,AD44:AE44,AS44),SUM(Q44:T44,AC44,AK44,AS44)))","v":0},{"$f":"SUM(SUM(AU38:AU39)+SUM(AU41:AU43))","v":0}]
[]
[null,"5.","Other Indicators or information "]
[null,null,5.0999999999999996,"Number of covered lives",null,null,null,null,null,null,null,null,null,null,null,null,null,{"$f":"IF(O47=\"\",0,O47)+IF(M47=\"\",0,M47)+IF(K47=\"\",0,K47)+IF(I47=\"\",0,I47)+IF(G47=\"\",0,G47)+IF(E47=\"\",0,E47)","v":0},null,null,null,null,null,null,null,null,null,null,null,{"$f":"SUM(V47:AC47)","v":0},null,null,null,null,null,null,null,{"$f":"SUM(AE47:AK47)","v":0},null,null,null,null,null,null,{"$f":"SUM(AL47:AR47)","v":0},{"$f":"IF(OR('Essbase Input'!$C$8=\"Golden Rule Insurance Company\",'Essbase Input'!$C$8=\"UnitedHealthcare Life Ins Co\",'Essbase Input'!$C$8=\"Mid-West Nat Life Ins Co of TN\",'Essbase Input'!$C$8=\"The Chesapeake Life Ins. Co.\"),SUM(Q47:T47,AC47,AS47),IF('Essbase Input'!$C$8=\"Dental Benefit Prov CA Inc\",SUM(Q47:T47,AC47,AD47:AE47,AS47),SUM(Q47:T47,AC47,AK47,AS47)))","v":0}]
[null,null,5.2,"Member months",null,null,null,null,null,null,null,null,null,null,null,null,null,{"$f":"IF(O48=\"\",0,O48)+IF(M48=\"\",0,M48)+IF(K48=\"\",0,K48)+IF(I48=\"\",0,I48)+IF(G48=\"\",0,G48)+IF(E48=\"\",0,E48)","v":0},null,null,null,null,null,null,null,null,null,null,null,{"$f":"SUM(V48:AC48)","v":0},null,null,null,null,null,null,null,{"$f":"SUM(AE48:AK48)","v":0},null,null,null,null,null,null,{"$f":"SUM(AL48:AR48)","v":0},{"$f":"IF(OR('Essbase Input'!$C$8=\"Golden Rule Insurance Company\",'Essbase Input'!$C$8=\"UnitedHealthcare Life Ins Co\",'Essbase Input'!$C$8=\"Mid-West Nat Life Ins Co of TN\",'Essbase Input'!$C$8=\"The Chesapeake Life Ins. Co.\"),SUM(Q48:T48,AC48,AS48),IF('Essbase Input'!$C$8=\"Dental Benefit Prov CA Inc\",SUM(Q48:T48,AC48,AD48:AE48,AS48),SUM(Q48:T48,AC48,AK48,AS48)))","v":0}]
[null,null,5.3,"Number of life-years",{"$f":"E48/12","v":0},0,0,0,0,0,0,0,0,0,0,0,null,{"$f":"IF(O49=\"\",0,O49)+IF(M49=\"\",0,M49)+IF(K49=\"\",0,K49)+IF(I49=\"\",0,I49)+IF(G49=\"\",0,G49)+IF(E49=\"\",0,E49)","v":0},null,{"$f":"T48/12","v":0},{"$f":"U48/12","v":0},0,0,0,0,0,0,0,0,{"$f":"SUM(V49:AC49)","v":0},0,0,0,0,0,0,0,{"$f":"SUM(AE49:AK49)","v":0},0,0,0,0,0,0,{"$f":"SUM(AL49:AR49)","v":0},{"$f":"IF(OR('Essbase Input'!$C$8=\"Golden Rule Insurance Company\",'Essbase Input'!$C$8=\"UnitedHealthcare Life Ins Co\",'Essbase Input'!$C$8=\"Mid-West Nat Life Ins Co of TN\",'Essbase Input'!$C$8=\"The Chesapeake Life Ins. Co.\"),SUM(Q49:T49,AC49,AS49),IF('Essbase Input'!$C$8=\"Dental Benefit Prov CA Inc\",SUM(Q49:T49,AC49,AD49:AE49,AS49),SUM(Q49:T49,AC49,AK49,AS49)))","v":0},0]
[null,null,null,null,{"$f":"CONCATENATE(\"Grand Total as of 12/31/\",RIGHT('EB PT 1'!K11,2),\" for ALL markets in col. 1-12\")","v":"Grand Total as of 12/31/22 for ALL markets in col. 1-12"}]
[null,"6.","Net investment income and other gain / (loss) "]
[null,"7.","Other Federal income taxes (exclude taxes on Line 3.1a and 3.1b) "]
[]
[null,"Cell Keys:"]
[null,null,"Blank cells require input from Health plan or Health insurer"]
[null,null,"Grey cells require no data input "]
[null,null,"Pink cells require no data input - locked down"]
[null,null,"Blue cells: computed cell (formula cell)"]

{"sheet":"Pt 1 Summary of Data - Final","index":14,"n_rows":83,"n_cols":50,"rows_kept":83,"cut":false,"hidden":false,"merged":[[14,46,15,46],[14,47,15,47],[14,48,15,48],[14,49,15,49],[13,32,13,36],[13,38,13,44],[14,17,15,17],[14,28,15,28],[14,37,15,37],[11,1,11,3],[13,4,13,9],[13,10,13,15],[14,4,14,9],[14,10,14,15],[14,19,15,19],[14,20,15,20],[15,4,15,5],[15,6,15,7],[15,8,15,9],[15,14,15,15],[14,29,15,29],[13,30,13,31],[5,1,5,3],[7,1,7,3],[7,10,7,11],[9,1,9,3],[9,10,9,11],[49,4,50,4],[55,2,55,3],[58,2,58,3],[15,10,15,11],[15,12,15,13],[13,1,16,3]]}
[null,"Department of Managed Health Care/Department of Insurance"]
[null,"Medical Loss Ratio Reporting Form: Dental Coverage"]
[null,"Part 1 - Summary of Data"]
[]
[null,"Health Plan ID",null,null,null,null,null,"Federal Tax Exempt "]
[null,{"$f":"'Cover Page'!C7","v":97179},null,null,null,null,null,{"$f":"'Cover Page'!C10","v":"No"}]
[null,"Legal Name"]
[null,{"$f":"'Cover Page'!C8","v":"UnitedHealthcare Life Insurance Company"}]
[null,"dBA"]
[null,{"$f":"'Cover Page'!C9","v":"N/A"}]
[null,"MLR Reporting Year"]
[null,{"$f":"'Cover Page'!C6","v":"2022"}]
[]
[null,"UHG NOTES SECTION:\nFinal tab.  This tab is the final report that will be filed with DMHC.\nThe base tab plus the \"Adj\" tab makes the \"Final' tab",null,null,"Health Insurance Coverage",null,null,null,null,null,"Health Insurance Coverage",null,null,null,null,null,null,"Stand Alone \nDental\n(Ind/SG/LG)",null,"Stand Alone \nVision","Non-Stand Alone \nDental/Vision","Other Bus\n(excluded by Statute)\nMISC 1","Other Bus\n(excluded by Statute)\nMISC 2","Other Bus\n(excluded by Statute)\nMISC 3","Other Bus\n(excluded by Statute)\nMISC 4","Other Bus\n(excluded by Statute)\nMISC 5","Other Bus\n(excluded by Statute)\nMISC 6","Other Bus\n(excluded by Statute)\nMISC 7","Other Bus\n(excluded by Statute)\nless MISC (1-7)","Other Bus\n(excluded by Statute)","Stand Alone Dental\nUHC Dom.\nNon-Ind/SG/LG",null,"Stand Alone Dental\nNon-UHC Dom.",null,null,null,null,null,"These products don't fall into any node and need to be remapped!",null,null,null,null,null,null,null,"Grand Total","Grand Total",null,"Reference"]
[null,null,null,null,"DHMO Products",null,null,null,null,null,"DPPO & Indemnity Products",null,null,null,null,null,null,"Dental",null,"Vision","Life/Disability","Stop Loss","Stop Loss","Supp Hospital","Medicare Supp","Student Health","Wrap","Ind Short Term","Other Bus\n(\"Catch-All\")","Other Bus\n(excluded by Statute)",null,null,null,null,null,null,null,"Other\nStand Alone Dent\n",null,null,null,null,null,null,null,null,"Other Health Bus \nper DMHC","Other Health Bus \nper CMS (Col 41)","DMHC Rpt vs. CMS Rpt\n(Oth Health Bus - Col 41)","CMS Lines"]
[null,null,null,null,"Individual",null,"Small Group",null,"Large Group",null,"Individual",null,"Small Group",null,"Large Group",null,null,null,null,null,null,"PROD Range 322***","PROD Range 150***","PROD Range 204***","PROD Range 203***","PROD Range 112/113***","PROD 202080","PROD 106410",null,null,"UHC Dom.\nStand Alone Dent\nBlank Cust","UHC Dom.\nStand Alone Dent\nNot Comp Health","UHC International\nStand Alone Dent\nMLR Customer","Optum\nStand Alone Dent\nMLR Customer","Elims Mkt Grp\nStand Alone Dent\nMLR Customer","Corp Mkt Grp\nStand Alone Dent\nMLR Customer","Non-UHG\nStand Alone Dent\nMLR Customer","Other\nDifferences","All OUs \np306156 \nMLR Customers","All OUs \np305402 \nMLR Customers","All OUs \np430083 \nMLR Customers","All OUs \np430084 \nMLR Customers","All OUs \np430087 \nMLR Customers","All OUs \np430088 \nMLR Customers","All OUs \np430089 \nMLR Customers","OTHER\n(Not in categories to the left)"]
[null,null,null,null,"Total as of ","Total as of ","Total as of ","Total as of ","Total as of ","Total as of ","Total as of ","Total as of ","Total as of ","Total as of ","Total as of ","Total as of ",null,"Total as of ",null,"Total as of ","Total as of ","Total as of ","Total as of ","Total as of ","Total as of ","Total as of ","Total as of ","Total as of ","Total as of ","Total as of ","Total as of ","Total as of ","Total as of ","Total as of ","Total as of ","Total as of ","Total as of ","Total as of ","Total as of ","Total as of ","Total as of ","Total as of ","Total as of ","Total as of ","Total as of ","Total as of ","Total as of ","Total as of ","Total as of ","Total as of "]
[null,null,null,"Part 1\nNOTE: REFER TO MLR INSTRUCTIONS FOR IMPORTANT ",{"$f":"\"12/31/\"&RIGHT('Essbase Input'!$C$17,2)","v":"12/31/22"},{"$f":"\"3/31/\"&RIGHT('Essbase Input'!$C$16,2)","v":"3/31/23"},{"$f":"\"12/31/\"&RIGHT('Essbase Input'!$C$17,2)","v":"12/31/22"},{"$f":"\"3/31/\"&RIGHT('Essbase Input'!$C$16,2)","v":"3/31/23"},{"$f":"\"12/31/\"&RIGHT('Essbase Input'!$C$17,2)","v":"12/31/22"},{"$f":"\"3/31/\"&RIGHT('Essbase Input'!$C$16,2)","v":"3/31/23"},{"$f":"\"12/31/\"&RIGHT('Essbase Input'!$C$17,2)","v":"12/31/22"},{"$f":"\"3/31/\"&RIGHT('Essbase Input'!$C$16,2)","v":"3/31/23"},{"$f":"\"12/31/\"&RIGHT('Essbase Input'!$C$17,2)","v":"12/31/22"},{"$f":"\"3/31/\"&RIGHT('Essbase Input'!$C$16,2)","v":"3/31/23"},{"$f":"\"12/31/\"&RIGHT('Essbase Input'!$C$17,2)","v":"12/31/22"},{"$f":"\"3/31/\"&RIGHT('Essbase Input'!$C$16,2)","v":"3/31/23"},null,{"$f":"\"12/31/\"&RIGHT('Essbase Input'!$C$17,2)","v":"12/31/22"},null,{"$f":"\"12/31/\"&RIGHT('Essbase Input'!$C$17,2)","v":"12/31/22"},{"$f":"\"12/31/\"&RIGHT('Essbase Input'!$C$17,2)","v":"12/31/22"},{"$f":"\"12/31/\"&RIGHT('Essbase Input'!$C$17,2)","v":"12/31/22"},{"$f":"\"12/31/\"&RIGHT('Essbase Input'!$C$17,2)","v":"12/31/22"},{"$f":"\"12/31/\"&RIGHT('Essbase Input'!$C$17,2)","v":"12/31/22"},{"$f":"\"12/31/\"&RIGHT('Essbase Input'!$C$17,2)","v":"12/31/22"},{"$f":"\"12/31/\"&RIGHT('Essbase Input'!$C$17,2)","v":"12/31/22"},{"$f":"\"12/31/\"&RIGHT('Essbase Input'!$C$17,2)","v":"12/31/22"},{"$f":"\"12/31/\"&RIGHT('Essbase Input'!$C$17,2)","v":"12/31/22"},{"$f":"\"12/31/\"&RIGHT('Essbase Input'!$C$17,2)","v":"12/31/22"},{"$f":"\"12/31/\"&RIGHT('Essbase Input'!$C$17,2)","v":"12/31/22"},{"$f":"\"12/31/\"&RIGHT('Essbase Input'!$C$17,2)","v":"12/31/22"},{"$f":"\"12/31/\"&RIGHT('Essbase Input'!$C$17,2)","v":"12/31/22"},{"$f":"\"12/31/\"&RIGHT('Essbase Input'!$C$17,2)","v":"12/31/22"},{"$f":"\"12/31/\"&RIGHT('Essbase Input'!$C$17,2)","v":"12/31/22"},{"$f":"\"12/31/\"&RIGHT('Essbase Input'!$C$17,2)","v":"12/31/22"},{"$f":"\"12/31/\"&RIGHT('Essbase Input'!$C$17,2)","v":"12/31/22"},{"$f":"\"12/31/\"&RIGHT('Essbase Input'!$C$17,2)","v":"12/31/22"},{"$f":"\"12/31/\"&RIGHT('Essbase Input'!$C$17,2)","v":"12/31/22"},{"$f":"\"12/31/\"&RIGHT('Essbase Input'!$C$17,2)","v":"12/31/22"},{"$f":"\"12/31/\"&RIGHT('Essbase Input'!$C$17,2)","v":"12/31/22"},{"$f":"\"12/31/\"&RIGHT('Essbase Input'!$C$17,2)","v":"12/31/22"},{"$f":"\"12/31/\"&RIGHT('Essbase Input'!$C$17,2)","v":"12/31/22"},{"$f":"\"12/31/\"&RIGHT('Essbase Input'!$C$17,2)","v":"12/31/22"},{"$f":"\"12/31/\"&RIGHT('Essbase Input'!$C$17,2)","v":"12/31/22"},{"$f":"\"12/31/\"&RIGHT('Essbase Input'!$C$17,2)","v":"12/31/22"},{"$f":"\"12/31/\"&RIGHT('Essbase Input'!$C$17,2)","v":"12/31/22"},{"$f":"\"12/31/\"&RIGHT('Essbase Input'!$C$17,2)","v":"12/31/22"},{"$f":"\"12/31/\"&RIGHT('Essbase Input'!$C$17,2)","v":"12/31/22"},{"$f":"\"12/31/\"&RIGHT('Essbase Input'!$C$17,2)","v":"12/31/22"},{"$f":"\"12/31/\"&RIGHT('Essbase Input'!$C$17,2)","v":"12/31/22"}]
[null,null,null,"INFORMATION ABOUT COMPLETING EACH COLUMN AND ROW.",1,2,3,4,5,6,7,8,9,10,11,12]
[null,"1.","Premium"]
[null,null,1.1000000000000001,"Total direct premium earned",{"$f":"IF('Pt 1 Summary of Data'!E21=\"\",\"\",'Pt 1 Summary of Data'!E21+'Pt 1 Summary of Data - Adj'!E21)","v":""},{"$f":"IF('Pt 1 Summary of Data'!F21=\"\",\"\",'Pt 1 Summary of Data'!F21+'Pt 1 Summary of Data - Adj'!F21)","v":""},{"$f":"IF('Pt 1 Summary of Data'!G21=\"\",\"\",'Pt 1 Summary of Data'!G21+'Pt 1 Summary of Data - Adj'!G21)","v":""},{"$f":"IF('Pt 1 Summary of Data'!H21=\"\",\"\",'Pt 1 Summary of Data'!H21+'Pt 1 Summary of Data - Adj'!H21)","v":""},{"$f":"IF('Pt 1 Summary of Data'!I21=\"\",\"\",'Pt 1 Summary of Data'!I21+'Pt 1 Summary of Data - Adj'!I21)","v":""},{"$f":"IF('Pt 1 Summary of Data'!J21=\"\",\"\",'Pt 1 Summary of Data'!J21+'Pt 1 Summary of Data - Adj'!J21)","v":""},{"$f":"IF('Pt 1 Summary of Data'!K21=\"\",\"\",'Pt 1 Summary of Data'!K21+'Pt 1 Summary of Data - Adj'!K21)","v":145317.48000000004},{"$f":"IF('Pt 1 Summary of Data'!L21=\"\",\"\",'Pt 1 Summary of Data'!L21+'Pt 1 Summary of Data - Adj'!L21)","v":145020.52000000002},{"$f":"IF('Pt 1 Summary of Data'!M21=\"\",\"\",'Pt 1 Summary of Data'!M21+'Pt 1 Summary of Data - Adj'!M21)","v":""},{"$f":"IF('Pt 1 Summary of Data'!N21=\"\",\"\",'Pt 1 Summary of Data'!N21+'Pt 1 Summary of Data - Adj'!N21)","v":""},{"$f":"IF('Pt 1 Summary of Data'!O21=\"\",\"\",'Pt 1 Summary of Data'!O21+'Pt 1 Summary of Data - Adj'!O21)","v":""},{"$f":"IF('Pt 1 Summary of Data'!P21=\"\",\"\",'Pt 1 Summary of Data'!P21+'Pt 1 Summary of Data - Adj'!P21)","v":""},null,{"$f":"IF(O21=\"\",0,O21)+IF(M21=\"\",0,M21)+IF(K21=\"\",0,K21)+IF(I21=\"\",0,I21)+IF(G21=\"\",0,G21)+IF(E21=\"\",0,E21)","v":145317.48000000004},null,{"$f":"+'Pt 1 Summary of Data'!T21+'Pt 1 Summary of Data - Adj'!T21","v":10887.94},{"$f":"+'Pt 1 Summary of Data'!U21+'Pt 1 Summary of Data - Adj'!U21","v":0},{"$f":"+'Pt 1 Summary of Data'!V21+'Pt 1 Summary of Data - Adj'!V21","v":0},{"$f":"+'Pt 1 Summary of Data'!W21+'Pt 1 Summary of Data - Adj'!W21","v":0},{"$f":"+'Pt 1 Summary of Data'!X21+'Pt 1 Summary of Data - Adj'!X21","v":0},{"$f":"+'Pt 1 Summary of Data'!Y21+'Pt 1 Summary of Data - Adj'!Y21","v":0},{"$f":"+'Pt 1 Summary of Data'!Z21+'Pt 1 Summary of Data - Adj'!Z21","v":0},{"$f":"+'Pt 1 Summary of Data'!AA21+'Pt 1 Summary of Data - Adj'!AA21","v":0},{"$f":"+'Pt 1 Summary of Data'!AB21+'Pt 1 Summary of Data - Adj'!AB21","v":0},{"$f":"+'Pt 1 Summary of Data'!AC21+'Pt 1 Summary of Data - Adj'!AC21","v":0},{"$f":"+'Pt 1 Summary of Data'!AD21+'Pt 1 Summary of Data - Adj'!AD21","v":0},{"$f":"+'Pt 1 Summary of Data'!AE21+'Pt 1 Summary of Data - Adj'!AE21","v":0},{"$f":"+'Pt 1 Summary of Data'!AF21+'Pt 1 Summary of Data - Adj'!AF21","v":145317.48000000004},{"$f":"+'Pt 1 Summary of Data'!AG21+'Pt 1 Summary of Data - Adj'!AG21","v":0},{"$f":"+'Pt 1 Summary of Data'!AH21+'Pt 1 Summary of Data - Adj'!AH21","v":0},{"$f":"+'Pt 1 Summary of Data'!AI21+'Pt 1 Summary of Data - Adj'!AI21","v":0},{"$f":"+'Pt 1 Summary of Data'!AJ21+'Pt 1 Summary of Data - Adj'!AJ21","v":0},{"$f":"+'Pt 1 Summary of Data'!AK21+'Pt 1 Summary of Data - Adj'!AK21","v":0},{"$f":"+'Pt 1 Summary of Data'!AL21+'Pt 1 Summary of Data - Adj'!AL21","v":145317.48000000004},{"$f":"+'Pt 1 Summary of Data'!AM21+'Pt 1 Summary of Data - Adj'!AM21","v":0},{"$f":"+'Pt 1 Summary of Data'!AN21+'Pt 1 Summary of Data - Adj'!AN21","v":0},{"$f":"+'Pt 1 Summary of Data'!AO21+'Pt 1 Summary of Data - Adj'!AO21","v":0},{"$f":"+'Pt 1 Summary of Data'!AP21+'Pt 1 Summary of Data - Adj'!AP21","v":0},{"$f":"+'Pt 1 Summary of Data'!AQ21+'Pt 1 Summary of Data - Adj'!AQ21","v":0},{"$f":"+'Pt 1 Summary of Data'!AR21+'Pt 1 Summary of Data - Adj'!AR21","v":0},{"$f":"+'Pt 1 Summary of Data'!AS21+'Pt 1 Summary of Data - Adj'!AS21","v":0},{"$f":"+'Pt 1 Summary of Data'!AT21+'Pt 1 Summary of Data - Adj'!AT21","v":0},{"$f":"+'Pt 1 Summary of Data'!AU21+'Pt 1 Summary of Data - Adj'!AU21","v":156205.42000000004},{"$f":"+'Pt 1 Summary of Data'!AV21+'Pt 1 Summary of Data - Adj'!AV21","v":156205.42000000001},{"$f":"+'Pt 1 Summary of Data'!AW21+'Pt 1 Summary of Data - Adj'!AW21","v":0},"Pt 1, Ln 1.1"]
[]
[null,"2.","Claims"]
[null,null,2.1,"Total incurred claims (MLR Form Part 2, Line 2.11)",{"$f":"IF('Pt 1 Summary of Data'!E24=\"\",\"\",'Pt 1 Summary of Data'!E24+'Pt 1 Summary of Data - Adj'!E24)","v":""},{"$f":"IF('Pt 1 Summary of Data'!F24=\"\",\"\",'Pt 1 Summary of Data'!F24+'Pt 1 Summary of Data - Adj'!F24)","v":""},{"$f":"IF('Pt 1 Summary of Data'!G24=\"\",\"\",'Pt 1 Summary of Data'!G24+'Pt 1 Summary of Data - Adj'!G24)","v":""},{"$f":"IF('Pt 1 Summary of Data'!H24=\"\",\"\",'Pt 1 Summary of Data'!H24+'Pt 1 Summary of Data - Adj'!H24)","v":""},{"$f":"IF('Pt 1 Summary of Data'!I24=\"\",\"\",'Pt 1 Summary of Data'!I24+'Pt 1 Summary of Data - Adj'!I24)","v":""},{"$f":"IF('Pt 1 Summary of Data'!J24=\"\",\"\",'Pt 1 Summary of Data'!J24+'Pt 1 Summary of Data - Adj'!J24)","v":""},{"$f":"IF('Pt 1 Summary of Data'!K24=\"\",\"\",'Pt 1 Summary of Data'!K24+'Pt 1 Summary of Data - Adj'!K24)","v":75730.91},{"$f":"IF('Pt 1 Summary of Data'!L24=\"\",\"\",'Pt 1 Summary of Data'!L24+'Pt 1 Summary of Data - Adj'!L24)","v":80059.100000000006},{"$f":"IF('Pt 1 Summary of Data'!M24=\"\",\"\",'Pt 1 Summary of Data'!M24+'Pt 1 Summary of Data - Adj'!M24)","v":""},{"$f":"IF('Pt 1 Summary of Data'!N24=\"\",\"\",'Pt 1 Summary of Data'!N24+'Pt 1 Summary of Data - Adj'!N24)","v":""},{"$f":"IF('Pt 1 Summary of Data'!O24=\"\",\"\",'Pt 1 Summary of Data'!O24+'Pt 1 Summary of Data - Adj'!O24)","v":""},{"$f":"IF('Pt 1 Summary of Data'!P24=\"\",\"\",'Pt 1 Summary of Data'!P24+'Pt 1 Summary of Data - Adj'!P24)","v":""},null,{"$f":"IF(O24=\"\",0,O24)+IF(M24=\"\",0,M24)+IF(K24=\"\",0,K24)+IF(I24=\"\",0,I24)+IF(G24=\"\",0,G24)+IF(E24=\"\",0,E24)","v":75730.91},null,{"$f":"+'Pt 1 Summary of Data'!T24+'Pt 1 Summary of Data - Adj'!T24","v":4667.7000000000007},{"$f":"+'Pt 1 Summary of Data'!U24+'Pt 1 Summary of Data - Adj'!U24","v":0},{"$f":"+'Pt 1 Summary of Data'!V24+'Pt 1 Summary of Data - Adj'!V24","v":0},{"$f":"+'Pt 1 Summary of Data'!W24+'Pt 1 Summary of Data - Adj'!W24","v":0},{"$f":"+'Pt 1 Summary of Data'!X24+'Pt 1 Summary of Data - Adj'!X24","v":0},{"$f":"+'Pt 1 Summary of Data'!Y24+'Pt 1 Summary of Data - Adj'!Y24","v":0},{"$f":"+'Pt 1 Summary of Data'!Z24+'Pt 1 Summary of Data - Adj'!Z24","v":0},{"$f":"+'Pt 1 Summary of Data'!AA24+'Pt 1 Summary of Data - Adj'!AA24","v":0},{"$f":"+'Pt 1 Summary of Data'!AB24+'Pt 1 Summary of Data - Adj'!AB24","v":0},{"$f":"+'Pt 1 Summary of Data'!AC24+'Pt 1 Summary of Data - Adj'!AC24","v":0},{"$f":"+'Pt 1 Summary of Data'!AD24+'Pt 1 Summary of Data - Adj'!AD24","v":0},{"$f":"+'Pt 1 Summary of Data'!AE24+'Pt 1 Summary of Data - Adj'!AE24","v":0},{"$f":"+'Pt 1 Summary of Data'!AF24+'Pt 1 Summary of Data - Adj'!AF24","v":75730.91},{"$f":"+'Pt 1 Summary of Data'!AG24+'Pt 1 Summary of Data - Adj'!AG24","v":0},{"$f":"+'Pt 1 Summary of Data'!AH24+'Pt 1 Summary of Data - Adj'!AH24","v":0},{"$f":"+'Pt 1 Summary of Data'!AI24+'Pt 1 Summary of Data - Adj'!AI24","v":0},{"$f":"+'Pt 1 Summary of Data'!AJ24+'Pt 1 Summary of Data - Adj'!AJ24","v":0},{"$f":"+'Pt 1 Summary of Data'!AK24+'Pt 1 Summary of Data - Adj'!AK24","v":0},{"$f":"+'Pt 1 Summary of Data'!AL24+'Pt 1 Summary of Data - Adj'!AL24","v":75730.91},{"$f":"+'Pt 1 Summary of Data'!AM24+'Pt 1 Summary of Data - Adj'!AM24","v":0},{"$f":"+'Pt 1 Summary of Data'!AN24+'Pt 1 Summary of Data - Adj'!AN24","v":0},{"$f":"+'Pt 1 Summary of Data'!AO24+'Pt 1 Summary of Data - Adj'!AO24","v":0},{"$f":"+'Pt 1 Summary of Data'!AP24+'Pt 1 Summary of Data - Adj'!AP24","v":0},{"$f":"+'Pt 1 Summary of Data'!AQ24+'Pt 1 Summary of Data - Adj'!AQ24","v":0},{"$f":"+'Pt 1 Summary of Data'!AR24+'Pt 1 Summary of Data - Adj'!AR24","v":0},{"$f":"+'Pt 1 Summary of Data'!AS24+'Pt 1 Summary of Data - Adj'!AS24","v":0},{"$f":"+'Pt 1 Summary of Data'!AT24+'Pt 1 Summary of Data - Adj'!AT24","v":0},{"$f":"+'Pt 1 Summary of Data'!AU24+'Pt 1 Summary of Data - Adj'!AU24","v":80398.61},{"$f":"+'Pt 1 Summary of Data'!AV24+'Pt 1 Summary of Data - Adj'!AV24","v":80398.61},{"$f":"+'Pt 1 Summary of Data'!AW24+'Pt 1 Summary of Data - Adj'!AW24","v":0},"Pt 1, Ln 2.1"]
[]
[null,"3.","Federal and State Taxes and Licensing or Regulatory Fees"]
[null,null,3.1,"Federal taxes and assessments incurred by the reporting health plan or health insurer during the MLR reporting year "]
[null,null,null,"  3.1 a  Federal income taxes deductible from premium in MLR calculations ",{"$f":"IF('Pt 1 Summary of Data'!E28=\"\",\"\",'Pt 1 Summary of Data'!E28+'Pt 1 Summary of Data - Adj'!E28)","v":""},{"$f":"IF('Pt 1 Summary of Data'!F28=\"\",\"\",'Pt 1 Summary of Data'!F28+'Pt 1 Summary of Data - Adj'!F28)","v":""},{"$f":"IF('Pt 1 Summary of Data'!G28=\"\",\"\",'Pt 1 Summary of Data'!G28+'Pt 1 Summary of Data - Adj'!G28)","v":""},{"$f":"IF('Pt 1 Summary of Data'!H28=\"\",\"\",'Pt 1 Summary of Data'!H28+'Pt 1 Summary of Data - Adj'!H28)","v":""},{"$f":"IF('Pt 1 Summary of Data'!I28=\"\",\"\",'Pt 1 Summary of Data'!I28+'Pt 1 Summary of Data - Adj'!I28)","v":""},{"$f":"IF('Pt 1 Summary of Data'!J28=\"\",\"\",'Pt 1 Summary of Data'!J28+'Pt 1 Summary of Data - Adj'!J28)","v":""},{"$f":"IF('Pt 1 Summary of Data'!K28=\"\",\"\",'Pt 1 Summary of Data'!K28+'Pt 1 Summary of Data - Adj'!K28)","v":5568.76},{"$f":"IF('Pt 1 Summary of Data'!L28=\"\",\"\",'Pt 1 Summary of Data'!L28+'Pt 1 Summary of Data - Adj'!L28)","v":5568.76},{"$f":"IF('Pt 1 Summary of Data'!M28=\"\",\"\",'Pt 1 Summary of Data'!M28+'Pt 1 Summary of Data - Adj'!M28)","v":""},{"$f":"IF('Pt 1 Summary of Data'!N28=\"\",\"\",'Pt 1 Summary of Data'!N28+'Pt 1 Summary of Data - Adj'!N28)","v":""},{"$f":"IF('Pt 1 Summary of Data'!O28=\"\",\"\",'Pt 1 Summary of Data'!O28+'Pt 1 Summary of Data - Adj'!O28)","v":""},{"$f":"IF('Pt 1 Summary of Data'!P28=\"\",\"\",'Pt 1 Summary of Data'!P28+'Pt 1 Summary of Data - Adj'!P28)","v":""},null,{"$f":"IF(O28=\"\",0,O28)+IF(M28=\"\",0,M28)+IF(K28=\"\",0,K28)+IF(I28=\"\",0,I28)+IF(G28=\"\",0,G28)+IF(E28=\"\",0,E28)","v":5568.76},null,{"$f":"+'Pt 1 Summary of Data'!T28+'Pt 1 Summary of Data - Adj'!T28","v":798.31000000000006},{"$f":"+'Pt 1 Summary of Data'!U28+'Pt 1 Summary of Data - Adj'!U28","v":-143.59},{"$f":"+'Pt 1 Summary of Data'!V28+'Pt 1 Summary of Data - Adj'!V28","v":0},{"$f":"+'Pt 1 Summary of Data'!W28+'Pt 1 Summary of Data - Adj'!W28","v":0},{"$f":"+'Pt 1 Summary of Data'!X28+'Pt 1 Summary of Data - Adj'!X28","v":0},{"$f":"+'Pt 1 Summary of Data'!Y28+'Pt 1 Summary of Data - Adj'!Y28","v":0},{"$f":"+'Pt 1 Summary of Data'!Z28+'Pt 1 Summary of Data - Adj'!Z28","v":0},{"$f":"+'Pt 1 Summary of Data'!AA28+'Pt 1 Summary of Data - Adj'!AA28","v":0},{"$f":"+'Pt 1 Summary of Data'!AB28+'Pt 1 Summary of Data - Adj'!AB28","v":0},{"$f":"+'Pt 1 Summary of Data'!AC28+'Pt 1 Summary of Data - Adj'!AC28","v":0},{"$f":"+'Pt 1 Summary of Data'!AD28+'Pt 1 Summary of Data - Adj'!AD28","v":0},{"$f":"+'Pt 1 Summary of Data'!AE28+'Pt 1 Summary of Data - Adj'!AE28","v":0},{"$f":"+'Pt 1 Summary of Data'!AF28+'Pt 1 Summary of Data - Adj'!AF28","v":0},{"$f":"+'Pt 1 Summary of Data'!AG28+'Pt 1 Summary of Data - Adj'!AG28","v":0},{"$f":"+'Pt 1 Summary of Data'!AH28+'Pt 1 Summary of Data - Adj'!AH28","v":0},{"$f":"+'Pt 1 Summary of Data'!AI28+'Pt 1 Summary of Data - Adj'!AI28","v":0},{"$f":"+'Pt 1 Summary of Data'!AJ28+'Pt 1 Summary of Data - Adj'!AJ28","v":0},{"$f":"+'Pt 1 Summary of Data'!AK28+'Pt 1 Summary of Data - Adj'!AK28","v":0},{"$f":"+'Pt 1 Summary of Data'!AL28+'Pt 1 Summary of Data - Adj'!AL28","v":0},{"$f":"+'Pt 1 Summary of Data'!AM28+'Pt 1 Summary of Data - Adj'!AM28","v":0},{"$f":"+'Pt 1 Summary of Data'!AN28+'Pt 1 Summary of Data - Adj'!AN28","v":0},{"$f":"+'Pt 1 Summary of Data'!AO28+'Pt 1 Summary of Data - Adj'!AO28","v":0},{"$f":"+'Pt 1 Summary of Data'!AP28+'Pt 1 Summary of Data - Adj'!AP28","v":0},{"$f":"+'Pt 1 Summary of Data'!AQ28+'Pt 1 Summary of Data - Adj'!AQ28","v":0},{"$f":"+'Pt 1 Summary of Data'!AR28+'Pt 1 Summary of Data - Adj'!AR28","v":0},{"$f":"+'Pt 1 Summary of Data'!AS28+'Pt 1 Summary of Data - Adj'!AS28","v":0},{"$f":"+'Pt 1 Summary of Data'!AT28+'Pt 1 Summary of Data - Adj'!AT28","v":0},{"$f":"+'Pt 1 Summary of Data'!AU28+'Pt 1 Summary of Data - Adj'!AU28","v":6223.4800000000005},{"$f":"+'Pt 1 Summary of Data'!AV28+'Pt 1 Summary of Data - Adj'!AV28","v":6223.4800000000005},{"$f":"+'Pt 1 Summary of Data'!AW28+'Pt 1 Summary of Data - Adj'!AW28","v":0},"Pt 1, Ln 3.1a"]
[null,null,null,"  3.1 b  Other Federal Taxes (other than income tax) and assessments deductible from premium",{"$f":"IF('Pt 1 Summary of Data'!E29=\"\",\"\",'Pt 1 Summary of Data'!E29+'Pt 1 Summary of Data - Adj'!E29)","v":""},{"$f":"IF('Pt 1 Summary of Data'!F29=\"\",\"\",'Pt 1 Summary of Data'!F29+'Pt 1 Summary of Data - Adj'!F29)","v":""},{"$f":"IF('Pt 1 Summary of Data'!G29=\"\",\"\",'Pt 1 Summary of Data'!G29+'Pt 1 Summary of Data - Adj'!G29)","v":""},{"$f":"IF('Pt 1 Summary of Data'!H29=\"\",\"\",'Pt 1 Summary of Data'!H29+'Pt 1 Summary of Data - Adj'!H29)","v":""},{"$f":"IF('Pt 1 Summary of Data'!I29=\"\",\"\",'Pt 1 Summary of Data'!I29+'Pt 1 Summary of Data - Adj'!I29)","v":""},{"$f":"IF('Pt 1 Summary of Data'!J29=\"\",\"\",'Pt 1 Summary of Data'!J29+'Pt 1 Summary of Data - Adj'!J29)","v":""},{"$f":"IF('Pt 1 Summary of Data'!K29=\"\",\"\",'Pt 1 Summary of Data'!K29+'Pt 1 Summary of Data - Adj'!K29)","v":0},{"$f":"IF('Pt 1 Summary of Data'!L29=\"\",\"\",'Pt 1 Summary of Data'!L29+'Pt 1 Summary of Data - Adj'!L29)","v":0},{"$f":"IF('Pt 1 Summary of Data'!M29=\"\",\"\",'Pt 1 Summary of Data'!M29+'Pt 1 Summary of Data - Adj'!M29)","v":""},{"$f":"IF('Pt 1 Summary of Data'!N29=\"\",\"\",'Pt 1 Summary of Data'!N29+'Pt 1 Summary of Data - Adj'!N29)","v":""},{"$f":"IF('Pt 1 Summary of Data'!O29=\"\",\"\",'Pt 1 Summary of Data'!O29+'Pt 1 Summary of Data - Adj'!O29)","v":""},{"$f":"IF('Pt 1 Summary of Data'!P29=\"\",\"\",'Pt 1 Summary of Data'!P29+'Pt 1 Summary of Data - Adj'!P29)","v":""},null,{"$f":"IF(O29=\"\",0,O29)+IF(M29=\"\",0,M29)+IF(K29=\"\",0,K29)+IF(I29=\"\",0,I29)+IF(G29=\"\",0,G29)+IF(E29=\"\",0,E29)","v":0},null,{"$f":"+'Pt 1 Summary of Data'!T29+'Pt 1 Summary of Data - Adj'!T29","v":0},{"$f":"+'Pt 1 Summary of Data'!U29+'Pt 1 Summary of Data - Adj'!U29","v":0},{"$f":"+'Pt 1 Summary of Data'!V29+'Pt 1 Summary of Data - Adj'!V29","v":0},{"$f":"+'Pt 1 Summary of Data'!W29+'Pt 1 Summary of Data - Adj'!W29","v":0},{"$f":"+'Pt 1 Summary of Data'!X29+'Pt 1 Summary of Data - Adj'!X29","v":0},{"$f":"+'Pt 1 Summary of Data'!Y29+'Pt 1 Summary of Data - Adj'!Y29","v":0},{"$f":"+'Pt 1 Summary of Data'!Z29+'Pt 1 Summary of Data - Adj'!Z29","v":0},{"$f":"+'Pt 1 Summary of Data'!AA29+'Pt 1 Summary of Data - Adj'!AA29","v":0},{"$f":"+'Pt 1 Summary of Data'!AB29+'Pt 1 Summary of Data - Adj'!AB29","v":0},{"$f":"+'Pt 1 Summary of Data'!AC29+'Pt 1 Summary of Data - Adj'!AC29","v":0},{"$f":"+'Pt 1 Summary of Data'!AD29+'Pt 1 Summary of Data - Adj'!AD29","v":0},{"$f":"+'Pt 1 Summary of Data'!AE29+'Pt 1 Summary of Data - Adj'!AE29","v":0},{"$f":"+'Pt 1 Summary of Data'!AF29+'Pt 1 Summary of Data - Adj'!AF29","v":0},{"$f":"+'Pt 1 Summary of Data'!AG29+'Pt 1 Summary of Data - Adj'!AG29","v":0},{"$f":"+'Pt 1 Summary of Data'!AH29+'Pt 1 Summary of Data - Adj'!AH29","v":0},{"$f":"+'Pt 1 Summary of Data'!AI29+'Pt 1 Summary of Data - Adj'!AI29","v":0},{"$f":"+'Pt 1 Summary of Data'!AJ29+'Pt 1 Summary of Data - Adj'!AJ29","v":0},{"$f":"+'Pt 1 Summary of Data'!AK29+'Pt 1 Summary of Data - Adj'!AK29","v":0},{"$f":"+'Pt 1 Summary of Data'!AL29+'Pt 1 Summary of Data - Adj'!AL29","v":0},{"$f":"+'Pt 1 Summary of Data'!AM29+'Pt 1 Summary of Data - Adj'!AM29","v":0},{"$f":"+'Pt 1 Summary of Data'!AN29+'Pt 1 Summary of Data - Adj'!AN29","v":0},{"$f":"+'Pt 1 Summary of Data'!AO29+'Pt 1 Summary of Data - Adj'!AO29","v":0},{"$f":"+'Pt 1 Summary of Data'!AP29+'Pt 1 Summary of Data - Adj'!AP29","v":0},{"$f":"+'Pt 1 Summary of Data'!AQ29+'Pt 1 Summary of Data - Adj'!AQ29","v":0},{"$f":"+'Pt 1 Summary of Data'!AR29+'Pt 1 Summary of Data - Adj'!AR29","v":0},{"$f":"+'Pt 1 Summary of Data'!AS29+'Pt 1 Summary of Data - Adj'!AS29","v":0},{"$f":"+'Pt 1 Summary of Data'!AT29+'Pt 1 Summary of Data - Adj'!AT29","v":0},{"$f":"+'Pt 1 Summary of Data'!AU29+'Pt 1 Summary of Data - Adj'!AU29","v":0},{"$f":"+'Pt 1 Summary of Data'!AV29+'Pt 1 Summary of Data - Adj'!AV29","v":0},{"$f":"+'Pt 1 Summary of Data'!AW29+'Pt 1 Summary of Data - Adj'!AW29","v":0},"Pt 1, Ln 3.1d"]
[null,null,3.2,"State insurance, premium and other taxes incurred by the reporting health plan or heath insurer during the MLR reporting year (deductible from premium in MLR calculation)"]
[null,null,null,"  3.2 a   State income, excise, business, and other taxes",{"$f":"IF('Pt 1 Summary of Data'!E31=\"\",\"\",'Pt 1 Summary of Data'!E31+'Pt 1 Summary of Data - Adj'!E31)","v":""},{"$f":"IF('Pt 1 Summary of Data'!F31=\"\",\"\",'Pt 1 Summary of Data'!F31+'Pt 1 Summary of Data - Adj'!F31)","v":""},{"$f":"IF('Pt 1 Summary of Data'!G31=\"\",\"\",'Pt 1 Summary of Data'!G31+'Pt 1 Summary of Data - Adj'!G31)","v":""},{"$f":"IF('Pt 1 Summary of Data'!H31=\"\",\"\",'Pt 1 Summary of Data'!H31+'Pt 1 Summary of Data - Adj'!H31)","v":""},{"$f":"IF('Pt 1 Summary of Data'!I31=\"\",\"\",'Pt 1 Summary of Data'!I31+'Pt 1 Summary of Data - Adj'!I31)","v":""},{"$f":"IF('Pt 1 Summary of Data'!J31=\"\",\"\",'Pt 1 Summary of Data'!J31+'Pt 1 Summary of Data - Adj'!J31)","v":""},{"$f":"IF('Pt 1 Summary of Data'!K31=\"\",\"\",'Pt 1 Summary of Data'!K31+'Pt 1 Summary of Data - Adj'!K31)","v":5195.04},{"$f":"IF('Pt 1 Summary of Data'!L31=\"\",\"\",'Pt 1 Summary of Data'!L31+'Pt 1 Summary of Data - Adj'!L31)","v":5195.04},{"$f":"IF('Pt 1 Summary of Data'!M31=\"\",\"\",'Pt 1 Summary of Data'!M31+'Pt 1 Summary of Data - Adj'!M31)","v":""},{"$f":"IF('Pt 1 Summary of Data'!N31=\"\",\"\",'Pt 1 Summary of Data'!N31+'Pt 1 Summary of Data - Adj'!N31)","v":""},{"$f":"IF('Pt 1 Summary of Data'!O31=\"\",\"\",'Pt 1 Summary of Data'!O31+'Pt 1 Summary of Data - Adj'!O31)","v":""},{"$f":"IF('Pt 1 Summary of Data'!P31=\"\",\"\",'Pt 1 Summary of Data'!P31+'Pt 1 Summary of Data - Adj'!P31)","v":""},null,{"$f":"IF(O31=\"\",0,O31)+IF(M31=\"\",0,M31)+IF(K31=\"\",0,K31)+IF(I31=\"\",0,I31)+IF(G31=\"\",0,G31)+IF(E31=\"\",0,E31)","v":5195.04},null,{"$f":"+'Pt 1 Summary of Data'!T31+'Pt 1 Summary of Data - Adj'!T31","v":2.27},{"$f":"+'Pt 1 Summary of Data'!U31+'Pt 1 Summary of Data - Adj'!U31","v":0},{"$f":"+'Pt 1 Summary of Data'!V31+'Pt 1 Summary of Data - Adj'!V31","v":0},{"$f":"+'Pt 1 Summary of Data'!W31+'Pt 1 Summary of Data - Adj'!W31","v":0},{"$f":"+'Pt 1 Summary of Data'!X31+'Pt 1 Summary of Data - Adj'!X31","v":0},{"$f":"+'Pt 1 Summary of Data'!Y31+'Pt 1 Summary of Data - Adj'!Y31","v":0},{"$f":"+'Pt 1 Summary of Data'!Z31+'Pt 1 Summary of Data - Adj'!Z31","v":0},{"$f":"+'Pt 1 Summary of Data'!AA31+'Pt 1 Summary of Data - Adj'!AA31","v":0},{"$f":"+'Pt 1 Summary of Data'!AB31+'Pt 1 Summary of Data - Adj'!AB31","v":0},{"$f":"+'Pt 1 Summary of Data'!AC31+'Pt 1 Summary of Data - Adj'!AC31","v":0},{"$f":"+'Pt 1 Summary of Data'!AD31+'Pt 1 Summary of Data - Adj'!AD31","v":0},{"$f":"+'Pt 1 Summary of Data'!AE31+'Pt 1 Summary of Data - Adj'!AE31","v":0},{"$f":"+'Pt 1 Summary of Data'!AF31+'Pt 1 Summary of Data - Adj'!AF31","v":5164.8},{"$f":"+'Pt 1 Summary of Data'!AG31+'Pt 1 Summary of Data - Adj'!AG31","v":0},{"$f":"+'Pt 1 Summary of Data'!AH31+'Pt 1 Summary of Data - Adj'!AH31","v":0},{"$f":"+'Pt 1 Summary of Data'!AI31+'Pt 1 Summary of Data - Adj'!AI31","v":0},{"$f":"+'Pt 1 Summary of Data'!AJ31+'Pt 1 Summary of Data - Adj'!AJ31","v":0},{"$f":"+'Pt 1 Summary of Data'!AK31+'Pt 1 Summary of Data - Adj'!AK31","v":0},{"$f":"+'Pt 1 Summary of Data'!AL31+'Pt 1 Summary of Data - Adj'!AL31","v":5164.8},{"$f":"+'Pt 1 Summary of Data'!AM31+'Pt 1 Summary of Data - Adj'!AM31","v":0},{"$f":"+'Pt 1 Summary of Data'!AN31+'Pt 1 Summary of Data - Adj'!AN31","v":0},{"$f":"+'Pt 1 Summary of Data'!AO31+'Pt 1 Summary of Data - Adj'!AO31","v":0},{"$f":"+'Pt 1 Summary of Data'!AP31+'Pt 1 Summary of Data - Adj'!AP31","v":0},{"$f":"+'Pt 1 Summary of Data'!AQ31+'Pt 1 Summary of Data - Adj'!AQ31","v":0},{"$f":"+'Pt 1 Summary of Data'!AR31+'Pt 1 Summary of Data - Adj'!AR31","v":0},{"$f":"+'Pt 1 Summary of Data'!AS31+'Pt 1 Summary of Data - Adj'!AS31","v":0},{"$f":"+'Pt 1 Summary of Data'!AT31+'Pt 1 Summary of Data - Adj'!AT31","v":0},{"$f":"+'Pt 1 Summary of Data'!AU31+'Pt 1 Summary of Data - Adj'!AU31","v":5197.3100000000004},{"$f":"+'Pt 1 Summary of Data'!AV31+'Pt 1 Summary of Data - Adj'!AV31","v":5197.3100000000004},{"$f":"+'Pt 1 Summary of Data'!AW31+'Pt 1 Summary of Data - Adj'!AW31","v":0},"Pt 1, Ln 3.2a"]
[null,null,null,"  3.2 b   State premium taxes ",{"$f":"IF('Pt 1 Summary of Data'!E32=\"\",\"\",'Pt 1 Summary of Data'!E32+'Pt 1 Summary of Data - Adj'!E32)","v":""},{"$f":"IF('Pt 1 Summary of Data'!F32=\"\",\"\",'Pt 1 Summary of Data'!F32+'Pt 1 Summary of Data - Adj'!F32)","v":""},{"$f":"IF('Pt 1 Summary of Data'!G32=\"\",\"\",'Pt 1 Summary of Data'!G32+'Pt 1 Summary of Data - Adj'!G32)","v":""},{"$f":"IF('Pt 1 Summary of Data'!H32=\"\",\"\",'Pt 1 Summary of Data'!H32+'Pt 1 Summary of Data - Adj'!H32)","v":""},{"$f":"IF('Pt 1 Summary of Data'!I32=\"\",\"\",'Pt 1 Summary of Data'!I32+'Pt 1 Summary of Data - Adj'!I32)","v":""},{"$f":"IF('Pt 1 Summary of Data'!J32=\"\",\"\",'Pt 1 Summary of Data'!J32+'Pt 1 Summary of Data - Adj'!J32)","v":""},{"$f":"IF('Pt 1 Summary of Data'!K32=\"\",\"\",'Pt 1 Summary of Data'!K32+'Pt 1 Summary of Data - Adj'!K32)","v":3404.38},{"$f":"IF('Pt 1 Summary of Data'!L32=\"\",\"\",'Pt 1 Summary of Data'!L32+'Pt 1 Summary of Data - Adj'!L32)","v":3404.38},{"$f":"IF('Pt 1 Summary of Data'!M32=\"\",\"\",'Pt 1 Summary of Data'!M32+'Pt 1 Summary of Data - Adj'!M32)","v":""},{"$f":"IF('Pt 1 Summary of Data'!N32=\"\",\"\",'Pt 1 Summary of Data'!N32+'Pt 1 Summary of Data - Adj'!N32)","v":""},{"$f":"IF('Pt 1 Summary of Data'!O32=\"\",\"\",'Pt 1 Summary of Data'!O32+'Pt 1 Summary of Data - Adj'!O32)","v":""},{"$f":"IF('Pt 1 Summary of Data'!P32=\"\",\"\",'Pt 1 Summary of Data'!P32+'Pt 1 Summary of Data - Adj'!P32)","v":""},null,{"$f":"IF(O32=\"\",0,O32)+IF(M32=\"\",0,M32)+IF(K32=\"\",0,K32)+IF(I32=\"\",0,I32)+IF(G32=\"\",0,G32)+IF(E32=\"\",0,E32)","v":3404.38},null,{"$f":"+'Pt 1 Summary of Data'!T32+'Pt 1 Summary of Data - Adj'!T32","v":255.07999999999998},{"$f":"+'Pt 1 Summary of Data'!U32+'Pt 1 Summary of Data - Adj'!U32","v":0},{"$f":"+'Pt 1 Summary of Data'!V32+'Pt 1 Summary of Data - Adj'!V32","v":0},{"$f":"+'Pt 1 Summary of Data'!W32+'Pt 1 Summary of Data - Adj'!W32","v":0},{"$f":"+'Pt 1 Summary of Data'!X32+'Pt 1 Summary of Data - Adj'!X32","v":0},{"$f":"+'Pt 1 Summary of Data'!Y32+'Pt 1 Summary of Data - Adj'!Y32","v":0},{"$f":"+'Pt 1 Summary of Data'!Z32+'Pt 1 Summary of Data - Adj'!Z32","v":0},{"$f":"+'Pt 1 Summary of Data'!AA32+'Pt 1 Summary of Data - Adj'!AA32","v":0},{"$f":"+'Pt 1 Summary of Data'!AB32+'Pt 1 Summary of Data - Adj'!AB32","v":0},{"$f":"+'Pt 1 Summary of Data'!AC32+'Pt 1 Summary of Data - Adj'!AC32","v":0},{"$f":"+'Pt 1 Summary of Data'!AD32+'Pt 1 Summary of Data - Adj'!AD32","v":0},{"$f":"+'Pt 1 Summary of Data'!AE32+'Pt 1 Summary of Data - Adj'!AE32","v":0},{"$f":"+'Pt 1 Summary of Data'!AF32+'Pt 1 Summary of Data - Adj'!AF32","v":3404.38},{"$f":"+'Pt 1 Summary of Data'!AG32+'Pt 1 Summary of Data - Adj'!AG32","v":0},{"$f":"+'Pt 1 Summary of Data'!AH32+'Pt 1 Summary of Data - Adj'!AH32","v":0},{"$f":"+'Pt 1 Summary of Data'!AI32+'Pt 1 Summary of Data - Adj'!AI32","v":0},{"$f":"+'Pt 1 Summary of Data'!AJ32+'Pt 1 Summary of Data - Adj'!AJ32","v":0},{"$f":"+'Pt 1 Summary of Data'!AK32+'Pt 1 Summary of Data - Adj'!AK32","v":0},{"$f":"+'Pt 1 Summary of Data'!AL32+'Pt 1 Summary of Data - Adj'!AL32","v":3404.38},{"$f":"+'Pt 1 Summary of Data'!AM32+'Pt 1 Summary of Data - Adj'!AM32","v":0},{"$f":"+'Pt 1 Summary of Data'!AN32+'Pt 1 Summary of Data - Adj'!AN32","v":0},{"$f":"+'Pt 1 Summary of Data'!AO32+'Pt 1 Summary of Data - Adj'!AO32","v":0},{"$f":"+'Pt 1 Summary of Data'!AP32+'Pt 1 Summary of Data - Adj'!AP32","v":0},{"$f":"+'Pt 1 Summary of Data'!AQ32+'Pt 1 Summary of Data - Adj'!AQ32","v":0},{"$f":"+'Pt 1 Summary of Data'!AR32+'Pt 1 Summary of Data - Adj'!AR32","v":0},{"$f":"+'Pt 1 Summary of Data'!AS32+'Pt 1 Summary of Data - Adj'!AS32","v":0},{"$f":"+'Pt 1 Summary of Data'!AT32+'Pt 1 Summary of Data - Adj'!AT32","v":0},{"$f":"+'Pt 1 Summary of Data'!AU32+'Pt 1 Summary of Data - Adj'!AU32","v":3659.46},{"$f":"+'Pt 1 Summary of Data'!AV32+'Pt 1 Summary of Data - Adj'!AV32","v":3659.46},{"$f":"+'Pt 1 Summary of Data'!AW32+'Pt 1 Summary of Data - Adj'!AW32","v":0},"Pt 1, Ln 3.2b"]
[null,null,null,"  3.2 c   Community benefit expenditures ",{"$f":"IF('Pt 1 Summary of Data'!E33=\"\",\"\",'Pt 1 Summary of Data'!E33+'Pt 1 Summary of Data - Adj'!E33)","v":""},{"$f":"IF('Pt 1 Summary of Data'!F33=\"\",\"\",'Pt 1 Summary of Data'!F33+'Pt 1 Summary of Data - Adj'!F33)","v":""},{"$f":"IF('Pt 1 Summary of Data'!G33=\"\",\"\",'Pt 1 Summary of Data'!G33+'Pt 1 Summary of Data - Adj'!G33)","v":""},{"$f":"IF('Pt 1 Summary of Data'!H33=\"\",\"\",'Pt 1 Summary of Data'!H33+'Pt 1 Summary of Data - Adj'!H33)","v":""},{"$f":"IF('Pt 1 Summary of Data'!I33=\"\",\"\",'Pt 1 Summary of Data'!I33+'Pt 1 Summary of Data - Adj'!I33)","v":""},{"$f":"IF('Pt 1 Summary of Data'!J33=\"\",\"\",'Pt 1 Summary of Data'!J33+'Pt 1 Summary of Data - Adj'!J33)","v":""},{"$f":"IF('Pt 1 Summary of Data'!K33=\"\",\"\",'Pt 1 Summary of Data'!K33+'Pt 1 Summary of Data - Adj'!K33)","v":0},{"$f":"IF('Pt 1 Summary of Data'!L33=\"\",\"\",'Pt 1 Summary of Data'!L33+'Pt 1 Summary of Data - Adj'!L33)","v":0},{"$f":"IF('Pt 1 Summary of Data'!M33=\"\",\"\",'Pt 1 Summary of Data'!M33+'Pt 1 Summary of Data - Adj'!M33)","v":""},{"$f":"IF('Pt 1 Summary of Data'!N33=\"\",\"\",'Pt 1 Summary of Data'!N33+'Pt 1 Summary of Data - Adj'!N33)","v":""},{"$f":"IF('Pt 1 Summary of Data'!O33=\"\",\"\",'Pt 1 Summary of Data'!O33+'Pt 1 Summary of Data - Adj'!O33)","v":""},{"$f":"IF('Pt 1 Summary of Data'!P33=\"\",\"\",'Pt 1 Summary of Data'!P33+'Pt 1 Summary of Data - Adj'!P33)","v":""},null,{"$f":"IF(O33=\"\",0,O33)+IF(M33=\"\",0,M33)+IF(K33=\"\",0,K33)+IF(I33=\"\",0,I33)+IF(G33=\"\",0,G33)+IF(E33=\"\",0,E33)","v":0},null,{"$f":"+'Pt 1 Summary of Data'!T33+'Pt 1 Summary of Data - Adj'!T33","v":0},{"$f":"+'Pt 1 Summary of Data'!U33+'Pt 1 Summary of Data - Adj'!U33","v":0},{"$f":"+'Pt 1 Summary of Data'!V33+'Pt 1 Summary of Data - Adj'!V33","v":0},{"$f":"+'Pt 1 Summary of Data'!W33+'Pt 1 Summary of Data - Adj'!W33","v":0},{"$f":"+'Pt 1 Summary of Data'!X33+'Pt 1 Summary of Data - Adj'!X33","v":0},{"$f":"+'Pt 1 Summary of Data'!Y33+'Pt 1 Summary of Data - Adj'!Y33","v":0},{"$f":"+'Pt 1 Summary of Data'!Z33+'Pt 1 Summary of Data - Adj'!Z33","v":0},{"$f":"+'Pt 1 Summary of Data'!AA33+'Pt 1 Summary of Data - Adj'!AA33","v":0},{"$f":"+'Pt 1 Summary of Data'!AB33+'Pt 1 Summary of Data - Adj'!AB33","v":0},{"$f":"+'Pt 1 Summary of Data'!AC33+'Pt 1 Summary of Data - Adj'!AC33","v":0},{"$f":"+'Pt 1 Summary of Data'!AD33+'Pt 1 Summary of Data - Adj'!AD33","v":0},{"$f":"+'Pt 1 Summary of Data'!AE33+'Pt 1 Summary of Data - Adj'!AE33","v":0},{"$f":"+'Pt 1 Summary of Data'!AF33+'Pt 1 Summary of Data - Adj'!AF33","v":0},{"$f":"+'Pt 1 Summary of Data'!AG33+'Pt 1 Summary of Data - Adj'!AG33","v":0},{"$f":"+'Pt 1 Summary of Data'!AH33+'Pt 1 Summary of Data - Adj'!AH33","v":0},{"$f":"+'Pt 1 Summary of Data'!AI33+'Pt 1 Summary of Data - Adj'!AI33","v":0},{"$f":"+'Pt 1 Summary of Data'!AJ33+'Pt 1 Summary of Data - Adj'!AJ33","v":0},{"$f":"+'Pt 1 Summary of Data'!AK33+'Pt 1 Summary of Data - Adj'!AK33","v":0},{"$f":"+'Pt 1 Summary of Data'!AL33+'Pt 1 Summary of Data - Adj'!AL33","v":0},{"$f":"+'Pt 1 Summary of Data'!AM33+'Pt 1 Summary of Data - Adj'!AM33","v":0},{"$f":"+'Pt 1 Summary of Data'!AN33+'Pt 1 Summary of Data - Adj'!AN33","v":0},{"$f":"+'Pt 1 Summary of Data'!AO33+'Pt 1 Summary of Data - Adj'!AO33","v":0},{"$f":"+'Pt 1 Summary of Data'!AP33+'Pt 1 Summary of Data - Adj'!AP33","v":0},{"$f":"+'Pt 1 Summary of Data'!AQ33+'Pt 1 Summary of Data - Adj'!AQ33","v":0},{"$f":"+'Pt 1 Summary of Data'!AR33+'Pt 1 Summary of Data - Adj'!AR33","v":0},{"$f":"+'Pt 1 Summary of Data'!AS33+'Pt 1 Summary of Data - Adj'!AS33","v":0},{"$f":"+'Pt 1 Summary of Data'!AT33+'Pt 1 Summary of Data - Adj'!AT33","v":0},{"$f":"+'Pt 1 Summary of Data'!AU33+'Pt 1 Summary of Data - Adj'!AU33","v":0},{"$f":"+'Pt 1 Summary of Data'!AV33+'Pt 1 Summary of Data - Adj'!AV33","v":0},{"$f":"+'Pt 1 Summary of Data'!AW33+'Pt 1 Summary of Data - Adj'!AW33","v":0},"Pt 1, Ln 3.2c"]
[null,null,3.3,"Regulatory authority licenses and fees",{"$f":"IF('Pt 1 Summary of Data'!E34=\"\",\"\",'Pt 1 Summary of Data'!E34+'Pt 1 Summary of Data - Adj'!E34)","v":""},{"$f":"IF('Pt 1 Summary of Data'!F34=\"\",\"\",'Pt 1 Summary of Data'!F34+'Pt 1 Summary of Data - Adj'!F34)","v":""},{"$f":"IF('Pt 1 Summary of Data'!G34=\"\",\"\",'Pt 1 Summary of Data'!G34+'Pt 1 Summary of Data - Adj'!G34)","v":""},{"$f":"IF('Pt 1 Summary of Data'!H34=\"\",\"\",'Pt 1 Summary of Data'!H34+'Pt 1 Summary of Data - Adj'!H34)","v":""},{"$f":"IF('Pt 1 Summary of Data'!I34=\"\",\"\",'Pt 1 Summary of Data'!I34+'Pt 1 Summary of Data - Adj'!I34)","v":""},{"$f":"IF('Pt 1 Summary of Data'!J34=\"\",\"\",'Pt 1 Summary of Data'!J34+'Pt 1 Summary of Data - Adj'!J34)","v":""},{"$f":"IF('Pt 1 Summary of Data'!K34=\"\",\"\",'Pt 1 Summary of Data'!K34+'Pt 1 Summary of Data - Adj'!K34)","v":0},{"$f":"IF('Pt 1 Summary of Data'!L34=\"\",\"\",'Pt 1 Summary of Data'!L34+'Pt 1 Summary of Data - Adj'!L34)","v":0},{"$f":"IF('Pt 1 Summary of Data'!M34=\"\",\"\",'Pt 1 Summary of Data'!M34+'Pt 1 Summary of Data - Adj'!M34)","v":""},{"$f":"IF('Pt 1 Summary of Data'!N34=\"\",\"\",'Pt 1 Summary of Data'!N34+'Pt 1 Summary of Data - Adj'!N34)","v":""},{"$f":"IF('Pt 1 Summary of Data'!O34=\"\",\"\",'Pt 1 Summary of Data'!O34+'Pt 1 Summary of Data - Adj'!O34)","v":""},{"$f":"IF('Pt 1 Summary of Data'!P34=\"\",\"\",'Pt 1 Summary of Data'!P34+'Pt 1 Summary of Data - Adj'!P34)","v":""},null,{"$f":"IF(O34=\"\",0,O34)+IF(M34=\"\",0,M34)+IF(K34=\"\",0,K34)+IF(I34=\"\",0,I34)+IF(G34=\"\",0,G34)+IF(E34=\"\",0,E34)","v":0},null,{"$f":"+'Pt 1 Summary of Data'!T34+'Pt 1 Summary of Data - Adj'!T34","v":0},{"$f":"+'Pt 1 Summary of Data'!U34+'Pt 1 Summary of Data - Adj'!U34","v":0},{"$f":"+'Pt 1 Summary of Data'!V34+'Pt 1 Summary of Data - Adj'!V34","v":0},{"$f":"+'Pt 1 Summary of Data'!W34+'Pt 1 Summary of Data - Adj'!W34","v":0},{"$f":"+'Pt 1 Summary of Data'!X34+'Pt 1 Summary of Data - Adj'!X34","v":0},{"$f":"+'Pt 1 Summary of Data'!Y34+'Pt 1 Summary of Data - Adj'!Y34","v":0},{"$f":"+'Pt 1 Summary of Data'!Z34+'Pt 1 Summary of Data - Adj'!Z34","v":0},{"$f":"+'Pt 1 Summary of Data'!AA34+'Pt 1 Summary of Data - Adj'!AA34","v":0},{"$f":"+'Pt 1 Summary of Data'!AB34+'Pt 1 Summary of Data - Adj'!AB34","v":0},{"$f":"+'Pt 1 Summary of Data'!AC34+'Pt 1 Summary of Data - Adj'!AC34","v":0},{"$f":"+'Pt 1 Summary of Data'!AD34+'Pt 1 Summary of Data - Adj'!AD34","v":0},{"$f":"+'Pt 1 Summary of Data'!AE34+'Pt 1 Summary of Data - Adj'!AE34","v":0},{"$f":"+'Pt 1 Summary of Data'!AF34+'Pt 1 Summary of Data - Adj'!AF34","v":0},{"$f":"+'Pt 1 Summary of Data'!AG34+'Pt 1 Summary of Data - Adj'!AG34","v":0},{"$f":"+'Pt 1 Summary of Data'!AH34+'Pt 1 Summary of Data - Adj'!AH34","v":0},{"$f":"+'Pt 1 Summary of Data'!AI34+'Pt 1 Summary of Data - Adj'!AI34","v":0},{"$f":"+'Pt 1 Summary of Data'!AJ34+'Pt 1 Summary of Data - Adj'!AJ34","v":0},{"$f":"+'Pt 1 Summary of Data'!AK34+'Pt 1 Summary of Data - Adj'!AK34","v":0},{"$f":"+'Pt 1 Summary of Data'!AL34+'Pt 1 Summary of Data - Adj'!AL34","v":0},{"$f":"+'Pt 1 Summary of Data'!AM34+'Pt 1 Summary of Data - Adj'!AM34","v":0},{"$f":"+'Pt 1 Summary of Data'!AN34+'Pt 1 Summary of Data - Adj'!AN34","v":0},{"$f":"+'Pt 1 Summary of Data'!AO34+'Pt 1 Summary of Data - Adj'!AO34","v":0},{"$f":"+'Pt 1 Summary of Data'!AP34+'Pt 1 Summary of Data - Adj'!AP34","v":0},{"$f":"+'Pt 1 Summary of Data'!AQ34+'Pt 1 Summary of Data - Adj'!AQ34","v":0},{"$f":"+'Pt 1 Summary of Data'!AR34+'Pt 1 Summary of Data - Adj'!AR34","v":0},{"$f":"+'Pt 1 Summary of Data'!AS34+'Pt 1 Summary of Data - Adj'!AS34","v":0},{"$f":"+'Pt 1 Summary of Data'!AT34+'Pt 1 Summary of Data - Adj'!AT34","v":0},{"$f":"+'Pt 1 Summary of Data'!AU34+'Pt 1 Summary of Data - Adj'!AU34","v":0},{"$f":"+'Pt 1 Summary of Data'!AV34+'Pt 1 Summary of Data - Adj'!AV34","v":0},{"$f":"+'Pt 1 Summary of Data'!AW34+'Pt 1 Summary of Data - Adj'!AW34","v":0},"Pt 1, Ln 3.3 (3.3a + 3.3b)"]
[null,null,3.4,"Total Federal and State Taxes and fees to be excluded from premium",{"$f":"IF('Pt 1 Summary of Data'!E35=\"\",\"\",'Pt 1 Summary of Data'!E35+'Pt 1 Summary of Data - Adj'!E35)","v":""},{"$f":"IF('Pt 1 Summary of Data'!F35=\"\",\"\",'Pt 1 Summary of Data'!F35+'Pt 1 Summary of Data - Adj'!F35)","v":""},{"$f":"IF('Pt 1 Summary of Data'!G35=\"\",\"\",'Pt 1 Summary of Data'!G35+'Pt 1 Summary of Data - Adj'!G35)","v":""},{"$f":"IF('Pt 1 Summary of Data'!H35=\"\",\"\",'Pt 1 Summary of Data'!H35+'Pt 1 Summary of Data - Adj'!H35)","v":""},{"$f":"IF('Pt 1 Summary of Data'!I35=\"\",\"\",'Pt 1 Summary of Data'!I35+'Pt 1 Summary of Data - Adj'!I35)","v":""},{"$f":"IF('Pt 1 Summary of Data'!J35=\"\",\"\",'Pt 1 Summary of Data'!J35+'Pt 1 Summary of Data - Adj'!J35)","v":""},{"$f":"IF('Pt 1 Summary of Data'!K35=\"\",\"\",'Pt 1 Summary of Data'!K35+'Pt 1 Summary of Data - Adj'!K35)","v":14168.18},{"$f":"IF('Pt 1 Summary of Data'!L35=\"\",\"\",'Pt 1 Summary of Data'!L35+'Pt 1 Summary of Data - Adj'!L35)","v":14168.18},{"$f":"IF('Pt 1 Summary of Data'!M35=\"\",\"\",'Pt 1 Summary of Data'!M35+'Pt 1 Summary of Data - Adj'!M35)","v":""},{"$f":"IF('Pt 1 Summary of Data'!N35=\"\",\"\",'Pt 1 Summary of Data'!N35+'Pt 1 Summary of Data - Adj'!N35)","v":""},{"$f":"IF('Pt 1 Summary of Data'!O35=\"\",\"\",'Pt 1 Summary of Data'!O35+'Pt 1 Summary of Data - Adj'!O35)","v":""},{"$f":"IF('Pt 1 Summary of Data'!P35=\"\",\"\",'Pt 1 Summary of Data'!P35+'Pt 1 Summary of Data - Adj'!P35)","v":""},null,{"$f":"IF(O35=\"\",0,O35)+IF(M35=\"\",0,M35)+IF(K35=\"\",0,K35)+IF(I35=\"\",0,I35)+IF(G35=\"\",0,G35)+IF(E35=\"\",0,E35)","v":14168.18},null,{"$f":"+'Pt 1 Summary of Data'!T35+'Pt 1 Summary of Data - Adj'!T35","v":1055.6600000000001},{"$f":"+'Pt 1 Summary of Data'!U35+'Pt 1 Summary of Data - Adj'!U35","v":-143.59},{"$f":"+'Pt 1 Summary of Data'!V35+'Pt 1 Summary of Data - Adj'!V35","v":0},{"$f":"+'Pt 1 Summary of Data'!W35+'Pt 1 Summary of Data - Adj'!W35","v":0},{"$f":"+'Pt 1 Summary of Data'!X35+'Pt 1 Summary of Data - Adj'!X35","v":0},{"$f":"+'Pt 1 Summary of Data'!Y35+'Pt 1 Summary of Data - Adj'!Y35","v":0},{"$f":"+'Pt 1 Summary of Data'!Z35+'Pt 1 Summary of Data - Adj'!Z35","v":0},{"$f":"+'Pt 1 Summary of Data'!AA35+'Pt 1 Summary of Data - Adj'!AA35","v":0},{"$f":"+'Pt 1 Summary of Data'!AB35+'Pt 1 Summary of Data - Adj'!AB35","v":0},{"$f":"+'Pt 1 Summary of Data'!AC35+'Pt 1 Summary of Data - Adj'!AC35","v":0},{"$f":"+'Pt 1 Summary of Data'!AD35+'Pt 1 Summary of Data - Adj'!AD35","v":0},{"$f":"+'Pt 1 Summary of Data'!AE35+'Pt 1 Summary of Data - Adj'!AE35","v":0},{"$f":"+'Pt 1 Summary of Data'!AF35+'Pt 1 Summary of Data - Adj'!AF35","v":8569.18},{"$f":"+'Pt 1 Summary of Data'!AG35+'Pt 1 Summary of Data - Adj'!AG35","v":0},{"$f":"+'Pt 1 Summary of Data'!AH35+'Pt 1 Summary of Data - Adj'!AH35","v":0},{"$f":"+'Pt 1 Summary of Data'!AI35+'Pt 1 Summary of Data - Adj'!AI35","v":0},{"$f":"+'Pt 1 Summary of Data'!AJ35+'Pt 1 Summary of Data - Adj'!AJ35","v":0},{"$f":"+'Pt 1 Summary of Data'!AK35+'Pt 1 Summary of Data - Adj'!AK35","v":0},{"$f":"+'Pt 1 Summary of Data'!AL35+'Pt 1 Summary of Data - Adj'!AL35","v":8569.18},{"$f":"+'Pt 1 Summary of Data'!AM35+'Pt 1 Summary of Data - Adj'!AM35","v":0},{"$f":"+'Pt 1 Summary of Data'!AN35+'Pt 1 Summary of Data - Adj'!AN35","v":0},{"$f":"+'Pt 1 Summary of Data'!AO35+'Pt 1 Summary of Data - Adj'!AO35","v":0},{"$f":"+'Pt 1 Summary of Data'!AP35+'Pt 1 Summary of Data - Adj'!AP35","v":0},{"$f":"+'Pt 1 Summary of Data'!AQ35+'Pt 1 Summary of Data - Adj'!AQ35","v":0},{"$f":"+'Pt 1 Summary of Data'!AR35+'Pt 1 Summary of Data - Adj'!AR35","v":0},{"$f":"+'Pt 1 Summary of Data'!AS35+'Pt 1 Summary of Data - Adj'!AS35","v":0},{"$f":"+'Pt 1 Summary of Data'!AT35+'Pt 1 Summary of Data - Adj'!AT35","v":0},{"$f":"+'Pt 1 Summary of Data'!AU35+'Pt 1 Summary of Data - Adj'!AU35","v":15080.25},{"$f":"+'Pt 1 Summary of Data'!AV35+'Pt 1 Summary of Data - Adj'!AV35","v":15080.25},{"$f":"+'Pt 1 Summary of Data'!AW35+'Pt 1 Summary of Data - Adj'!AW35","v":0}]
[]
[null,"4.","Non-Claims Costs "]
[null,null,4.0999999999999996,"Direct sales salaries and benefits",{"$f":"IF('Pt 1 Summary of Data'!E38=\"\",\"\",'Pt 1 Summary of Data'!E38+'Pt 1 Summary of Data - Adj'!E38)","v":""},{"$f":"IF('Pt 1 Summary of Data'!F38=\"\",\"\",'Pt 1 Summary of Data'!F38+'Pt 1 Summary of Data - Adj'!F38)","v":""},{"$f":"IF('Pt 1 Summary of Data'!G38=\"\",\"\",'Pt 1 Summary of Data'!G38+'Pt 1 Summary of Data - Adj'!G38)","v":""},{"$f":"IF('Pt 1 Summary of Data'!H38=\"\",\"\",'Pt 1 Summary of Data'!H38+'Pt 1 Summary of Data - Adj'!H38)","v":""},{"$f":"IF('Pt 1 Summary of Data'!I38=\"\",\"\",'Pt 1 Summary of Data'!I38+'Pt 1 Summary of Data - Adj'!I38)","v":""},{"$f":"IF('Pt 1 Summary of Data'!J38=\"\",\"\",'Pt 1 Summary of Data'!J38+'Pt 1 Summary of Data - Adj'!J38)","v":""},{"$f":"IF('Pt 1 Summary of Data'!K38=\"\",\"\",'Pt 1 Summary of Data'!K38+'Pt 1 Summary of Data - Adj'!K38)","v":0},{"$f":"IF('Pt 1 Summary of Data'!L38=\"\",\"\",'Pt 1 Summary of Data'!L38+'Pt 1 Summary of Data - Adj'!L38)","v":0},{"$f":"IF('Pt 1 Summary of Data'!M38=\"\",\"\",'Pt 1 Summary of Data'!M38+'Pt 1 Summary of Data - Adj'!M38)","v":""},{"$f":"IF('Pt 1 Summary of Data'!N38=\"\",\"\",'Pt 1 Summary of Data'!N38+'Pt 1 Summary of Data - Adj'!N38)","v":""},{"$f":"IF('Pt 1 Summary of Data'!O38=\"\",\"\",'Pt 1 Summary of Data'!O38+'Pt 1 Summary of Data - Adj'!O38)","v":""},{"$f":"IF('Pt 1 Summary of Data'!P38=\"\",\"\",'Pt 1 Summary of Data'!P38+'Pt 1 Summary of Data - Adj'!P38)","v":""},null,{"$f":"IF(O38=\"\",0,O38)+IF(M38=\"\",0,M38)+IF(K38=\"\",0,K38)+IF(I38=\"\",0,I38)+IF(G38=\"\",0,G38)+IF(E38=\"\",0,E38)","v":0},null,{"$f":"+'Pt 1 Summary of Data'!T38+'Pt 1 Summary of Data - Adj'!T38","v":0},{"$f":"+'Pt 1 Summary of Data'!U38+'Pt 1 Summary of Data - Adj'!U38","v":0},{"$f":"+'Pt 1 Summary of Data'!V38+'Pt 1 Summary of Data - Adj'!V38","v":0},{"$f":"+'Pt 1 Summary of Data'!W38+'Pt 1 Summary of Data - Adj'!W38","v":0},{"$f":"+'Pt 1 Summary of Data'!X38+'Pt 1 Summary of Data - Adj'!X38","v":0},{"$f":"+'Pt 1 Summary of Data'!Y38+'Pt 1 Summary of Data - Adj'!Y38","v":0},{"$f":"+'Pt 1 Summary of Data'!Z38+'Pt 1 Summary of Data - Adj'!Z38","v":0},{"$f":"+'Pt 1 Summary of Data'!AA38+'Pt 1 Summary of Data - Adj'!AA38","v":0},{"$f":"+'Pt 1 Summary of Data'!AB38+'Pt 1 Summary of Data - Adj'!AB38","v":0},{"$f":"+'Pt 1 Summary of Data'!AC38+'Pt 1 Summary of Data - Adj'!AC38","v":0},{"$f":"+'Pt 1 Summary of Data'!AD38+'Pt 1 Summary of Data - Adj'!AD38","v":0},{"$f":"+'Pt 1 Summary of Data'!AE38+'Pt 1 Summary of Data - Adj'!AE38","v":0},{"$f":"+'Pt 1 Summary of Data'!AF38+'Pt 1 Summary of Data - Adj'!AF38","v":0},{"$f":"+'Pt 1 Summary of Data'!AG38+'Pt 1 Summary of Data - Adj'!AG38","v":0},{"$f":"+'Pt 1 Summary of Data'!AH38+'Pt 1 Summary of Data - Adj'!AH38","v":0},{"$f":"+'Pt 1 Summary of Data'!AI38+'Pt 1 Summary of Data - Adj'!AI38","v":0},{"$f":"+'Pt 1 Summary of Data'!AJ38+'Pt 1 Summary of Data - Adj'!AJ38","v":0},{"$f":"+'Pt 1 Summary of Data'!AK38+'Pt 1 Summary of Data - Adj'!AK38","v":0},{"$f":"+'Pt 1 Summary of Data'!AL38+'Pt 1 Summary of Data - Adj'!AL38","v":0},{"$f":"+'Pt 1 Summary of Data'!AM38+'Pt 1 Summary of Data - Adj'!AM38","v":0},{"$f":"+'Pt 1 Summary of Data'!AN38+'Pt 1 Summary of Data - Adj'!AN38","v":0},{"$f":"+'Pt 1 Summary of Data'!AO38+'Pt 1 Summary of Data - Adj'!AO38","v":0},{"$f":"+'Pt 1 Summary of Data'!AP38+'Pt 1 Summary of Data - Adj'!AP38","v":0},{"$f":"+'Pt 1 Summary of Data'!AQ38+'Pt 1 Summary of Data - Adj'!AQ38","v":0},{"$f":"+'Pt 1 Summary of Data'!AR38+'Pt 1 Summary of Data - Adj'!AR38","v":0},{"$f":"+'Pt 1 Summary of Data'!AS38+'Pt 1 Summary of Data - Adj'!AS38","v":0},{"$f":"+'Pt 1 Summary of Data'!AT38+'Pt 1 Summary of Data - Adj'!AT38","v":0},{"$f":"+'Pt 1 Summary of Data'!AU38+'Pt 1 Summary of Data - Adj'!AU38","v":0},{"$f":"+'Pt 1 Summary of Data'!AV38+'Pt 1 Summary of Data - Adj'!AV38","v":0},{"$f":"+'Pt 1 Summary of Data'!AW38+'Pt 1 Summary of Data - Adj'!AW38","v":0},"Pt 1, Ln 5.3"]
[null,null,4.2,"Agents and brokers fees and commissions",{"$f":"IF('Pt 1 Summary of Data'!E39=\"\",\"\",'Pt 1 Summary of Data'!E39+'Pt 1 Summary of Data - Adj'!E39)","v":""},{"$f":"IF('Pt 1 Summary of Data'!F39=\"\",\"\",'Pt 1 Summary of Data'!F39+'Pt 1 Summary of Data - Adj'!F39)","v":""},{"$f":"IF('Pt 1 Summary of Data'!G39=\"\",\"\",'Pt 1 Summary of Data'!G39+'Pt 1 Summary of Data - Adj'!G39)","v":""},{"$f":"IF('Pt 1 Summary of Data'!H39=\"\",\"\",'Pt 1 Summary of Data'!H39+'Pt 1 Summary of Data - Adj'!H39)","v":""},{"$f":"IF('Pt 1 Summary of Data'!I39=\"\",\"\",'Pt 1 Summary of Data'!I39+'Pt 1 Summary of Data - Adj'!I39)","v":""},{"$f":"IF('Pt 1 Summary of Data'!J39=\"\",\"\",'Pt 1 Summary of Data'!J39+'Pt 1 Summary of Data - Adj'!J39)","v":""},{"$f":"IF('Pt 1 Summary of Data'!K39=\"\",\"\",'Pt 1 Summary of Data'!K39+'Pt 1 Summary of Data - Adj'!K39)","v":9184.49},{"$f":"IF('Pt 1 Summary of Data'!L39=\"\",\"\",'Pt 1 Summary of Data'!L39+'Pt 1 Summary of Data - Adj'!L39)","v":9184.49},{"$f":"IF('Pt 1 Summary of Data'!M39=\"\",\"\",'Pt 1 Summary of Data'!M39+'Pt 1 Summary of Data - Adj'!M39)","v":""},{"$f":"IF('Pt 1 Summary of Data'!N39=\"\",\"\",'Pt 1 Summary of Data'!N39+'Pt 1 Summary of Data - Adj'!N39)","v":""},{"$f":"IF('Pt 1 Summary of Data'!O39=\"\",\"\",'Pt 1 Summary of Data'!O39+'Pt 1 Summary of Data - Adj'!O39)","v":""},{"$f":"IF('Pt 1 Summary of Data'!P39=\"\",\"\",'Pt 1 Summary of Data'!P39+'Pt 1 Summary of Data - Adj'!P39)","v":""},null,{"$f":"IF(O39=\"\",0,O39)+IF(M39=\"\",0,M39)+IF(K39=\"\",0,K39)+IF(I39=\"\",0,I39)+IF(G39=\"\",0,G39)+IF(E39=\"\",0,E39)","v":9184.49},null,{"$f":"+'Pt 1 Summary of Data'!T39+'Pt 1 Summary of Data - Adj'!T39","v":166.6},{"$f":"+'Pt 1 Summary of Data'!U39+'Pt 1 Summary of Data - Adj'!U39","v":0},{"$f":"+'Pt 1 Summary of Data'!V39+'Pt 1 Summary of Data - Adj'!V39","v":0},{"$f":"+'Pt 1 Summary of Data'!W39+'Pt 1 Summary of Data - Adj'!W39","v":0},{"$f":"+'Pt 1 Summary of Data'!X39+'Pt 1 Summary of Data - Adj'!X39","v":0},{"$f":"+'Pt 1 Summary of Data'!Y39+'Pt 1 Summary of Data - Adj'!Y39","v":0},{"$f":"+'Pt 1 Summary of Data'!Z39+'Pt 1 Summary of Data - Adj'!Z39","v":0},{"$f":"+'Pt 1 Summary of Data'!AA39+'Pt 1 Summary of Data - Adj'!AA39","v":0},{"$f":"+'Pt 1 Summary of Data'!AB39+'Pt 1 Summary of Data - Adj'!AB39","v":0},{"$f":"+'Pt 1 Summary of Data'!AC39+'Pt 1 Summary of Data - Adj'!AC39","v":0},{"$f":"+'Pt 1 Summary of Data'!AD39+'Pt 1 Summary of Data - Adj'!AD39","v":0},{"$f":"+'Pt 1 Summary of Data'!AE39+'Pt 1 Summary of Data - Adj'!AE39","v":0},{"$f":"+'Pt 1 Summary of Data'!AF39+'Pt 1 Summary of Data - Adj'!AF39","v":9184.49},{"$f":"+'Pt 1 Summary of Data'!AG39+'Pt 1 Summary of Data - Adj'!AG39","v":0},{"$f":"+'Pt 1 Summary of Data'!AH39+'Pt 1 Summary of Data - Adj'!AH39","v":0},{"$f":"+'Pt 1 Summary of Data'!AI39+'Pt 1 Summary of Data - Adj'!AI39","v":0},{"$f":"+'Pt 1 Summary of Data'!AJ39+'Pt 1 Summary of Data - Adj'!AJ39","v":0},{"$f":"+'Pt 1 Summary of Data'!AK39+'Pt 1 Summary of Data - Adj'!AK39","v":0},{"$f":"+'Pt 1 Summary of Data'!AL39+'Pt 1 Summary of Data - Adj'!AL39","v":9184.49},{"$f":"+'Pt 1 Summary of Data'!AM39+'Pt 1 Summary of Data - Adj'!AM39","v":0},{"$f":"+'Pt 1 Summary of Data'!AN39+'Pt 1 Summary of Data - Adj'!AN39","v":0},{"$f":"+'Pt 1 Summary of Data'!AO39+'Pt 1 Summary of Data - Adj'!AO39","v":0},{"$f":"+'Pt 1 Summary of Data'!AP39+'Pt 1 Summary of Data - Adj'!AP39","v":0},{"$f":"+'Pt 1 Summary of Data'!AQ39+'Pt 1 Summary of Data - Adj'!AQ39","v":0},{"$f":"+'Pt 1 Summary of Data'!AR39+'Pt 1 Summary of Data - Adj'!AR39","v":0},{"$f":"+'Pt 1 Summary of Data'!AS39+'Pt 1 Summary of Data - Adj'!AS39","v":0},{"$f":"+'Pt 1 Summary of Data'!AT39+'Pt 1 Summary of Data - Adj'!AT39","v":0},{"$f":"+'Pt 1 Summary of Data'!AU39+'Pt 1 Summary of Data - Adj'!AU39","v":9351.09},{"$f":"+'Pt 1 Summary of Data'!AV39+'Pt 1 Summary of Data - Adj'!AV39","v":9351.09},{"$f":"+'Pt 1 Summary of Data'!AW39+'Pt 1 Summary of Data - Adj'!AW39","v":0},"Pt 1, Ln 5.4"]
[null,null,4.3,"Other taxes"]
[null,null,null,"4.3a   Taxes and assessments (exclude amounts reported in Section 3 or Line 10) \n",{"$f":"IF('Pt 1 Summary of Data'!E41=\"\",\"\",'Pt 1 Summary of Data'!E41+'Pt 1 Summary of Data - Adj'!E41)","v":""},{"$f":"IF('Pt 1 Summary of Data'!F41=\"\",\"\",'Pt 1 Summary of Data'!F41+'Pt 1 Summary of Data - Adj'!F41)","v":""},{"$f":"IF('Pt 1 Summary of Data'!G41=\"\",\"\",'Pt 1 Summary of Data'!G41+'Pt 1 Summary of Data - Adj'!G41)","v":""},{"$f":"IF('Pt 1 Summary of Data'!H41=\"\",\"\",'Pt 1 Summary of Data'!H41+'Pt 1 Summary of Data - Adj'!H41)","v":""},{"$f":"IF('Pt 1 Summary of Data'!I41=\"\",\"\",'Pt 1 Summary of Data'!I41+'Pt 1 Summary of Data - Adj'!I41)","v":""},{"$f":"IF('Pt 1 Summary of Data'!J41=\"\",\"\",'Pt 1 Summary of Data'!J41+'Pt 1 Summary of Data - Adj'!J41)","v":""},{"$f":"IF('Pt 1 Summary of Data'!K41=\"\",\"\",'Pt 1 Summary of Data'!K41+'Pt 1 Summary of Data - Adj'!K41)","v":3488.43},{"$f":"IF('Pt 1 Summary of Data'!L41=\"\",\"\",'Pt 1 Summary of Data'!L41+'Pt 1 Summary of Data - Adj'!L41)","v":3488.43},{"$f":"IF('Pt 1 Summary of Data'!M41=\"\",\"\",'Pt 1 Summary of Data'!M41+'Pt 1 Summary of Data - Adj'!M41)","v":""},{"$f":"IF('Pt 1 Summary of Data'!N41=\"\",\"\",'Pt 1 Summary of Data'!N41+'Pt 1 Summary of Data - Adj'!N41)","v":""},{"$f":"IF('Pt 1 Summary of Data'!O41=\"\",\"\",'Pt 1 Summary of Data'!O41+'Pt 1 Summary of Data - Adj'!O41)","v":""},{"$f":"IF('Pt 1 Summary of Data'!P41=\"\",\"\",'Pt 1 Summary of Data'!P41+'Pt 1 Summary of Data - Adj'!P41)","v":""},null,{"$f":"IF(O41=\"\",0,O41)+IF(M41=\"\",0,M41)+IF(K41=\"\",0,K41)+IF(I41=\"\",0,I41)+IF(G41=\"\",0,G41)+IF(E41=\"\",0,E41)","v":3488.43},null,{"$f":"+'Pt 1 Summary of Data'!T41+'Pt 1 Summary of Data - Adj'!T41","v":45.44},{"$f":"+'Pt 1 Summary of Data'!U41+'Pt 1 Summary of Data - Adj'!U41","v":667},{"$f":"+'Pt 1 Summary of Data'!V41+'Pt 1 Summary of Data - Adj'!V41","v":0},{"$f":"+'Pt 1 Summary of Data'!W41+'Pt 1 Summary of Data - Adj'!W41","v":0},{"$f":"+'Pt 1 Summary of Data'!X41+'Pt 1 Summary of Data - Adj'!X41","v":0},{"$f":"+'Pt 1 Summary of Data'!Y41+'Pt 1 Summary of Data - Adj'!Y41","v":0},{"$f":"+'Pt 1 Summary of Data'!Z41+'Pt 1 Summary of Data - Adj'!Z41","v":0},{"$f":"+'Pt 1 Summary of Data'!AA41+'Pt 1 Summary of Data - Adj'!AA41","v":0},{"$f":"+'Pt 1 Summary of Data'!AB41+'Pt 1 Summary of Data - Adj'!AB41","v":0},{"$f":"+'Pt 1 Summary of Data'!AC41+'Pt 1 Summary of Data - Adj'!AC41","v":0},{"$f":"+'Pt 1 Summary of Data'!AD41+'Pt 1 Summary of Data - Adj'!AD41","v":0},{"$f":"+'Pt 1 Summary of Data'!AE41+'Pt 1 Summary of Data - Adj'!AE41","v":0},{"$f":"+'Pt 1 Summary of Data'!AF41+'Pt 1 Summary of Data - Adj'!AF41","v":2882},{"$f":"+'Pt 1 Summary of Data'!AG41+'Pt 1 Summary of Data - Adj'!AG41","v":0},{"$f":"+'Pt 1 Summary of Data'!AH41+'Pt 1 Summary of Data - Adj'!AH41","v":0},{"$f":"+'Pt 1 Summary of Data'!AI41+'Pt 1 Summary of Data - Adj'!AI41","v":0},{"$f":"+'Pt 1 Summary of Data'!AJ41+'Pt 1 Summary of Data - Adj'!AJ41","v":0},{"$f":"+'Pt 1 Summary of Data'!AK41+'Pt 1 Summary of Data - Adj'!AK41","v":0},{"$f":"+'Pt 1 Summary of Data'!AL41+'Pt 1 Summary of Data - Adj'!AL41","v":2882},{"$f":"+'Pt 1 Summary of Data'!AM41+'Pt 1 Summary of Data - Adj'!AM41","v":0},{"$f":"+'Pt 1 Summary of Data'!AN41+'Pt 1 Summary of Data - Adj'!AN41","v":0},{"$f":"+'Pt 1 Summary of Data'!AO41+'Pt 1 Summary of Data - Adj'!AO41","v":0},{"$f":"+'Pt 1 Summary of Data'!AP41+'Pt 1 Summary of Data - Adj'!AP41","v":0},{"$f":"+'Pt 1 Summary of Data'!AQ41+'Pt 1 Summary of Data - Adj'!AQ41","v":0},{"$f":"+'Pt 1 Summary of Data'!AR41+'Pt 1 Summary of Data - Adj'!AR41","v":0},{"$f":"+'Pt 1 Summary of Data'!AS41+'Pt 1 Summary of Data - Adj'!AS41","v":0},{"$f":"+'Pt 1 Summary of Data'!AT41+'Pt 1 Summary of Data - Adj'!AT41","v":0},{"$f":"+'Pt 1 Summary of Data'!AU41+'Pt 1 Summary of Data - Adj'!AU41","v":4200.87},{"$f":"+'Pt 1 Summary of Data'!AV41+'Pt 1 Summary of Data - Adj'!AV41","v":4200.87},{"$f":"+'Pt 1 Summary of Data'!AW41+'Pt 1 Summary of Data - Adj'!AW41","v":0},"Pt 1, Ln 5.5a"]
[null,null,null,"4.3b   Fines and penalties of regulatory authorities (exclude amounts reported in Line 3.3)",{"$f":"IF('Pt 1 Summary of Data'!E42=\"\",\"\",'Pt 1 Summary of Data'!E42+'Pt 1 Summary of Data - Adj'!E42)","v":""},{"$f":"IF('Pt 1 Summary of Data'!F42=\"\",\"\",'Pt 1 Summary of Data'!F42+'Pt 1 Summary of Data - Adj'!F42)","v":""},{"$f":"IF('Pt 1 Summary of Data'!G42=\"\",\"\",'Pt 1 Summary of Data'!G42+'Pt 1 Summary of Data - Adj'!G42)","v":""},{"$f":"IF('Pt 1 Summary of Data'!H42=\"\",\"\",'Pt 1 Summary of Data'!H42+'Pt 1 Summary of Data - Adj'!H42)","v":""},{"$f":"IF('Pt 1 Summary of Data'!I42=\"\",\"\",'Pt 1 Summary of Data'!I42+'Pt 1 Summary of Data - Adj'!I42)","v":""},{"$f":"IF('Pt 1 Summary of Data'!J42=\"\",\"\",'Pt 1 Summary of Data'!J42+'Pt 1 Summary of Data - Adj'!J42)","v":""},{"$f":"IF('Pt 1 Summary of Data'!K42=\"\",\"\",'Pt 1 Summary of Data'!K42+'Pt 1 Summary of Data - Adj'!K42)","v":0},{"$f":"IF('Pt 1 Summary of Data'!L42=\"\",\"\",'Pt 1 Summary of Data'!L42+'Pt 1 Summary of Data - Adj'!L42)","v":0},{"$f":"IF('Pt 1 Summary of Data'!M42=\"\",\"\",'Pt 1 Summary of Data'!M42+'Pt 1 Summary of Data - Adj'!M42)","v":""},{"$f":"IF('Pt 1 Summary of Data'!N42=\"\",\"\",'Pt 1 Summary of Data'!N42+'Pt 1 Summary of Data - Adj'!N42)","v":""},{"$f":"IF('Pt 1 Summary of Data'!O42=\"\",\"\",'Pt 1 Summary of Data'!O42+'Pt 1 Summary of Data - Adj'!O42)","v":""},{"$f":"IF('Pt 1 Summary of Data'!P42=\"\",\"\",'Pt 1 Summary of Data'!P42+'Pt 1 Summary of Data - Adj'!P42)","v":""},null,{"$f":"IF(O42=\"\",0,O42)+IF(M42=\"\",0,M42)+IF(K42=\"\",0,K42)+IF(I42=\"\",0,I42)+IF(G42=\"\",0,G42)+IF(E42=\"\",0,E42)","v":0},null,{"$f":"+'Pt 1 Summary of Data'!T42+'Pt 1 Summary of Data - Adj'!T42","v":0},{"$f":"+'Pt 1 Summary of Data'!U42+'Pt 1 Summary of Data - Adj'!U42","v":0},{"$f":"+'Pt 1 Summary of Data'!V42+'Pt 1 Summary of Data - Adj'!V42","v":0},{"$f":"+'Pt 1 Summary of Data'!W42+'Pt 1 Summary of Data - Adj'!W42","v":0},{"$f":"+'Pt 1 Summary of Data'!X42+'Pt 1 Summary of Data - Adj'!X42","v":0},{"$f":"+'Pt 1 Summary of Data'!Y42+'Pt 1 Summary of Data - Adj'!Y42","v":0},{"$f":"+'Pt 1 Summary of Data'!Z42+'Pt 1 Summary of Data - Adj'!Z42","v":0},{"$f":"+'Pt 1 Summary of Data'!AA42+'Pt 1 Summary of Data - Adj'!AA42","v":0},{"$f":"+'Pt 1 Summary of Data'!AB42+'Pt 1 Summary of Data - Adj'!AB42","v":0},{"$f":"+'Pt 1 Summary of Data'!AC42+'Pt 1 Summary of Data - Adj'!AC42","v":0},{"$f":"+'Pt 1 Summary of Data'!AD42+'Pt 1 Summary of Data - Adj'!AD42","v":0},{"$f":"+'Pt 1 Summary of Data'!AE42+'Pt 1 Summary of Data - Adj'!AE42","v":0},{"$f":"+'Pt 1 Summary of Data'!AF42+'Pt 1 Summary of Data - Adj'!AF42","v":0},{"$f":"+'Pt 1 Summary of Data'!AG42+'Pt 1 Summary of Data - Adj'!AG42","v":0},{"$f":"+'Pt 1 Summary of Data'!AH42+'Pt 1 Summary of Data - Adj'!AH42","v":0},{"$f":"+'Pt 1 Summary of Data'!AI42+'Pt 1 Summary of Data - Adj'!AI42","v":0},{"$f":"+'Pt 1 Summary of Data'!AJ42+'Pt 1 Summary of Data - Adj'!AJ42","v":0},{"$f":"+'Pt 1 Summary of Data'!AK42+'Pt 1 Summary of Data - Adj'!AK42","v":0},{"$f":"+'Pt 1 Summary of Data'!AL42+'Pt 1 Summary of Data - Adj'!AL42","v":0},{"$f":"+'Pt 1 Summary of Data'!AM42+'Pt 1 Summary of Data - Adj'!AM42","v":0},{"$f":"+'Pt 1 Summary of Data'!AN42+'Pt 1 Summary of Data - Adj'!AN42","v":0},{"$f":"+'Pt 1 Summary of Data'!AO42+'Pt 1 Summary of Data - Adj'!AO42","v":0},{"$f":"+'Pt 1 Summary of Data'!AP42+'Pt 1 Summary of Data - Adj'!AP42","v":0},{"$f":"+'Pt 1 Summary of Data'!AQ42+'Pt 1 Summary of Data - Adj'!AQ42","v":0},{"$f":"+'Pt 1 Summary of Data'!AR42+'Pt 1 Summary of Data - Adj'!AR42","v":0},{"$f":"+'Pt 1 Summary of Data'!AS42+'Pt 1 Summary of Data - Adj'!AS42","v":0},{"$f":"+'Pt 1 Summary of Data'!AT42+'Pt 1 Summary of Data - Adj'!AT42","v":0},{"$f":"+'Pt 1 Summary of Data'!AU42+'Pt 1 Summary of Data - Adj'!AU42","v":0},{"$f":"+'Pt 1 Summary of Data'!AV42+'Pt 1 Summary of Data - Adj'!AV42","v":0},{"$f":"+'Pt 1 Summary of Data'!AW42+'Pt 1 Summary of Data - Adj'!AW42","v":0},"Pt 1, Ln 5.5b"]
[null,null,4.4000000000000004,"Other general and administrative expenses",{"$f":"IF('Pt 1 Summary of Data'!E43=\"\",\"\",'Pt 1 Summary of Data'!E43+'Pt 1 Summary of Data - Adj'!E43)","v":""},{"$f":"IF('Pt 1 Summary of Data'!F43=\"\",\"\",'Pt 1 Summary of Data'!F43+'Pt 1 Summary of Data - Adj'!F43)","v":""},{"$f":"IF('Pt 1 Summary of Data'!G43=\"\",\"\",'Pt 1 Summary of Data'!G43+'Pt 1 Summary of Data - Adj'!G43)","v":""},{"$f":"IF('Pt 1 Summary of Data'!H43=\"\",\"\",'Pt 1 Summary of Data'!H43+'Pt 1 Summary of Data - Adj'!H43)","v":""},{"$f":"IF('Pt 1 Summary of Data'!I43=\"\",\"\",'Pt 1 Summary of Data'!I43+'Pt 1 Summary of Data - Adj'!I43)","v":""},{"$f":"IF('Pt 1 Summary of Data'!J43=\"\",\"\",'Pt 1 Summary of Data'!J43+'Pt 1 Summary of Data - Adj'!J43)","v":""},{"$f":"IF('Pt 1 Summary of Data'!K43=\"\",\"\",'Pt 1 Summary of Data'!K43+'Pt 1 Summary of Data - Adj'!K43)","v":22452.769999999997},{"$f":"IF('Pt 1 Summary of Data'!L43=\"\",\"\",'Pt 1 Summary of Data'!L43+'Pt 1 Summary of Data - Adj'!L43)","v":22452.769999999997},{"$f":"IF('Pt 1 Summary of Data'!M43=\"\",\"\",'Pt 1 Summary of Data'!M43+'Pt 1 Summary of Data - Adj'!M43)","v":""},{"$f":"IF('Pt 1 Summary of Data'!N43=\"\",\"\",'Pt 1 Summary of Data'!N43+'Pt 1 Summary of Data - Adj'!N43)","v":""},{"$f":"IF('Pt 1 Summary of Data'!O43=\"\",\"\",'Pt 1 Summary of Data'!O43+'Pt 1 Summary of Data - Adj'!O43)","v":""},{"$f":"IF('Pt 1 Summary of Data'!P43=\"\",\"\",'Pt 1 Summary of Data'!P43+'Pt 1 Summary of Data - Adj'!P43)","v":""},null,{"$f":"IF(O43=\"\",0,O43)+IF(M43=\"\",0,M43)+IF(K43=\"\",0,K43)+IF(I43=\"\",0,I43)+IF(G43=\"\",0,G43)+IF(E43=\"\",0,E43)","v":22452.769999999997},null,{"$f":"+'Pt 1 Summary of Data'!T43+'Pt 1 Summary of Data - Adj'!T43","v":2042.6599999999999},{"$f":"+'Pt 1 Summary of Data'!U43+'Pt 1 Summary of Data - Adj'!U43","v":0},{"$f":"+'Pt 1 Summary of Data'!V43+'Pt 1 Summary of Data - Adj'!V43","v":0},{"$f":"+'Pt 1 Summary of Data'!W43+'Pt 1 Summary of Data - Adj'!W43","v":0},{"$f":"+'Pt 1 Summary of Data'!X43+'Pt 1 Summary of Data - Adj'!X43","v":0},{"$f":"+'Pt 1 Summary of Data'!Y43+'Pt 1 Summary of Data - Adj'!Y43","v":0},{"$f":"+'Pt 1 Summary of Data'!Z43+'Pt 1 Summary of Data - Adj'!Z43","v":0},{"$f":"+'Pt 1 Summary of Data'!AA43+'Pt 1 Summary of Data - Adj'!AA43","v":0},{"$f":"+'Pt 1 Summary of Data'!AB43+'Pt 1 Summary of Data - Adj'!AB43","v":0},{"$f":"+'Pt 1 Summary of Data'!AC43+'Pt 1 Summary of Data - Adj'!AC43","v":0},{"$f":"+'Pt 1 Summary of Data'!AD43+'Pt 1 Summary of Data - Adj'!AD43","v":0},{"$f":"+'Pt 1 Summary of Data'!AE43+'Pt 1 Summary of Data - Adj'!AE43","v":0},{"$f":"+'Pt 1 Summary of Data'!AF43+'Pt 1 Summary of Data - Adj'!AF43","v":6290.74},{"$f":"+'Pt 1 Summary of Data'!AG43+'Pt 1 Summary of Data - Adj'!AG43","v":0},{"$f":"+'Pt 1 Summary of Data'!AH43+'Pt 1 Summary of Data - Adj'!AH43","v":0},{"$f":"+'Pt 1 Summary of Data'!AI43+'Pt 1 Summary of Data - Adj'!AI43","v":0},{"$f":"+'Pt 1 Summary of Data'!AJ43+'Pt 1 Summary of Data - Adj'!AJ43","v":0},{"$f":"+'Pt 1 Summary of Data'!AK43+'Pt 1 Summary of Data - Adj'!AK43","v":0},{"$f":"+'Pt 1 Summary of Data'!AL43+'Pt 1 Summary of Data - Adj'!AL43","v":6290.74},{"$f":"+'Pt 1 Summary of Data'!AM43+'Pt 1 Summary of Data - Adj'!AM43","v":0},{"$f":"+'Pt 1 Summary of Data'!AN43+'Pt 1 Summary of Data - Adj'!AN43","v":0},{"$f":"+'Pt 1 Summary of Data'!AO43+'Pt 1 Summary of Data - Adj'!AO43","v":0},{"$f":"+'Pt 1 Summary of Data'!AP43+'Pt 1 Summary of Data - Adj'!AP43","v":0},{"$f":"+'Pt 1 Summary of Data'!AQ43+'Pt 1 Summary of Data - Adj'!AQ43","v":0},{"$f":"+'Pt 1 Summary of Data'!AR43+'Pt 1 Summary of Data - Adj'!AR43","v":0},{"$f":"+'Pt 1 Summary of Data'!AS43+'Pt 1 Summary of Data - Adj'!AS43","v":0},{"$f":"+'Pt 1 Summary of Data'!AT43+'Pt 1 Summary of Data - Adj'!AT43","v":0},{"$f":"+'Pt 1 Summary of Data'!AU43+'Pt 1 Summary of Data - Adj'!AU43","v":24495.429999999997},{"$f":"+'Pt 1 Summary of Data'!AV43+'Pt 1 Summary of Data - Adj'!AV43","v":24495.43},{"$f":"+'Pt 1 Summary of Data'!AW43+'Pt 1 Summary of Data - Adj'!AW43","v":0},"Pt 1, Ln 4.1-4.5 + 5.1 + 5.2 + 5.6"]
[null,null,4.5,"Total non-claims costs",{"$f":"IF('Pt 1 Summary of Data'!E44=\"\",\"\",'Pt 1 Summary of Data'!E44+'Pt 1 Summary of Data - Adj'!E44)","v":""},{"$f":"IF('Pt 1 Summary of Data'!F44=\"\",\"\",'Pt 1 Summary of Data'!F44+'Pt 1 Summary of Data - Adj'!F44)","v":""},{"$f":"IF('Pt 1 Summary of Data'!G44=\"\",\"\",'Pt 1 Summary of Data'!G44+'Pt 1 Summary of Data - Adj'!G44)","v":""},{"$f":"IF('Pt 1 Summary of Data'!H44=\"\",\"\",'Pt 1 Summary of Data'!H44+'Pt 1 Summary of Data - Adj'!H44)","v":""},{"$f":"IF('Pt 1 Summary of Data'!I44=\"\",\"\",'Pt 1 Summary of Data'!I44+'Pt 1 Summary of Data - Adj'!I44)","v":""},{"$f":"IF('Pt 1 Summary of Data'!J44=\"\",\"\",'Pt 1 Summary of Data'!J44+'Pt 1 Summary of Data - Adj'!J44)","v":""},{"$f":"IF('Pt 1 Summary of Data'!K44=\"\",\"\",'Pt 1 Summary of Data'!K44+'Pt 1 Summary of Data - Adj'!K44)","v":35125.689999999995},{"$f":"IF('Pt 1 Summary of Data'!L44=\"\",\"\",'Pt 1 Summary of Data'!L44+'Pt 1 Summary of Data - Adj'!L44)","v":35125.689999999995},{"$f":"IF('Pt 1 Summary of Data'!M44=\"\",\"\",'Pt 1 Summary of Data'!M44+'Pt 1 Summary of Data - Adj'!M44)","v":""},{"$f":"IF('Pt 1 Summary of Data'!N44=\"\",\"\",'Pt 1 Summary of Data'!N44+'Pt 1 Summary of Data - Adj'!N44)","v":""},{"$f":"IF('Pt 1 Summary of Data'!O44=\"\",\"\",'Pt 1 Summary of Data'!O44+'Pt 1 Summary of Data - Adj'!O44)","v":""},{"$f":"IF('Pt 1 Summary of Data'!P44=\"\",\"\",'Pt 1 Summary of Data'!P44+'Pt 1 Summary of Data - Adj'!P44)","v":""},null,{"$f":"IF(O44=\"\",0,O44)+IF(M44=\"\",0,M44)+IF(K44=\"\",0,K44)+IF(I44=\"\",0,I44)+IF(G44=\"\",0,G44)+IF(E44=\"\",0,E44)","v":35125.689999999995},null,{"$f":"+'Pt 1 Summary of Data'!T44+'Pt 1 Summary of Data - Adj'!T44","v":2254.6999999999998},{"$f":"+'Pt 1 Summary of Data'!U44+'Pt 1 Summary of Data - Adj'!U44","v":667},{"$f":"+'Pt 1 Summary of Data'!V44+'Pt 1 Summary of Data - Adj'!V44","v":0},{"$f":"+'Pt 1 Summary of Data'!W44+'Pt 1 Summary of Data - Adj'!W44","v":0},{"$f":"+'Pt 1 Summary of Data'!X44+'Pt 1 Summary of Data - Adj'!X44","v":0},{"$f":"+'Pt 1 Summary of Data'!Y44+'Pt 1 Summary of Data - Adj'!Y44","v":0},{"$f":"+'Pt 1 Summary of Data'!Z44+'Pt 1 Summary of Data - Adj'!Z44","v":0},{"$f":"+'Pt 1 Summary of Data'!AA44+'Pt 1 Summary of Data - Adj'!AA44","v":0},{"$f":"+'Pt 1 Summary of Data'!AB44+'Pt 1 Summary of Data - Adj'!AB44","v":0},{"$f":"+'Pt 1 Summary of Data'!AC44+'Pt 1 Summary of Data - Adj'!AC44","v":0},{"$f":"+'Pt 1 Summary of Data'!AD44+'Pt 1 Summary of Data - Adj'!AD44","v":0},{"$f":"+'Pt 1 Summary of Data'!AE44+'Pt 1 Summary of Data - Adj'!AE44","v":0},{"$f":"+'Pt 1 Summary of Data'!AF44+'Pt 1 Summary of Data - Adj'!AF44","v":18357.23},{"$f":"+'Pt 1 Summary of Data'!AG44+'Pt 1 Summary of Data - Adj'!AG44","v":0},{"$f":"+'Pt 1 Summary of Data'!AH44+'Pt 1 Summary of Data - Adj'!AH44","v":0},{"$f":"+'Pt 1 Summary of Data'!AI44+'Pt 1 Summary of Data - Adj'!AI44","v":0},{"$f":"+'Pt 1 Summary of Data'!AJ44+'Pt 1 Summary of Data - Adj'!AJ44","v":0},{"$f":"+'Pt 1 Summary of Data'!AK44+'Pt 1 Summary of Data - Adj'!AK44","v":0},{"$f":"+'Pt 1 Summary of Data'!AL44+'Pt 1 Summary of Data - Adj'!AL44","v":18357.23},{"$f":"+'Pt 1 Summary of Data'!AM44+'Pt 1 Summary of Data - Adj'!AM44","v":0},{"$f":"+'Pt 1 Summary of Data'!AN44+'Pt 1 Summary of Data - Adj'!AN44","v":0},{"$f":"+'Pt 1 Summary of Data'!AO44+'Pt 1 Summary of Data - Adj'!AO44","v":0},{"$f":"+'Pt 1 Summary of Data'!AP44+'Pt 1 Summary of Data - Adj'!AP44","v":0},{"$f":"+'Pt 1 Summary of Data'!AQ44+'Pt 1 Summary of Data - Adj'!AQ44","v":0},{"$f":"+'Pt 1 Summary of Data'!AR44+'Pt 1 Summary of Data - Adj'!AR44","v":0},{"$f":"+'Pt 1 Summary of Data'!AS44+'Pt 1 Summary of Data - Adj'!AS44","v":0},{"$f":"+'Pt 1 Summary of Data'!AT44+'Pt 1 Summary of Data - Adj'!AT44","v":0},{"$f":"+'Pt 1 Summary of Data'!AU44+'Pt 1 Summary of Data - Adj'!AU44","v":38047.389999999992},{"$f":"+'Pt 1 Summary of Data'!AV44+'Pt 1 Summary of Data - Adj'!AV44","v":38047.39},{"$f":"+'Pt 1 Summary of Data'!AW44+'Pt 1 Summary of Data - Adj'!AW44","v":0}]
[]
[null,"5.","Other Indicators or information "]
[null,null,5.0999999999999996,"Number of covered lives",{"$f":"IF('Pt 1 Summary of Data'!E47=\"\",\"\",'Pt 1 Summary of Data'!E47+'Pt 1 Summary of Data - Adj'!E47)","v":""},{"$f":"IF('Pt 1 Summary of Data'!F47=\"\",\"\",'Pt 1 Summary of Data'!F47+'Pt 1 Summary of Data - Adj'!F47)","v":""},{"$f":"IF('Pt 1 Summary of Data'!G47=\"\",\"\",'Pt 1 Summary of Data'!G47+'Pt 1 Summary of Data - Adj'!G47)","v":""},{"$f":"IF('Pt 1 Summary of Data'!H47=\"\",\"\",'Pt 1 Summary of Data'!H47+'Pt 1 Summary of Data - Adj'!H47)","v":""},{"$f":"IF('Pt 1 Summary of Data'!I47=\"\",\"\",'Pt 1 Summary of Data'!I47+'Pt 1 Summary of Data - Adj'!I47)","v":""},{"$f":"IF('Pt 1 Summary of Data'!J47=\"\",\"\",'Pt 1 Summary of Data'!J47+'Pt 1 Summary of Data - Adj'!J47)","v":""},{"$f":"IF('Pt 1 Summary of Data'!K47=\"\",\"\",'Pt 1 Summary of Data'!K47+'Pt 1 Summary of Data - Adj'!K47)","v":224},{"$f":"IF('Pt 1 Summary of Data'!L47=\"\",\"\",'Pt 1 Summary of Data'!L47+'Pt 1 Summary of Data - Adj'!L47)","v":224},{"$f":"IF('Pt 1 Summary of Data'!M47=\"\",\"\",'Pt 1 Summary of Data'!M47+'Pt 1 Summary of Data - Adj'!M47)","v":""},{"$f":"IF('Pt 1 Summary of Data'!N47=\"\",\"\",'Pt 1 Summary of Data'!N47+'Pt 1 Summary of Data - Adj'!N47)","v":""},{"$f":"IF('Pt 1 Summary of Data'!O47=\"\",\"\",'Pt 1 Summary of Data'!O47+'Pt 1 Summary of Data - Adj'!O47)","v":""},{"$f":"IF('Pt 1 Summary of Data'!P47=\"\",\"\",'Pt 1 Summary of Data'!P47+'Pt 1 Summary of Data - Adj'!P47)","v":""},null,{"$f":"IF(O47=\"\",0,O47)+IF(M47=\"\",0,M47)+IF(K47=\"\",0,K47)+IF(I47=\"\",0,I47)+IF(G47=\"\",0,G47)+IF(E47=\"\",0,E47)","v":224},null,{"$f":"+'Pt 1 Summary of Data'!T47+'Pt 1 Summary of Data - Adj'!T47","v":102},{"$f":"+'Pt 1 Summary of Data'!U47+'Pt 1 Summary of Data - Adj'!U47","v":0},{"$f":"+'Pt 1 Summary of Data'!V47+'Pt 1 Summary of Data - Adj'!V47","v":0},{"$f":"+'Pt 1 Summary of Data'!W47+'Pt 1 Summary of Data - Adj'!W47","v":0},{"$f":"+'Pt 1 Summary of Data'!X47+'Pt 1 Summary of Data - Adj'!X47","v":0},{"$f":"+'Pt 1 Summary of Data'!Y47+'Pt 1 Summary of Data - Adj'!Y47","v":0},{"$f":"+'Pt 1 Summary of Data'!Z47+'Pt 1 Summary of Data - Adj'!Z47","v":0},{"$f":"+'Pt 1 Summary of Data'!AA47+'Pt 1 Summary of Data - Adj'!AA47","v":0},{"$f":"+'Pt 1 Summary of Data'!AB47+'Pt 1 Summary of Data - Adj'!AB47","v":0},{"$f":"+'Pt 1 Summary of Data'!AC47+'Pt 1 Summary of Data - Adj'!AC47","v":0},{"$f":"+'Pt 1 Summary of Data'!AD47+'Pt 1 Summary of Data - Adj'!AD47","v":0},{"$f":"+'Pt 1 Summary of Data'!AE47+'Pt 1 Summary of Data - Adj'!AE47","v":0},{"$f":"+'Pt 1 Summary of Data'!AF47+'Pt 1 Summary of Data - Adj'!AF47","v":224},{"$f":"+'Pt 1 Summary of Data'!AG47+'Pt 1 Summary of Data - Adj'!AG47","v":0},{"$f":"+'Pt 1 Summary of Data'!AH47+'Pt 1 Summary of Data - Adj'!AH47","v":0},{"$f":"+'Pt 1 Summary of Data'!AI47+'Pt 1 Summary of Data - Adj'!AI47","v":0},{"$f":"+'Pt 1 Summary of Data'!AJ47+'Pt 1 Summary of Data - Adj'!AJ47","v":0},{"$f":"+'Pt 1 Summary of Data'!AK47+'Pt 1 Summary of Data - Adj'!AK47","v":0},{"$f":"+'Pt 1 Summary of Data'!AL47+'Pt 1 Summary of Data - Adj'!AL47","v":224},{"$f":"+'Pt 1 Summary of Data'!AM47+'Pt 1 Summary of Data - Adj'!AM47","v":0},{"$f":"+'Pt 1 Summary of Data'!AN47+'Pt 1 Summary of Data - Adj'!AN47","v":0},{"$f":"+'Pt 1 Summary of Data'!AO47+'Pt 1 Summary of Data - Adj'!AO47","v":0},{"$f":"+'Pt 1 Summary of Data'!AP47+'Pt 1 Summary of Data - Adj'!AP47","v":0},{"$f":"+'Pt 1 Summary of Data'!AQ47+'Pt 1 Summary of Data - Adj'!AQ47","v":0},{"$f":"+'Pt 1 Summary of Data'!AR47+'Pt 1 Summary of Data - Adj'!AR47","v":0},{"$f":"+'Pt 1 Summary of Data'!AS47+'Pt 1 Summary of Data - Adj'!AS47","v":0},{"$f":"+'Pt 1 Summary of Data'!AT47+'Pt 1 Summary of Data - Adj'!AT47","v":0},{"$f":"+'Pt 1 Summary of Data'!AU47+'Pt 1 Summary of Data - Adj'!AU47","v":326},{"$f":"+'Pt 1 Summary of Data'!AV47+'Pt 1 Summary of Data - Adj'!AV47","v":326},{"$f":"+'Pt 1 Summary of Data'!AW47+'Pt 1 Summary of Data - Adj'!AW47","v":0},"Pt 1, Ln 7.2"]
[null,null,5.2,"Member months",{"$f":"IF('Pt 1 Summary of Data'!E48=\"\",\"\",'Pt 1 Summary of Data'!E48+'Pt 1 Summary of Data - Adj'!E48)","v":""},{"$f":"IF('Pt 1 Summary of Data'!F48=\"\",\"\",'Pt 1 Summary of Data'!F48+'Pt 1 Summary of Data - Adj'!F48)","v":""},{"$f":"IF('Pt 1 Summary of Data'!G48=\"\",\"\",'Pt 1 Summary of Data'!G48+'Pt 1 Summary of Data - Adj'!G48)","v":""},{"$f":"IF('Pt 1 Summary of Data'!H48=\"\",\"\",'Pt 1 Summary of Data'!H48+'Pt 1 Summary of Data - Adj'!H48)","v":""},{"$f":"IF('Pt 1 Summary of Data'!I48=\"\",\"\",'Pt 1 Summary of Data'!I48+'Pt 1 Summary of Data - Adj'!I48)","v":""},{"$f":"IF('Pt 1 Summary of Data'!J48=\"\",\"\",'Pt 1 Summary of Data'!J48+'Pt 1 Summary of Data - Adj'!J48)","v":""},{"$f":"IF('Pt 1 Summary of Data'!K48=\"\",\"\",'Pt 1 Summary of Data'!K48+'Pt 1 Summary of Data - Adj'!K48)","v":2911},{"$f":"IF('Pt 1 Summary of Data'!L48=\"\",\"\",'Pt 1 Summary of Data'!L48+'Pt 1 Summary of Data - Adj'!L48)","v":2905},{"$f":"IF('Pt 1 Summary of Data'!M48=\"\",\"\",'Pt 1 Summary of Data'!M48+'Pt 1 Summary of Data - Adj'!M48)","v":""},{"$f":"IF('Pt 1 Summary of Data'!N48=\"\",\"\",'Pt 1 Summary of Data'!N48+'Pt 1 Summary of Data - Adj'!N48)","v":""},{"$f":"IF('Pt 1 Summary of Data'!O48=\"\",\"\",'Pt 1 Summary of Data'!O48+'Pt 1 Summary of Data - Adj'!O48)","v":""},{"$f":"IF('Pt 1 Summary of Data'!P48=\"\",\"\",'Pt 1 Summary of Data'!P48+'Pt 1 Summary of Data - Adj'!P48)","v":""},null,{"$f":"IF(O48=\"\",0,O48)+IF(M48=\"\",0,M48)+IF(K48=\"\",0,K48)+IF(I48=\"\",0,I48)+IF(G48=\"\",0,G48)+IF(E48=\"\",0,E48)","v":2911},null,{"$f":"+'Pt 1 Summary of Data'!T48+'Pt 1 Summary of Data - Adj'!T48","v":1265},{"$f":"+'Pt 1 Summary of Data'!U48+'Pt 1 Summary of Data - Adj'!U48","v":0},{"$f":"+'Pt 1 Summary of Data'!V48+'Pt 1 Summary of Data - Adj'!V48","v":0},{"$f":"+'Pt 1 Summary of Data'!W48+'Pt 1 Summary of Data - Adj'!W48","v":0},{"$f":"+'Pt 1 Summary of Data'!X48+'Pt 1 Summary of Data - Adj'!X48","v":0},{"$f":"+'Pt 1 Summary of Data'!Y48+'Pt 1 Summary of Data - Adj'!Y48","v":0},{"$f":"+'Pt 1 Summary of Data'!Z48+'Pt 1 Summary of Data - Adj'!Z48","v":0},{"$f":"+'Pt 1 Summary of Data'!AA48+'Pt 1 Summary of Data - Adj'!AA48","v":0},{"$f":"+'Pt 1 Summary of Data'!AB48+'Pt 1 Summary of Data - Adj'!AB48","v":0},{"$f":"+'Pt 1 Summary of Data'!AC48+'Pt 1 Summary of Data - Adj'!AC48","v":0},{"$f":"+'Pt 1 Summary of Data'!AD48+'Pt 1 Summary of Data - Adj'!AD48","v":0},{"$f":"+'Pt 1 Summary of Data'!AE48+'Pt 1 Summary of Data - Adj'!AE48","v":0},{"$f":"+'Pt 1 Summary of Data'!AF48+'Pt 1 Summary of Data - Adj'!AF48","v":2911},{"$f":"+'Pt 1 Summary of Data'!AG48+'Pt 1 Summary of Data - Adj'!AG48","v":0},{"$f":"+'Pt 1 Summary of Data'!AH48+'Pt 1 Summary of Data - Adj'!AH48","v":0},{"$f":"+'Pt 1 Summary of Data'!AI48+'Pt 1 Summary of Data - Adj'!AI48","v":0},{"$f":"+'Pt 1 Summary of Data'!AJ48+'Pt 1 Summary of Data - Adj'!AJ48","v":0},{"$f":"+'Pt 1 Summary of Data'!AK48+'Pt 1 Summary of Data - Adj'!AK48","v":0},{"$f":"+'Pt 1 Summary of Data'!AL48+'Pt 1 Summary of Data - Adj'!AL48","v":2911},{"$f":"+'Pt 1 Summary of Data'!AM48+'Pt 1 Summary of Data - Adj'!AM48","v":0},{"$f":"+'Pt 1 Summary of Data'!AN48+'Pt 1 Summary of Data - Adj'!AN48","v":0},{"$f":"+'Pt 1 Summary of Data'!AO48+'Pt 1 Summary of Data - Adj'!AO48","v":0},{"$f":"+'Pt 1 Summary of Data'!AP48+'Pt 1 Summary of Data - Adj'!AP48","v":0},{"$f":"+'Pt 1 Summary of Data'!AQ48+'Pt 1 Summary of Data - Adj'!AQ48","v":0},{"$f":"+'Pt 1 Summary of Data'!AR48+'Pt 1 Summary of Data - Adj'!AR48","v":0},{"$f":"+'Pt 1 Summary of Data'!AS48+'Pt 1 Summary of Data - Adj'!AS48","v":0},{"$f":"+'Pt 1 Summary of Data'!AT48+'Pt 1 Summary of Data - Adj'!AT48","v":0},{"$f":"+'Pt 1 Summary of Data'!AU48+'Pt 1 Summary of Data - Adj'!AU48","v":4176},{"$f":"+'Pt 1 Summary of Data'!AV48+'Pt 1 Summary of Data - Adj'!AV48","v":4176},{"$f":"+'Pt 1 Summary of Data'!AW48+'Pt 1 Summary of Data - Adj'!AW48","v":0},"Pt 1, Ln 7.4"]
[null,null,5.3,"Number of life-years",{"$f":"IF('Pt 1 Summary of Data'!E49=\"\",\"\",'Pt 1 Summary of Data'!E49+'Pt 1 Summary of Data - Adj'!E49)","v":""},{"$f":"IF('Pt 1 Summary of Data'!F49=\"\",\"\",'Pt 1 Summary of Data'!F49+'Pt 1 Summary of Data - Adj'!F49)","v":""},{"$f":"IF('Pt 1 Summary of Data'!G49=\"\",\"\",'Pt 1 Summary of Data'!G49+'Pt 1 Summary of Data - Adj'!G49)","v":""},{"$f":"IF('Pt 1 Summary of Data'!H49=\"\",\"\",'Pt 1 Summary of Data'!H49+'Pt 1 Summary of Data - Adj'!H49)","v":""},{"$f":"IF('Pt 1 Summary of Data'!I49=\"\",\"\",'Pt 1 Summary of Data'!I49+'Pt 1 Summary of Data - Adj'!I49)","v":""},{"$f":"IF('Pt 1 Summary of Data'!J49=\"\",\"\",'Pt 1 Summary of Data'!J49+'Pt 1 Summary of Data - Adj'!J49)","v":""},{"$f":"IF('Pt 1 Summary of Data'!K49=\"\",\"\",'Pt 1 Summary of Data'!K49+'Pt 1 Summary of Data - Adj'!K49)","v":242.58333333333334},{"$f":"IF('Pt 1 Summary of Data'!L49=\"\",\"\",'Pt 1 Summary of Data'!L49+'Pt 1 Summary of Data - Adj'!L49)","v":242.08333333333334},{"$f":"IF('Pt 1 Summary of Data'!M49=\"\",\"\",'Pt 1 Summary of Data'!M49+'Pt 1 Summary of Data - Adj'!M49)","v":""},{"$f":"IF('Pt 1 Summary of Data'!N49=\"\",\"\",'Pt 1 Summary of Data'!N49+'Pt 1 Summary of Data - Adj'!N49)","v":""},{"$f":"IF('Pt 1 Summary of Data'!O49=\"\",\"\",'Pt 1 Summary of Data'!O49+'Pt 1 Summary of Data - Adj'!O49)","v":""},{"$f":"IF('Pt 1 Summary of Data'!P49=\"\",\"\",'Pt 1 Summary of Data'!P49+'Pt 1 Summary of Data - Adj'!P49)","v":""},null,{"$f":"IF(O49=\"\",0,O49)+IF(M49=\"\",0,M49)+IF(K49=\"\",0,K49)+IF(I49=\"\",0,I49)+IF(G49=\"\",0,G49)+IF(E49=\"\",0,E49)","v":242.58333333333334},null,{"$f":"+'Pt 1 Summary of Data'!T49+'Pt 1 Summary of Data - Adj'!T49","v":105.41666666666667},{"$f":"+'Pt 1 Summary of Data'!U49+'Pt 1 Summary of Data - Adj'!U49","v":0},{"$f":"+'Pt 1 Summary of Data'!V49+'Pt 1 Summary of Data - Adj'!V49","v":0},{"$f":"+'Pt 1 Summary of Data'!W49+'Pt 1 Summary of Data - Adj'!W49","v":0},{"$f":"+'Pt 1 Summary of Data'!X49+'Pt 1 Summary of Data - Adj'!X49","v":0},{"$f":"+'Pt 1 Summary of Data'!Y49+'Pt 1 Summary of Data - Adj'!Y49","v":0},{"$f":"+'Pt 1 Summary of Data'!Z49+'Pt 1 Summary of Data - Adj'!Z49","v":0},{"$f":"+'Pt 1 Summary of Data'!AA49+'Pt 1 Summary of Data - Adj'!AA49","v":0},{"$f":"+'Pt 1 Summary of Data'!AB49+'Pt 1 Summary of Data - Adj'!AB49","v":0},{"$f":"+'Pt 1 Summary of Data'!AC49+'Pt 1 Summary of Data - Adj'!AC49","v":0},{"$f":"+'Pt 1 Summary of Data'!AD49+'Pt 1 Summary of Data - Adj'!AD49","v":0},{"$f":"+'Pt 1 Summary of Data'!AE49+'Pt 1 Summary of Data - Adj'!AE49","v":0},{"$f":"+'Pt 1 Summary of Data'!AF49+'Pt 1 Summary of Data - Adj'!AF49","v":242.58333333333334},{"$f":"+'Pt 1 Summary of Data'!AG49+'Pt 1 Summary of Data - Adj'!AG49","v":0},{"$f":"+'Pt 1 Summary of Data'!AH49+'Pt 1 Summary of Data - Adj'!AH49","v":0},{"$f":"+'Pt 1 Summary of Data'!AI49+'Pt 1 Summary of Data - Adj'!AI49","v":0},{"$f":"+'Pt 1 Summary of Data'!AJ49+'Pt 1 Summary of Data - Adj'!AJ49","v":0},{"$f":"+'Pt 1 Summary of Data'!AK49+'Pt 1 Summary of Data - Adj'!AK49","v":0},{"$f":"+'Pt 1 Summary of Data'!AL49+'Pt 1 Summary of Data - Adj'!AL49","v":242.58333333333334},{"$f":"+'Pt 1 Summary of Data'!AM49+'Pt 1 Summary of Data - Adj'!AM49","v":0},{"$f":"+'Pt 1 Summary of Data'!AN49+'Pt 1 Summary of Data - Adj'!AN49","v":0},{"$f":"+'Pt 1 Summary of Data'!AO49+'Pt 1 Summary of Data - Adj'!AO49","v":0},{"$f":"+'Pt 1 Summary of Data'!AP49+'Pt 1 Summary of Data - Adj'!AP49","v":0},{"$f":"+'Pt 1 Summary of Data'!AQ49+'Pt 1 Summary of Data - Adj'!AQ49","v":0},{"$f":"+'Pt 1 Summary of Data'!AR49+'Pt 1 Summary of Data - Adj'!AR49","v":0},{"$f":"+'Pt 1 Summary of Data'!AS49+'Pt 1 Summary of Data - Adj'!AS49","v":0},{"$f":"+'Pt 1 Summary of Data'!AT49+'Pt 1 Summary of Data - Adj'!AT49","v":0},{"$f":"+'Pt 1 Summary of Data'!AU49+'Pt 1 Summary of Data - Adj'!AU49","v":348},{"$f":"+'Pt 1 Summary of Data'!AV49+'Pt 1 Summary of Data - Adj'!AV49","v":348},{"$f":"+'Pt 1 Summary of Data'!AW49+'Pt 1 Summary of Data - Adj'!AW49","v":0},"Pt 1, Ln 7.5"]
[null,null,null,null,{"$f":"CONCATENATE(\"Grand Total as of 12/31/\",RIGHT('EB PT 1'!K11,2),\" for ALL markets in col. 1-12\")","v":"Grand Total as of 12/31/22 for ALL markets in col. 1-12"}]
[]
[null,"6.","Net investment income and other gain / (loss) ",null,{"$f":"IF('Pt 1 Summary of Data'!E51=\"\",\"\",'Pt 1 Summary of Data'!E51+'Pt 1 Summary of Data - Adj'!E51)","v":198.42999999999989}]
[null,"7.","Other Federal income taxes (exclude taxes on Line 3.1a and 3.1b) ",null,{"$f":"IF('Pt 1 Summary of Data'!E52=\"\",\"\",'Pt 1 Summary of Data'!E52+'Pt 1 Summary of Data - Adj'!E52)","v":0}]
[]
[null,"Cell Keys:"]
[null,null,"Blank cells require input from Health plan or Health insurer"]
[null,null,"Grey cells require no data input "]
[null,null,"Pink cells require no data input - locked down"]
[null,null,"Blue cells: computed cell (formula cell)"]
[]
[]
[]
[null,null,null,"Expected Tax Rate Analysis completed by Tax"]
[null,null,null,"Income (1-2-3-4 above)",null,null,null,null,null,null,{"$f":"K21-K24-K35-K44","v":20292.700000000041},{"$f":"L21-L24-L35-L44","v":15667.550000000017}]
[null,null,null,"Gross-up for HIF",null,null,null,null,null,null,{"$f":"+'[1]Smartview of Tax Accts'!B8","v":0},{"$f":"K65","v":0}]
[null,null,null,"Gross-up for Income Tax",null,null,null,null,null,null,{"$f":"K71","v":5568.76},{"$f":"L71","v":5568.76}]
[null,null,null,"Pre-tax income",null,null,null,null,null,null,{"$f":"SUM(K64:K66)","v":25861.460000000043},{"$f":"SUM(L64:L66)","v":21236.310000000019}]
[]
[null,null,null,"Total Federal Tax on Line 3.1",null,null,null,null,null,null,{"$f":"K28+K29","v":5568.76},{"$f":"L28+L29","v":5568.76}]
[null,null,null,"Back-out Non-income taxes",null,null,null,null,null,null,{"$f":"-K65","v":0},{"$f":"K70","v":0}]
[null,null,null,"Federal Income Tax (account 93000 from Essbase of Tax Accts tab + Manual Adj's)",null,null,null,null,null,null,{"$f":"SUM(K69:K70)","v":5568.76},5568.76]
[]
[null,null,null,"Pre-tax income from above",null,null,null,null,null,null,{"$f":"K67","v":25861.460000000043}]
[null,null,null,"Federal Income Tax Rate",null,null,null,null,null,null,0.215284]
[null,null,null,"Calculated Federal Income Tax",null,null,null,null,null,null,{"$f":"K73*K74","v":5567.5585546400089},{"$f":"K75","v":5567.5585546400089}]
[null,null,null,"Federal Income Tax Per Above",null,null,null,null,null,null,{"$f":"K71","v":5568.76},{"$f":"L71","v":5568.76}]
[null,null,null,"Federal Income Tax Difference (amount to be booked)",null,null,null,null,null,null,{"$f":"K75-K76","v":-1.2014453599913395},{"$f":"L75-L76","v":-1.2014453599913395}]
[]
[null,null,null,"Total State Tax on Line 3.2",null,null,null,null,null,null,"N/A","N/A"]
[null,null,null,"Back-out Non-income taxes (see Essbase of Tax Accts tab)",null,null,null,null,null,null,"N/A",{"$f":"K80","v":"N/A"}]
[null,null,null,"State Income Tax - NONE",null,null,null,null,null,null,{"$f":"SUM(K79:K80)","v":0},0]
[]
[null,null,null,"State Income Tax Rate",null,null,null,null,null,null,"N/A","N/A"]

{"sheet":"Smartview of Tax Accts","index":15,"n_rows":11,"n_cols":12,"rows_kept":11,"cut":false,"hidden":true,"merged":[]}
[null,"2022","Views","IDB Periods","NAIC Supp HC Exhibit","35320 - UnitedHealthcare Life Ins Co","UnitedHealthcare Domestic","All Other Projects","California - CA","Departments","Reinsurance","Sources"]
[null,"Stand Alone Dental"]
[null,"Customers"]
[null,"Total Year"]
["Fed Tax & Assess - Taxable",0]
["Fed Tax & Assess - Nontaxable",5568.76]
["Federal Taxes and Assessments",5568.76]
["92021 - Insurance Industry Fee",0,"N/A 2021 and forward"]
["92029 - Insurer Fee Reallocation",0]
["93000 - Federal Income Taxes Expense",5568.76]
["93035 - Federal Income Tax Exp - Other",0]

{"sheet":"Pt 2 Premium and Claims","index":16,"n_rows":58,"n_cols":50,"rows_kept":58,"cut":false,"hidden":true,"merged":[[14,30,14,31],[14,32,14,36],[14,38,14,44],[15,48,16,48],[15,37,16,37],[15,49,16,49],[15,17,16,17],[15,19,16,19],[15,20,16,20],[15,28,16,28],[15,47,16,47],[15,46,16,46],[5,1,5,3],[7,1,7,3],[9,1,9,3],[11,1,11,3],[15,29,16,29],[14,1,17,3]]}
[null,"Department of Managed Health Care/Department of Insurance",null,null,null,null,null,null,null,"<<< DHMO","DPPO >>>"]
[null,"Medical Loss Ratio Reporting Form: Dental Coverage"]
[null,"Part 2 - Premium and Claims",null,null,null,null,null,null,null,null,null,null,null,null,null,null,null,"<<<<<",null,null,null,null,null,null,null,null,null,null,"NOTE"]
[]
[null,"Health Plan ID"]
[null,{"$f":"'Cover Page'!C7","v":97179}]
[null,"Legal Name"]
[null,{"$f":"'Cover Page'!C8","v":"UnitedHealthcare Life Insurance Company"}]
[null,"dBA"]
[null,{"$f":"'Cover Page'!C9","v":"N/A"}]
[null,"MLR Reporting Year"]
[null,{"$f":"'Cover Page'!C6","v":"2022"}]
[]
[]
[null,"UHG NOTES SECTION:\nBase tab.  This tab is a direct pull from the ledger.\nThe base tab plus the \"Adj\" tab makes the \"Final' tab",null,null,null,null,"Health Insurance Coverage",null,null,null,null,null,"Health Insurance Coverage",null,null,null,null,"Stand Alone \nDental\n(Ind/SG/LG)",null,"Stand Alone \nVision","Non-Stand Alone \nDental/Vision","Other Bus\n(excluded by Statute)\nMISC 1","Other Bus\n(excluded by Statute)\nMISC 2","Other Bus\n(excluded by Statute)\nMISC 3","Other Bus\n(excluded by Statute)\nMISC 4","Other Bus\n(excluded by Statute)\nMISC 5","Other Bus\n(excluded by Statute)\nMISC 6","Other Bus\n(excluded by Statute)\nMISC 7","Other Bus\n(excluded by Statute)\nless MISC (1-7)","Other Bus\n(excluded by Statute)","Stand Alone Dental\nUHC Dom.\nNon-Ind/SG/LG",null,"Stand Alone Dental\nNon-UHC Dom.",null,null,null,null,null,"These products don't fall into any node and need to be remapped!",null,null,null,null,null,null,null,"Grand Total","Grand Total",null,"Reference"]
[null,null,null,null,null,null,"DHMO Products",null,null,null,null,null,"DPPO & Indemnity Products",null,null,null,null,"Dental",null,"Vision","Life/Disability","Stop Loss","Stop Loss","Supp Hospital","Medicare Supp","Student Health","Wrap","Ind Short Term","Other Bus\n(\"Catch-All\")","Other Bus\n(excluded by Statute)",null,null,null,null,null,null,null,"Other\nStand Alone Dent\n",null,null,null,null,null,null,null,null,"Other Health Bus \nper DMHC","Other Health Bus \nper CMS (Col 41)","DMHC Rpt vs. CMS Rpt\n(Oth Health Bus - Col 41)","CMS Lines"]
[null,null,null,null,"Individual",null,"Small Group",null,"Large Group",null,"Individual",null,"Small Group",null,"Large Group",null,null,null,null,null,null,"PROD Range 322***","PROD Range 150***","PROD Range 204***","PROD Range 203***","PROD Range 112/113***","PROD 202080","PROD 106410",null,null,"UHC Dom.\nStand Alone Dent\nBlank Cust","UHC Dom.\nStand Alone Dent\nNot Comp Health","UHC International\nStand Alone Dent\nMLR Customer","Optum\nStand Alone Dent\nMLR Customer","Elims Mkt Grp\nStand Alone Dent\nMLR Customer","Corp Mkt Grp\nStand Alone Dent\nMLR Customer","Non-UHG\nStand Alone Dent\nMLR Customer","Other\nDifferences","All OUs \np306156 \nMLR Customers","All OUs \np305402 \nMLR Customers","All OUs \np430083 \nMLR Customers","All OUs \np430084 \nMLR Customers","All OUs \np430087 \nMLR Customers","All OUs \np430088 \nMLR Customers","All OUs \np430089 \nMLR Customers","OTHER\n(Not in categories to the left)"]
[null,null,null,null,"Total as of ","Total as of ","Total as of ","Total as of ","Total as of ","Total as of ","Total as of ","Total as of ","Total as of ","Total as of ","Total as of ","Total as of ",null,"Total as of ",null,"Total as of ","Total as of ","Total as of ","Total as of ","Total as of ","Total as of ","Total as of ","Total as of ","Total as of ","Total as of ","Total as of ","Total as of ","Total as of ","Total as of ","Total as of ","Total as of ","Total as of ","Total as of ","Total as of ","Total as of ","Total as of ","Total as of ","Total as of ","Total as of ","Total as of ","Total as of ","Total as of ","Total as of ","Total as of ","Total as of "]
[null,null,null,"Part 2\nNOTE: REFER TO MLR INSTRUCTIONS FOR IMPORTANT ",{"$f":"\"12/31/\"&RIGHT('Essbase Input'!$C$17,2)","v":"12/31/22"},{"$f":"\"3/31/\"&RIGHT('Essbase Input'!$C$16,2)","v":"3/31/23"},{"$f":"\"12/31/\"&RIGHT('Essbase Input'!$C$17,2)","v":"12/31/22"},{"$f":"\"3/31/\"&RIGHT('Essbase Input'!$C$16,2)","v":"3/31/23"},{"$f":"\"12/31/\"&RIGHT('Essbase Input'!$C$17,2)","v":"12/31/22"},{"$f":"\"3/31/\"&RIGHT('Essbase Input'!$C$16,2)","v":"3/31/23"},{"$f":"\"12/31/\"&RIGHT('Essbase Input'!$C$17,2)","v":"12/31/22"},{"$f":"\"3/31/\"&RIGHT('Essbase Input'!$C$16,2)","v":"3/31/23"},{"$f":"\"12/31/\"&RIGHT('Essbase Input'!$C$17,2)","v":"12/31/22"},{"$f":"\"3/31/\"&RIGHT('Essbase Input'!$C$16,2)","v":"3/31/23"},{"$f":"\"12/31/\"&RIGHT('Essbase Input'!$C$17,2)","v":"12/31/22"},{"$f":"\"3/31/\"&RIGHT('Essbase Input'!$C$16,2)","v":"3/31/23"},null,{"$f":"\"12/31/\"&RIGHT('Essbase Input'!$C$17,2)","v":"12/31/22"},null,{"$f":"\"12/31/\"&RIGHT('Essbase Input'!$C$17,2)","v":"12/31/22"},{"$f":"\"12/31/\"&RIGHT('Essbase Input'!$C$17,2)","v":"12/31/22"},{"$f":"\"12/31/\"&RIGHT('Essbase Input'!$C$17,2)","v":"12/31/22"},{"$f":"\"12/31/\"&RIGHT('Essbase Input'!$C$17,2)","v":"12/31/22"},{"$f":"\"12/31/\"&RIGHT('Essbase Input'!$C$17,2)","v":"12/31/22"},{"$f":"\"12/31/\"&RIGHT('Essbase Input'!$C$17,2)","v":"12/31/22"},{"$f":"\"12/31/\"&RIGHT('Essbase Input'!$C$17,2)","v":"12/31/22"},{"$f":"\"12/31/\"&RIGHT('Essbase Input'!$C$17,2)","v":"12/31/22"},{"$f":"\"12/31/\"&RIGHT('Essbase Input'!$C$17,2)","v":"12/31/22"},{"$f":"\"12/31/\"&RIGHT('Essbase Input'!$C$17,2)","v":"12/31/22"},{"$f":"\"12/31/\"&RIGHT('Essbase Input'!$C$17,2)","v":"12/31/22"},{"$f":"\"12/31/\"&RIGHT('Essbase Input'!$C$17,2)","v":"12/31/22"},{"$f":"\"12/31/\"&RIGHT('Essbase Input'!$C$17,2)","v":"12/31/22"},{"$f":"\"12/31/\"&RIGHT('Essbase Input'!$C$17,2)","v":"12/31/22"},{"$f":"\"12/31/\"&RIGHT('Essbase Input'!$C$17,2)","v":"12/31/22"},{"$f":"\"12/31/\"&RIGHT('Essbase Input'!$C$17,2)","v":"12/31/22"},{"$f":"\"12/31/\"&RIGHT('Essbase Input'!$C$17,2)","v":"12/31/22"},{"$f":"\"12/31/\"&RIGHT('Essbase Input'!$C$17,2)","v":"12/31/22"},{"$f":"\"12/31/\"&RIGHT('Essbase Input'!$C$17,2)","v":"12/31/22"},{"$f":"\"12/31/\"&RIGHT('Essbase Input'!$C$17,2)","v":"12/31/22"},{"$f":"\"12/31/\"&RIGHT('Essbase Input'!$C$17,2)","v":"12/31/22"},{"$f":"\"12/31/\"&RIGHT('Essbase Input'!$C$17,2)","v":"12/31/22"},{"$f":"\"12/31/\"&RIGHT('Essbase Input'!$C$17,2)","v":"12/31/22"},{"$f":"\"12/31/\"&RIGHT('Essbase Input'!$C$17,2)","v":"12/31/22"},{"$f":"\"12/31/\"&RIGHT('Essbase Input'!$C$17,2)","v":"12/31/22"},{"$f":"\"12/31/\"&RIGHT('Essbase Input'!$C$17,2)","v":"12/31/22"},{"$f":"\"12/31/\"&RIGHT('Essbase Input'!$C$17,2)","v":"12/31/22"},{"$f":"\"12/31/\"&RIGHT('Essbase Input'!$C$17,2)","v":"12/31/22"},{"$f":"\"12/31/\"&RIGHT('Essbase Input'!$C$17,2)","v":"12/31/22"},{"$f":"\"12/31/\"&RIGHT('Essbase Input'!$C$17,2)","v":"12/31/22"}]
[null,null,null,"INFORMATION ABOUT COMPLETING EACH COLUMN AND ROW.",1,2,3,4,5,6,7,8,9,10,11,12]
[null,"1.","Premium:"]
[null,null,1.1000000000000001,"Direct premium written",{"$f":"IF(VLOOKUP('Essbase Input'!$C$8,Tables!$B$4:$F$16,5,FALSE)=\"DPPO\",\"\",-'EB PT 2'!K12-E23+E24+E25)","v":""},{"$f":"IF(VLOOKUP('Essbase Input'!$C$8,Tables!$B$4:$F$16,5,FALSE)=\"DPPO\",\"\",-'EB PT 2'!K13-'EB PT 2'!L14-F23+F24+F25)","v":""},{"$f":"IF(VLOOKUP('Essbase Input'!$C$8,Tables!$B$4:$F$16,5,FALSE)=\"DPPO\",\"\",-'EB PT 2'!M12-G23+G24+G25)","v":""},{"$f":"IF(VLOOKUP('Essbase Input'!$C$8,Tables!$B$4:$F$16,5,FALSE)=\"DPPO\",\"\",-'EB PT 2'!M13-'EB PT 2'!N14-H23+H24+H25)","v":""},{"$f":"IF(VLOOKUP('Essbase Input'!$C$8,Tables!$B$4:$F$16,5,FALSE)=\"DPPO\",\"\",-'EB PT 2'!O12-I23+I24+I25)","v":""},{"$f":"IF(VLOOKUP('Essbase Input'!$C$8,Tables!$B$4:$F$16,5,FALSE)=\"DPPO\",\"\",-'EB PT 2'!O13-'EB PT 2'!P14-J23+J24+J25)","v":""},{"$f":"IF(VLOOKUP('Essbase Input'!$C$8,Tables!$B$4:$F$16,5,FALSE)=\"DHMO\",\"\",IF(OR('Essbase Input'!$C$8=\"Golden Rule Insurance Company\",'Essbase Input'!$C$8=\"UnitedHealthcare Life Ins Co\",'Essbase Input'!$C$8=\"Mid-West Nat Life Ins Co of TN\",'Essbase Input'!$C$8=\"The Chesapeake Life Ins. Co.\"),-'EB PT 2'!Q12-K23+K24+K25,-'EB PT 2'!K12-K23+K24+K25))","v":145317.48000000004},{"$f":"IF(VLOOKUP('Essbase Input'!$C$8,Tables!$B$4:$F$16,5,FALSE)=\"DHMO\",\"\",IF(OR('Essbase Input'!$C$8=\"Golden Rule Insurance Company\",'Essbase Input'!$C$8=\"UnitedHealthcare Life Ins Co\",'Essbase Input'!$C$8=\"Mid-West Nat Life Ins Co of TN\",'Essbase Input'!$C$8=\"The Chesapeake Life Ins. Co.\"),-'EB PT 2'!Q13-'EB PT 2'!R14-L23+L24+L25,-'EB PT 2'!K13-'EB PT 2'!L14-L23+L24+L25))","v":145020.52000000002},{"$f":"IF(VLOOKUP('Essbase Input'!$C$8,Tables!$B$4:$F$16,5,FALSE)=\"DHMO\",\"\",IF(OR('Essbase Input'!$C$8=\"Golden Rule Insurance Company\",'Essbase Input'!$C$8=\"UnitedHealthcare Life Ins Co\",'Essbase Input'!$C$8=\"Mid-West Nat Life Ins Co of TN\",'Essbase Input'!$C$8=\"The Chesapeake Life Ins. Co.\"),\"\",-'EB PT 2'!M12-M23+M24+M25))","v":""},{"$f":"IF(VLOOKUP('Essbase Input'!$C$8,Tables!$B$4:$F$16,5,FALSE)=\"DHMO\",\"\",IF(OR('Essbase Input'!$C$8=\"Golden Rule Insurance Company\",'Essbase Input'!$C$8=\"UnitedHealthcare Life Ins Co\",'Essbase Input'!$C$8=\"Mid-West Nat Life Ins Co of TN\",'Essbase Input'!$C$8=\"The Chesapeake Life Ins. Co.\"),\"\",-'EB PT 2'!M13-'EB PT 2'!N14-N23+N24+N25))","v":""},{"$f":"IF(VLOOKUP('Essbase Input'!$C$8,Tables!$B$4:$F$16,5,FALSE)=\"DHMO\",\"\",IF(OR('Essbase Input'!$C$8=\"Golden Rule Insurance Company\",'Essbase Input'!$C$8=\"UnitedHealthcare Life Ins Co\",'Essbase Input'!$C$8=\"Mid-West Nat Life Ins Co of TN\",'Essbase Input'!$C$8=\"The Chesapeake Life Ins. Co.\"),\"\",-'EB PT 2'!O12-O23+O24+O25))","v":""},{"$f":"IF(VLOOKUP('Essbase Input'!$C$8,Tables!$B$4:$F$16,5,FALSE)=\"DHMO\",\"\",IF(OR('Essbase Input'!$C$8=\"Golden Rule Insurance Company\",'Essbase Input'!$C$8=\"UnitedHealthcare Life Ins Co\",'Essbase Input'!$C$8=\"Mid-West Nat Life Ins Co of TN\",'Essbase Input'!$C$8=\"The Chesapeake Life Ins. Co.\"),\"\",-'EB PT 2'!O13-'EB PT 2'!P14-P23+P24+P25))","v":""},null,{"$f":"IF(O22=\"\",0,O22)+IF(M22=\"\",0,M22)+IF(K22=\"\",0,K22)+IF(I22=\"\",0,I22)+IF(G22=\"\",0,G22)+IF(E22=\"\",0,E22)","v":145317.48000000004},null,{"$f":"-'EB PT 2'!S12-T23+T24+T25","v":10887.94},{"$f":"-'EB PT 2'!T12-U23+U24+U25","v":0},{"$f":"(-'EB PT 2'!U12-'EB PT 2'!V12-'EB PT 2'!W12)-V23+V24+V25","v":0},{"$f":"(-'EB PT 2'!Y12-'EB PT 2'!Z12-'EB PT 2'!X12-'EB PT 2'!AA12)-W23+W24+W25","v":0},{"$f":"(-'EB PT 2'!AC12-'EB PT 2'!AD12-'EB PT 2'!AE12-'EB PT 2'!AB12)-X23+X24+X25","v":0},{"$f":"(-'EB PT 2'!AG12-'EB PT 2'!AH12-'EB PT 2'!AF12-'EB PT 2'!AI12)-Y23+Y24+Y25","v":0},{"$f":"(-'EB PT 2'!AK12-'EB PT 2'!AJ12)-Z23+Z24+Z25","v":0},{"$f":"-'EB PT 2'!AL12-AA23+AA24+AA25","v":0},{"$f":"-'EB PT 2'!AM12-AB23+AB24+AB25","v":0},{"$f":"-'EB PT 2'!AN12+SUM('EB PT 2'!U12:AM12)-AC23+AC24+AC25","v":0},{"$f":"SUM(V22:AC22)","v":0},{"$f":"-'EB PT 2'!AO12-AE23+AE24+AE25","v":0},{"$f":"-'EB PT 2'!AP12-AF23+AF24+AF25","v":145317.48000000004},{"$f":"-'EB PT 2'!AQ12-AG23+AG24+AG25","v":0},{"$f":"-'EB PT 2'!AR12-AH23+AH24+AH25","v":0},{"$f":"-'EB PT 2'!AS12-AI23+AI24+AI25","v":0},{"$f":"-'EB PT 2'!AT12-AJ23+AJ24+AJ25","v":0},{"$f":"-'EB PT 2'!AU12-AK23+AK24+AK25","v":0},{"$f":"SUM(AE22:AK22)","v":145317.48000000004},{"$f":"-'EB PT 2'!AV12-AM23+AM24+AM25","v":0},{"$f":"-'EB PT 2'!AW12-AN23+AN24+AN25","v":0},{"$f":"-'EB PT 2'!AX12-AO23+AO24+AO25","v":0},{"$f":"-'EB PT 2'!AY12-AP23+AP24+AP25","v":0},{"$f":"-'EB PT 2'!AZ12-AQ23+AQ24+AQ25","v":0},{"$f":"-'EB PT 2'!BA12-AR23+AR24+AR25","v":0},{"$f":"-'EB PT 2'!BB12-AS23+AS24+AS25","v":0},{"$f":"SUM(AM22:AS22)","v":0},{"$f":"IF(OR('Essbase Input'!$C$8=\"Golden Rule Insurance Company\",'Essbase Input'!$C$8=\"UnitedHealthcare Life Ins Co\",'Essbase Input'!$C$8=\"Mid-West Nat Life Ins Co of TN\",'Essbase Input'!$C$8=\"The Chesapeake Life Ins. Co.\"),SUM(R22:U22,AD22,AT22),IF('Essbase Input'!$C$8=\"Dental Benefit Prov CA Inc\",SUM(R22:U22,AD22,AE22:AF22,AT22),SUM(R22:U22,AD22,AL22,AT22)))","v":156205.42000000004},{"$f":"-'EB PT 2'!BD12-AV23+AV24+AV25","v":156205.42000000001},{"$f":"AU22-AV22","v":0},"Pt 2, Ln 1.1"]
[null,null,1.2,"Unearned premium prior year",{"$f":"IF(VLOOKUP('Essbase Input'!$C$8,Tables!$B$4:$F$16,5,FALSE)=\"DPPO\",\"\",-'EB PT 2'!K15)","v":""},{"$f":"IF(VLOOKUP('Essbase Input'!$C$8,Tables!$B$4:$F$16,5,FALSE)=\"DPPO\",\"\",0)","v":""},{"$f":"IF(VLOOKUP('Essbase Input'!$C$8,Tables!$B$4:$F$16,5,FALSE)=\"DPPO\",\"\",-'EB PT 2'!M15)","v":""},{"$f":"IF(VLOOKUP('Essbase Input'!$C$8,Tables!$B$4:$F$16,5,FALSE)=\"DPPO\",\"\",0)","v":""},{"$f":"IF(VLOOKUP('Essbase Input'!$C$8,Tables!$B$4:$F$16,5,FALSE)=\"DPPO\",\"\",-'EB PT 2'!O15)","v":""},{"$f":"IF(VLOOKUP('Essbase Input'!$C$8,Tables!$B$4:$F$16,5,FALSE)=\"DPPO\",\"\",0)","v":""},{"$f":"IF(VLOOKUP('Essbase Input'!$C$8,Tables!$B$4:$F$16,5,FALSE)=\"DHMO\",\"\",IF(OR('Essbase Input'!$C$8=\"Golden Rule Insurance Company\",'Essbase Input'!$C$8=\"UnitedHealthcare Life Ins Co\",'Essbase Input'!$C$8=\"Mid-West Nat Life Ins Co of TN\",'Essbase Input'!$C$8=\"The Chesapeake Life Ins. Co.\"),-'EB PT 2'!Q15,-'EB PT 2'!K15))","v":0},{"$f":"IF(VLOOKUP('Essbase Input'!$C$8,Tables!$B$4:$F$16,5,FALSE)=\"DHMO\",\"\",0)","v":0},{"$f":"IF(VLOOKUP('Essbase Input'!$C$8,Tables!$B$4:$F$16,5,FALSE)=\"DHMO\",\"\",IF(OR('Essbase Input'!$C$8=\"Golden Rule Insurance Company\",'Essbase Input'!$C$8=\"UnitedHealthcare Life Ins Co\",'Essbase Input'!$C$8=\"Mid-West Nat Life Ins Co of TN\",'Essbase Input'!$C$8=\"The Chesapeake Life Ins. Co.\"),\"\",-'EB PT 2'!M15))","v":""},{"$f":"IF(VLOOKUP('Essbase Input'!$C$8,Tables!$B$4:$F$16,5,FALSE)=\"DHMO\",\"\",0)","v":0},{"$f":"IF(VLOOKUP('Essbase Input'!$C$8,Tables!$B$4:$F$16,5,FALSE)=\"DHMO\",\"\",IF(OR('Essbase Input'!$C$8=\"Golden Rule Insurance Company\",'Essbase Input'!$C$8=\"UnitedHealthcare Life Ins Co\",'Essbase Input'!$C$8=\"Mid-West Nat Life Ins Co of TN\",'Essbase Input'!$C$8=\"The Chesapeake Life Ins. Co.\"),\"\",-'EB PT 2'!O15))","v":""},{"$f":"IF(VLOOKUP('Essbase Input'!$C$8,Tables!$B$4:$F$16,5,FALSE)=\"DHMO\",\"\",0)","v":0},null,{"$f":"IF(O23=\"\",0,O23)+IF(M23=\"\",0,M23)+IF(K23=\"\",0,K23)+IF(I23=\"\",0,I23)+IF(G23=\"\",0,G23)+IF(E23=\"\",0,E23)","v":0},null,{"$f":"-'EB PT 2'!S15","v":0},{"$f":"-'EB PT 2'!T15","v":0},{"$f":"-'EB PT 2'!U15-'EB PT 2'!V15-'EB PT 2'!W15","v":0},{"$f":"-'EB PT 2'!Y15-'EB PT 2'!Z15-'EB PT 2'!X15-'EB PT 2'!AA15","v":0},{"$f":"-'EB PT 2'!AC15-'EB PT 2'!AD15-'EB PT 2'!AE15-'EB PT 2'!AB15","v":0},{"$f":"-'EB PT 2'!AF15-'EB PT 2'!AG15-'EB PT 2'!AH15-'EB PT 2'!AI15","v":0},{"$f":"-'EB PT 2'!AK15-'EB PT 2'!AJ15","v":0},{"$f":"-'EB PT 2'!AL15","v":0},{"$f":"-'EB PT 2'!AM15","v":0},{"$f":"-'EB PT 2'!AN15-SUM(V23:AB23)","v":0},{"$f":"SUM(V23:AC23)","v":0},{"$f":"-'EB PT 2'!AO15","v":0},{"$f":"-'EB PT 2'!AP15","v":0},{"$f":"-'EB PT 2'!AQ15","v":0},{"$f":"-'EB PT 2'!AR15","v":0},{"$f":"-'EB PT 2'!AS15","v":0},{"$f":"-'EB PT 2'!AT15","v":0},{"$f":"-'EB PT 2'!AU15","v":0},{"$f":"SUM(AE23:AK23)","v":0},{"$f":"-'EB PT 2'!AV15","v":0},{"$f":"-'EB PT 2'!AW15","v":0},{"$f":"-'EB PT 2'!AX15","v":0},{"$f":"-'EB PT 2'!AY15","v":0},{"$f":"-'EB PT 2'!AZ15","v":0},{"$f":"-'EB PT 2'!BA15","v":0},{"$f":"-'EB PT 2'!BB15","v":0},{"$f":"SUM(AM23:AS23)","v":0},{"$f":"IF(OR('Essbase Input'!$C$8=\"Golden Rule Insurance Company\",'Essbase Input'!$C$8=\"UnitedHealthcare Life Ins Co\",'Essbase Input'!$C$8=\"Mid-West Nat Life Ins Co of TN\",'Essbase Input'!$C$8=\"The Chesapeake Life Ins. Co.\"),SUM(R23:U23,AD23,AT23),IF('Essbase Input'!$C$8=\"Dental Benefit Prov CA Inc\",SUM(R23:U23,AD23,AE23:AF23,AT23),SUM(R23:U23,AD23,AL23,AT23)))","v":0},{"$f":"-'EB PT 2'!BD15","v":0},{"$f":"AU23-AV23","v":0},"Pt 2, Ln 1.2"]
[null,null,1.3,"Unearned premium MLR Reporting year",{"$f":"IF(VLOOKUP('Essbase Input'!$C$8,Tables!$B$4:$F$16,5,FALSE)=\"DPPO\",\"\",-'EB PT 2'!K17)","v":""},{"$f":"IF(VLOOKUP('Essbase Input'!$C$8,Tables!$B$4:$F$16,5,FALSE)=\"DPPO\",\"\",0)","v":""},{"$f":"IF(VLOOKUP('Essbase Input'!$C$8,Tables!$B$4:$F$16,5,FALSE)=\"DPPO\",\"\",-'EB PT 2'!M17)","v":""},{"$f":"IF(VLOOKUP('Essbase Input'!$C$8,Tables!$B$4:$F$16,5,FALSE)=\"DPPO\",\"\",0)","v":""},{"$f":"IF(VLOOKUP('Essbase Input'!$C$8,Tables!$B$4:$F$16,5,FALSE)=\"DPPO\",\"\",-'EB PT 2'!O17)","v":""},{"$f":"IF(VLOOKUP('Essbase Input'!$C$8,Tables!$B$4:$F$16,5,FALSE)=\"DPPO\",\"\",0)","v":""},{"$f":"IF(VLOOKUP('Essbase Input'!$C$8,Tables!$B$4:$F$16,5,FALSE)=\"DHMO\",\"\",IF(OR('Essbase Input'!$C$8=\"Golden Rule Insurance Company\",'Essbase Input'!$C$8=\"UnitedHealthcare Life Ins Co\",'Essbase Input'!$C$8=\"Mid-West Nat Life Ins Co of TN\",'Essbase Input'!$C$8=\"The Chesapeake Life Ins. Co.\"),-'EB PT 2'!Q17,-'EB PT 2'!K17))","v":0},{"$f":"IF(VLOOKUP('Essbase Input'!$C$8,Tables!$B$4:$F$16,5,FALSE)=\"DHMO\",\"\",0)","v":0},{"$f":"IF(VLOOKUP('Essbase Input'!$C$8,Tables!$B$4:$F$16,5,FALSE)=\"DHMO\",\"\",IF(OR('Essbase Input'!$C$8=\"Golden Rule Insurance Company\",'Essbase Input'!$C$8=\"UnitedHealthcare Life Ins Co\",'Essbase Input'!$C$8=\"Mid-West Nat Life Ins Co of TN\",'Essbase Input'!$C$8=\"The Chesapeake Life Ins. Co.\"),\"\",-'EB PT 2'!M17))","v":""},{"$f":"IF(VLOOKUP('Essbase Input'!$C$8,Tables!$B$4:$F$16,5,FALSE)=\"DHMO\",\"\",0)","v":0},{"$f":"IF(VLOOKUP('Essbase Input'!$C$8,Tables!$B$4:$F$16,5,FALSE)=\"DHMO\",\"\",IF(OR('Essbase Input'!$C$8=\"Golden Rule Insurance Company\",'Essbase Input'!$C$8=\"UnitedHealthcare Life Ins Co\",'Essbase Input'!$C$8=\"Mid-West Nat Life Ins Co of TN\",'Essbase Input'!$C$8=\"The Chesapeake Life Ins. Co.\"),\"\",-'EB PT 2'!O17))","v":""},{"$f":"IF(VLOOKUP('Essbase Input'!$C$8,Tables!$B$4:$F$16,5,FALSE)=\"DHMO\",\"\",0)","v":0},null,{"$f":"IF(O24=\"\",0,O24)+IF(M24=\"\",0,M24)+IF(K24=\"\",0,K24)+IF(I24=\"\",0,I24)+IF(G24=\"\",0,G24)+IF(E24=\"\",0,E24)","v":0},null,{"$f":"-'EB PT 2'!S17","v":0},{"$f":"-'EB PT 2'!T17","v":0},{"$f":"-'EB PT 2'!U17-'EB PT 2'!V17-'EB PT 2'!W17","v":0},{"$f":"-'EB PT 2'!Y17-'EB PT 2'!Z17-'EB PT 2'!X17-'EB PT 2'!AA17","v":0},{"$f":"-'EB PT 2'!AC17-'EB PT 2'!AD17-'EB PT 2'!AE17-'EB PT 2'!AB17","v":0},{"$f":"-'EB PT 2'!AF17-'EB PT 2'!AG17-'EB PT 2'!AH17-'EB PT 2'!AI17","v":0},{"$f":"-'EB PT 2'!AK17-'EB PT 2'!AJ17","v":0},{"$f":"-'EB PT 2'!AL17","v":0},{"$f":"-'EB PT 2'!AM17","v":0},{"$f":"-'EB PT 2'!AN17-SUM(V24:AB24)","v":0},{"$f":"SUM(V24:AC24)","v":0},{"$f":"-'EB PT 2'!AO17","v":0},{"$f":"-'EB PT 2'!AP17","v":0},{"$f":"-'EB PT 2'!AQ17","v":0},{"$f":"-'EB PT 2'!AR17","v":0},{"$f":"-'EB PT 2'!AS17","v":0},{"$f":"-'EB PT 2'!AT17","v":0},{"$f":"-'EB PT 2'!AU17","v":0},{"$f":"SUM(AE24:AK24)","v":0},{"$f":"-'EB PT 2'!AV17","v":0},{"$f":"-'EB PT 2'!AW17","v":0},{"$f":"-'EB PT 2'!AX17","v":0},{"$f":"-'EB PT 2'!AY17","v":0},{"$f":"-'EB PT 2'!AZ17","v":0},{"$f":"-'EB PT 2'!BA17","v":0},{"$f":"-'EB PT 2'!BB17","v":0},{"$f":"SUM(AM24:AS24)","v":0},{"$f":"IF(OR('Essbase Input'!$C$8=\"Golden Rule Insurance Company\",'Essbase Input'!$C$8=\"UnitedHealthcare Life Ins Co\",'Essbase Input'!$C$8=\"Mid-West Nat Life Ins Co of TN\",'Essbase Input'!$C$8=\"The Chesapeake Life Ins. Co.\"),SUM(R24:U24,AD24,AT24),IF('Essbase Input'!$C$8=\"Dental Benefit Prov CA Inc\",SUM(R24:U24,AD24,AE24:AF24,AT24),SUM(R24:U24,AD24,AL24,AT24)))","v":0},{"$f":"-'EB PT 2'!BD17","v":0},{"$f":"AU24-AV24","v":0},"Pt 2, Ln 1.3"]
[null,null,1.4,"Premium balances written off",{"$f":"IF(VLOOKUP('Essbase Input'!$C$8,Tables!$B$4:$F$16,5,FALSE)=\"DPPO\",\"\",'EB PT 2'!K19)","v":""},{"$f":"IF(VLOOKUP('Essbase Input'!$C$8,Tables!$B$4:$F$16,5,FALSE)=\"DPPO\",\"\",E25)","v":""},{"$f":"IF(VLOOKUP('Essbase Input'!$C$8,Tables!$B$4:$F$16,5,FALSE)=\"DPPO\",\"\",'EB PT 2'!M19)","v":""},{"$f":"IF(VLOOKUP('Essbase Input'!$C$8,Tables!$B$4:$F$16,5,FALSE)=\"DPPO\",\"\",G25)","v":""},{"$f":"IF(VLOOKUP('Essbase Input'!$C$8,Tables!$B$4:$F$16,5,FALSE)=\"DPPO\",\"\",'EB PT 2'!O19)","v":""},{"$f":"IF(VLOOKUP('Essbase Input'!$C$8,Tables!$B$4:$F$16,5,FALSE)=\"DPPO\",\"\",I25)","v":""},{"$f":"IF(VLOOKUP('Essbase Input'!$C$8,Tables!$B$4:$F$16,5,FALSE)=\"DHMO\",\"\",IF(OR('Essbase Input'!$C$8=\"Golden Rule Insurance Company\",'Essbase Input'!$C$8=\"UnitedHealthcare Life Ins Co\",'Essbase Input'!$C$8=\"Mid-West Nat Life Ins Co of TN\",'Essbase Input'!$C$8=\"The Chesapeake Life Ins. Co.\"),'EB PT 2'!Q19,'EB PT 2'!K19))","v":0},{"$f":"IF(VLOOKUP('Essbase Input'!$C$8,Tables!$B$4:$F$16,5,FALSE)=\"DHMO\",\"\",K25)","v":0},{"$f":"IF(VLOOKUP('Essbase Input'!$C$8,Tables!$B$4:$F$16,5,FALSE)=\"DHMO\",\"\",IF(OR('Essbase Input'!$C$8=\"Golden Rule Insurance Company\",'Essbase Input'!$C$8=\"UnitedHealthcare Life Ins Co\",'Essbase Input'!$C$8=\"Mid-West Nat Life Ins Co of TN\",'Essbase Input'!$C$8=\"The Chesapeake Life Ins. Co.\"),\"\",'EB PT 2'!M19))","v":""},{"$f":"IF(VLOOKUP('Essbase Input'!$C$8,Tables!$B$4:$F$16,5,FALSE)=\"DHMO\",\"\",IF(OR('Essbase Input'!$C$8=\"Golden Rule Insurance Company\",'Essbase Input'!$C$8=\"UnitedHealthcare Life Ins Co\",'Essbase Input'!$C$8=\"Mid-West Nat Life Ins Co of TN\",'Essbase Input'!$C$8=\"The Chesapeake Life Ins. Co.\"),\"\",M25))","v":""},{"$f":"IF(VLOOKUP('Essbase Input'!$C$8,Tables!$B$4:$F$16,5,FALSE)=\"DHMO\",\"\",IF(OR('Essbase Input'!$C$8=\"Golden Rule Insurance Company\",'Essbase Input'!$C$8=\"UnitedHealthcare Life Ins Co\",'Essbase Input'!$C$8=\"Mid-West Nat Life Ins Co of TN\",'Essbase Input'!$C$8=\"The Chesapeake Life Ins. Co.\"),\"\",'EB PT 2'!O19))","v":""},{"$f":"IF(VLOOKUP('Essbase Input'!$C$8,Tables!$B$4:$F$16,5,FALSE)=\"DHMO\",\"\",IF(OR('Essbase Input'!$C$8=\"Golden Rule Insurance Company\",'Essbase Input'!$C$8=\"UnitedHealthcare Life Ins Co\",'Essbase Input'!$C$8=\"Mid-West Nat Life Ins Co of TN\",'Essbase Input'!$C$8=\"The Chesapeake Life Ins. Co.\"),\"\",O25))","v":""},null,{"$f":"IF(O25=\"\",0,O25)+IF(M25=\"\",0,M25)+IF(K25=\"\",0,K25)+IF(I25=\"\",0,I25)+IF(G25=\"\",0,G25)+IF(E25=\"\",0,E25)","v":0},null,{"$f":"'EB PT 2'!S19","v":0},{"$f":"'EB PT 2'!T19","v":0},{"$f":"'EB PT 2'!U19+'EB PT 2'!V19+'EB PT 2'!W19","v":0},{"$f":"'EB PT 2'!Y19+'EB PT 2'!Z19+'EB PT 2'!X19+'EB PT 2'!AA19","v":0},{"$f":"'EB PT 2'!AC19+'EB PT 2'!AD19+'EB PT 2'!AE19+'EB PT 2'!AB19","v":0},{"$f":"'EB PT 2'!AF19+'EB PT 2'!AG19+'EB PT 2'!AH19+'EB PT 2'!AI19","v":0},{"$f":"+'EB PT 2'!AK19+'EB PT 2'!AJ19","v":0},{"$f":"+'EB PT 2'!AL19","v":0},{"$f":"+'EB PT 2'!AM19","v":0},{"$f":"'EB PT 2'!AN19-SUM(V25:AB25)","v":0},{"$f":"SUM(V25:AC25)","v":0},{"$f":"'EB PT 2'!AO19","v":0},{"$f":"'EB PT 2'!AP19","v":0},{"$f":"'EB PT 2'!AQ19","v":0},{"$f":"'EB PT 2'!AR19","v":0},{"$f":"'EB PT 2'!AS19","v":0},{"$f":"'EB PT 2'!AT19","v":0},{"$f":"'EB PT 2'!AU19","v":0},{"$f":"SUM(AE25:AK25)","v":0},{"$f":"'EB PT 2'!AV19","v":0},{"$f":"'EB PT 2'!AW19","v":0},{"$f":"'EB PT 2'!AX19","v":0},{"$f":"'EB PT 2'!AY19","v":0},{"$f":"'EB PT 2'!AZ19","v":0},{"$f":"'EB PT 2'!BA19","v":0},{"$f":"'EB PT 2'!BB19","v":0},{"$f":"SUM(AM25:AS25)","v":0},{"$f":"IF(OR('Essbase Input'!$C$8=\"Golden Rule Insurance Company\",'Essbase Input'!$C$8=\"UnitedHealthcare Life Ins Co\",'Essbase Input'!$C$8=\"Mid-West Nat Life Ins Co of TN\",'Essbase Input'!$C$8=\"The Chesapeake Life Ins. Co.\"),SUM(R25:U25,AD25,AT25),IF('Essbase Input'!$C$8=\"Dental Benefit Prov CA Inc\",SUM(R25:U25,AD25,AE25:AF25,AT25),SUM(R25:U25,AD25,AL25,AT25)))","v":0},{"$f":"'EB PT 2'!BD19","v":0},{"$f":"AU25-AV25","v":0},"Pt 2, Ln 1.7"]
[]
[null,"2.","Claims:"]
[null,null,2.1,"Claims Paid"]
[null,null,null,"2.1a  Claims paid during the MLR reporting year regardless of incurred date",{"$f":"IF(VLOOKUP('Essbase Input'!$C$8,Tables!$B$4:$F$16,5,FALSE)=\"DPPO\",\"\",'EB PT 2'!K20-'EB PT 2'!K21-'EB PT 2'!K22-'EB PT 2'!K23-E32+E34-E36+E38-E40-E43+E45-E47-E48+E49-E50)","v":""},null,{"$f":"IF(VLOOKUP('Essbase Input'!$C$8,Tables!$B$4:$F$16,5,FALSE)=\"DPPO\",\"\",'EB PT 2'!M20-'EB PT 2'!M21-'EB PT 2'!M22-'EB PT 2'!M23-G32+G34-G36+G38-G40-G43+G45-G47-G48+G49-G50)","v":""},null,{"$f":"IF(VLOOKUP('Essbase Input'!$C$8,Tables!$B$4:$F$16,5,FALSE)=\"DPPO\",\"\",'EB PT 2'!O20-'EB PT 2'!O21-'EB PT 2'!O22-'EB PT 2'!O23-I32+I34-I36+I38-I40-I43+I45-I47-I48+I49-I50)","v":""},null,{"$f":"IF(VLOOKUP('Essbase Input'!$C$8,Tables!$B$4:$F$16,5,FALSE)=\"DHMO\",\"\",IF(OR('Essbase Input'!$C$8=\"Golden Rule Insurance Company\",'Essbase Input'!$C$8=\"UnitedHealthcare Life Ins Co\",'Essbase Input'!$C$8=\"Mid-West Nat Life Ins Co of TN\",'Essbase Input'!$C$8=\"The Chesapeake Life Ins. Co.\"),'EB PT 2'!Q20-'EB PT 2'!Q21-'EB PT 2'!Q22-'EB PT 2'!Q23-K32+K34-K36+K38-K40-K43+K45-K47-K48+K49-K50,'EB PT 2'!K20-'EB PT 2'!K21-'EB PT 2'!K22-'EB PT 2'!K23-K32+K34-K36+K38-K40-K43+K45-K47-K48+K49-K50))","v":78853.39},null,{"$f":"IF(VLOOKUP('Essbase Input'!$C$8,Tables!$B$4:$F$16,5,FALSE)=\"DHMO\",\"\",IF(OR('Essbase Input'!$C$8=\"Golden Rule Insurance Company\",'Essbase Input'!$C$8=\"UnitedHealthcare Life Ins Co\",'Essbase Input'!$C$8=\"Mid-West Nat Life Ins Co of TN\",'Essbase Input'!$C$8=\"The Chesapeake Life Ins. Co.\"),\"\",'EB PT 2'!M20-'EB PT 2'!M21-'EB PT 2'!M22-'EB PT 2'!M23-M32+M34-M36+M38-M40-M43+M45-M47-M48+M49-M50))","v":""},null,{"$f":"IF(VLOOKUP('Essbase Input'!$C$8,Tables!$B$4:$F$16,5,FALSE)=\"DHMO\",\"\",IF(OR('Essbase Input'!$C$8=\"Golden Rule Insurance Company\",'Essbase Input'!$C$8=\"UnitedHealthcare Life Ins Co\",'Essbase Input'!$C$8=\"Mid-West Nat Life Ins Co of TN\",'Essbase Input'!$C$8=\"The Chesapeake Life Ins. Co.\"),\"\",'EB PT 2'!O20-'EB PT 2'!O21-'EB PT 2'!O22-'EB PT 2'!O23-O32+O34-O36+O38-O40-O43+O45-O47-O48+O49-O50))","v":""},null,null,{"$f":"IF(O29=\"\",0,O29)+IF(M29=\"\",0,M29)+IF(K29=\"\",0,K29)+IF(I29=\"\",0,I29)+IF(G29=\"\",0,G29)+IF(E29=\"\",0,E29)","v":78853.39},null,{"$f":"'EB PT 2'!S20-'EB PT 2'!S21-'EB PT 2'!S22-'EB PT 2'!S23-T32+T34-T36+T38-T40-T43+T45-T47-T48+T49-T50","v":5479.17},{"$f":"'EB PT 2'!T20-'EB PT 2'!T21-'EB PT 2'!T22-'EB PT 2'!T23-U32+U34-U36+U38-U40-U43+U45-U47-U48+U49-U50","v":0},{"$f":"('EB PT 2'!U20-'EB PT 2'!U21-'EB PT 2'!U22-'EB PT 2'!U23)+('EB PT 2'!V20-'EB PT 2'!V21-'EB PT 2'!V22-'EB PT 2'!V23)+('EB PT 2'!W20-'EB PT 2'!W21-'EB PT 2'!W22-'EB PT 2'!W23)-V32+V34-V36+V38-V40-V43+V45-V47-V48+V49-V50","v":0},{"$f":"('EB PT 2'!Y20-'EB PT 2'!Y21-'EB PT 2'!Y22-'EB PT 2'!Y23)+('EB PT 2'!Z20-'EB PT 2'!Z21-'EB PT 2'!Z22-'EB PT 2'!Z23)+('EB PT 2'!X20-'EB PT 2'!X21-'EB PT 2'!X22-'EB PT 2'!X23)+('EB PT 2'!AA20-'EB PT 2'!AA21-'EB PT 2'!AA22-'EB PT 2'!AA23)-W32+W34-W36+W38-W40-W43+W45-W47-W48+W49-W50","v":0},{"$f":"('EB PT 2'!AC20-'EB PT 2'!AC21-'EB PT 2'!AC22-'EB PT 2'!AC23)+('EB PT 2'!AD20-'EB PT 2'!AD21-'EB PT 2'!AD22-'EB PT 2'!AD23)+('EB PT 2'!AE20-'EB PT 2'!AE21-'EB PT 2'!AE22-'EB PT 2'!AE23)+('EB PT 2'!AB20-'EB PT 2'!AB21-'EB PT 2'!AB22-'EB PT 2'!AB23)-X32+X34-X36+X38-X40-X43+X45-X47-X48+X49-X50","v":0},{"$f":"('EB PT 2'!AG20-'EB PT 2'!AG21-'EB PT 2'!AG22-'EB PT 2'!AG23)+('EB PT 2'!AH20-'EB PT 2'!AH21-'EB PT 2'!AH22-'EB PT 2'!AH23)+('EB PT 2'!AF20-'EB PT 2'!AF21-'EB PT 2'!AF22-'EB PT 2'!AF23)+('EB PT 2'!AI20-'EB PT 2'!AI21-'EB PT 2'!AI22-'EB PT 2'!AI23)-Y32+Y34-Y36+Y38-Y40-Y43+Y45-Y47-Y48+Y49-Y50","v":0},{"$f":"+('EB PT 2'!AK20-'EB PT 2'!AK21-'EB PT 2'!AK22-'EB PT 2'!AK23)+('EB PT 2'!AJ20-'EB PT 2'!AJ21-'EB PT 2'!AJ22-'EB PT 2'!AJ23)-Z32+Z34-Z36+Z38-Z40-Z43+Z45-Z47-Z48+Z49-Z50","v":0},{"$f":"+('EB PT 2'!AL20-'EB PT 2'!AL21-'EB PT 2'!AL22-'EB PT 2'!AL23)-AA32+AA34-AA36+AA38-AA40-AA43+AA45-AA47-AA48+AA49-AA50","v":0},{"$f":"+('EB PT 2'!AM20-'EB PT 2'!AM21-'EB PT 2'!AM22-'EB PT 2'!AM23)-AB32+AB34-AB36+AB38-AB40-AB43+AB45-AB47-AB48+AB49-AB50","v":0},{"$f":"'EB PT 2'!AN20-SUM('EB PT 2'!U20:AM20)-'EB PT 2'!AN21-SUM('EB PT 2'!U21:AM21)-'EB PT 2'!AN22-SUM('EB PT 2'!U22:AM22)-'EB PT 2'!AN23-SUM('EB PT 2'!U23:AM23)-AC32+AC34-AC36+AC38-AC40-AC43+AC45-AC47-AC48+AC49-AC50","v":0},{"$f":"SUM(V29:AC29)","v":0},{"$f":"'EB PT 2'!AO20-'EB PT 2'!AO21-'EB PT 2'!AO22-'EB PT 2'!AO23-AE32+AE34-AE36+AE38-AE40-AE43+AE45-AE47-AE48+AE49-AE50","v":0},{"$f":"'EB PT 2'!AP20-'EB PT 2'!AP21-'EB PT 2'!AP22-'EB PT 2'!AP23-AF32+AF34-AF36+AF38-AF40-AF43+AF45-AF47-AF48+AF49-AF50","v":78853.39},{"$f":"'EB PT 2'!AQ20-'EB PT 2'!AQ21-'EB PT 2'!AQ22-'EB PT 2'!AQ23-AG32+AG34-AG36+AG38-AG40-AG43+AG45-AG47-AG48+AG49-AG50","v":0},{"$f":"'EB PT 2'!AR20-'EB PT 2'!AR21-'EB PT 2'!AR22-'EB PT 2'!AR23-AH32+AH34-AH36+AH38-AH40-AH43+AH45-AH47-AH48+AH49-AH50","v":0},{"$f":"'EB PT 2'!AS20-'EB PT 2'!AS21-'EB PT 2'!AS22-'EB PT 2'!AS23-AI32+AI34-AI36+AI38-AI40-AI43+AI45-AI47-AI48+AI49-AI50","v":0},{"$f":"'EB PT 2'!AT20-'EB PT 2'!AT21-'EB PT 2'!AT22-'EB PT 2'!AT23-AJ32+AJ34-AJ36+AJ38-AJ40-AJ43+AJ45-AJ47-AJ48+AJ49-AJ50","v":0},{"$f":"'EB PT 2'!AU20-'EB PT 2'!AU21-'EB PT 2'!AU22-'EB PT 2'!AU23-AK32+AK34-AK36+AK38-AK40-AK43+AK45-AK47-AK48+AK49-AK50","v":0},{"$f":"SUM(AE29:AK29)","v":78853.39},{"$f":"'EB PT 2'!AV20-'EB PT 2'!AV21-'EB PT 2'!AV22-'EB PT 2'!AV23-AM32+AM34-AM36+AM38-AM40-AM43+AM45-AM47-AM48+AM49-AM50","v":0},{"$f":"'EB PT 2'!AW20-'EB PT 2'!AW21-'EB PT 2'!AW22-'EB PT 2'!AW23-AN32+AN34-AN36+AN38-AN40-AN43+AN45-AN47-AN48+AN49-AN50","v":0},{"$f":"'EB PT 2'!AX20-'EB PT 2'!AX21-'EB PT 2'!AX22-'EB PT 2'!AX23-AO32+AO34-AO36+AO38-AO40-AO43+AO45-AO47-AO48+AO49-AO50","v":0},{"$f":"'EB PT 2'!AY20-'EB PT 2'!AY21-'EB PT 2'!AY22-'EB PT 2'!AY23-AP32+AP34-AP36+AP38-AP40-AP43+AP45-AP47-AP48+AP49-AP50","v":0},{"$f":"'EB PT 2'!AZ20-'EB PT 2'!AZ21-'EB PT 2'!AZ22-'EB PT 2'!AZ23-AQ32+AQ34-AQ36+AQ38-AQ40-AQ43+AQ45-AQ47-AQ48+AQ49-AQ50","v":0},{"$f":"'EB PT 2'!BA20-'EB PT 2'!BA21-'EB PT 2'!BA22-'EB PT 2'!BA23-AR32+AR34-AR36+AR38-AR40-AR43+AR45-AR47-AR48+AR49-AR50","v":0},{"$f":"'EB PT 2'!BB20-'EB PT 2'!BB21-'EB PT 2'!BB22-'EB PT 2'!BB23-AS32+AS34-AS36+AS38-AS40-AS43+AS45-AS47-AS48+AS49-AS50","v":0},{"$f":"SUM(AM29:AS29)","v":0},{"$f":"IF(OR('Essbase Input'!$C$8=\"Golden Rule Insurance Company\",'Essbase Input'!$C$8=\"UnitedHealthcare Life Ins Co\",'Essbase Input'!$C$8=\"Mid-West Nat Life Ins Co of TN\",'Essbase Input'!$C$8=\"The Chesapeake Life Ins. Co.\"),SUM(R29:U29,AD29,AT29),IF('Essbase Input'!$C$8=\"Dental Benefit Prov CA Inc\",SUM(R29:U29,AD29,AE29:AF29,AT29),SUM(R29:U29,AD29,AL29,AT29)))","v":84332.56},{"$f":"'EB PT 2'!BD20-'EB PT 2'!BD21-'EB PT 2'!BD22-'EB PT 2'!BD23-AV32+AV34-AV36+AV38-AV40-AV43+AV45-AV47-AV48+AV49-AV50","v":84332.56},{"$f":"AU29-AV29","v":0},"Pt 2, Ln 2.1a"]
[null,null,null,"2.1b  Claims incurred only during the MLR reporting year, paid through 3/31 of the following year",null,{"$f":"IF(VLOOKUP('Essbase Input'!$C$8,Tables!$B$4:$F$16,5,FALSE)=\"DPPO\",\"\",+'EB PT 2'!K24+'EB PT 2'!L25-'EB PT 2'!K26-'EB PT 2'!L27-'EB PT 2'!K28-'EB PT 2'!L29-'EB PT 2'!K30-'EB PT 2'!L31-F33-F37-F41-F44-F47-F48-F50)","v":""},null,{"$f":"IF(VLOOKUP('Essbase Input'!$C$8,Tables!$B$4:$F$16,5,FALSE)=\"DPPO\",\"\",+'EB PT 2'!M24+'EB PT 2'!N25-'EB PT 2'!M26-'EB PT 2'!N27-'EB PT 2'!M28-'EB PT 2'!N29-'EB PT 2'!M30-'EB PT 2'!N31-H33-H37-H41-H44-H47-H48-H50)","v":""},null,{"$f":"IF(VLOOKUP('Essbase Input'!$C$8,Tables!$B$4:$F$16,5,FALSE)=\"DPPO\",\"\",+'EB PT 2'!O24+'EB PT 2'!P25-'EB PT 2'!O26-'EB PT 2'!P27-'EB PT 2'!O28-'EB PT 2'!P29-'EB PT 2'!O30-'EB PT 2'!P31-J33-J37-J41-J44-J47-J48-J50)","v":""},null,{"$f":"IF(VLOOKUP('Essbase Input'!$C$8,Tables!$B$4:$F$16,5,FALSE)=\"DHMO\",\"\",IF(OR('Essbase Input'!$C$8=\"Golden Rule Insurance Company\",'Essbase Input'!$C$8=\"UnitedHealthcare Life Ins Co\",'Essbase Input'!$C$8=\"Mid-West Nat Life Ins Co of TN\",'Essbase Input'!$C$8=\"The Chesapeake Life Ins. Co.\"),+'EB PT 2'!Q24+'EB PT 2'!R25-'EB PT 2'!Q26-'EB PT 2'!R27-'EB PT 2'!Q28-'EB PT 2'!R29-'EB PT 2'!Q30-'EB PT 2'!R31-L33-L37-L41-L44-L47-L48-L50,+'EB PT 2'!K24+'EB PT 2'!L25-'EB PT 2'!K26-'EB PT 2'!L27-'EB PT 2'!K28-'EB PT 2'!L29-'EB PT 2'!K30-'EB PT 2'!L31-L33-L37-L41-L44-L47-L48-L50))","v":80308.19},null,{"$f":"IF(VLOOKUP('Essbase Input'!$C$8,Tables!$B$4:$F$16,5,FALSE)=\"DHMO\",\"\",IF(OR('Essbase Input'!$C$8=\"Golden Rule Insurance Company\",'Essbase Input'!$C$8=\"UnitedHealthcare Life Ins Co\",'Essbase Input'!$C$8=\"Mid-West Nat Life Ins Co of TN\",'Essbase Input'!$C$8=\"The Chesapeake Life Ins. Co.\"),\"\",+'EB PT 2'!M24+'EB PT 2'!N25-'EB PT 2'!M26-'EB PT 2'!N27-'EB PT 2'!M28-'EB PT 2'!N29-'EB PT 2'!M30-'EB PT 2'!N31-N33-N37-N41-N44-N47-N48-N50))","v":""},null,{"$f":"IF(VLOOKUP('Essbase Input'!$C$8,Tables!$B$4:$F$16,5,FALSE)=\"DHMO\",\"\",IF(OR('Essbase Input'!$C$8=\"Golden Rule Insurance Company\",'Essbase Input'!$C$8=\"UnitedHealthcare Life Ins Co\",'Essbase Input'!$C$8=\"Mid-West Nat Life Ins Co of TN\",'Essbase Input'!$C$8=\"The Chesapeake Life Ins. Co.\"),\"\",+'EB PT 2'!O24+'EB PT 2'!P25-'EB PT 2'!O26-'EB PT 2'!P27-'EB PT 2'!O28-'EB PT 2'!P29-'EB PT 2'!O30-'EB PT 2'!P31-P33-P37-P41-P44-P47-P48-P50))","v":""},null,null,null,null,null,null,null,null,null,null,null,null,null,null,null,null,null,null,null,null,null,null,null,null,null,null,null,null,null,null,null,null,null,"Pt 2, Ln 2.1b"]
[null,null,2.2000000000000002,"Direct claim liability"]
[null,null,null,"2.2a Liability as of 12/31 of MLR reporting year for all claims regardless of incurred date",{"$f":"IF(VLOOKUP('Essbase Input'!$C$8,Tables!$B$4:$F$16,5,FALSE)=\"DPPO\",\"\",-'EB PT 2'!K32)","v":""},null,{"$f":"IF(VLOOKUP('Essbase Input'!$C$8,Tables!$B$4:$F$16,5,FALSE)=\"DPPO\",\"\",-'EB PT 2'!M32)","v":""},null,{"$f":"IF(VLOOKUP('Essbase Input'!$C$8,Tables!$B$4:$F$16,5,FALSE)=\"DPPO\",\"\",-'EB PT 2'!O32)","v":""},null,{"$f":"IF(VLOOKUP('Essbase Input'!$C$8,Tables!$B$4:$F$16,5,FALSE)=\"DHMO\",\"\",IF(OR('Essbase Input'!$C$8=\"Golden Rule Insurance Company\",'Essbase Input'!$C$8=\"UnitedHealthcare Life Ins Co\",'Essbase Input'!$C$8=\"Mid-West Nat Life Ins Co of TN\",'Essbase Input'!$C$8=\"The Chesapeake Life Ins. Co.\"),-'EB PT 2'!Q32,-'EB PT 2'!K32))","v":890.12999999999943},null,{"$f":"IF(VLOOKUP('Essbase Input'!$C$8,Tables!$B$4:$F$16,5,FALSE)=\"DHMO\",\"\",IF(OR('Essbase Input'!$C$8=\"Golden Rule Insurance Company\",'Essbase Input'!$C$8=\"UnitedHealthcare Life Ins Co\",'Essbase Input'!$C$8=\"Mid-West Nat Life Ins Co of TN\",'Essbase Input'!$C$8=\"The Chesapeake Life Ins. Co.\"),\"\",-'EB PT 2'!M32))","v":""},null,{"$f":"IF(VLOOKUP('Essbase Input'!$C$8,Tables!$B$4:$F$16,5,FALSE)=\"DHMO\",\"\",IF(OR('Essbase Input'!$C$8=\"Golden Rule Insurance Company\",'Essbase Input'!$C$8=\"UnitedHealthcare Life Ins Co\",'Essbase Input'!$C$8=\"Mid-West Nat Life Ins Co of TN\",'Essbase Input'!$C$8=\"The Chesapeake Life Ins. Co.\"),\"\",-'EB PT 2'!O32))","v":""},null,null,{"$f":"IF(O32=\"\",0,O32)+IF(M32=\"\",0,M32)+IF(K32=\"\",0,K32)+IF(I32=\"\",0,I32)+IF(G32=\"\",0,G32)+IF(E32=\"\",0,E32)","v":890.12999999999943},null,{"$f":"-'EB PT 2'!S32","v":561.96999999999991},{"$f":"-'EB PT 2'!T32","v":0},{"$f":"-'EB PT 2'!U32-'EB PT 2'!V32-'EB PT 2'!W32","v":0},{"$f":"-'EB PT 2'!Y32-'EB PT 2'!Z32-'EB PT 2'!X32-'EB PT 2'!AA32","v":0},{"$f":"-'EB PT 2'!AC32-'EB PT 2'!AD32-'EB PT 2'!AE32-'EB PT 2'!AB32","v":0},{"$f":"-'EB PT 2'!AG32-'EB PT 2'!AH32-'EB PT 2'!AF32-'EB PT 2'!AI32","v":0},{"$f":"-'EB PT 2'!AK32-'EB PT 2'!AJ32","v":0},{"$f":"-'EB PT 2'!AL32","v":0},{"$f":"-'EB PT 2'!AM32","v":0},{"$f":"-'EB PT 2'!AN32-SUM(V32:AB32)","v":0},{"$f":"SUM(V32:AC32)","v":0},{"$f":"-'EB PT 2'!AO32","v":0},{"$f":"-'EB PT 2'!AP32","v":890.12999999999943},{"$f":"-'EB PT 2'!AQ32","v":0},{"$f":"-'EB PT 2'!AR32","v":0},{"$f":"-'EB PT 2'!AS32","v":0},{"$f":"-'EB PT 2'!AT32","v":0},{"$f":"-'EB PT 2'!AU32","v":0},{"$f":"SUM(AE32:AK32)","v":890.12999999999943},{"$f":"-'EB PT 2'!AV32","v":0},{"$f":"-'EB PT 2'!AW32","v":0},{"$f":"-'EB PT 2'!AX32","v":0},{"$f":"-'EB PT 2'!AY32","v":0},{"$f":"-'EB PT 2'!AZ32","v":0},{"$f":"-'EB PT 2'!BA32","v":0},{"$f":"-'EB PT 2'!BB32","v":0},{"$f":"SUM(AM32:AS32)","v":0},{"$f":"IF(OR('Essbase Input'!$C$8=\"Golden Rule Insurance Company\",'Essbase Input'!$C$8=\"UnitedHealthcare Life Ins Co\",'Essbase Input'!$C$8=\"Mid-West Nat Life Ins Co of TN\",'Essbase Input'!$C$8=\"The Chesapeake Life Ins. Co.\"),SUM(R32:U32,AD32,AT32),IF('Essbase Input'!$C$8=\"Dental Benefit Prov CA Inc\",SUM(R32:U32,AD32,AE32:AF32,AT32),SUM(R32:U32,AD32,AL32,AT32)))","v":1452.0999999999995},{"$f":"-'EB PT 2'!BD32","v":1452.0999999999988},{"$f":"AU32-AV32","v":0},"Pt 2, Ln 2.2a"]
[null,null,null,"2.2b Liability for claims incurred only during the MLR reporting year, calculated as of 3/31 of the following year",null,{"$f":"IF(VLOOKUP('Essbase Input'!$C$8,Tables!$B$4:$F$16,5,FALSE)=\"DPPO\",\"\",-'EB PT 2'!L33)","v":""},null,{"$f":"IF(VLOOKUP('Essbase Input'!$C$8,Tables!$B$4:$F$16,5,FALSE)=\"DPPO\",\"\",-'EB PT 2'!N33)","v":""},null,{"$f":"IF(VLOOKUP('Essbase Input'!$C$8,Tables!$B$4:$F$16,5,FALSE)=\"DPPO\",\"\",-'EB PT 2'!P33)","v":""},null,{"$f":"IF(VLOOKUP('Essbase Input'!$C$8,Tables!$B$4:$F$16,5,FALSE)=\"DHMO\",\"\",IF(OR('Essbase Input'!$C$8=\"Golden Rule Insurance Company\",'Essbase Input'!$C$8=\"UnitedHealthcare Life Ins Co\",'Essbase Input'!$C$8=\"Mid-West Nat Life Ins Co of TN\",'Essbase Input'!$C$8=\"The Chesapeake Life Ins. Co.\"),-'EB PT 2'!R33,-'EB PT 2'!L33))","v":-249.09000000000006},null,{"$f":"IF(VLOOKUP('Essbase Input'!$C$8,Tables!$B$4:$F$16,5,FALSE)=\"DHMO\",\"\",IF(OR('Essbase Input'!$C$8=\"Golden Rule Insurance Company\",'Essbase Input'!$C$8=\"UnitedHealthcare Life Ins Co\",'Essbase Input'!$C$8=\"Mid-West Nat Life Ins Co of TN\",'Essbase Input'!$C$8=\"The Chesapeake Life Ins. Co.\"),\"\",-'EB PT 2'!N33))","v":""},null,{"$f":"IF(VLOOKUP('Essbase Input'!$C$8,Tables!$B$4:$F$16,5,FALSE)=\"DHMO\",\"\",IF(OR('Essbase Input'!$C$8=\"Golden Rule Insurance Company\",'Essbase Input'!$C$8=\"UnitedHealthcare Life Ins Co\",'Essbase Input'!$C$8=\"Mid-West Nat Life Ins Co of TN\",'Essbase Input'!$C$8=\"The Chesapeake Life Ins. Co.\"),\"\",-'EB PT 2'!P33))","v":""},null,null,null,null,null,null,null,null,null,null,null,null,null,null,null,null,null,null,null,null,null,null,null,null,null,null,null,null,null,null,null,null,null,"Pt 2, Ln 2.2b"]
[null,null,2.2999999999999998,"Direct claim liability prior year",{"$f":"IF(VLOOKUP('Essbase Input'!$C$8,Tables!$B$4:$F$16,5,FALSE)=\"DPPO\",\"\",-'EB PT 2'!K34)","v":""},null,{"$f":"IF(VLOOKUP('Essbase Input'!$C$8,Tables!$B$4:$F$16,5,FALSE)=\"DPPO\",\"\",-'EB PT 2'!M34)","v":""},null,{"$f":"IF(VLOOKUP('Essbase Input'!$C$8,Tables!$B$4:$F$16,5,FALSE)=\"DPPO\",\"\",-'EB PT 2'!O34)","v":""},null,{"$f":"IF(VLOOKUP('Essbase Input'!$C$8,Tables!$B$4:$F$16,5,FALSE)=\"DHMO\",\"\",IF(OR('Essbase Input'!$C$8=\"Golden Rule Insurance Company\",'Essbase Input'!$C$8=\"UnitedHealthcare Life Ins Co\",'Essbase Input'!$C$8=\"Mid-West Nat Life Ins Co of TN\",'Essbase Input'!$C$8=\"The Chesapeake Life Ins. Co.\"),-'EB PT 2'!Q34,-'EB PT 2'!K34))","v":4012.61},null,{"$f":"IF(VLOOKUP('Essbase Input'!$C$8,Tables!$B$4:$F$16,5,FALSE)=\"DHMO\",\"\",IF(OR('Essbase Input'!$C$8=\"Golden Rule Insurance Company\",'Essbase Input'!$C$8=\"UnitedHealthcare Life Ins Co\",'Essbase Input'!$C$8=\"Mid-West Nat Life Ins Co of TN\",'Essbase Input'!$C$8=\"The Chesapeake Life Ins. Co.\"),\"\",-'EB PT 2'!M34))","v":""},null,{"$f":"IF(VLOOKUP('Essbase Input'!$C$8,Tables!$B$4:$F$16,5,FALSE)=\"DHMO\",\"\",IF(OR('Essbase Input'!$C$8=\"Golden Rule Insurance Company\",'Essbase Input'!$C$8=\"UnitedHealthcare Life Ins Co\",'Essbase Input'!$C$8=\"Mid-West Nat Life Ins Co of TN\",'Essbase Input'!$C$8=\"The Chesapeake Life Ins. Co.\"),\"\",-'EB PT 2'!O34))","v":""},null,null,{"$f":"IF(O34=\"\",0,O34)+IF(M34=\"\",0,M34)+IF(K34=\"\",0,K34)+IF(I34=\"\",0,I34)+IF(G34=\"\",0,G34)+IF(E34=\"\",0,E34)","v":4012.61},null,{"$f":"-'EB PT 2'!S34","v":1373.44},{"$f":"-'EB PT 2'!T34","v":0},{"$f":"-'EB PT 2'!U34-'EB PT 2'!V34-'EB PT 2'!W34","v":0},{"$f":"-'EB PT 2'!Y34-'EB PT 2'!Z34-'EB PT 2'!X34-'EB PT 2'!AA34","v":0},{"$f":"-'EB PT 2'!AC34-'EB PT 2'!AD34-'EB PT 2'!AE34-'EB PT 2'!AB34","v":0},{"$f":"-'EB PT 2'!AG34-'EB PT 2'!AH34-'EB PT 2'!AF34-'EB PT 2'!AI34","v":0},{"$f":"-'EB PT 2'!AK34-'EB PT 2'!AJ34","v":0},{"$f":"-'EB PT 2'!AL34","v":0},{"$f":"-'EB PT 2'!AM34","v":0},{"$f":"-'EB PT 2'!AN34-SUM(V34:AB34)","v":0},{"$f":"SUM(V34:AC34)","v":0},{"$f":"-'EB PT 2'!AO34","v":0},{"$f":"-'EB PT 2'!AP34","v":4012.61},{"$f":"-'EB PT 2'!AQ34","v":0},{"$f":"-'EB PT 2'!AR34","v":0},{"$f":"-'EB PT 2'!AS34","v":0},{"$f":"-'EB PT 2'!AT34","v":0},{"$f":"-'EB PT 2'!AU34","v":0},{"$f":"SUM(AE34:AK34)","v":4012.61},{"$f":"-'EB PT 2'!AV34","v":0},{"$f":"-'EB PT 2'!AW34","v":0},{"$f":"-'EB PT 2'!AX34","v":0},{"$f":"-'EB PT 2'!AY34","v":0},{"$f":"-'EB PT 2'!AZ34","v":0},{"$f":"-'EB PT 2'!BA34","v":0},{"$f":"-'EB PT 2'!BB34","v":0},{"$f":"SUM(AM34:AS34)","v":0},{"$f":"IF(OR('Essbase Input'!$C$8=\"Golden Rule Insurance Company\",'Essbase Input'!$C$8=\"UnitedHealthcare Life Ins Co\",'Essbase Input'!$C$8=\"Mid-West Nat Life Ins Co of TN\",'Essbase Input'!$C$8=\"The Chesapeake Life Ins. Co.\"),SUM(R34:U34,AD34,AT34),IF('Essbase Input'!$C$8=\"Dental Benefit Prov CA Inc\",SUM(R34:U34,AD34,AE34:AF34,AT34),SUM(R34:U34,AD34,AL34,AT34)))","v":5386.05},{"$f":"-'EB PT 2'!BD34","v":5386.05},{"$f":"AU34-AV34","v":0},"Pt 2, Ln 2.3"]
[null,null,2.4,"Direct claim reserves"]
[null,null,null,"2.4a Reserves as of 12/31 of MLR reporting year for all claims regardless of incurred date",{"$f":"IF(VLOOKUP('Essbase Input'!$C$8,Tables!$B$4:$F$16,5,FALSE)=\"DPPO\",\"\",-'EB PT 2'!K35)","v":""},null,{"$f":"IF(VLOOKUP('Essbase Input'!$C$8,Tables!$B$4:$F$16,5,FALSE)=\"DPPO\",\"\",-'EB PT 2'!M35)","v":""},null,{"$f":"IF(VLOOKUP('Essbase Input'!$C$8,Tables!$B$4:$F$16,5,FALSE)=\"DPPO\",\"\",-'EB PT 2'!O35)","v":""},null,{"$f":"IF(VLOOKUP('Essbase Input'!$C$8,Tables!$B$4:$F$16,5,FALSE)=\"DHMO\",\"\",IF(OR('Essbase Input'!$C$8=\"Golden Rule Insurance Company\",'Essbase Input'!$C$8=\"UnitedHealthcare Life Ins Co\",'Essbase Input'!$C$8=\"Mid-West Nat Life Ins Co of TN\",'Essbase Input'!$C$8=\"The Chesapeake Life Ins. Co.\"),-'EB PT 2'!Q35,-'EB PT 2'!K35))","v":0},null,{"$f":"IF(VLOOKUP('Essbase Input'!$C$8,Tables!$B$4:$F$16,5,FALSE)=\"DHMO\",\"\",IF(OR('Essbase Input'!$C$8=\"Golden Rule Insurance Company\",'Essbase Input'!$C$8=\"UnitedHealthcare Life Ins Co\",'Essbase Input'!$C$8=\"Mid-West Nat Life Ins Co of TN\",'Essbase Input'!$C$8=\"The Chesapeake Life Ins. Co.\"),\"\",-'EB PT 2'!M35))","v":""},null,{"$f":"IF(VLOOKUP('Essbase Input'!$C$8,Tables!$B$4:$F$16,5,FALSE)=\"DHMO\",\"\",IF(OR('Essbase Input'!$C$8=\"Golden Rule Insurance Company\",'Essbase Input'!$C$8=\"UnitedHealthcare Life Ins Co\",'Essbase Input'!$C$8=\"Mid-West Nat Life Ins Co of TN\",'Essbase Input'!$C$8=\"The Chesapeake Life Ins. Co.\"),\"\",-'EB PT 2'!O35))","v":""},null,null,{"$f":"IF(O36=\"\",0,O36)+IF(M36=\"\",0,M36)+IF(K36=\"\",0,K36)+IF(I36=\"\",0,I36)+IF(G36=\"\",0,G36)+IF(E36=\"\",0,E36)","v":0},null,{"$f":"-'EB PT 2'!S35","v":0},{"$f":"-'EB PT 2'!T35","v":0},{"$f":"-'EB PT 2'!U35-'EB PT 2'!V35-'EB PT 2'!W35","v":0},{"$f":"-'EB PT 2'!Y35-'EB PT 2'!Z35-'EB PT 2'!X35-'EB PT 2'!AA35","v":0},{"$f":"-'EB PT 2'!AC35-'EB PT 2'!AD35-'EB PT 2'!AE35-'EB PT 2'!AB35","v":0},{"$f":"-'EB PT 2'!AG35-'EB PT 2'!AH35-'EB PT 2'!AF35-'EB PT 2'!AI35","v":0},{"$f":"-'EB PT 2'!AK35-'EB PT 2'!AJ35","v":0},{"$f":"-'EB PT 2'!AL35","v":0},{"$f":"-'EB PT 2'!AM35","v":0},{"$f":"-'EB PT 2'!AN35-SUM(V36:AB36)","v":0},{"$f":"SUM(V36:AC36)","v":0},{"$f":"-'EB PT 2'!AO35","v":0},{"$f":"-'EB PT 2'!AP35","v":0},{"$f":"-'EB PT 2'!AQ35","v":0},{"$f":"-'EB PT 2'!AR35","v":0},{"$f":"-'EB PT 2'!AS35","v":0},{"$f":"-'EB PT 2'!AT35","v":0},{"$f":"-'EB PT 2'!AU35","v":0},{"$f":"SUM(AE36:AK36)","v":0},{"$f":"-'EB PT 2'!AV35","v":0},{"$f":"-'EB PT 2'!AW35","v":0},{"$f":"-'EB PT 2'!AX35","v":0},{"$f":"-'EB PT 2'!AY35","v":0},{"$f":"-'EB PT 2'!AZ35","v":0},{"$f":"-'EB PT 2'!BA35","v":0},{"$f":"-'EB PT 2'!BB35","v":0},{"$f":"SUM(AM36:AS36)","v":0},{"$f":"IF(OR('Essbase Input'!$C$8=\"Golden Rule Insurance Company\",'Essbase Input'!$C$8=\"UnitedHealthcare Life Ins Co\",'Essbase Input'!$C$8=\"Mid-West Nat Life Ins Co of TN\",'Essbase Input'!$C$8=\"The Chesapeake Life Ins. Co.\"),SUM(R36:U36,AD36,AT36),IF('Essbase Input'!$C$8=\"Dental Benefit Prov CA Inc\",SUM(R36:U36,AD36,AE36:AF36,AT36),SUM(R36:U36,AD36,AL36,AT36)))","v":0},{"$f":"-'EB PT 2'!BD35","v":0},{"$f":"AU36-AV36","v":0},"Pt 2, Ln 2.4a"]
[null,null,null,"2.4b Reserves for claims incurred only during the MLR reporting year, calculated as of 3/31 of the following year",null,{"$f":"IF(VLOOKUP('Essbase Input'!$C$8,Tables!$B$4:$F$16,5,FALSE)=\"DPPO\",\"\",-'EB PT 2'!L36)","v":""},null,{"$f":"IF(VLOOKUP('Essbase Input'!$C$8,Tables!$B$4:$F$16,5,FALSE)=\"DPPO\",\"\",-'EB PT 2'!N36)","v":""},null,{"$f":"IF(VLOOKUP('Essbase Input'!$C$8,Tables!$B$4:$F$16,5,FALSE)=\"DPPO\",\"\",-'EB PT 2'!P36)","v":""},null,{"$f":"IF(VLOOKUP('Essbase Input'!$C$8,Tables!$B$4:$F$16,5,FALSE)=\"DHMO\",\"\",IF(OR('Essbase Input'!$C$8=\"Golden Rule Insurance Company\",'Essbase Input'!$C$8=\"UnitedHealthcare Life Ins Co\",'Essbase Input'!$C$8=\"Mid-West Nat Life Ins Co of TN\",'Essbase Input'!$C$8=\"The Chesapeake Life Ins. Co.\"),-'EB PT 2'!R36,-'EB PT 2'!L36))","v":0},null,{"$f":"IF(VLOOKUP('Essbase Input'!$C$8,Tables!$B$4:$F$16,5,FALSE)=\"DHMO\",\"\",IF(OR('Essbase Input'!$C$8=\"Golden Rule Insurance Company\",'Essbase Input'!$C$8=\"UnitedHealthcare Life Ins Co\",'Essbase Input'!$C$8=\"Mid-West Nat Life Ins Co of TN\",'Essbase Input'!$C$8=\"The Chesapeake Life Ins. Co.\"),\"\",-'EB PT 2'!N36))","v":""},null,{"$f":"IF(VLOOKUP('Essbase Input'!$C$8,Tables!$B$4:$F$16,5,FALSE)=\"DHMO\",\"\",IF(OR('Essbase Input'!$C$8=\"Golden Rule Insurance Company\",'Essbase Input'!$C$8=\"UnitedHealthcare Life Ins Co\",'Essbase Input'!$C$8=\"Mid-West Nat Life Ins Co of TN\",'Essbase Input'!$C$8=\"The Chesapeake Life Ins. Co.\"),\"\",-'EB PT 2'!P36))","v":""},null,null,null,null,null,null,null,null,null,null,null,null,null,null,null,null,null,null,null,null,null,null,null,null,null,null,null,null,null,null,null,null,null,"Pt 2, Ln 2.4b"]
[null,null,2.5,"Direct claim reserves prior year",{"$f":"IF(VLOOKUP('Essbase Input'!$C$8,Tables!$B$4:$F$16,5,FALSE)=\"DPPO\",\"\",-'EB PT 2'!K37)","v":""},null,{"$f":"IF(VLOOKUP('Essbase Input'!$C$8,Tables!$B$4:$F$16,5,FALSE)=\"DPPO\",\"\",-'EB PT 2'!M37)","v":""},null,{"$f":"IF(VLOOKUP('Essbase Input'!$C$8,Tables!$B$4:$F$16,5,FALSE)=\"DPPO\",\"\",-'EB PT 2'!O37)","v":""},null,{"$f":"IF(VLOOKUP('Essbase Input'!$C$8,Tables!$B$4:$F$16,5,FALSE)=\"DHMO\",\"\",IF(OR('Essbase Input'!$C$8=\"Golden Rule Insurance Company\",'Essbase Input'!$C$8=\"UnitedHealthcare Life Ins Co\",'Essbase Input'!$C$8=\"Mid-West Nat Life Ins Co of TN\",'Essbase Input'!$C$8=\"The Chesapeake Life Ins. Co.\"),-'EB PT 2'!Q37,-'EB PT 2'!K37))","v":0},null,{"$f":"IF(VLOOKUP('Essbase Input'!$C$8,Tables!$B$4:$F$16,5,FALSE)=\"DHMO\",\"\",IF(OR('Essbase Input'!$C$8=\"Golden Rule Insurance Company\",'Essbase Input'!$C$8=\"UnitedHealthcare Life Ins Co\",'Essbase Input'!$C$8=\"Mid-West Nat Life Ins Co of TN\",'Essbase Input'!$C$8=\"The Chesapeake Life Ins. Co.\"),\"\",-'EB PT 2'!M37))","v":""},null,{"$f":"IF(VLOOKUP('Essbase Input'!$C$8,Tables!$B$4:$F$16,5,FALSE)=\"DHMO\",\"\",IF(OR('Essbase Input'!$C$8=\"Golden Rule Insurance Company\",'Essbase Input'!$C$8=\"UnitedHealthcare Life Ins Co\",'Essbase Input'!$C$8=\"Mid-West Nat Life Ins Co of TN\",'Essbase Input'!$C$8=\"The Chesapeake Life Ins. Co.\"),\"\",-'EB PT 2'!O37))","v":""},null,null,{"$f":"IF(O38=\"\",0,O38)+IF(M38=\"\",0,M38)+IF(K38=\"\",0,K38)+IF(I38=\"\",0,I38)+IF(G38=\"\",0,G38)+IF(E38=\"\",0,E38)","v":0},null,{"$f":"-'EB PT 2'!S37","v":0},{"$f":"-'EB PT 2'!T37","v":0},{"$f":"-'EB PT 2'!U37-'EB PT 2'!V37-'EB PT 2'!W37","v":0},{"$f":"-'EB PT 2'!Y37-'EB PT 2'!Z37-'EB PT 2'!X37-'EB PT 2'!AA37","v":0},{"$f":"-'EB PT 2'!AC37-'EB PT 2'!AD37-'EB PT 2'!AE37-'EB PT 2'!AB37","v":0},{"$f":"-'EB PT 2'!AG37-'EB PT 2'!AH37-'EB PT 2'!AF37-'EB PT 2'!AI37","v":0},{"$f":"-'EB PT 2'!AK37-'EB PT 2'!AJ37","v":0},{"$f":"-'EB PT 2'!AL37","v":0},{"$f":"-'EB PT 2'!AM37","v":0},{"$f":"-'EB PT 2'!AN37-SUM(V38:AB38)","v":0},{"$f":"SUM(V38:AC38)","v":0},{"$f":"-'EB PT 2'!AO37","v":0},{"$f":"-'EB PT 2'!AP37","v":0},{"$f":"-'EB PT 2'!AQ37","v":0},{"$f":"-'EB PT 2'!AR37","v":0},{"$f":"-'EB PT 2'!AS37","v":0},{"$f":"-'EB PT 2'!AT37","v":0},{"$f":"-'EB PT 2'!AU37","v":0},{"$f":"SUM(AE38:AK38)","v":0},{"$f":"-'EB PT 2'!AV37","v":0},{"$f":"-'EB PT 2'!AW37","v":0},{"$f":"-'EB PT 2'!AX37","v":0},{"$f":"-'EB PT 2'!AY37","v":0},{"$f":"-'EB PT 2'!AZ37","v":0},{"$f":"-'EB PT 2'!BA37","v":0},{"$f":"-'EB PT 2'!BB37","v":0},{"$f":"SUM(AM38:AS38)","v":0},{"$f":"IF(OR('Essbase Input'!$C$8=\"Golden Rule Insurance Company\",'Essbase Input'!$C$8=\"UnitedHealthcare Life Ins Co\",'Essbase Input'!$C$8=\"Mid-West Nat Life Ins Co of TN\",'Essbase Input'!$C$8=\"The Chesapeake Life Ins. Co.\"),SUM(R38:U38,AD38,AT38),IF('Essbase Input'!$C$8=\"Dental Benefit Prov CA Inc\",SUM(R38:U38,AD38,AE38:AF38,AT38),SUM(R38:U38,AD38,AL38,AT38)))","v":0},{"$f":"-'EB PT 2'!BD37","v":0},{"$f":"AU38-AV38","v":0},"Pt 2, Ln 2.5"]
[null,null,2.6,"Experience rating refunds (rate credits) paid"]
[null,null,null,"2.6a Experience rating refunds, with all incurred dates, paid in the MLR reporting year",{"$f":"IF(VLOOKUP('Essbase Input'!$C$8,Tables!$B$4:$F$16,5,FALSE)=\"DPPO\",\"\",'EB PT 2'!K38-(-'EB PT 2'!K39+'EB PT 2'!K40-(-'EB PT 2'!K41+'EB PT 2'!K42)))","v":""},null,{"$f":"IF(VLOOKUP('Essbase Input'!$C$8,Tables!$B$4:$F$16,5,FALSE)=\"DPPO\",\"\",'EB PT 2'!M38-(-'EB PT 2'!M39+'EB PT 2'!M40-(-'EB PT 2'!M41+'EB PT 2'!M42)))","v":""},null,{"$f":"IF(VLOOKUP('Essbase Input'!$C$8,Tables!$B$4:$F$16,5,FALSE)=\"DPPO\",\"\",'EB PT 2'!O38-(-'EB PT 2'!O39+'EB PT 2'!O40-(-'EB PT 2'!O41+'EB PT 2'!O42)))","v":""},null,{"$f":"IF(VLOOKUP('Essbase Input'!$C$8,Tables!$B$4:$F$16,5,FALSE)=\"DHMO\",\"\",IF(OR('Essbase Input'!$C$8=\"Golden Rule Insurance Company\",'Essbase Input'!$C$8=\"UnitedHealthcare Life Ins Co\",'Essbase Input'!$C$8=\"Mid-West Nat Life Ins Co of TN\",'Essbase Input'!$C$8=\"The Chesapeake Life Ins. Co.\"),'EB PT 2'!Q38-(-'EB PT 2'!K39+'EB PT 2'!Q40-(-'EB PT 2'!Q41+'EB PT 2'!Q42)),'EB PT 2'!K38-(-'EB PT 2'!K39+'EB PT 2'!K40-(-'EB PT 2'!K41+'EB PT 2'!K42))))","v":0},null,{"$f":"IF(VLOOKUP('Essbase Input'!$C$8,Tables!$B$4:$F$16,5,FALSE)=\"DHMO\",\"\",IF(OR('Essbase Input'!$C$8=\"Golden Rule Insurance Company\",'Essbase Input'!$C$8=\"UnitedHealthcare Life Ins Co\",'Essbase Input'!$C$8=\"Mid-West Nat Life Ins Co of TN\",'Essbase Input'!$C$8=\"The Chesapeake Life Ins. Co.\"),\"\",'EB PT 2'!M38-(-'EB PT 2'!M39+'EB PT 2'!M40-(-'EB PT 2'!M41+'EB PT 2'!M42))))","v":""},null,{"$f":"IF(VLOOKUP('Essbase Input'!$C$8,Tables!$B$4:$F$16,5,FALSE)=\"DHMO\",\"\",IF(OR('Essbase Input'!$C$8=\"Golden Rule Insurance Company\",'Essbase Input'!$C$8=\"UnitedHealthcare Life Ins Co\",'Essbase Input'!$C$8=\"Mid-West Nat Life Ins Co of TN\",'Essbase Input'!$C$8=\"The Chesapeake Life Ins. Co.\"),\"\",'EB PT 2'!O38-(-'EB PT 2'!O39+'EB PT 2'!O40-(-'EB PT 2'!O41+'EB PT 2'!O42))))","v":""},null,null,{"$f":"IF(O40=\"\",0,O40)+IF(M40=\"\",0,M40)+IF(K40=\"\",0,K40)+IF(I40=\"\",0,I40)+IF(G40=\"\",0,G40)+IF(E40=\"\",0,E40)","v":0},null,{"$f":"'EB PT 2'!S43-(-'EB PT 2'!S39+'EB PT 2'!S40-(-'EB PT 2'!S41+'EB PT 2'!S42))","v":0},{"$f":"'EB PT 2'!T43-(-'EB PT 2'!T39+'EB PT 2'!T40-(-'EB PT 2'!T41+'EB PT 2'!T42))","v":0},{"$f":"('EB PT 2'!U43-(-'EB PT 2'!U39+'EB PT 2'!U40-(-'EB PT 2'!U41+'EB PT 2'!U42)))+('EB PT 2'!V43-(-'EB PT 2'!V39+'EB PT 2'!V40-(-'EB PT 2'!V41+'EB PT 2'!V42)))+('EB PT 2'!W43-(-'EB PT 2'!W39+'EB PT 2'!W40-(-'EB PT 2'!W41+'EB PT 2'!W42)))","v":0},{"$f":"('EB PT 2'!Y43-(-'EB PT 2'!Y39+'EB PT 2'!Y40-(-'EB PT 2'!Y41+'EB PT 2'!Y42)))+('EB PT 2'!Z43-(-'EB PT 2'!Z39+'EB PT 2'!Z40-(-'EB PT 2'!Z41+'EB PT 2'!Z42)))+('EB PT 2'!X43-(-'EB PT 2'!X39+'EB PT 2'!X40-(-'EB PT 2'!X41+'EB PT 2'!X42)))+('EB PT 2'!AA43-(-'EB PT 2'!AA39+'EB PT 2'!AA40-(-'EB PT 2'!AA41+'EB PT 2'!AA42)))","v":0},{"$f":"('EB PT 2'!AC43-(-'EB PT 2'!AC39+'EB PT 2'!AC40-(-'EB PT 2'!AC41+'EB PT 2'!AC42)))+('EB PT 2'!AD43-(-'EB PT 2'!AD39+'EB PT 2'!AD40-(-'EB PT 2'!AD41+'EB PT 2'!AD42)))+('EB PT 2'!AE43-(-'EB PT 2'!AE39+'EB PT 2'!AE40-(-'EB PT 2'!AE41+'EB PT 2'!AE42)))+('EB PT 2'!AB43-(-'EB PT 2'!AB39+'EB PT 2'!AB40-(-'EB PT 2'!AB41+'EB PT 2'!AB42)))","v":0},{"$f":"('EB PT 2'!AG43-(-'EB PT 2'!AG39+'EB PT 2'!AG40-(-'EB PT 2'!AG41+'EB PT 2'!AG42)))+('EB PT 2'!AH43-(-'EB PT 2'!AH39+'EB PT 2'!AH40-(-'EB PT 2'!AH41+'EB PT 2'!AH42)))+('EB PT 2'!AF43-(-'EB PT 2'!AF39+'EB PT 2'!AF40-(-'EB PT 2'!AF41+'EB PT 2'!AF42)))+('EB PT 2'!AI43-(-'EB PT 2'!AI39+'EB PT 2'!AI40-(-'EB PT 2'!AI41+'EB PT 2'!AI42)))","v":0},{"$f":"+('EB PT 2'!AK43-(-'EB PT 2'!AK39+'EB PT 2'!AK40-(-'EB PT 2'!AK41+'EB PT 2'!AK42)))+('EB PT 2'!AJ43-(-'EB PT 2'!AJ39+'EB PT 2'!AJ40-(-'EB PT 2'!AJ41+'EB PT 2'!AJ42)))","v":0},{"$f":"+'EB PT 2'!AL43-(-'EB PT 2'!AL39+'EB PT 2'!AL40-(-'EB PT 2'!AL41+'EB PT 2'!AL42))","v":0},{"$f":"+'EB PT 2'!AM43-(-'EB PT 2'!AM39+'EB PT 2'!AM40-(-'EB PT 2'!AM41+'EB PT 2'!AM42))","v":0},{"$f":"'EB PT 2'!AN43-(-'EB PT 2'!AN39+'EB PT 2'!AN40-(-'EB PT 2'!AN41+'EB PT 2'!AN42))-SUM(V40:AB40)","v":0},{"$f":"SUM(V40:AC40)","v":0},{"$f":"'EB PT 2'!AO43-(-'EB PT 2'!BE39+'EB PT 2'!BE40-(-'EB PT 2'!BE41+'EB PT 2'!BE42))","v":0},{"$f":"'EB PT 2'!AP43-(-'EB PT 2'!BF39+'EB PT 2'!BF40-(-'EB PT 2'!BF41+'EB PT 2'!BF42))","v":0},{"$f":"'EB PT 2'!AQ43-(-'EB PT 2'!BG39+'EB PT 2'!BG40-(-'EB PT 2'!BG41+'EB PT 2'!BG42))","v":0},{"$f":"'EB PT 2'!AR43-(-'EB PT 2'!BH39+'EB PT 2'!BH40-(-'EB PT 2'!BH41+'EB PT 2'!BH42))","v":0},{"$f":"'EB PT 2'!AS43-(-'EB PT 2'!BI39+'EB PT 2'!BI40-(-'EB PT 2'!BI41+'EB PT 2'!BI42))","v":0},{"$f":"'EB PT 2'!AT43-(-'EB PT 2'!BJ39+'EB PT 2'!BJ40-(-'EB PT 2'!BJ41+'EB PT 2'!BJ42))","v":0},{"$f":"'EB PT 2'!AU43-(-'EB PT 2'!BK39+'EB PT 2'!BK40-(-'EB PT 2'!BK41+'EB PT 2'!BK42))","v":0},{"$f":"SUM(AE40:AK40)","v":0},{"$f":"'EB PT 2'!AV43-(-'EB PT 2'!BL39+'EB PT 2'!BL40-(-'EB PT 2'!BL41+'EB PT 2'!BL42))","v":0},{"$f":"'EB PT 2'!AW43-(-'EB PT 2'!BM39+'EB PT 2'!BM40-(-'EB PT 2'!BM41+'EB PT 2'!BM42))","v":0},{"$f":"'EB PT 2'!AX43-(-'EB PT 2'!BN39+'EB PT 2'!BN40-(-'EB PT 2'!BN41+'EB PT 2'!BN42))","v":0},{"$f":"'EB PT 2'!AY43-(-'EB PT 2'!BO39+'EB PT 2'!BO40-(-'EB PT 2'!BO41+'EB PT 2'!BO42))","v":0},{"$f":"'EB PT 2'!AZ43-(-'EB PT 2'!BP39+'EB PT 2'!BP40-(-'EB PT 2'!BP41+'EB PT 2'!BP42))","v":0},{"$f":"'EB PT 2'!BA43-(-'EB PT 2'!BQ39+'EB PT 2'!BQ40-(-'EB PT 2'!BQ41+'EB PT 2'!BQ42))","v":0},{"$f":"'EB PT 2'!BB43-(-'EB PT 2'!BR39+'EB PT 2'!BR40-(-'EB PT 2'!BR41+'EB PT 2'!BR42))","v":0},{"$f":"SUM(AM40:AS40)","v":0},{"$f":"IF(OR('Essbase Input'!$C$8=\"Golden Rule Insurance Company\",'Essbase Input'!$C$8=\"UnitedHealthcare Life Ins Co\",'Essbase Input'!$C$8=\"Mid-West Nat Life Ins Co of TN\",'Essbase Input'!$C$8=\"The Chesapeake Life Ins. Co.\"),SUM(R40:U40,AD40,AT40),IF('Essbase Input'!$C$8=\"Dental Benefit Prov CA Inc\",SUM(R40:U40,AD40,AE40:AF40,AT40),SUM(R40:U40,AD40,AL40,AT40)))","v":0},{"$f":"'EB PT 2'!BD43-(-'EB PT 2'!BD39+'EB PT 2'!BD40-(-'EB PT 2'!BD41+'EB PT 2'!BD42))","v":0},{"$f":"AU40-AV40","v":0},"Pt 2, Ln 2.8a"]
[null,null,null,"2.6b Experience rating refunds associated with premium earned only in the reporting year and paid through 3/31 of the following year",null,{"$f":"IF(VLOOKUP('Essbase Input'!$C$8,Tables!$B$4:$F$16,5,FALSE)=\"DPPO\",\"\",+'EB PT 2'!K43+'EB PT 2'!L44-(-'EB PT 2'!L45+'EB PT 2'!L46))","v":""},null,{"$f":"IF(VLOOKUP('Essbase Input'!$C$8,Tables!$B$4:$F$16,5,FALSE)=\"DPPO\",\"\",+'EB PT 2'!M43+'EB PT 2'!N44-(-'EB PT 2'!N45+'EB PT 2'!N46))","v":""},null,{"$f":"IF(VLOOKUP('Essbase Input'!$C$8,Tables!$B$4:$F$16,5,FALSE)=\"DPPO\",\"\",+'EB PT 2'!O43+'EB PT 2'!P44-(-'EB PT 2'!P45+'EB PT 2'!P46))","v":""},null,{"$f":"IF(VLOOKUP('Essbase Input'!$C$8,Tables!$B$4:$F$16,5,FALSE)=\"DHMO\",\"\",IF(OR('Essbase Input'!$C$8=\"Golden Rule Insurance Company\",'Essbase Input'!$C$8=\"UnitedHealthcare Life Ins Co\",'Essbase Input'!$C$8=\"Mid-West Nat Life Ins Co of TN\",'Essbase Input'!$C$8=\"The Chesapeake Life Ins. Co.\"),+'EB PT 2'!Q43+'EB PT 2'!R44-(-'EB PT 2'!R45+'EB PT 2'!R46),+'EB PT 2'!K43+'EB PT 2'!L44-(-'EB PT 2'!L45+'EB PT 2'!L46)))","v":0},null,{"$f":"IF(VLOOKUP('Essbase Input'!$C$8,Tables!$B$4:$F$16,5,FALSE)=\"DHMO\",\"\",IF(OR('Essbase Input'!$C$8=\"Golden Rule Insurance Company\",'Essbase Input'!$C$8=\"UnitedHealthcare Life Ins Co\",'Essbase Input'!$C$8=\"Mid-West Nat Life Ins Co of TN\",'Essbase Input'!$C$8=\"The Chesapeake Life Ins. Co.\"),\"\",+'EB PT 2'!M43+'EB PT 2'!N44-(-'EB PT 2'!N45+'EB PT 2'!N46)))","v":""},null,{"$f":"IF(VLOOKUP('Essbase Input'!$C$8,Tables!$B$4:$F$16,5,FALSE)=\"DHMO\",\"\",IF(OR('Essbase Input'!$C$8=\"Golden Rule Insurance Company\",'Essbase Input'!$C$8=\"UnitedHealthcare Life Ins Co\",'Essbase Input'!$C$8=\"Mid-West Nat Life Ins Co of TN\",'Essbase Input'!$C$8=\"The Chesapeake Life Ins. Co.\"),\"\",+'EB PT 2'!O43+'EB PT 2'!P44-(-'EB PT 2'!P45+'EB PT 2'!P46)))","v":""},null,null,null,null,null,null,null,null,null,null,null,null,null,null,null,null,null,null,null,null,null,null,null,null,null,null,null,null,null,null,null,null,null,"Pt 2, Ln 2.8b"]
[null,null,2.7,"Reserve for experience rating refunds (rate credits)"]
[null,null,null,"2.7a Reserved in MLR reporting year regardless of incurred date",{"$f":"IF(VLOOKUP('Essbase Input'!$C$8,Tables!$B$4:$F$16,5,FALSE)=\"DPPO\",\"\",-'EB PT 2'!K39+'EB PT 2'!K40)","v":""},null,{"$f":"IF(VLOOKUP('Essbase Input'!$C$8,Tables!$B$4:$F$16,5,FALSE)=\"DPPO\",\"\",-'EB PT 2'!M39+'EB PT 2'!M40)","v":""},null,{"$f":"IF(VLOOKUP('Essbase Input'!$C$8,Tables!$B$4:$F$16,5,FALSE)=\"DPPO\",\"\",-'EB PT 2'!O39+'EB PT 2'!O40)","v":""},null,{"$f":"IF(VLOOKUP('Essbase Input'!$C$8,Tables!$B$4:$F$16,5,FALSE)=\"DHMO\",\"\",IF(OR('Essbase Input'!$C$8=\"Golden Rule Insurance Company\",'Essbase Input'!$C$8=\"UnitedHealthcare Life Ins Co\",'Essbase Input'!$C$8=\"Mid-West Nat Life Ins Co of TN\",'Essbase Input'!$C$8=\"The Chesapeake Life Ins. Co.\"),-'EB PT 2'!Q39+'EB PT 2'!Q40,-'EB PT 2'!K39+'EB PT 2'!K40))","v":0},null,{"$f":"IF(VLOOKUP('Essbase Input'!$C$8,Tables!$B$4:$F$16,5,FALSE)=\"DHMO\",\"\",IF(OR('Essbase Input'!$C$8=\"Golden Rule Insurance Company\",'Essbase Input'!$C$8=\"UnitedHealthcare Life Ins Co\",'Essbase Input'!$C$8=\"Mid-West Nat Life Ins Co of TN\",'Essbase Input'!$C$8=\"The Chesapeake Life Ins. Co.\"),\"\",-'EB PT 2'!M39+'EB PT 2'!M40))","v":""},null,{"$f":"IF(VLOOKUP('Essbase Input'!$C$8,Tables!$B$4:$F$16,5,FALSE)=\"DHMO\",\"\",IF(OR('Essbase Input'!$C$8=\"Golden Rule Insurance Company\",'Essbase Input'!$C$8=\"UnitedHealthcare Life Ins Co\",'Essbase Input'!$C$8=\"Mid-West Nat Life Ins Co of TN\",'Essbase Input'!$C$8=\"The Chesapeake Life Ins. Co.\"),\"\",-'EB PT 2'!O39+'EB PT 2'!O40))","v":""},null,null,{"$f":"IF(O43=\"\",0,O43)+IF(M43=\"\",0,M43)+IF(K43=\"\",0,K43)+IF(I43=\"\",0,I43)+IF(G43=\"\",0,G43)+IF(E43=\"\",0,E43)","v":0},null,{"$f":"-'EB PT 2'!S39+'EB PT 2'!S40","v":0},{"$f":"-'EB PT 2'!T39+'EB PT 2'!T40","v":0},{"$f":"(-'EB PT 2'!U39+'EB PT 2'!U40)-('EB PT 2'!V39+'EB PT 2'!V40)-('EB PT 2'!W39+'EB PT 2'!W40)","v":0},{"$f":"(-'EB PT 2'!Y39+'EB PT 2'!Y40)-('EB PT 2'!Z39+'EB PT 2'!Z40)-('EB PT 2'!X39+'EB PT 2'!X40)-('EB PT 2'!AA39+'EB PT 2'!AA40)","v":0},{"$f":"(-'EB PT 2'!AC39+'EB PT 2'!AC40)-('EB PT 2'!AD39+'EB PT 2'!AD40)-('EB PT 2'!AE39+'EB PT 2'!AE40)-('EB PT 2'!AB39+'EB PT 2'!AB40)","v":0},{"$f":"(-'EB PT 2'!AG39+'EB PT 2'!AG40)-('EB PT 2'!AH39+'EB PT 2'!AH40)-('EB PT 2'!AF39+'EB PT 2'!AF40)-('EB PT 2'!AI39+'EB PT 2'!AI40)","v":0},{"$f":"-('EB PT 2'!AK39+'EB PT 2'!AK40)-('EB PT 2'!AJ39+'EB PT 2'!AJ40)","v":0},{"$f":"-'EB PT 2'!AL39+'EB PT 2'!AL40","v":0},{"$f":"-'EB PT 2'!AM39+'EB PT 2'!AM40","v":0},{"$f":"-'EB PT 2'!AN39+'EB PT 2'!AN40-SUM(V43:AB43)","v":0},{"$f":"SUM(V43:AC43)","v":0},{"$f":"-'EB PT 2'!AO39+'EB PT 2'!AO40","v":0},{"$f":"-'EB PT 2'!AP39+'EB PT 2'!AP40","v":0},{"$f":"-'EB PT 2'!AQ39+'EB PT 2'!AQ40","v":0},{"$f":"-'EB PT 2'!AR39+'EB PT 2'!AR40","v":0},{"$f":"-'EB PT 2'!AS39+'EB PT 2'!AS40","v":0},{"$f":"-'EB PT 2'!AT39+'EB PT 2'!AT40","v":0},{"$f":"-'EB PT 2'!AU39+'EB PT 2'!AU40","v":0},{"$f":"SUM(AE43:AK43)","v":0},{"$f":"-'EB PT 2'!AV39+'EB PT 2'!AV40","v":0},{"$f":"-'EB PT 2'!AW39+'EB PT 2'!AW40","v":0},{"$f":"-'EB PT 2'!AX39+'EB PT 2'!AX40","v":0},{"$f":"-'EB PT 2'!AY39+'EB PT 2'!AY40","v":0},{"$f":"-'EB PT 2'!AZ39+'EB PT 2'!AZ40","v":0},{"$f":"-'EB PT 2'!BA39+'EB PT 2'!BA40","v":0},{"$f":"-'EB PT 2'!BB39+'EB PT 2'!BB40","v":0},{"$f":"SUM(AM43:AS43)","v":0},{"$f":"IF(OR('Essbase Input'!$C$8=\"Golden Rule Insurance Company\",'Essbase Input'!$C$8=\"UnitedHealthcare Life Ins Co\",'Essbase Input'!$C$8=\"Mid-West Nat Life Ins Co of TN\",'Essbase Input'!$C$8=\"The Chesapeake Life Ins. Co.\"),SUM(R43:U43,AD43,AT43),IF('Essbase Input'!$C$8=\"Dental Benefit Prov CA Inc\",SUM(R43:U43,AD43,AE43:AF43,AT43),SUM(R43:U43,AD43,AL43,AT43)))","v":0},{"$f":"-'EB PT 2'!BD39+'EB PT 2'!BD40","v":0},{"$f":"AU43-AV43","v":0},"Pt 2, Ln 2.9a"]
[null,null,null,"2.7b Reserves specific to the MLR reporting year through 3/31 of the following year",null,{"$f":"IF(VLOOKUP('Essbase Input'!$C$8,Tables!$B$4:$F$16,5,FALSE)=\"DPPO\",\"\",-'EB PT 2'!L45+'EB PT 2'!L46)","v":""},null,{"$f":"IF(VLOOKUP('Essbase Input'!$C$8,Tables!$B$4:$F$16,5,FALSE)=\"DPPO\",\"\",-'EB PT 2'!N45+'EB PT 2'!N46)","v":""},null,{"$f":"IF(VLOOKUP('Essbase Input'!$C$8,Tables!$B$4:$F$16,5,FALSE)=\"DPPO\",\"\",-'EB PT 2'!P45+'EB PT 2'!P46)","v":""},null,{"$f":"IF(VLOOKUP('Essbase Input'!$C$8,Tables!$B$4:$F$16,5,FALSE)=\"DHMO\",\"\",IF(OR('Essbase Input'!$C$8=\"Golden Rule Insurance Company\",'Essbase Input'!$C$8=\"UnitedHealthcare Life Ins Co\",'Essbase Input'!$C$8=\"Mid-West Nat Life Ins Co of TN\",'Essbase Input'!$C$8=\"The Chesapeake Life Ins. Co.\"),-'EB PT 2'!R45+'EB PT 2'!R46,-'EB PT 2'!L45+'EB PT 2'!L46))","v":0},null,{"$f":"IF(VLOOKUP('Essbase Input'!$C$8,Tables!$B$4:$F$16,5,FALSE)=\"DHMO\",\"\",IF(OR('Essbase Input'!$C$8=\"Golden Rule Insurance Company\",'Essbase Input'!$C$8=\"UnitedHealthcare Life Ins Co\",'Essbase Input'!$C$8=\"Mid-West Nat Life Ins Co of TN\",'Essbase Input'!$C$8=\"The Chesapeake Life Ins. Co.\"),\"\",-'EB PT 2'!N45+'EB PT 2'!N46))","v":""},null,{"$f":"IF(VLOOKUP('Essbase Input'!$C$8,Tables!$B$4:$F$16,5,FALSE)=\"DHMO\",\"\",IF(OR('Essbase Input'!$C$8=\"Golden Rule Insurance Company\",'Essbase Input'!$C$8=\"UnitedHealthcare Life Ins Co\",'Essbase Input'!$C$8=\"Mid-West Nat Life Ins Co of TN\",'Essbase Input'!$C$8=\"The Chesapeake Life Ins. Co.\"),\"\",-'EB PT 2'!P45+'EB PT 2'!P46))","v":""},null,null,null,null,null,null,null,null,null,null,null,null,null,null,null,null,null,null,null,null,null,null,null,null,null,null,null,null,null,null,null,null,null,"Pt 2, Ln 2.9b"]
[null,null,"2.8","Reserve for experience rating refunds (rate credits) prior year",{"$f":"IF(VLOOKUP('Essbase Input'!$C$8,Tables!$B$4:$F$16,5,FALSE)=\"DPPO\",\"\",-'EB PT 2'!K41+'EB PT 2'!K42)","v":""},null,{"$f":"IF(VLOOKUP('Essbase Input'!$C$8,Tables!$B$4:$F$16,5,FALSE)=\"DPPO\",\"\",-'EB PT 2'!M41+'EB PT 2'!M42)","v":""},null,{"$f":"IF(VLOOKUP('Essbase Input'!$C$8,Tables!$B$4:$F$16,5,FALSE)=\"DPPO\",\"\",-'EB PT 2'!O41+'EB PT 2'!O42)","v":""},null,{"$f":"IF(VLOOKUP('Essbase Input'!$C$8,Tables!$B$4:$F$16,5,FALSE)=\"DHMO\",\"\",IF(OR('Essbase Input'!$C$8=\"Golden Rule Insurance Company\",'Essbase Input'!$C$8=\"UnitedHealthcare Life Ins Co\",'Essbase Input'!$C$8=\"Mid-West Nat Life Ins Co of TN\",'Essbase Input'!$C$8=\"The Chesapeake Life Ins. Co.\"),-'EB PT 2'!Q41+'EB PT 2'!Q42,-'EB PT 2'!K41+'EB PT 2'!K42))","v":0},null,{"$f":"IF(VLOOKUP('Essbase Input'!$C$8,Tables!$B$4:$F$16,5,FALSE)=\"DHMO\",\"\",IF(OR('Essbase Input'!$C$8=\"Golden Rule Insurance Company\",'Essbase Input'!$C$8=\"UnitedHealthcare Life Ins Co\",'Essbase Input'!$C$8=\"Mid-West Nat Life Ins Co of TN\",'Essbase Input'!$C$8=\"The Chesapeake Life Ins. Co.\"),\"\",-'EB PT 2'!M41+'EB PT 2'!M42))","v":""},null,{"$f":"IF(VLOOKUP('Essbase Input'!$C$8,Tables!$B$4:$F$16,5,FALSE)=\"DHMO\",\"\",IF(OR('Essbase Input'!$C$8=\"Golden Rule Insurance Company\",'Essbase Input'!$C$8=\"UnitedHealthcare Life Ins Co\",'Essbase Input'!$C$8=\"Mid-West Nat Life Ins Co of TN\",'Essbase Input'!$C$8=\"The Chesapeake Life Ins. Co.\"),\"\",-'EB PT 2'!O41+'EB PT 2'!O42))","v":""},null,null,{"$f":"IF(O45=\"\",0,O45)+IF(M45=\"\",0,M45)+IF(K45=\"\",0,K45)+IF(I45=\"\",0,I45)+IF(G45=\"\",0,G45)+IF(E45=\"\",0,E45)","v":0},null,{"$f":"-'EB PT 2'!S41+'EB PT 2'!S42","v":0},{"$f":"-'EB PT 2'!T41+'EB PT 2'!T42","v":0},{"$f":"(-'EB PT 2'!U41+'EB PT 2'!U42)+(-'EB PT 2'!V41+'EB PT 2'!V42)+(-'EB PT 2'!W41+'EB PT 2'!W42)","v":0},{"$f":"(-'EB PT 2'!Y41+'EB PT 2'!Y42)+(-'EB PT 2'!Z41+'EB PT 2'!Z42)+(-'EB PT 2'!X41+'EB PT 2'!X42)+(-'EB PT 2'!AA41+'EB PT 2'!AA42)","v":0},{"$f":"(-'EB PT 2'!AC41+'EB PT 2'!AC42)+(-'EB PT 2'!AD41+'EB PT 2'!AD42)+(-'EB PT 2'!AE41+'EB PT 2'!AE42)+(-'EB PT 2'!AB41+'EB PT 2'!AB42)","v":0},{"$f":"(-'EB PT 2'!AG41+'EB PT 2'!AG42)+(-'EB PT 2'!AH41+'EB PT 2'!AH42)+(-'EB PT 2'!AF41+'EB PT 2'!AF42)+(-'EB PT 2'!AI41+'EB PT 2'!AI42)","v":0},{"$f":"(-'EB PT 2'!AK41+'EB PT 2'!AK42)+(-'EB PT 2'!AJ41+'EB PT 2'!AJ42)","v":0},{"$f":"-'EB PT 2'!AL41+'EB PT 2'!AL42","v":0},{"$f":"-'EB PT 2'!AM41+'EB PT 2'!AM42","v":0},{"$f":"-'EB PT 2'!AN41+'EB PT 2'!AN42-SUM(V45:AB45)","v":0},{"$f":"SUM(V45:AC45)","v":0},{"$f":"-'EB PT 2'!AO41+'EB PT 2'!AO42","v":0},{"$f":"-'EB PT 2'!AP41+'EB PT 2'!AP42","v":0},{"$f":"-'EB PT 2'!AQ41+'EB PT 2'!AQ42","v":0},{"$f":"-'EB PT 2'!AR41+'EB PT 2'!AR42","v":0},{"$f":"-'EB PT 2'!AS41+'EB PT 2'!AS42","v":0},{"$f":"-'EB PT 2'!AT41+'EB PT 2'!AT42","v":0},{"$f":"-'EB PT 2'!AU41+'EB PT 2'!AU42","v":0},{"$f":"SUM(AE45:AK45)","v":0},{"$f":"-'EB PT 2'!AV41+'EB PT 2'!AV42","v":0},{"$f":"-'EB PT 2'!AW41+'EB PT 2'!AW42","v":0},{"$f":"-'EB PT 2'!AX41+'EB PT 2'!AX42","v":0},{"$f":"-'EB PT 2'!AY41+'EB PT 2'!AY42","v":0},{"$f":"-'EB PT 2'!AZ41+'EB PT 2'!AZ42","v":0},{"$f":"-'EB PT 2'!BA41+'EB PT 2'!BA42","v":0},{"$f":"-'EB PT 2'!BB41+'EB PT 2'!BB42","v":0},{"$f":"SUM(AM45:AS45)","v":0},{"$f":"IF(OR('Essbase Input'!$C$8=\"Golden Rule Insurance Company\",'Essbase Input'!$C$8=\"UnitedHealthcare Life Ins Co\",'Essbase Input'!$C$8=\"Mid-West Nat Life Ins Co of TN\",'Essbase Input'!$C$8=\"The Chesapeake Life Ins. Co.\"),SUM(R45:U45,AD45,AT45),IF('Essbase Input'!$C$8=\"Dental Benefit Prov CA Inc\",SUM(R45:U45,AD45,AE45:AF45,AT45),SUM(R45:U45,AD45,AL45,AT45)))","v":0},{"$f":"-'EB PT 2'!BD41+'EB PT 2'!BD42","v":0},{"$f":"AU45-AV45","v":0},"Pt 2, Ln 2.10"]
[null,null,2.9,"Incurred dental incentive pool and bonuses"]
[null,null,null,"2.9a  Paid dental incentive pools and bonuses MLR Reporting year",{"$f":"IF(VLOOKUP('Essbase Input'!$C$8,Tables!$B$4:$F$16,5,FALSE)=\"DPPO\",\"\",'EB PT 2'!K53-E48+E49)","v":""},{"$f":"IF(VLOOKUP('Essbase Input'!$C$8,Tables!$B$4:$F$16,5,FALSE)=\"DPPO\",\"\",'EB PT 2'!K54+'EB PT 2'!L55-F48)","v":""},{"$f":"IF(VLOOKUP('Essbase Input'!$C$8,Tables!$B$4:$F$16,5,FALSE)=\"DPPO\",\"\",'EB PT 2'!M53-G48+G49)","v":""},{"$f":"IF(VLOOKUP('Essbase Input'!$C$8,Tables!$B$4:$F$16,5,FALSE)=\"DPPO\",\"\",'EB PT 2'!M54+'EB PT 2'!N55-H48)","v":""},{"$f":"IF(VLOOKUP('Essbase Input'!$C$8,Tables!$B$4:$F$16,5,FALSE)=\"DPPO\",\"\",'EB PT 2'!O53-I48+I49)","v":""},{"$f":"IF(VLOOKUP('Essbase Input'!$C$8,Tables!$B$4:$F$16,5,FALSE)=\"DPPO\",\"\",'EB PT 2'!O54+'EB PT 2'!P55-J48)","v":""},{"$f":"IF(VLOOKUP('Essbase Input'!$C$8,Tables!$B$4:$F$16,5,FALSE)=\"DHMO\",\"\",IF(OR('Essbase Input'!$C$8=\"Golden Rule Insurance Company\",'Essbase Input'!$C$8=\"UnitedHealthcare Life Ins Co\",'Essbase Input'!$C$8=\"Mid-West Nat Life Ins Co of TN\",'Essbase Input'!$C$8=\"The Chesapeake Life Ins. Co.\"),'EB PT 2'!Q53-K48+K49,'EB PT 2'!K53-K48+K49))","v":0},{"$f":"IF(VLOOKUP('Essbase Input'!$C$8,Tables!$B$4:$F$16,5,FALSE)=\"DHMO\",\"\",IF(OR('Essbase Input'!$C$8=\"Golden Rule Insurance Company\",'Essbase Input'!$C$8=\"UnitedHealthcare Life Ins Co\",'Essbase Input'!$C$8=\"Mid-West Nat Life Ins Co of TN\",'Essbase Input'!$C$8=\"The Chesapeake Life Ins. Co.\"),'EB PT 2'!Q54+'EB PT 2'!R55-L48,'EB PT 2'!K54+'EB PT 2'!L55-L48))","v":0},{"$f":"IF(VLOOKUP('Essbase Input'!$C$8,Tables!$B$4:$F$16,5,FALSE)=\"DHMO\",\"\",IF(OR('Essbase Input'!$C$8=\"Golden Rule Insurance Company\",'Essbase Input'!$C$8=\"UnitedHealthcare Life Ins Co\",'Essbase Input'!$C$8=\"Mid-West Nat Life Ins Co of TN\",'Essbase Input'!$C$8=\"The Chesapeake Life Ins. Co.\"),\"\",'EB PT 2'!M53-M48+M49))","v":""},{"$f":"IF(VLOOKUP('Essbase Input'!$C$8,Tables!$B$4:$F$16,5,FALSE)=\"DHMO\",\"\",IF(OR('Essbase Input'!$C$8=\"Golden Rule Insurance Company\",'Essbase Input'!$C$8=\"UnitedHealthcare Life Ins Co\",'Essbase Input'!$C$8=\"Mid-West Nat Life Ins Co of TN\",'Essbase Input'!$C$8=\"The Chesapeake Life Ins. Co.\"),\"\",'EB PT 2'!M54+'EB PT 2'!N55-N48))","v":""},{"$f":"IF(VLOOKUP('Essbase Input'!$C$8,Tables!$B$4:$F$16,5,FALSE)=\"DHMO\",\"\",IF(OR('Essbase Input'!$C$8=\"Golden Rule Insurance Company\",'Essbase Input'!$C$8=\"UnitedHealthcare Life Ins Co\",'Essbase Input'!$C$8=\"Mid-West Nat Life Ins Co of TN\",'Essbase Input'!$C$8=\"The Chesapeake Life Ins. Co.\"),\"\",'EB PT 2'!O53-O48+O49))","v":""},{"$f":"IF(VLOOKUP('Essbase Input'!$C$8,Tables!$B$4:$F$16,5,FALSE)=\"DHMO\",\"\",IF(OR('Essbase Input'!$C$8=\"Golden Rule Insurance Company\",'Essbase Input'!$C$8=\"UnitedHealthcare Life Ins Co\",'Essbase Input'!$C$8=\"Mid-West Nat Life Ins Co of TN\",'Essbase Input'!$C$8=\"The Chesapeake Life Ins. Co.\"),\"\",'EB PT 2'!O54+'EB PT 2'!P55-P48))","v":""},null,{"$f":"IF(O47=\"\",0,O47)+IF(M47=\"\",0,M47)+IF(K47=\"\",0,K47)+IF(I47=\"\",0,I47)+IF(G47=\"\",0,G47)+IF(E47=\"\",0,E47)","v":0},null,{"$f":"'EB PT 2'!S53-T48+T49","v":0},{"$f":"'EB PT 2'!T53-U48+U49","v":0},{"$f":"('EB PT 2'!U53+'EB PT 2'!V53+'EB PT 2'!W53)-V48+V49","v":0},{"$f":"('EB PT 2'!Y53+'EB PT 2'!Z53+'EB PT 2'!X53+'EB PT 2'!AA53)-W48+W49","v":0},{"$f":"('EB PT 2'!AC53+'EB PT 2'!AD53+'EB PT 2'!AE53+'EB PT 2'!AB53)-X48+X49","v":0},{"$f":"('EB PT 2'!AG53+'EB PT 2'!AH53+'EB PT 2'!AF53+'EB PT 2'!AI53)-Y48+Y49","v":0},{"$f":"('EB PT 2'!AK53+'EB PT 2'!AJ53)-Z48+Z49","v":0},{"$f":"'EB PT 2'!AL53-AA48+AA49","v":0},{"$f":"'EB PT 2'!AM53-AB48+AB49","v":0},{"$f":"'EB PT 2'!AN53-SUM('EB PT 2'!U53:AM53)-AC48+AC49","v":0},{"$f":"SUM(V47:AC47)","v":0},{"$f":"'EB PT 2'!AO53-AE48+AE49","v":0},{"$f":"'EB PT 2'!AP53-AF48+AF49","v":0},{"$f":"'EB PT 2'!AQ53-AG48+AG49","v":0},{"$f":"'EB PT 2'!AR53-AH48+AH49","v":0},{"$f":"'EB PT 2'!AS53-AI48+AI49","v":0},{"$f":"'EB PT 2'!AT53-AJ48+AJ49","v":0},{"$f":"'EB PT 2'!AU53-AK48+AK49","v":0},{"$f":"SUM(AE47:AK47)","v":0},{"$f":"'EB PT 2'!AV53-AM48+AM49","v":0},{"$f":"'EB PT 2'!AW53-AN48+AN49","v":0},{"$f":"'EB PT 2'!AX53-AO48+AO49","v":0},{"$f":"'EB PT 2'!AY53-AP48+AP49","v":0},{"$f":"'EB PT 2'!AZ53-AQ48+AQ49","v":0},{"$f":"'EB PT 2'!BA53-AR48+AR49","v":0},{"$f":"'EB PT 2'!BB53-AS48+AS49","v":0},{"$f":"SUM(AM47:AS47)","v":0},{"$f":"IF(OR('Essbase Input'!$C$8=\"Golden Rule Insurance Company\",'Essbase Input'!$C$8=\"UnitedHealthcare Life Ins Co\",'Essbase Input'!$C$8=\"Mid-West Nat Life Ins Co of TN\",'Essbase Input'!$C$8=\"The Chesapeake Life Ins. Co.\"),SUM(R47:U47,AD47,AT47),IF('Essbase Input'!$C$8=\"Dental Benefit Prov CA Inc\",SUM(R47:U47,AD47,AE47:AF47,AT47),SUM(R47:U47,AD47,AL47,AT47)))","v":0},{"$f":"'EB PT 2'!BD53-AV48+AV49","v":0},{"$f":"AU47-AV47","v":0},"Pt 2, Ln 2.11a"]
[null,null,null,"2.9b  Accrued dental incentive pools and bonuses MLR Reporting year",{"$f":"IF(VLOOKUP('Essbase Input'!$C$8,Tables!$B$4:$F$16,5,FALSE)=\"DPPO\",\"\",-'EB PT 2'!K56)","v":""},{"$f":"IF(VLOOKUP('Essbase Input'!$C$8,Tables!$B$4:$F$16,5,FALSE)=\"DPPO\",\"\",-'EB PT 2'!L57)","v":""},{"$f":"IF(VLOOKUP('Essbase Input'!$C$8,Tables!$B$4:$F$16,5,FALSE)=\"DPPO\",\"\",-'EB PT 2'!M56)","v":""},{"$f":"IF(VLOOKUP('Essbase Input'!$C$8,Tables!$B$4:$F$16,5,FALSE)=\"DPPO\",\"\",-'EB PT 2'!N57)","v":""},{"$f":"IF(VLOOKUP('Essbase Input'!$C$8,Tables!$B$4:$F$16,5,FALSE)=\"DPPO\",\"\",-'EB PT 2'!O56)","v":""},{"$f":"IF(VLOOKUP('Essbase Input'!$C$8,Tables!$B$4:$F$16,5,FALSE)=\"DPPO\",\"\",-'EB PT 2'!P57)","v":""},{"$f":"IF(VLOOKUP('Essbase Input'!$C$8,Tables!$B$4:$F$16,5,FALSE)=\"DHMO\",\"\",IF(OR('Essbase Input'!$C$8=\"Golden Rule Insurance Company\",'Essbase Input'!$C$8=\"UnitedHealthcare Life Ins Co\",'Essbase Input'!$C$8=\"Mid-West Nat Life Ins Co of TN\",'Essbase Input'!$C$8=\"The Chesapeake Life Ins. Co.\"),-'EB PT 2'!Q56,-'EB PT 2'!K56))","v":0},{"$f":"IF(VLOOKUP('Essbase Input'!$C$8,Tables!$B$4:$F$16,5,FALSE)=\"DHMO\",\"\",IF(OR('Essbase Input'!$C$8=\"Golden Rule Insurance Company\",'Essbase Input'!$C$8=\"UnitedHealthcare Life Ins Co\",'Essbase Input'!$C$8=\"Mid-West Nat Life Ins Co of TN\",'Essbase Input'!$C$8=\"The Chesapeake Life Ins. Co.\"),-'EB PT 2'!R57,-'EB PT 2'!L57))","v":0},{"$f":"IF(VLOOKUP('Essbase Input'!$C$8,Tables!$B$4:$F$16,5,FALSE)=\"DHMO\",\"\",IF(OR('Essbase Input'!$C$8=\"Golden Rule Insurance Company\",'Essbase Input'!$C$8=\"UnitedHealthcare Life Ins Co\",'Essbase Input'!$C$8=\"Mid-West Nat Life Ins Co of TN\",'Essbase Input'!$C$8=\"The Chesapeake Life Ins. Co.\"),\"\",-'EB PT 2'!M56))","v":""},{"$f":"IF(VLOOKUP('Essbase Input'!$C$8,Tables!$B$4:$F$16,5,FALSE)=\"DHMO\",\"\",IF(OR('Essbase Input'!$C$8=\"Golden Rule Insurance Company\",'Essbase Input'!$C$8=\"UnitedHealthcare Life Ins Co\",'Essbase Input'!$C$8=\"Mid-West Nat Life Ins Co of TN\",'Essbase Input'!$C$8=\"The Chesapeake Life Ins. Co.\"),\"\",-'EB PT 2'!N57))","v":""},{"$f":"IF(VLOOKUP('Essbase Input'!$C$8,Tables!$B$4:$F$16,5,FALSE)=\"DHMO\",\"\",IF(OR('Essbase Input'!$C$8=\"Golden Rule Insurance Company\",'Essbase Input'!$C$8=\"UnitedHealthcare Life Ins Co\",'Essbase Input'!$C$8=\"Mid-West Nat Life Ins Co of TN\",'Essbase Input'!$C$8=\"The Chesapeake Life Ins. Co.\"),\"\",-'EB PT 2'!O56))","v":""},{"$f":"IF(VLOOKUP('Essbase Input'!$C$8,Tables!$B$4:$F$16,5,FALSE)=\"DHMO\",\"\",IF(OR('Essbase Input'!$C$8=\"Golden Rule Insurance Company\",'Essbase Input'!$C$8=\"UnitedHealthcare Life Ins Co\",'Essbase Input'!$C$8=\"Mid-West Nat Life Ins Co of TN\",'Essbase Input'!$C$8=\"The Chesapeake Life Ins. Co.\"),\"\",-'EB PT 2'!P57))","v":""},null,{"$f":"IF(O48=\"\",0,O48)+IF(M48=\"\",0,M48)+IF(K48=\"\",0,K48)+IF(I48=\"\",0,I48)+IF(G48=\"\",0,G48)+IF(E48=\"\",0,E48)","v":0},null,{"$f":"-'EB PT 2'!S56","v":0},{"$f":"-'EB PT 2'!T56","v":0},{"$f":"-'EB PT 2'!U56-'EB PT 2'!V56-'EB PT 2'!W56","v":0},{"$f":"-'EB PT 2'!Y56-'EB PT 2'!Z56-'EB PT 2'!X56-'EB PT 2'!AA56","v":0},{"$f":"-'EB PT 2'!AC56-'EB PT 2'!AD56-'EB PT 2'!AE56-'EB PT 2'!AB56","v":0},{"$f":"-'EB PT 2'!AG56-'EB PT 2'!AH56-'EB PT 2'!AF56-'EB PT 2'!AI56","v":0},{"$f":"-'EB PT 2'!AK56-'EB PT 2'!AJ56","v":0},{"$f":"-'EB PT 2'!AL56","v":0},{"$f":"-'EB PT 2'!AM56","v":0},{"$f":"-'EB PT 2'!AN56-SUM(V48:AB48)","v":0},{"$f":"SUM(V48:AC48)","v":0},{"$f":"-'EB PT 2'!AO56","v":0},{"$f":"-'EB PT 2'!AP56","v":0},{"$f":"-'EB PT 2'!AQ56","v":0},{"$f":"-'EB PT 2'!AR56","v":0},{"$f":"-'EB PT 2'!AS56","v":0},{"$f":"-'EB PT 2'!AT56","v":0},{"$f":"-'EB PT 2'!AU56","v":0},{"$f":"SUM(AE48:AK48)","v":0},{"$f":"-'EB PT 2'!AV56","v":0},{"$f":"-'EB PT 2'!AW56","v":0},{"$f":"-'EB PT 2'!AX56","v":0},{"$f":"-'EB PT 2'!AY56","v":0},{"$f":"-'EB PT 2'!AZ56","v":0},{"$f":"-'EB PT 2'!BA56","v":0},{"$f":"-'EB PT 2'!BB56","v":0},{"$f":"SUM(AM48:AS48)","v":0},{"$f":"IF(OR('Essbase Input'!$C$8=\"Golden Rule Insurance Company\",'Essbase Input'!$C$8=\"UnitedHealthcare Life Ins Co\",'Essbase Input'!$C$8=\"Mid-West Nat Life Ins Co of TN\",'Essbase Input'!$C$8=\"The Chesapeake Life Ins. Co.\"),SUM(R48:U48,AD48,AT48),IF('Essbase Input'!$C$8=\"Dental Benefit Prov CA Inc\",SUM(R48:U48,AD48,AE48:AF48,AT48),SUM(R48:U48,AD48,AL48,AT48)))","v":0},{"$f":"-'EB PT 2'!BD56","v":0},{"$f":"AU48-AV48","v":0},"Pt 2, Ln 2.11b"]
[null,null,null,"2.9c  Accrued dental incentive pools and bonuses prior year",{"$f":"IF(VLOOKUP('Essbase Input'!$C$8,Tables!$B$4:$F$16,5,FALSE)=\"DPPO\",\"\",-'EB PT 2'!K58)","v":""},null,{"$f":"IF(VLOOKUP('Essbase Input'!$C$8,Tables!$B$4:$F$16,5,FALSE)=\"DPPO\",\"\",-'EB PT 2'!M58)","v":""},null,{"$f":"IF(VLOOKUP('Essbase Input'!$C$8,Tables!$B$4:$F$16,5,FALSE)=\"DPPO\",\"\",-'EB PT 2'!O58)","v":""},null,{"$f":"IF(VLOOKUP('Essbase Input'!$C$8,Tables!$B$4:$F$16,5,FALSE)=\"DHMO\",\"\",IF(OR('Essbase Input'!$C$8=\"Golden Rule Insurance Company\",'Essbase Input'!$C$8=\"UnitedHealthcare Life Ins Co\",'Essbase Input'!$C$8=\"Mid-West Nat Life Ins Co of TN\",'Essbase Input'!$C$8=\"The Chesapeake Life Ins. Co.\"),-'EB PT 2'!Q58,-'EB PT 2'!K58))","v":0},null,{"$f":"IF(VLOOKUP('Essbase Input'!$C$8,Tables!$B$4:$F$16,5,FALSE)=\"DHMO\",\"\",IF(OR('Essbase Input'!$C$8=\"Golden Rule Insurance Company\",'Essbase Input'!$C$8=\"UnitedHealthcare Life Ins Co\",'Essbase Input'!$C$8=\"Mid-West Nat Life Ins Co of TN\",'Essbase Input'!$C$8=\"The Chesapeake Life Ins. Co.\"),\"\",-'EB PT 2'!M58))","v":""},null,{"$f":"IF(VLOOKUP('Essbase Input'!$C$8,Tables!$B$4:$F$16,5,FALSE)=\"DHMO\",\"\",IF(OR('Essbase Input'!$C$8=\"Golden Rule Insurance Company\",'Essbase Input'!$C$8=\"UnitedHealthcare Life Ins Co\",'Essbase Input'!$C$8=\"Mid-West Nat Life Ins Co of TN\",'Essbase Input'!$C$8=\"The Chesapeake Life Ins. Co.\"),\"\",-'EB PT 2'!O58))","v":""},null,null,{"$f":"IF(O49=\"\",0,O49)+IF(M49=\"\",0,M49)+IF(K49=\"\",0,K49)+IF(I49=\"\",0,I49)+IF(G49=\"\",0,G49)+IF(E49=\"\",0,E49)","v":0},null,{"$f":"-'EB PT 2'!S58","v":0},{"$f":"-'EB PT 2'!T58","v":0},{"$f":"-'EB PT 2'!U58-'EB PT 2'!V58-'EB PT 2'!W58","v":0},{"$f":"-'EB PT 2'!Y58-'EB PT 2'!Z58-'EB PT 2'!X58-'EB PT 2'!AA58","v":0},{"$f":"-'EB PT 2'!AC58-'EB PT 2'!AD58-'EB PT 2'!AE58-'EB PT 2'!AB58","v":0},{"$f":"-'EB PT 2'!AG58-'EB PT 2'!AH58-'EB PT 2'!AF58-'EB PT 2'!AI58","v":0},{"$f":"-'EB PT 2'!AK58-'EB PT 2'!AJ58","v":0},{"$f":"-'EB PT 2'!AL58","v":0},{"$f":"-'EB PT 2'!AM58","v":0},{"$f":"-'EB PT 2'!AN58-SUM(V49:AB49)","v":0},{"$f":"SUM(V49:AC49)","v":0},{"$f":"-'EB PT 2'!AO58","v":0},{"$f":"-'EB PT 2'!AP58","v":0},{"$f":"-'EB PT 2'!AQ58","v":0},{"$f":"-'EB PT 2'!AR58","v":0},{"$f":"-'EB PT 2'!AS58","v":0},{"$f":"-'EB PT 2'!AT58","v":0},{"$f":"-'EB PT 2'!AU58","v":0},{"$f":"SUM(AE49:AK49)","v":0},{"$f":"-'EB PT 2'!AV58","v":0},{"$f":"-'EB PT 2'!AW58","v":0},{"$f":"-'EB PT 2'!AX58","v":0},{"$f":"-'EB PT 2'!AY58","v":0},{"$f":"-'EB PT 2'!AZ58","v":0},{"$f":"-'EB PT 2'!BA58","v":0},{"$f":"-'EB PT 2'!BB58","v":0},{"$f":"SUM(AM49:AS49)","v":0},{"$f":"IF(OR('Essbase Input'!$C$8=\"Golden Rule Insurance Company\",'Essbase Input'!$C$8=\"UnitedHealthcare Life Ins Co\",'Essbase Input'!$C$8=\"Mid-West Nat Life Ins Co of TN\",'Essbase Input'!$C$8=\"The Chesapeake Life Ins. Co.\"),SUM(R49:U49,AD49,AT49),IF('Essbase Input'!$C$8=\"Dental Benefit Prov CA Inc\",SUM(R49:U49,AD49,AE49:AF49,AT49),SUM(R49:U49,AD49,AL49,AT49)))","v":0},{"$f":"-'EB PT 2'!BD58","v":0},{"$f":"AU49-AV49","v":0},"Pt 2, Ln 2.11c"]
[null,null,"2.10","Contingent benefit and lawsuit reserves",{"$f":"IF(VLOOKUP('Essbase Input'!$C$8,Tables!$B$4:$F$16,5,FALSE)=\"DPPO\",\"\",0)","v":""},{"$f":"IF(VLOOKUP('Essbase Input'!$C$8,Tables!$B$4:$F$16,5,FALSE)=\"DPPO\",\"\",0)","v":""},{"$f":"IF(VLOOKUP('Essbase Input'!$C$8,Tables!$B$4:$F$16,5,FALSE)=\"DPPO\",\"\",0)","v":""},{"$f":"IF(VLOOKUP('Essbase Input'!$C$8,Tables!$B$4:$F$16,5,FALSE)=\"DPPO\",\"\",0)","v":""},{"$f":"IF(VLOOKUP('Essbase Input'!$C$8,Tables!$B$4:$F$16,5,FALSE)=\"DPPO\",\"\",0)","v":""},{"$f":"IF(VLOOKUP('Essbase Input'!$C$8,Tables!$B$4:$F$16,5,FALSE)=\"DPPO\",\"\",0)","v":""},{"$f":"IF(VLOOKUP('Essbase Input'!$C$8,Tables!$B$4:$F$16,5,FALSE)=\"DHMO\",\"\",0)","v":0},{"$f":"IF(VLOOKUP('Essbase Input'!$C$8,Tables!$B$4:$F$16,5,FALSE)=\"DHMO\",\"\",0)","v":0},{"$f":"IF(VLOOKUP('Essbase Input'!$C$8,Tables!$B$4:$F$16,5,FALSE)=\"DHMO\",\"\",IF(OR('Essbase Input'!$C$8=\"Golden Rule Insurance Company\",'Essbase Input'!$C$8=\"UnitedHealthcare Life Ins Co\",'Essbase Input'!$C$8=\"Mid-West Nat Life Ins Co of TN\",'Essbase Input'!$C$8=\"The Chesapeake Life Ins. Co.\"),\"\",0))","v":""},{"$f":"IF(VLOOKUP('Essbase Input'!$C$8,Tables!$B$4:$F$16,5,FALSE)=\"DHMO\",\"\",IF(OR('Essbase Input'!$C$8=\"Golden Rule Insurance Company\",'Essbase Input'!$C$8=\"UnitedHealthcare Life Ins Co\",'Essbase Input'!$C$8=\"Mid-West Nat Life Ins Co of TN\",'Essbase Input'!$C$8=\"The Chesapeake Life Ins. Co.\"),\"\",0))","v":""},{"$f":"IF(VLOOKUP('Essbase Input'!$C$8,Tables!$B$4:$F$16,5,FALSE)=\"DHMO\",\"\",IF(OR('Essbase Input'!$C$8=\"Golden Rule Insurance Company\",'Essbase Input'!$C$8=\"UnitedHealthcare Life Ins Co\",'Essbase Input'!$C$8=\"Mid-West Nat Life Ins Co of TN\",'Essbase Input'!$C$8=\"The Chesapeake Life Ins. Co.\"),\"\",0))","v":""},{"$f":"IF(VLOOKUP('Essbase Input'!$C$8,Tables!$B$4:$F$16,5,FALSE)=\"DHMO\",\"\",IF(OR('Essbase Input'!$C$8=\"Golden Rule Insurance Company\",'Essbase Input'!$C$8=\"UnitedHealthcare Life Ins Co\",'Essbase Input'!$C$8=\"Mid-West Nat Life Ins Co of TN\",'Essbase Input'!$C$8=\"The Chesapeake Life Ins. Co.\"),\"\",0))","v":""},null,{"$f":"IF(O50=\"\",0,O50)+IF(M50=\"\",0,M50)+IF(K50=\"\",0,K50)+IF(I50=\"\",0,I50)+IF(G50=\"\",0,G50)+IF(E50=\"\",0,E50)","v":0},null,0,0,0,0,0,0,0,0,0,0,{"$f":"SUM(V50:AC50)","v":0},0,0,0,0,0,0,0,{"$f":"SUM(AE50:AK50)","v":0},0,0,0,0,0,0,0,{"$f":"SUM(AM50:AS50)","v":0},{"$f":"IF(OR('Essbase Input'!$C$8=\"Golden Rule Insurance Company\",'Essbase Input'!$C$8=\"UnitedHealthcare Life Ins Co\",'Essbase Input'!$C$8=\"Mid-West Nat Life Ins Co of TN\",'Essbase Input'!$C$8=\"The Chesapeake Life Ins. Co.\"),SUM(R50:U50,AD50,AT50),IF('Essbase Input'!$C$8=\"Dental Benefit Prov CA Inc\",SUM(R50:U50,AD50,AE50:AF50,AT50),SUM(R50:U50,AD50,AL50,AT50)))","v":0},0,{"$f":"AU50-AV50","v":0},"Pt 2, Ln 2.13"]
[null,null,"2.11","Total incurred claims ",{"$f":"IF(VLOOKUP('Essbase Input'!$C$8,Tables!$B$4:$F$16,5,FALSE)=\"DPPO\",\"\",E29+E32-E34+E36-E38+E40+E43-E45+E47+E48-E49+E50)","v":""},{"$f":"IF(VLOOKUP('Essbase Input'!$C$8,Tables!$B$4:$F$16,5,FALSE)=\"DPPO\",\"\",F30+F33+F37+F41+F44+F47+F48+F50)","v":""},{"$f":"IF(VLOOKUP('Essbase Input'!$C$8,Tables!$B$4:$F$16,5,FALSE)=\"DPPO\",\"\",G29+G32-G34+G36-G38+G40+G43-G45+G47+G48-G49+G50)","v":""},{"$f":"IF(VLOOKUP('Essbase Input'!$C$8,Tables!$B$4:$F$16,5,FALSE)=\"DPPO\",\"\",H30+H33+H37+H41+H44+H47+H48+H50)","v":""},{"$f":"IF(VLOOKUP('Essbase Input'!$C$8,Tables!$B$4:$F$16,5,FALSE)=\"DPPO\",\"\",I29+I32-I34+I36-I38+I40+I43-I45+I47+I48-I49+I50)","v":""},{"$f":"IF(VLOOKUP('Essbase Input'!$C$8,Tables!$B$4:$F$16,5,FALSE)=\"DPPO\",\"\",J30+J33+J37+J41+J44+J47+J48+J50)","v":""},{"$f":"IF(VLOOKUP('Essbase Input'!$C$8,Tables!$B$4:$F$16,5,FALSE)=\"DHMO\",\"\",K29+K32-K34+K36-K38+K40+K43-K45+K47+K48-K49+K50)","v":75730.91},{"$f":"IF(VLOOKUP('Essbase Input'!$C$8,Tables!$B$4:$F$16,5,FALSE)=\"DHMO\",\"\",L30+L33+L37+L41+L44+L47+L48+L50)","v":80059.100000000006},{"$f":"IF(VLOOKUP('Essbase Input'!$C$8,Tables!$B$4:$F$16,5,FALSE)=\"DHMO\",\"\",IF(OR('Essbase Input'!$C$8=\"Golden Rule Insurance Company\",'Essbase Input'!$C$8=\"UnitedHealthcare Life Ins Co\",'Essbase Input'!$C$8=\"Mid-West Nat Life Ins Co of TN\",'Essbase Input'!$C$8=\"The Chesapeake Life Ins. Co.\"),\"\",M29+M32-M34+M36-M38+M40+M43-M45+M47+M48-M49+M50))","v":""},{"$f":"IF(VLOOKUP('Essbase Input'!$C$8,Tables!$B$4:$F$16,5,FALSE)=\"DHMO\",\"\",IF(OR('Essbase Input'!$C$8=\"Golden Rule Insurance Company\",'Essbase Input'!$C$8=\"UnitedHealthcare Life Ins Co\",'Essbase Input'!$C$8=\"Mid-West Nat Life Ins Co of TN\",'Essbase Input'!$C$8=\"The Chesapeake Life Ins. Co.\"),\"\",N30+N33+N37+N41+N44+N47+N48+N50))","v":""},{"$f":"IF(VLOOKUP('Essbase Input'!$C$8,Tables!$B$4:$F$16,5,FALSE)=\"DHMO\",\"\",IF(OR('Essbase Input'!$C$8=\"Golden Rule Insurance Company\",'Essbase Input'!$C$8=\"UnitedHealthcare Life Ins Co\",'Essbase Input'!$C$8=\"Mid-West Nat Life Ins Co of TN\",'Essbase Input'!$C$8=\"The Chesapeake Life Ins. Co.\"),\"\",O29+O32-O34+O36-O38+O40+O43-O45+O47+O48-O49+O50))","v":""},{"$f":"IF(VLOOKUP('Essbase Input'!$C$8,Tables!$B$4:$F$16,5,FALSE)=\"DHMO\",\"\",IF(OR('Essbase Input'!$C$8=\"Golden Rule Insurance Company\",'Essbase Input'!$C$8=\"UnitedHealthcare Life Ins Co\",'Essbase Input'!$C$8=\"Mid-West Nat Life Ins Co of TN\",'Essbase Input'!$C$8=\"The Chesapeake Life Ins. Co.\"),\"\",P30+P33+P37+P41+P44+P47+P48+P50))","v":""},null,{"$f":"R29+R32-R34+R36-R38+R40+R43-R45+R47+R48-R49+R50","v":75730.91},null,{"$f":"T29+T32-T34+T36-T38+T40+T43-T45+T47+T48-T49+T50","v":4667.7000000000007},{"$f":"U29+U32-U34+U36-U38+U40+U43-U45+U47+U48-U49+U50","v":0},0,0,0,0,0,0,0,0,0,0,75730.91,0,0,0,0,0,{"$f":"SUM(AE51:AK51)","v":75730.91},{"$f":"AM29+AM32-AM34+AM36-AM38+AM40+AM43-AM45+AM47+AM48-AM49+AM50","v":0},{"$f":"AN29+AN32-AN34+AN36-AN38+AN40+AN43-AN45+AN47+AN48-AN49+AN50","v":0},0,0,0,0,0,{"$f":"SUM(AM51:AS51)","v":0},{"$f":"IF(OR('Essbase Input'!$C$8=\"Golden Rule Insurance Company\",'Essbase Input'!$C$8=\"UnitedHealthcare Life Ins Co\",'Essbase Input'!$C$8=\"Mid-West Nat Life Ins Co of TN\",'Essbase Input'!$C$8=\"The Chesapeake Life Ins. Co.\"),SUM(R51:U51,AD51,AT51),IF('Essbase Input'!$C$8=\"Dental Benefit Prov CA Inc\",SUM(R51:U51,AD51,AE51:AF51,AT51),SUM(R51:U51,AD51,AL51,AT51)))","v":80398.61},{"$f":"AV29+AV32-AV34+AV36-AV38+AV40+AV43-AV45+AV47+AV48-AV49+AV50","v":80398.61},{"$f":"AU51-AV51","v":0},"Pt 2, Ln 2.17"]
[]
[]
[null,null,"Cell Keys:"]
[null,null,null,"Blank cells require input from Health plan or Health insurer"]
[null,null,null,"Grey cells require no data input"]
[null,null,null,"Pink cells require no data input - locked down"]
[null,null,null,"Blue cells: computed cell (formula cell)"]

{"sheet":"Pt 2 Premium and Claims - Adj","index":17,"n_rows":58,"n_cols":47,"rows_kept":58,"cut":false,"hidden":true,"merged":[[11,10,11,11],[14,4,14,9],[14,10,14,15],[5,1,5,3],[5,10,5,11],[7,1,7,3],[7,10,7,11],[9,1,9,3],[9,10,9,11],[14,1,17,3],[11,1,11,3],[11,4,11,5],[15,19,16,19],[15,20,16,20],[15,29,16,29],[16,4,16,5],[16,6,16,7],[16,8,16,9],[16,10,16,11],[16,12,16,13],[16,14,16,15],[15,4,15,9],[15,10,15,15],[15,28,16,28],[15,17,16,17],[15,37,16,37],[15,46,16,46],[14,30,14,31],[14,32,14,36],[14,38,14,44]]}
[null,"Department of Managed Health Care/Department of Insurance",null,null,null,null,null,null,null,"<<< DHMO","DPPO >>>"]
[null,"Medical Loss Ratio Reporting Form: Dental Coverage"]
[null,"Part 2 - Premium and Claims"]
[]
[null,"Health Plan ID"]
[null,{"$f":"'Cover Page'!C7","v":97179}]
[null,"Legal Name"]
[null,{"$f":"'Cover Page'!C8","v":"UnitedHealthcare Life Insurance Company"}]
[null,"dBA"]
[null,{"$f":"'Cover Page'!C9","v":"N/A"}]
[null,"MLR Reporting Year"]
[null,{"$f":"'Cover Page'!C6","v":"2022"}]
[]
[null,null,null,null,"INPUT","INPUT","INPUT","INPUT","INPUT","INPUT","INPUT","INPUT","INPUT","INPUT","INPUT","INPUT",null,"CALC",null,"INPUT","INPUT","INPUT","INPUT","INPUT","INPUT","INPUT","INPUT","INPUT","INPUT","CALC","INPUT","INPUT","INPUT","INPUT","INPUT","INPUT","INPUT","CALC","INPUT","INPUT","INPUT","INPUT","INPUT","INPUT","INPUT","CALC","CALC"]
[null,"UHG NOTES SECTION:\nADJustment tab.  This tab is used for topside adjusments not made to the ledger.\nThe base tab plus the \"Adj\" tab makes the \"Final' tab",null,null,"Health Insurance Coverage",null,null,null,null,null,"Health Insurance Coverage",null,null,null,null,null,null,"Stand Alone \nDental\n(Ind/SG/LG)",null,"Stand Alone \nVision","Non-Stand Alone \nDental/Vision","Other Bus\n(excluded by Statute)\nMISC 1","Other Bus\n(excluded by Statute)\nMISC 2","Other Bus\n(excluded by Statute)\nMISC 3","Other Bus\n(excluded by Statute)\nMISC 4","Other Bus\n(excluded by Statute)\nMISC 5","Other Bus\n(excluded by Statute)\nMISC 6","Other Bus\n(excluded by Statute)\nMISC 7","Other Bus\n(excluded by Statute)\nless MISC (1-7)","Other Bus\n(excluded by Statute)","Stand Alone Dental\nUHC Dom.\nNon-Ind/SG/LG",null,"Stand Alone Dental\nNon-UHC Dom.",null,null,null,null,null,"These products don't fall into any node and need to be remapped!",null,null,null,null,null,null,null,"Grand Total"]
[null,null,null,null,"DHMO Products",null,null,null,null,null,"DPPO & Indemnity Products",null,null,null,null,null,null,"Dental",null,"Vision","Life/Disability","Stop Loss","Stop Loss","Supp Hospital","Medicare Supp","Student Health","Wrap","Ind Short Term","Other Bus\n(\"Catch-All\")","Other Bus\n(excluded by Statute)",null,null,null,null,null,null,null,"Other\nStand Alone Dent\n",null,null,null,null,null,null,null,null,"Other Health Bus \nper DMHC"]
[null,null,null,null,"Individual",null,"Small Group",null,"Large Group",null,"Individual",null,"Small Group",null,"Large Group",null,null,null,null,null,null,"PROD Range 322***","PROD Range 150***","PROD Range 204***","PROD Range 203***","PROD Range 112/113***","PROD 202080","PROD 106410",null,null,"UHC Dom.\nStand Alone Dent\nBlank Cust","UHC Dom.\nStand Alone Dent\nNot Comp Health","UHC International\nStand Alone Dent\nMLR Customer","Optum\nStand Alone Dent\nMLR Customer","Elims Mkt Grp\nStand Alone Dent\nMLR Customer","Corp Mkt Grp\nStand Alone Dent\nMLR Customer","Non-UHG\nStand Alone Dent\nMLR Customer","Other\nDifferences","All OUs \np306156 \nMLR Customers","All OUs \np305402 \nMLR Customers","All OUs \np430083 \nMLR Customers","All OUs \np430084 \nMLR Customers","All OUs \np430087 \nMLR Customers","All OUs \np430088 \nMLR Customers","All OUs \np430089 \nMLR Customers","OTHER\n(Not in categories to the left)"]
[null,null,null,null,"Total as of ","Total as of ","Total as of ","Total as of ","Total as of ","Total as of ","Total as of ","Total as of ","Total as of ","Total as of ","Total as of ","Total as of ",null,"Total as of ",null,"Total as of ","Total as of ","Total as of ","Total as of ","Total as of ","Total as of ","Total as of ","Total as of ","Total as of ","Total as of ","Total as of ","Total as of ","Total as of ","Total as of ","Total as of ","Total as of ","Total as of ","Total as of ","Total as of ","Total as of ","Total as of ","Total as of ","Total as of ","Total as of ","Total as of ","Total as of ","Total as of ","Total as of "]
[null,null,null,"Part 2\nNOTE: REFER TO MLR INSTRUCTIONS FOR IMPORTANT ",{"$f":"\"12/31/\"&RIGHT('Essbase Input'!$C$17,2)","v":"12/31/22"},{"$f":"\"3/31/\"&RIGHT('Essbase Input'!$C$16,2)","v":"3/31/23"},{"$f":"\"12/31/\"&RIGHT('Essbase Input'!$C$17,2)","v":"12/31/22"},{"$f":"\"3/31/\"&RIGHT('Essbase Input'!$C$16,2)","v":"3/31/23"},{"$f":"\"12/31/\"&RIGHT('Essbase Input'!$C$17,2)","v":"12/31/22"},{"$f":"\"3/31/\"&RIGHT('Essbase Input'!$C$16,2)","v":"3/31/23"},{"$f":"\"12/31/\"&RIGHT('Essbase Input'!$C$17,2)","v":"12/31/22"},{"$f":"\"3/31/\"&RIGHT('Essbase Input'!$C$16,2)","v":"3/31/23"},{"$f":"\"12/31/\"&RIGHT('Essbase Input'!$C$17,2)","v":"12/31/22"},{"$f":"\"3/31/\"&RIGHT('Essbase Input'!$C$16,2)","v":"3/31/23"},{"$f":"\"12/31/\"&RIGHT('Essbase Input'!$C$17,2)","v":"12/31/22"},{"$f":"\"3/31/\"&RIGHT('Essbase Input'!$C$16,2)","v":"3/31/23"},null,{"$f":"\"12/31/\"&RIGHT('Essbase Input'!$C$17,2)","v":"12/31/22"},null,{"$f":"\"12/31/\"&RIGHT('Essbase Input'!$C$17,2)","v":"12/31/22"},{"$f":"\"12/31/\"&RIGHT('Essbase Input'!$C$17,2)","v":"12/31/22"},{"$f":"\"12/31/\"&RIGHT('Essbase Input'!$C$17,2)","v":"12/31/22"},{"$f":"\"12/31/\"&RIGHT('Essbase Input'!$C$17,2)","v":"12/31/22"},{"$f":"\"12/31/\"&RIGHT('Essbase Input'!$C$17,2)","v":"12/31/22"},{"$f":"\"12/31/\"&RIGHT('Essbase Input'!$C$17,2)","v":"12/31/22"},{"$f":"\"12/31/\"&RIGHT('Essbase Input'!$C$17,2)","v":"12/31/22"},{"$f":"\"12/31/\"&RIGHT('Essbase Input'!$C$17,2)","v":"12/31/22"},{"$f":"\"12/31/\"&RIGHT('Essbase Input'!$C$17,2)","v":"12/31/22"},{"$f":"\"12/31/\"&RIGHT('Essbase Input'!$C$17,2)","v":"12/31/22"},{"$f":"\"12/31/\"&RIGHT('Essbase Input'!$C$17,2)","v":"12/31/22"},{"$f":"\"12/31/\"&RIGHT('Essbase Input'!$C$17,2)","v":"12/31/22"},{"$f":"\"12/31/\"&RIGHT('Essbase Input'!$C$17,2)","v":"12/31/22"},{"$f":"\"12/31/\"&RIGHT('Essbase Input'!$C$17,2)","v":"12/31/22"},{"$f":"\"12/31/\"&RIGHT('Essbase Input'!$C$17,2)","v":"12/31/22"},{"$f":"\"12/31/\"&RIGHT('Essbase Input'!$C$17,2)","v":"12/31/22"},{"$f":"\"12/31/\"&RIGHT('Essbase Input'!$C$17,2)","v":"12/31/22"},{"$f":"\"12/31/\"&RIGHT('Essbase Input'!$C$17,2)","v":"12/31/22"},{"$f":"\"12/31/\"&RIGHT('Essbase Input'!$C$17,2)","v":"12/31/22"},{"$f":"\"12/31/\"&RIGHT('Essbase Input'!$C$17,2)","v":"12/31/22"},{"$f":"\"12/31/\"&RIGHT('Essbase Input'!$C$17,2)","v":"12/31/22"},{"$f":"\"12/31/\"&RIGHT('Essbase Input'!$C$17,2)","v":"12/31/22"},{"$f":"\"12/31/\"&RIGHT('Essbase Input'!$C$17,2)","v":"12/31/22"},{"$f":"\"12/31/\"&RIGHT('Essbase Input'!$C$17,2)","v":"12/31/22"},{"$f":"\"12/31/\"&RIGHT('Essbase Input'!$C$17,2)","v":"12/31/22"},{"$f":"\"12/31/\"&RIGHT('Essbase Input'!$C$17,2)","v":"12/31/22"},{"$f":"\"12/31/\"&RIGHT('Essbase Input'!$C$17,2)","v":"12/31/22"},{"$f":"\"12/31/\"&RIGHT('Essbase Input'!$C$17,2)","v":"12/31/22"}]
[null,null,null,"INFORMATION ABOUT COMPLETING EACH COLUMN AND ROW.",1,2,3,4,5,6,7,8,9,10,11,12]
[null,"1.","Premium:"]
[null,null,1.1000000000000001,"Direct premium written",null,null,null,null,null,null,null,null,null,null,null,null,null,{"$f":"IF(O22=\"\",0,O22)+IF(M22=\"\",0,M22)+IF(K22=\"\",0,K22)+IF(I22=\"\",0,I22)+IF(G22=\"\",0,G22)+IF(E22=\"\",0,E22)","v":0},null,null,null,null,null,null,null,null,null,null,null,{"$f":"SUM(V22:AC22)","v":0},null,null,null,null,null,null,null,{"$f":"SUM(AE22:AK22)","v":0},null,null,null,null,null,null,null,{"$f":"SUM(AM22:AS22)","v":0},{"$f":"IF(OR('Essbase Input'!$C$8=\"Golden Rule Insurance Company\",'Essbase Input'!$C$8=\"UnitedHealthcare Life Ins Co\",'Essbase Input'!$C$8=\"Mid-West Nat Life Ins Co of TN\",'Essbase Input'!$C$8=\"The Chesapeake Life Ins. Co.\"),SUM(R22:U22,AD22,AT22),IF('Essbase Input'!$C$8=\"Dental Benefit Prov CA Inc\",SUM(R22:U22,AD22,AE22:AF22,AT22),SUM(R22:U22,AD22,AL22,AT22)))","v":0}]
[null,null,1.2,"Unearned premium prior year",null,null,null,null,null,null,null,null,null,null,null,null,null,{"$f":"IF(O23=\"\",0,O23)+IF(M23=\"\",0,M23)+IF(K23=\"\",0,K23)+IF(I23=\"\",0,I23)+IF(G23=\"\",0,G23)+IF(E23=\"\",0,E23)","v":0},null,null,null,null,null,null,null,null,null,null,null,{"$f":"SUM(V23:AC23)","v":0},null,null,null,null,null,null,null,{"$f":"SUM(AE23:AK23)","v":0},null,null,null,null,null,null,null,{"$f":"SUM(AM23:AS23)","v":0},{"$f":"IF(OR('Essbase Input'!$C$8=\"Golden Rule Insurance Company\",'Essbase Input'!$C$8=\"UnitedHealthcare Life Ins Co\",'Essbase Input'!$C$8=\"Mid-West Nat Life Ins Co of TN\",'Essbase Input'!$C$8=\"The Chesapeake Life Ins. Co.\"),SUM(R23:U23,AD23,AT23),IF('Essbase Input'!$C$8=\"Dental Benefit Prov CA Inc\",SUM(R23:U23,AD23,AE23:AF23,AT23),SUM(R23:U23,AD23,AL23,AT23)))","v":0}]
[null,null,1.3,"Unearned premium MLR Reporting year",null,null,null,null,null,null,null,null,null,null,null,null,null,{"$f":"IF(O24=\"\",0,O24)+IF(M24=\"\",0,M24)+IF(K24=\"\",0,K24)+IF(I24=\"\",0,I24)+IF(G24=\"\",0,G24)+IF(E24=\"\",0,E24)","v":0},null,null,null,null,null,null,null,null,null,null,null,{"$f":"SUM(V24:AC24)","v":0},null,null,null,null,null,null,null,{"$f":"SUM(AE24:AK24)","v":0},null,null,null,null,null,null,null,{"$f":"SUM(AM24:AS24)","v":0},{"$f":"IF(OR('Essbase Input'!$C$8=\"Golden Rule Insurance Company\",'Essbase Input'!$C$8=\"UnitedHealthcare Life Ins Co\",'Essbase Input'!$C$8=\"Mid-West Nat Life Ins Co of TN\",'Essbase Input'!$C$8=\"The Chesapeake Life Ins. Co.\"),SUM(R24:U24,AD24,AT24),IF('Essbase Input'!$C$8=\"Dental Benefit Prov CA Inc\",SUM(R24:U24,AD24,AE24:AF24,AT24),SUM(R24:U24,AD24,AL24,AT24)))","v":0}]
[null,null,1.4,"Premium balances written off",null,null,null,null,null,null,null,null,null,null,null,null,null,{"$f":"IF(O25=\"\",0,O25)+IF(M25=\"\",0,M25)+IF(K25=\"\",0,K25)+IF(I25=\"\",0,I25)+IF(G25=\"\",0,G25)+IF(E25=\"\",0,E25)","v":0},null,null,null,null,null,null,null,null,null,null,null,{"$f":"SUM(V25:AC25)","v":0},null,null,null,null,null,null,null,{"$f":"SUM(AE25:AK25)","v":0},null,null,null,null,null,null,null,{"$f":"SUM(AM25:AS25)","v":0},{"$f":"IF(OR('Essbase Input'!$C$8=\"Golden Rule Insurance Company\",'Essbase Input'!$C$8=\"UnitedHealthcare Life Ins Co\",'Essbase Input'!$C$8=\"Mid-West Nat Life Ins Co of TN\",'Essbase Input'!$C$8=\"The Chesapeake Life Ins. Co.\"),SUM(R25:U25,AD25,AT25),IF('Essbase Input'!$C$8=\"Dental Benefit Prov CA Inc\",SUM(R25:U25,AD25,AE25:AF25,AT25),SUM(R25:U25,AD25,AL25,AT25)))","v":0}]
[]
[null,"2.","Claims:"]
[null,null,2.1,"Claims Paid"]
[null,null,null,"2.1a  Claims paid during the MLR reporting year regardless of incurred date",null,null,null,null,null,null,null,null,null,null,null,null,null,{"$f":"IF(O29=\"\",0,O29)+IF(M29=\"\",0,M29)+IF(K29=\"\",0,K29)+IF(I29=\"\",0,I29)+IF(G29=\"\",0,G29)+IF(E29=\"\",0,E29)","v":0},null,null,null,null,null,null,null,null,null,null,null,{"$f":"SUM(V29:AC29)","v":0},null,null,null,null,null,null,null,{"$f":"SUM(AE29:AK29)","v":0},null,null,null,null,null,null,null,{"$f":"SUM(AM29:AS29)","v":0},{"$f":"IF(OR('Essbase Input'!$C$8=\"Golden Rule Insurance Company\",'Essbase Input'!$C$8=\"UnitedHealthcare Life Ins Co\",'Essbase Input'!$C$8=\"Mid-West Nat Life Ins Co of TN\",'Essbase Input'!$C$8=\"The Chesapeake Life Ins. Co.\"),SUM(R29:U29,AD29,AT29),IF('Essbase Input'!$C$8=\"Dental Benefit Prov CA Inc\",SUM(R29:U29,AD29,AE29:AF29,AT29),SUM(R29:U29,AD29,AL29,AT29)))","v":0}]
[null,null,null,"2.1b  Claims incurred only during the MLR reporting year, paid through 3/31 of the following year",null,null,null,null,null,null,null,-890]
[null,null,2.2000000000000002,"Direct claim liability"]
[null,null,null,"2.2a Liability as of 12/31 of MLR reporting year for all claims regardless of incurred date",null,null,null,null,null,null,null,null,null,null,null,null,null,{"$f":"IF(O32=\"\",0,O32)+IF(M32=\"\",0,M32)+IF(K32=\"\",0,K32)+IF(I32=\"\",0,I32)+IF(G32=\"\",0,G32)+IF(E32=\"\",0,E32)","v":0},null,null,null,null,null,null,null,null,null,null,null,{"$f":"SUM(V32:AC32)","v":0},null,null,null,null,null,null,null,{"$f":"SUM(AE32:AK32)","v":0},null,null,null,null,null,null,null,{"$f":"SUM(AM32:AS32)","v":0},{"$f":"IF(OR('Essbase Input'!$C$8=\"Golden Rule Insurance Company\",'Essbase Input'!$C$8=\"UnitedHealthcare Life Ins Co\",'Essbase Input'!$C$8=\"Mid-West Nat Life Ins Co of TN\",'Essbase Input'!$C$8=\"The Chesapeake Life Ins. Co.\"),SUM(R32:U32,AD32,AT32),IF('Essbase Input'!$C$8=\"Dental Benefit Prov CA Inc\",SUM(R32:U32,AD32,AE32:AF32,AT32),SUM(R32:U32,AD32,AL32,AT32)))","v":0}]
[null,null,null,"2.2b Liability for claims incurred only during the MLR reporting year, calculated as of 3/31 of the following year",null,null,null,null,null,null,null,890]
[null,null,2.2999999999999998,"Direct claim liability prior year",null,null,null,null,null,null,null,null,null,null,null,null,null,{"$f":"IF(O34=\"\",0,O34)+IF(M34=\"\",0,M34)+IF(K34=\"\",0,K34)+IF(I34=\"\",0,I34)+IF(G34=\"\",0,G34)+IF(E34=\"\",0,E34)","v":0},null,null,null,null,null,null,null,null,null,null,null,{"$f":"SUM(V34:AC34)","v":0},null,null,null,null,null,null,null,{"$f":"SUM(AE34:AK34)","v":0},null,null,null,null,null,null,null,{"$f":"SUM(AM34:AS34)","v":0},{"$f":"IF(OR('Essbase Input'!$C$8=\"Golden Rule Insurance Company\",'Essbase Input'!$C$8=\"UnitedHealthcare Life Ins Co\",'Essbase Input'!$C$8=\"Mid-West Nat Life Ins Co of TN\",'Essbase Input'!$C$8=\"The Chesapeake Life Ins. Co.\"),SUM(R34:U34,AD34,AT34),IF('Essbase Input'!$C$8=\"Dental Benefit Prov CA Inc\",SUM(R34:U34,AD34,AE34:AF34,AT34),SUM(R34:U34,AD34,AL34,AT34)))","v":0}]
[null,null,2.4,"Direct claim reserves"]
[null,null,null,"2.4a Reserves as of 12/31 of MLR reporting year for all claims regardless of incurred date",null,null,null,null,null,null,null,null,null,null,null,null,null,{"$f":"IF(O36=\"\",0,O36)+IF(M36=\"\",0,M36)+IF(K36=\"\",0,K36)+IF(I36=\"\",0,I36)+IF(G36=\"\",0,G36)+IF(E36=\"\",0,E36)","v":0},null,null,null,null,null,null,null,null,null,null,null,{"$f":"SUM(V36:AC36)","v":0},null,null,null,null,null,null,null,{"$f":"SUM(AE36:AK36)","v":0},null,null,null,null,null,null,null,{"$f":"SUM(AM36:AS36)","v":0},{"$f":"IF(OR('Essbase Input'!$C$8=\"Golden Rule Insurance Company\",'Essbase Input'!$C$8=\"UnitedHealthcare Life Ins Co\",'Essbase Input'!$C$8=\"Mid-West Nat Life Ins Co of TN\",'Essbase Input'!$C$8=\"The Chesapeake Life Ins. Co.\"),SUM(R36:U36,AD36,AT36),IF('Essbase Input'!$C$8=\"Dental Benefit Prov CA Inc\",SUM(R36:U36,AD36,AE36:AF36,AT36),SUM(R36:U36,AD36,AL36,AT36)))","v":0}]
[null,null,null,"2.4b Reserves for claims incurred only during the MLR reporting year, calculated as of 3/31 of the following year"]
[null,null,2.5,"Direct claim reserves prior year",null,null,null,null,null,null,null,null,null,null,null,null,null,{"$f":"IF(O38=\"\",0,O38)+IF(M38=\"\",0,M38)+IF(K38=\"\",0,K38)+IF(I38=\"\",0,I38)+IF(G38=\"\",0,G38)+IF(E38=\"\",0,E38)","v":0},null,null,null,null,null,null,null,null,null,null,null,{"$f":"SUM(V38:AC38)","v":0},null,null,null,null,null,null,null,{"$f":"SUM(AE38:AK38)","v":0},null,null,null,null,null,null,null,{"$f":"SUM(AM38:AS38)","v":0},{"$f":"IF(OR('Essbase Input'!$C$8=\"Golden Rule Insurance Company\",'Essbase Input'!$C$8=\"UnitedHealthcare Life Ins Co\",'Essbase Input'!$C$8=\"Mid-West Nat Life Ins Co of TN\",'Essbase Input'!$C$8=\"The Chesapeake Life Ins. Co.\"),SUM(R38:U38,AD38,AT38),IF('Essbase Input'!$C$8=\"Dental Benefit Prov CA Inc\",SUM(R38:U38,AD38,AE38:AF38,AT38),SUM(R38:U38,AD38,AL38,AT38)))","v":0}]
[null,null,2.6,"Experience rating refunds (rate credits) paid"]
[null,null,null,"2.6a Experience rating refunds, with all incurred dates, paid in the MLR reporting year",null,null,null,null,null,null,null,null,null,null,null,null,null,{"$f":"IF(O40=\"\",0,O40)+IF(M40=\"\",0,M40)+IF(K40=\"\",0,K40)+IF(I40=\"\",0,I40)+IF(G40=\"\",0,G40)+IF(E40=\"\",0,E40)","v":0},null,null,null,null,null,null,null,null,null,null,null,{"$f":"SUM(V40:AC40)","v":0},null,null,null,null,null,null,null,{"$f":"SUM(AE40:AK40)","v":0},null,null,null,null,null,null,null,{"$f":"SUM(AM40:AS40)","v":0},{"$f":"IF(OR('Essbase Input'!$C$8=\"Golden Rule Insurance Company\",'Essbase Input'!$C$8=\"UnitedHealthcare Life Ins Co\",'Essbase Input'!$C$8=\"Mid-West Nat Life Ins Co of TN\",'Essbase Input'!$C$8=\"The Chesapeake Life Ins. Co.\"),SUM(R40:U40,AD40,AT40),IF('Essbase Input'!$C$8=\"Dental Benefit Prov CA Inc\",SUM(R40:U40,AD40,AE40:AF40,AT40),SUM(R40:U40,AD40,AL40,AT40)))","v":0}]
[null,null,null,"2.6b Experience rating refunds associated with premium earned only in the reporting year and paid through 3/31 of the following year"]
[null,null,2.7,"Reserve for experience rating refunds (rate credits)"]
[null,null,null,"2.7a Reserved in MLR reporting year regardless of incurred date",null,null,null,null,null,null,null,null,null,null,null,null,null,{"$f":"IF(O43=\"\",0,O43)+IF(M43=\"\",0,M43)+IF(K43=\"\",0,K43)+IF(I43=\"\",0,I43)+IF(G43=\"\",0,G43)+IF(E43=\"\",0,E43)","v":0},null,null,null,null,null,null,null,null,null,null,null,{"$f":"SUM(V43:AC43)","v":0},null,null,null,null,null,null,null,{"$f":"SUM(AE43:AK43)","v":0},null,null,null,null,null,null,null,{"$f":"SUM(AM43:AS43)","v":0},{"$f":"IF(OR('Essbase Input'!$C$8=\"Golden Rule Insurance Company\",'Essbase Input'!$C$8=\"UnitedHealthcare Life Ins Co\",'Essbase Input'!$C$8=\"Mid-West Nat Life Ins Co of TN\",'Essbase Input'!$C$8=\"The Chesapeake Life Ins. Co.\"),SUM(R43:U43,AD43,AT43),IF('Essbase Input'!$C$8=\"Dental Benefit Prov CA Inc\",SUM(R43:U43,AD43,AE43:AF43,AT43),SUM(R43:U43,AD43,AL43,AT43)))","v":0}]
[null,null,null,"2.7b Reserves specific to the MLR reporting year through 3/31 of the following year"]
[null,null,"2.8","Reserve for experience rating refunds (rate credits) prior year",null,null,null,null,null,null,null,null,null,null,null,null,null,{"$f":"IF(O45=\"\",0,O45)+IF(M45=\"\",0,M45)+IF(K45=\"\",0,K45)+IF(I45=\"\",0,I45)+IF(G45=\"\",0,G45)+IF(E45=\"\",0,E45)","v":0},null,null,null,null,null,null,null,null,null,null,null,{"$f":"SUM(V45:AC45)","v":0},null,null,null,null,null,null,null,{"$f":"SUM(AE45:AK45)","v":0},null,null,null,null,null,null,null,{"$f":"SUM(AM45:AS45)","v":0},{"$f":"IF(OR('Essbase Input'!$C$8=\"Golden Rule Insurance Company\",'Essbase Input'!$C$8=\"UnitedHealthcare Life Ins Co\",'Essbase Input'!$C$8=\"Mid-West Nat Life Ins Co of TN\",'Essbase Input'!$C$8=\"The Chesapeake Life Ins. Co.\"),SUM(R45:U45,AD45,AT45),IF('Essbase Input'!$C$8=\"Dental Benefit Prov CA Inc\",SUM(R45:U45,AD45,AE45:AF45,AT45),SUM(R45:U45,AD45,AL45,AT45)))","v":0}]
[null,null,2.9,"Incurred dental incentive pool and bonuses"]
[null,null,null,"2.9a  Paid dental incentive pools and bonuses MLR Reporting year",null,null,null,null,null,null,null,null,null,null,null,null,null,{"$f":"IF(O47=\"\",0,O47)+IF(M47=\"\",0,M47)+IF(K47=\"\",0,K47)+IF(I47=\"\",0,I47)+IF(G47=\"\",0,G47)+IF(E47=\"\",0,E47)","v":0},null,null,null,null,null,null,null,null,null,null,null,{"$f":"SUM(V47:AC47)","v":0},null,null,null,null,null,null,null,{"$f":"SUM(AE47:AK47)","v":0},null,null,null,null,null,null,null,{"$f":"SUM(AM47:AS47)","v":0},{"$f":"IF(OR('Essbase Input'!$C$8=\"Golden Rule Insurance Company\",'Essbase Input'!$C$8=\"UnitedHealthcare Life Ins Co\",'Essbase Input'!$C$8=\"Mid-West Nat Life Ins Co of TN\",'Essbase Input'!$C$8=\"The Chesapeake Life Ins. Co.\"),SUM(R47:U47,AD47,AT47),IF('Essbase Input'!$C$8=\"Dental Benefit Prov CA Inc\",SUM(R47:U47,AD47,AE47:AF47,AT47),SUM(R47:U47,AD47,AL47,AT47)))","v":0}]
[null,null,null,"2.9b  Accrued dental incentive pools and bonuses MLR Reporting year",null,null,null,null,null,null,null,null,null,null,null,null,null,0,null,null,null,null,null,null,null,null,null,null,null,0,null,null,null,null,null,null,null,0,null,null,null,null,null,null,null,0,{"$f":"IF(OR('Essbase Input'!$C$8=\"Golden Rule Insurance Company\",'Essbase Input'!$C$8=\"UnitedHealthcare Life Ins Co\",'Essbase Input'!$C$8=\"Mid-West Nat Life Ins Co of TN\",'Essbase Input'!$C$8=\"The Chesapeake Life Ins. Co.\"),SUM(R48:U48,AD48,AT48),IF('Essbase Input'!$C$8=\"Dental Benefit Prov CA Inc\",SUM(R48:U48,AD48,AE48:AF48,AT48),SUM(R48:U48,AD48,AL48,AT48)))","v":0}]
[null,null,null,"2.9c  Accrued dental incentive pools and bonuses prior year",null,null,null,null,null,null,null,null,null,null,null,null,null,0,null,null,null,null,null,null,null,null,null,null,null,0,null,null,null,null,null,null,null,0,null,null,null,null,null,null,null,0,{"$f":"IF(OR('Essbase Input'!$C$8=\"Golden Rule Insurance Company\",'Essbase Input'!$C$8=\"UnitedHealthcare Life Ins Co\",'Essbase Input'!$C$8=\"Mid-West Nat Life Ins Co of TN\",'Essbase Input'!$C$8=\"The Chesapeake Life Ins. Co.\"),SUM(R49:U49,AD49,AT49),IF('Essbase Input'!$C$8=\"Dental Benefit Prov CA Inc\",SUM(R49:U49,AD49,AE49:AF49,AT49),SUM(R49:U49,AD49,AL49,AT49)))","v":0}]
[null,null,"2.10","Contingent benefit and lawsuit reserves",null,null,null,null,null,null,null,null,null,null,null,null,null,0,null,null,null,null,null,null,null,null,null,null,null,0,null,null,null,null,null,null,null,0,null,null,null,null,null,null,null,0,{"$f":"IF(OR('Essbase Input'!$C$8=\"Golden Rule Insurance Company\",'Essbase Input'!$C$8=\"UnitedHealthcare Life Ins Co\",'Essbase Input'!$C$8=\"Mid-West Nat Life Ins Co of TN\",'Essbase Input'!$C$8=\"The Chesapeake Life Ins. Co.\"),SUM(R50:U50,AD50,AT50),IF('Essbase Input'!$C$8=\"Dental Benefit Prov CA Inc\",SUM(R50:U50,AD50,AE50:AF50,AT50),SUM(R50:U50,AD50,AL50,AT50)))","v":0}]
[null,null,"2.11","Total incurred claims ",{"$f":"E29+E32-E34+E36-E38+E40+E43-E45+E47+E48-E49+E50","v":0},{"$f":"F30+F33+F37+F41+F44+F47+F48+F50","v":0},0,{"$f":"H30+H33+H37+H41+H44+H47+H48+H50","v":0},0,{"$f":"J30+J33+J37+J41+J44+J47+J48+J50","v":0},0,{"$f":"L30+L33+L37+L41+L44+L47+L48+L50","v":0},0,{"$f":"N30+N33+N37+N41+N44+N47+N48+N50","v":0},0,{"$f":"P30+P33+P37+P41+P44+P47+P48+P50","v":0},null,{"$f":"IF(O51=\"\",0,O51)+IF(M51=\"\",0,M51)+IF(K51=\"\",0,K51)+IF(I51=\"\",0,I51)+IF(G51=\"\",0,G51)+IF(E51=\"\",0,E51)","v":0},null,null,null,null,null,null,null,null,null,null,null,{"$f":"SUM(V51:AC51)","v":0},null,null,null,null,null,null,null,{"$f":"SUM(AE51:AK51)","v":0},null,null,null,null,null,null,null,{"$f":"SUM(AM51:AS51)","v":0},{"$f":"IF(OR('Essbase Input'!$C$8=\"Golden Rule Insurance Company\",'Essbase Input'!$C$8=\"UnitedHealthcare Life Ins Co\",'Essbase Input'!$C$8=\"Mid-West Nat Life Ins Co of TN\",'Essbase Input'!$C$8=\"The Chesapeake Life Ins. Co.\"),SUM(R51:U51,AD51,AT51),IF('Essbase Input'!$C$8=\"Dental Benefit Prov CA Inc\",SUM(R51:U51,AD51,AE51:AF51,AT51),SUM(R51:U51,AD51,AL51,AT51)))","v":0}]
[]
[]
[null,null,"Cell Keys:"]
[null,null,null,"Blank cells require input from Health plan or Health insurer"]
[null,null,null,"Grey cells require no data input"]
[null,null,null,"Pink cells require no data input - locked down"]
[null,null,null,"Blue cells: computed cell (formula cell)"]

{"sheet":"Pt 2 Premium and Claims - Final","index":18,"n_rows":58,"n_cols":49,"rows_kept":58,"cut":false,"hidden":false,"merged":[[11,1,11,3],[11,4,11,5],[11,10,11,11],[14,4,14,9],[14,10,14,15],[14,1,17,3],[16,8,16,9],[16,10,16,11],[16,12,16,13],[5,1,5,3],[5,10,5,11],[7,1,7,3],[7,10,7,11],[9,1,9,3],[9,10,9,11],[15,17,16,17],[15,19,16,19],[16,14,16,15],[15,4,15,9],[15,10,15,15],[16,4,16,5],[16,6,16,7],[15,20,16,20],[15,28,16,28],[15,29,16,29],[15,46,16,46],[15,48,16,48],[14,30,14,31],[14,32,14,36],[14,38,14,44],[15,37,16,37],[15,47,16,47]]}
[null,"Department of Managed Health Care/Department of Insurance",null,null,null,null,null,null,null,"<<< DHMO","DPPO >>>"]
[null,"Medical Loss Ratio Reporting Form: Dental Coverage"]
[null,"Part 2 - Premium and Claims"]
[]
[null,"Health Plan ID"]
[null,{"$f":"'Cover Page'!C7","v":97179}]
[null,"Legal Name"]
[null,{"$f":"'Cover Page'!C8","v":"UnitedHealthcare Life Insurance Company"}]
[null,"dBA"]
[null,{"$f":"'Cover Page'!C9","v":"N/A"}]
[null,"MLR Reporting Year"]
[null,{"$f":"'Cover Page'!C6","v":"2022"}]
[]
[]
[null,"UHG NOTES SECTION:\nFinal tab.  This tab is the final report that will be filed with DMHC.\nThe base tab plus the \"Adj\" tab makes the \"Final' tab",null,null,"Health Insurance Coverage",null,null,null,null,null,"Health Insurance Coverage",null,null,null,null,null,null,"Stand Alone \nDental\n(Ind/SG/LG)",null,"Stand Alone \nVision","Non-Stand Alone \nDental/Vision","Other Bus\n(excluded by Statute)\nMISC 1","Other Bus\n(excluded by Statute)\nMISC 2","Other Bus\n(excluded by Statute)\nMISC 3","Other Bus\n(excluded by Statute)\nMISC 4","Other Bus\n(excluded by Statute)\nMISC 5","Other Bus\n(excluded by Statute)\nMISC 6","Other Bus\n(excluded by Statute)\nMISC 7","Other Bus\n(excluded by Statute)\nless MISC (1-7)","Other Bus\n(excluded by Statute)","Stand Alone Dental\nUHC Dom.\nNon-Ind/SG/LG",null,"Stand Alone Dental\nNon-UHC Dom.",null,null,null,null,null,"These products don't fall into any node and need to be remapped!",null,null,null,null,null,null,null,"Grand Total",null,"Reference"]
[null,null,null,null,"DHMO Products",null,null,null,null,null,"DPPO & Indemnity Products",null,null,null,null,null,null,"Dental",null,"Vision","Life/Disability","Stop Loss","Stop Loss","Supp Hospital","Medicare Supp","Student Health","Wrap","Ind Short Term","Other Bus\n(\"Catch-All\")","Other Bus\n(excluded by Statute)",null,null,null,null,null,null,null,"Other\nStand Alone Dent\n",null,null,null,null,null,null,null,null,"Other Health Bus \nper DMHC","Federal MLR Other Health Total","CMS Lines"]
[null,null,null,null,"Individual",null,"Small Group",null,"Large Group",null,"Individual",null,"Small Group",null,"Large Group",null,null,null,null,null,null,"PROD Range 322***","PROD Range 150***","PROD Range 204***","PROD Range 203***","PROD Range 112/113***","PROD 202080","PROD 106410",null,null,"UHC Dom.\nStand Alone Dent\nBlank Cust","UHC Dom.\nStand Alone Dent\nNot Comp Health","UHC International\nStand Alone Dent\nMLR Customer","Optum\nStand Alone Dent\nMLR Customer","Elims Mkt Grp\nStand Alone Dent\nMLR Customer","Corp Mkt Grp\nStand Alone Dent\nMLR Customer","Non-UHG\nStand Alone Dent\nMLR Customer","Other\nDifferences","All OUs \np306156 \nMLR Customers","All OUs \np305402 \nMLR Customers","All OUs \np430083 \nMLR Customers","All OUs \np430084 \nMLR Customers","All OUs \np430087 \nMLR Customers","All OUs \np430088 \nMLR Customers","All OUs \np430089 \nMLR Customers","OTHER\n(Not in categories to the left)"]
[null,null,null,null,"Total as of ","Total as of ","Total as of ","Total as of ","Total as of ","Total as of ","Total as of ","Total as of ","Total as of ","Total as of ","Total as of ","Total as of ",null,"Total as of ",null,"Total as of ","Total as of ","Total as of ","Total as of ","Total as of ","Total as of ","Total as of ","Total as of ","Total as of ","Total as of ","Total as of ","Total as of ","Total as of ","Total as of ","Total as of ","Total as of ","Total as of ","Total as of ","Total as of ","Total as of ","Total as of ","Total as of ","Total as of ","Total as of ","Total as of ","Total as of ","Total as of ","Total as of ","Total as of "]
[null,null,null,"Part 2\nNOTE: REFER TO MLR INSTRUCTIONS FOR IMPORTANT ",{"$f":"\"12/31/\"&RIGHT('Essbase Input'!$C$17,2)","v":"12/31/22"},{"$f":"\"3/31/\"&RIGHT('Essbase Input'!$C$16,2)","v":"3/31/23"},{"$f":"\"12/31/\"&RIGHT('Essbase Input'!$C$17,2)","v":"12/31/22"},{"$f":"\"3/31/\"&RIGHT('Essbase Input'!$C$16,2)","v":"3/31/23"},{"$f":"\"12/31/\"&RIGHT('Essbase Input'!$C$17,2)","v":"12/31/22"},{"$f":"\"3/31/\"&RIGHT('Essbase Input'!$C$16,2)","v":"3/31/23"},{"$f":"\"12/31/\"&RIGHT('Essbase Input'!$C$17,2)","v":"12/31/22"},{"$f":"\"3/31/\"&RIGHT('Essbase Input'!$C$16,2)","v":"3/31/23"},{"$f":"\"12/31/\"&RIGHT('Essbase Input'!$C$17,2)","v":"12/31/22"},{"$f":"\"3/31/\"&RIGHT('Essbase Input'!$C$16,2)","v":"3/31/23"},{"$f":"\"12/31/\"&RIGHT('Essbase Input'!$C$17,2)","v":"12/31/22"},{"$f":"\"3/31/\"&RIGHT('Essbase Input'!$C$16,2)","v":"3/31/23"},null,{"$f":"\"12/31/\"&RIGHT('Essbase Input'!$C$17,2)","v":"12/31/22"},null,{"$f":"\"12/31/\"&RIGHT('Essbase Input'!$C$17,2)","v":"12/31/22"},{"$f":"\"12/31/\"&RIGHT('Essbase Input'!$C$17,2)","v":"12/31/22"},{"$f":"\"12/31/\"&RIGHT('Essbase Input'!$C$17,2)","v":"12/31/22"},{"$f":"\"12/31/\"&RIGHT('Essbase Input'!$C$17,2)","v":"12/31/22"},{"$f":"\"12/31/\"&RIGHT('Essbase Input'!$C$17,2)","v":"12/31/22"},{"$f":"\"12/31/\"&RIGHT('Essbase Input'!$C$17,2)","v":"12/31/22"},{"$f":"\"12/31/\"&RIGHT('Essbase Input'!$C$17,2)","v":"12/31/22"},{"$f":"\"12/31/\"&RIGHT('Essbase Input'!$C$17,2)","v":"12/31/22"},{"$f":"\"12/31/\"&RIGHT('Essbase Input'!$C$17,2)","v":"12/31/22"},{"$f":"\"12/31/\"&RIGHT('Essbase Input'!$C$17,2)","v":"12/31/22"},{"$f":"\"12/31/\"&RIGHT('Essbase Input'!$C$17,2)","v":"12/31/22"},{"$f":"\"12/31/\"&RIGHT('Essbase Input'!$C$17,2)","v":"12/31/22"},{"$f":"\"12/31/\"&RIGHT('Essbase Input'!$C$17,2)","v":"12/31/22"},{"$f":"\"12/31/\"&RIGHT('Essbase Input'!$C$17,2)","v":"12/31/22"},{"$f":"\"12/31/\"&RIGHT('Essbase Input'!$C$17,2)","v":"12/31/22"},{"$f":"\"12/31/\"&RIGHT('Essbase Input'!$C$17,2)","v":"12/31/22"},{"$f":"\"12/31/\"&RIGHT('Essbase Input'!$C$17,2)","v":"12/31/22"},{"$f":"\"12/31/\"&RIGHT('Essbase Input'!$C$17,2)","v":"12/31/22"},{"$f":"\"12/31/\"&RIGHT('Essbase Input'!$C$17,2)","v":"12/31/22"},{"$f":"\"12/31/\"&RIGHT('Essbase Input'!$C$17,2)","v":"12/31/22"},{"$f":"\"12/31/\"&RIGHT('Essbase Input'!$C$17,2)","v":"12/31/22"},{"$f":"\"12/31/\"&RIGHT('Essbase Input'!$C$17,2)","v":"12/31/22"},{"$f":"\"12/31/\"&RIGHT('Essbase Input'!$C$17,2)","v":"12/31/22"},{"$f":"\"12/31/\"&RIGHT('Essbase Input'!$C$17,2)","v":"12/31/22"},{"$f":"\"12/31/\"&RIGHT('Essbase Input'!$C$17,2)","v":"12/31/22"},{"$f":"\"12/31/\"&RIGHT('Essbase Input'!$C$17,2)","v":"12/31/22"},{"$f":"\"12/31/\"&RIGHT('Essbase Input'!$C$17,2)","v":"12/31/22"},{"$f":"\"12/31/\"&RIGHT('Essbase Input'!$C$17,2)","v":"12/31/22"},{"$f":"\"12/31/\"&RIGHT('Essbase Input'!$C$17,2)","v":"12/31/22"}]
[null,null,null,"INFORMATION ABOUT COMPLETING EACH COLUMN AND ROW.",1,2,3,4,5,6,7,8,9,10,11,12]
[null,"1.","Premium:"]
[null,null,1.1000000000000001,"Direct premium written",{"$f":"IF('Pt 2 Premium and Claims'!E22=\"\",\"\",'Pt 2 Premium and Claims'!E22+'Pt 2 Premium and Claims - Adj'!E22)","v":""},{"$f":"IF('Pt 2 Premium and Claims'!F22=\"\",\"\",'Pt 2 Premium and Claims'!F22+'Pt 2 Premium and Claims - Adj'!F22)","v":""},{"$f":"IF('Pt 2 Premium and Claims'!G22=\"\",\"\",'Pt 2 Premium and Claims'!G22+'Pt 2 Premium and Claims - Adj'!G22)","v":""},{"$f":"IF('Pt 2 Premium and Claims'!H22=\"\",\"\",'Pt 2 Premium and Claims'!H22+'Pt 2 Premium and Claims - Adj'!H22)","v":""},{"$f":"IF('Pt 2 Premium and Claims'!I22=\"\",\"\",'Pt 2 Premium and Claims'!I22+'Pt 2 Premium and Claims - Adj'!I22)","v":""},{"$f":"IF('Pt 2 Premium and Claims'!J22=\"\",\"\",'Pt 2 Premium and Claims'!J22+'Pt 2 Premium and Claims - Adj'!J22)","v":""},{"$f":"IF('Pt 2 Premium and Claims'!K22=\"\",\"\",'Pt 2 Premium and Claims'!K22+'Pt 2 Premium and Claims - Adj'!K22)","v":145317.48000000004},{"$f":"IF('Pt 2 Premium and Claims'!L22=\"\",\"\",'Pt 2 Premium and Claims'!L22+'Pt 2 Premium and Claims - Adj'!L22)","v":145020.52000000002},{"$f":"IF('Pt 2 Premium and Claims'!M22=\"\",\"\",'Pt 2 Premium and Claims'!M22+'Pt 2 Premium and Claims - Adj'!M22)","v":""},{"$f":"IF('Pt 2 Premium and Claims'!N22=\"\",\"\",'Pt 2 Premium and Claims'!N22+'Pt 2 Premium and Claims - Adj'!N22)","v":""},{"$f":"IF('Pt 2 Premium and Claims'!O22=\"\",\"\",'Pt 2 Premium and Claims'!O22+'Pt 2 Premium and Claims - Adj'!O22)","v":""},{"$f":"IF('Pt 2 Premium and Claims'!P22=\"\",\"\",'Pt 2 Premium and Claims'!P22+'Pt 2 Premium and Claims - Adj'!P22)","v":""},null,{"$f":"IF(O22=\"\",0,O22)+IF(M22=\"\",0,M22)+IF(K22=\"\",0,K22)+IF(I22=\"\",0,I22)+IF(G22=\"\",0,G22)+IF(E22=\"\",0,E22)","v":145317.48000000004},null,{"$f":"+'Pt 2 Premium and Claims'!T22+'Pt 2 Premium and Claims - Adj'!T22","v":10887.94},{"$f":"+'Pt 2 Premium and Claims'!U22+'Pt 2 Premium and Claims - Adj'!U22","v":0},{"$f":"+'Pt 2 Premium and Claims'!V22+'Pt 2 Premium and Claims - Adj'!V22","v":0},{"$f":"+'Pt 2 Premium and Claims'!W22+'Pt 2 Premium and Claims - Adj'!W22","v":0},{"$f":"+'Pt 2 Premium and Claims'!X22+'Pt 2 Premium and Claims - Adj'!X22","v":0},{"$f":"+'Pt 2 Premium and Claims'!Y22+'Pt 2 Premium and Claims - Adj'!Y22","v":0},{"$f":"+'Pt 2 Premium and Claims'!Z22+'Pt 2 Premium and Claims - Adj'!Z22","v":0},{"$f":"+'Pt 2 Premium and Claims'!AA22+'Pt 2 Premium and Claims - Adj'!AA22","v":0},{"$f":"+'Pt 2 Premium and Claims'!AB22+'Pt 2 Premium and Claims - Adj'!AB22","v":0},{"$f":"+'Pt 2 Premium and Claims'!AC22+'Pt 2 Premium and Claims - Adj'!AC22","v":0},{"$f":"+'Pt 2 Premium and Claims'!AD22+'Pt 2 Premium and Claims - Adj'!AD22","v":0},{"$f":"+'Pt 2 Premium and Claims'!AE22+'Pt 2 Premium and Claims - Adj'!AE22","v":0},{"$f":"+'Pt 2 Premium and Claims'!AF22+'Pt 2 Premium and Claims - Adj'!AF22","v":145317.48000000004},{"$f":"+'Pt 2 Premium and Claims'!AG22+'Pt 2 Premium and Claims - Adj'!AG22","v":0},{"$f":"+'Pt 2 Premium and Claims'!AH22+'Pt 2 Premium and Claims - Adj'!AH22","v":0},{"$f":"+'Pt 2 Premium and Claims'!AI22+'Pt 2 Premium and Claims - Adj'!AI22","v":0},{"$f":"+'Pt 2 Premium and Claims'!AJ22+'Pt 2 Premium and Claims - Adj'!AJ22","v":0},{"$f":"+'Pt 2 Premium and Claims'!AK22+'Pt 2 Premium and Claims - Adj'!AK22","v":0},{"$f":"+'Pt 2 Premium and Claims'!AL22+'Pt 2 Premium and Claims - Adj'!AL22","v":145317.48000000004},{"$f":"+'Pt 2 Premium and Claims'!AM22+'Pt 2 Premium and Claims - Adj'!AM22","v":0},{"$f":"+'Pt 2 Premium and Claims'!AN22+'Pt 2 Premium and Claims - Adj'!AN22","v":0},{"$f":"+'Pt 2 Premium and Claims'!AO22+'Pt 2 Premium and Claims - Adj'!AO22","v":0},{"$f":"+'Pt 2 Premium and Claims'!AP22+'Pt 2 Premium and Claims - Adj'!AP22","v":0},{"$f":"+'Pt 2 Premium and Claims'!AQ22+'Pt 2 Premium and Claims - Adj'!AQ22","v":0},{"$f":"+'Pt 2 Premium and Claims'!AR22+'Pt 2 Premium and Claims - Adj'!AR22","v":0},{"$f":"+'Pt 2 Premium and Claims'!AS22+'Pt 2 Premium and Claims - Adj'!AS22","v":0},{"$f":"+'Pt 2 Premium and Claims'!AT22+'Pt 2 Premium and Claims - Adj'!AT22","v":0},{"$f":"+'Pt 2 Premium and Claims'!AU22+'Pt 2 Premium and Claims - Adj'!AU22","v":156205.42000000004},{"$f":"+'Pt 2 Premium and Claims'!AV22+'Pt 2 Premium and Claims - Adj'!AV22","v":156205.42000000001},"Pt 2, Ln 1.1"]
[null,null,1.2,"Unearned premium prior year",{"$f":"IF('Pt 2 Premium and Claims'!E23=\"\",\"\",'Pt 2 Premium and Claims'!E23+'Pt 2 Premium and Claims - Adj'!E23)","v":""},{"$f":"IF('Pt 2 Premium and Claims'!F23=\"\",\"\",'Pt 2 Premium and Claims'!F23+'Pt 2 Premium and Claims - Adj'!F23)","v":""},{"$f":"IF('Pt 2 Premium and Claims'!G23=\"\",\"\",'Pt 2 Premium and Claims'!G23+'Pt 2 Premium and Claims - Adj'!G23)","v":""},{"$f":"IF('Pt 2 Premium and Claims'!H23=\"\",\"\",'Pt 2 Premium and Claims'!H23+'Pt 2 Premium and Claims - Adj'!H23)","v":""},{"$f":"IF('Pt 2 Premium and Claims'!I23=\"\",\"\",'Pt 2 Premium and Claims'!I23+'Pt 2 Premium and Claims - Adj'!I23)","v":""},{"$f":"IF('Pt 2 Premium and Claims'!J23=\"\",\"\",'Pt 2 Premium and Claims'!J23+'Pt 2 Premium and Claims - Adj'!J23)","v":""},{"$f":"IF('Pt 2 Premium and Claims'!K23=\"\",\"\",'Pt 2 Premium and Claims'!K23+'Pt 2 Premium and Claims - Adj'!K23)","v":0},{"$f":"IF('Pt 2 Premium and Claims'!L23=\"\",\"\",'Pt 2 Premium and Claims'!L23+'Pt 2 Premium and Claims - Adj'!L23)","v":0},{"$f":"IF('Pt 2 Premium and Claims'!M23=\"\",\"\",'Pt 2 Premium and Claims'!M23+'Pt 2 Premium and Claims - Adj'!M23)","v":""},{"$f":"IF('Pt 2 Premium and Claims'!N23=\"\",\"\",'Pt 2 Premium and Claims'!N23+'Pt 2 Premium and Claims - Adj'!N23)","v":0},{"$f":"IF('Pt 2 Premium and Claims'!O23=\"\",\"\",'Pt 2 Premium and Claims'!O23+'Pt 2 Premium and Claims - Adj'!O23)","v":""},{"$f":"IF('Pt 2 Premium and Claims'!P23=\"\",\"\",'Pt 2 Premium and Claims'!P23+'Pt 2 Premium and Claims - Adj'!P23)","v":0},null,{"$f":"IF(O23=\"\",0,O23)+IF(M23=\"\",0,M23)+IF(K23=\"\",0,K23)+IF(I23=\"\",0,I23)+IF(G23=\"\",0,G23)+IF(E23=\"\",0,E23)","v":0},null,{"$f":"+'Pt 2 Premium and Claims'!T23+'Pt 2 Premium and Claims - Adj'!T23","v":0},{"$f":"+'Pt 2 Premium and Claims'!U23+'Pt 2 Premium and Claims - Adj'!U23","v":0},{"$f":"+'Pt 2 Premium and Claims'!V23+'Pt 2 Premium and Claims - Adj'!V23","v":0},{"$f":"+'Pt 2 Premium and Claims'!W23+'Pt 2 Premium and Claims - Adj'!W23","v":0},{"$f":"+'Pt 2 Premium and Claims'!X23+'Pt 2 Premium and Claims - Adj'!X23","v":0},{"$f":"+'Pt 2 Premium and Claims'!Y23+'Pt 2 Premium and Claims - Adj'!Y23","v":0},{"$f":"+'Pt 2 Premium and Claims'!Z23+'Pt 2 Premium and Claims - Adj'!Z23","v":0},{"$f":"+'Pt 2 Premium and Claims'!AA23+'Pt 2 Premium and Claims - Adj'!AA23","v":0},{"$f":"+'Pt 2 Premium and Claims'!AB23+'Pt 2 Premium and Claims - Adj'!AB23","v":0},{"$f":"+'Pt 2 Premium and Claims'!AC23+'Pt 2 Premium and Claims - Adj'!AC23","v":0},{"$f":"+'Pt 2 Premium and Claims'!AD23+'Pt 2 Premium and Claims - Adj'!AD23","v":0},{"$f":"+'Pt 2 Premium and Claims'!AE23+'Pt 2 Premium and Claims - Adj'!AE23","v":0},{"$f":"+'Pt 2 Premium and Claims'!AF23+'Pt 2 Premium and Claims - Adj'!AF23","v":0},{"$f":"+'Pt 2 Premium and Claims'!AG23+'Pt 2 Premium and Claims - Adj'!AG23","v":0},{"$f":"+'Pt 2 Premium and Claims'!AH23+'Pt 2 Premium and Claims - Adj'!AH23","v":0},{"$f":"+'Pt 2 Premium and Claims'!AI23+'Pt 2 Premium and Claims - Adj'!AI23","v":0},{"$f":"+'Pt 2 Premium and Claims'!AJ23+'Pt 2 Premium and Claims - Adj'!AJ23","v":0},{"$f":"+'Pt 2 Premium and Claims'!AK23+'Pt 2 Premium and Claims - Adj'!AK23","v":0},{"$f":"+'Pt 2 Premium and Claims'!AL23+'Pt 2 Premium and Claims - Adj'!AL23","v":0},{"$f":"+'Pt 2 Premium and Claims'!AM23+'Pt 2 Premium and Claims - Adj'!AM23","v":0},{"$f":"+'Pt 2 Premium and Claims'!AN23+'Pt 2 Premium and Claims - Adj'!AN23","v":0},{"$f":"+'Pt 2 Premium and Claims'!AO23+'Pt 2 Premium and Claims - Adj'!AO23","v":0},{"$f":"+'Pt 2 Premium and Claims'!AP23+'Pt 2 Premium and Claims - Adj'!AP23","v":0},{"$f":"+'Pt 2 Premium and Claims'!AQ23+'Pt 2 Premium and Claims - Adj'!AQ23","v":0},{"$f":"+'Pt 2 Premium and Claims'!AR23+'Pt 2 Premium and Claims - Adj'!AR23","v":0},{"$f":"+'Pt 2 Premium and Claims'!AS23+'Pt 2 Premium and Claims - Adj'!AS23","v":0},{"$f":"+'Pt 2 Premium and Claims'!AT23+'Pt 2 Premium and Claims - Adj'!AT23","v":0},{"$f":"+'Pt 2 Premium and Claims'!AU23+'Pt 2 Premium and Claims - Adj'!AU23","v":0},{"$f":"+'Pt 2 Premium and Claims'!AV23+'Pt 2 Premium and Claims - Adj'!AV23","v":0},"Pt 2, Ln 1.2"]
[null,null,1.3,"Unearned premium MLR Reporting year",{"$f":"IF('Pt 2 Premium and Claims'!E24=\"\",\"\",'Pt 2 Premium and Claims'!E24+'Pt 2 Premium and Claims - Adj'!E24)","v":""},{"$f":"IF('Pt 2 Premium and Claims'!F24=\"\",\"\",'Pt 2 Premium and Claims'!F24+'Pt 2 Premium and Claims - Adj'!F24)","v":""},{"$f":"IF('Pt 2 Premium and Claims'!G24=\"\",\"\",'Pt 2 Premium and Claims'!G24+'Pt 2 Premium and Claims - Adj'!G24)","v":""},{"$f":"IF('Pt 2 Premium and Claims'!H24=\"\",\"\",'Pt 2 Premium and Claims'!H24+'Pt 2 Premium and Claims - Adj'!H24)","v":""},{"$f":"IF('Pt 2 Premium and Claims'!I24=\"\",\"\",'Pt 2 Premium and Claims'!I24+'Pt 2 Premium and Claims - Adj'!I24)","v":""},{"$f":"IF('Pt 2 Premium and Claims'!J24=\"\",\"\",'Pt 2 Premium and Claims'!J24+'Pt 2 Premium and Claims - Adj'!J24)","v":""},{"$f":"IF('Pt 2 Premium and Claims'!K24=\"\",\"\",'Pt 2 Premium and Claims'!K24+'Pt 2 Premium and Claims - Adj'!K24)","v":0},{"$f":"IF('Pt 2 Premium and Claims'!L24=\"\",\"\",'Pt 2 Premium and Claims'!L24+'Pt 2 Premium and Claims - Adj'!L24)","v":0},{"$f":"IF('Pt 2 Premium and Claims'!M24=\"\",\"\",'Pt 2 Premium and Claims'!M24+'Pt 2 Premium and Claims - Adj'!M24)","v":""},{"$f":"IF('Pt 2 Premium and Claims'!N24=\"\",\"\",'Pt 2 Premium and Claims'!N24+'Pt 2 Premium and Claims - Adj'!N24)","v":0},{"$f":"IF('Pt 2 Premium and Claims'!O24=\"\",\"\",'Pt 2 Premium and Claims'!O24+'Pt 2 Premium and Claims - Adj'!O24)","v":""},{"$f":"IF('Pt 2 Premium and Claims'!P24=\"\",\"\",'Pt 2 Premium and Claims'!P24+'Pt 2 Premium and Claims - Adj'!P24)","v":0},null,{"$f":"IF(O24=\"\",0,O24)+IF(M24=\"\",0,M24)+IF(K24=\"\",0,K24)+IF(I24=\"\",0,I24)+IF(G24=\"\",0,G24)+IF(E24=\"\",0,E24)","v":0},null,{"$f":"+'Pt 2 Premium and Claims'!T24+'Pt 2 Premium and Claims - Adj'!T24","v":0},{"$f":"+'Pt 2 Premium and Claims'!U24+'Pt 2 Premium and Claims - Adj'!U24","v":0},{"$f":"+'Pt 2 Premium and Claims'!V24+'Pt 2 Premium and Claims - Adj'!V24","v":0},{"$f":"+'Pt 2 Premium and Claims'!W24+'Pt 2 Premium and Claims - Adj'!W24","v":0},{"$f":"+'Pt 2 Premium and Claims'!X24+'Pt 2 Premium and Claims - Adj'!X24","v":0},{"$f":"+'Pt 2 Premium and Claims'!Y24+'Pt 2 Premium and Claims - Adj'!Y24","v":0},{"$f":"+'Pt 2 Premium and Claims'!Z24+'Pt 2 Premium and Claims - Adj'!Z24","v":0},{"$f":"+'Pt 2 Premium and Claims'!AA24+'Pt 2 Premium and Claims - Adj'!AA24","v":0},{"$f":"+'Pt 2 Premium and Claims'!AB24+'Pt 2 Premium and Claims - Adj'!AB24","v":0},{"$f":"+'Pt 2 Premium and Claims'!AC24+'Pt 2 Premium and Claims - Adj'!AC24","v":0},{"$f":"+'Pt 2 Premium and Claims'!AD24+'Pt 2 Premium and Claims - Adj'!AD24","v":0},{"$f":"+'Pt 2 Premium and Claims'!AE24+'Pt 2 Premium and Claims - Adj'!AE24","v":0},{"$f":"+'Pt 2 Premium and Claims'!AF24+'Pt 2 Premium and Claims - Adj'!AF24","v":0},{"$f":"+'Pt 2 Premium and Claims'!AG24+'Pt 2 Premium and Claims - Adj'!AG24","v":0},{"$f":"+'Pt 2 Premium and Claims'!AH24+'Pt 2 Premium and Claims - Adj'!AH24","v":0},{"$f":"+'Pt 2 Premium and Claims'!AI24+'Pt 2 Premium and Claims - Adj'!AI24","v":0},{"$f":"+'Pt 2 Premium and Claims'!AJ24+'Pt 2 Premium and Claims - Adj'!AJ24","v":0},{"$f":"+'Pt 2 Premium and Claims'!AK24+'Pt 2 Premium and Claims - Adj'!AK24","v":0},{"$f":"+'Pt 2 Premium and Claims'!AL24+'Pt 2 Premium and Claims - Adj'!AL24","v":0},{"$f":"+'Pt 2 Premium and Claims'!AM24+'Pt 2 Premium and Claims - Adj'!AM24","v":0},{"$f":"+'Pt 2 Premium and Claims'!AN24+'Pt 2 Premium and Claims - Adj'!AN24","v":0},{"$f":"+'Pt 2 Premium and Claims'!AO24+'Pt 2 Premium and Claims - Adj'!AO24","v":0},{"$f":"+'Pt 2 Premium and Claims'!AP24+'Pt 2 Premium and Claims - Adj'!AP24","v":0},{"$f":"+'Pt 2 Premium and Claims'!AQ24+'Pt 2 Premium and Claims - Adj'!AQ24","v":0},{"$f":"+'Pt 2 Premium and Claims'!AR24+'Pt 2 Premium and Claims - Adj'!AR24","v":0},{"$f":"+'Pt 2 Premium and Claims'!AS24+'Pt 2 Premium and Claims - Adj'!AS24","v":0},{"$f":"+'Pt 2 Premium and Claims'!AT24+'Pt 2 Premium and Claims - Adj'!AT24","v":0},{"$f":"+'Pt 2 Premium and Claims'!AU24+'Pt 2 Premium and Claims - Adj'!AU24","v":0},{"$f":"+'Pt 2 Premium and Claims'!AV24+'Pt 2 Premium and Claims - Adj'!AV24","v":0},"Pt 2, Ln 1.3"]
[null,null,1.4,"Premium balances written off",{"$f":"IF('Pt 2 Premium and Claims'!E25=\"\",\"\",'Pt 2 Premium and Claims'!E25+'Pt 2 Premium and Claims - Adj'!E25)","v":""},{"$f":"IF('Pt 2 Premium and Claims'!F25=\"\",\"\",'Pt 2 Premium and Claims'!F25+'Pt 2 Premium and Claims - Adj'!F25)","v":""},{"$f":"IF('Pt 2 Premium and Claims'!G25=\"\",\"\",'Pt 2 Premium and Claims'!G25+'Pt 2 Premium and Claims - Adj'!G25)","v":""},{"$f":"IF('Pt 2 Premium and Claims'!H25=\"\",\"\",'Pt 2 Premium and Claims'!H25+'Pt 2 Premium and Claims - Adj'!H25)","v":""},{"$f":"IF('Pt 2 Premium and Claims'!I25=\"\",\"\",'Pt 2 Premium and Claims'!I25+'Pt 2 Premium and Claims - Adj'!I25)","v":""},{"$f":"IF('Pt 2 Premium and Claims'!J25=\"\",\"\",'Pt 2 Premium and Claims'!J25+'Pt 2 Premium and Claims - Adj'!J25)","v":""},{"$f":"IF('Pt 2 Premium and Claims'!K25=\"\",\"\",'Pt 2 Premium and Claims'!K25+'Pt 2 Premium and Claims - Adj'!K25)","v":0},{"$f":"IF('Pt 2 Premium and Claims'!L25=\"\",\"\",'Pt 2 Premium and Claims'!L25+'Pt 2 Premium and Claims - Adj'!L25)","v":0},{"$f":"IF('Pt 2 Premium and Claims'!M25=\"\",\"\",'Pt 2 Premium and Claims'!M25+'Pt 2 Premium and Claims - Adj'!M25)","v":""},{"$f":"IF('Pt 2 Premium and Claims'!N25=\"\",\"\",'Pt 2 Premium and Claims'!N25+'Pt 2 Premium and Claims - Adj'!N25)","v":""},{"$f":"IF('Pt 2 Premium and Claims'!O25=\"\",\"\",'Pt 2 Premium and Claims'!O25+'Pt 2 Premium and Claims - Adj'!O25)","v":""},{"$f":"IF('Pt 2 Premium and Claims'!P25=\"\",\"\",'Pt 2 Premium and Claims'!P25+'Pt 2 Premium and Claims - Adj'!P25)","v":""},null,{"$f":"IF(O25=\"\",0,O25)+IF(M25=\"\",0,M25)+IF(K25=\"\",0,K25)+IF(I25=\"\",0,I25)+IF(G25=\"\",0,G25)+IF(E25=\"\",0,E25)","v":0},null,{"$f":"+'Pt 2 Premium and Claims'!T25+'Pt 2 Premium and Claims - Adj'!T25","v":0},{"$f":"+'Pt 2 Premium and Claims'!U25+'Pt 2 Premium and Claims - Adj'!U25","v":0},{"$f":"+'Pt 2 Premium and Claims'!V25+'Pt 2 Premium and Claims - Adj'!V25","v":0},{"$f":"+'Pt 2 Premium and Claims'!W25+'Pt 2 Premium and Claims - Adj'!W25","v":0},{"$f":"+'Pt 2 Premium and Claims'!X25+'Pt 2 Premium and Claims - Adj'!X25","v":0},{"$f":"+'Pt 2 Premium and Claims'!Y25+'Pt 2 Premium and Claims - Adj'!Y25","v":0},{"$f":"+'Pt 2 Premium and Claims'!Z25+'Pt 2 Premium and Claims - Adj'!Z25","v":0},{"$f":"+'Pt 2 Premium and Claims'!AA25+'Pt 2 Premium and Claims - Adj'!AA25","v":0},{"$f":"+'Pt 2 Premium and Claims'!AB25+'Pt 2 Premium and Claims - Adj'!AB25","v":0},{"$f":"+'Pt 2 Premium and Claims'!AC25+'Pt 2 Premium and Claims - Adj'!AC25","v":0},{"$f":"+'Pt 2 Premium and Claims'!AD25+'Pt 2 Premium and Claims - Adj'!AD25","v":0},{"$f":"+'Pt 2 Premium and Claims'!AE25+'Pt 2 Premium and Claims - Adj'!AE25","v":0},{"$f":"+'Pt 2 Premium and Claims'!AF25+'Pt 2 Premium and Claims - Adj'!AF25","v":0},{"$f":"+'Pt 2 Premium and Claims'!AG25+'Pt 2 Premium and Claims - Adj'!AG25","v":0},{"$f":"+'Pt 2 Premium and Claims'!AH25+'Pt 2 Premium and Claims - Adj'!AH25","v":0},{"$f":"+'Pt 2 Premium and Claims'!AI25+'Pt 2 Premium and Claims - Adj'!AI25","v":0},{"$f":"+'Pt 2 Premium and Claims'!AJ25+'Pt 2 Premium and Claims - Adj'!AJ25","v":0},{"$f":"+'Pt 2 Premium and Claims'!AK25+'Pt 2 Premium and Claims - Adj'!AK25","v":0},{"$f":"+'Pt 2 Premium and Claims'!AL25+'Pt 2 Premium and Claims - Adj'!AL25","v":0},{"$f":"+'Pt 2 Premium and Claims'!AM25+'Pt 2 Premium and Claims - Adj'!AM25","v":0},{"$f":"+'Pt 2 Premium and Claims'!AN25+'Pt 2 Premium and Claims - Adj'!AN25","v":0},{"$f":"+'Pt 2 Premium and Claims'!AO25+'Pt 2 Premium and Claims - Adj'!AO25","v":0},{"$f":"+'Pt 2 Premium and Claims'!AP25+'Pt 2 Premium and Claims - Adj'!AP25","v":0},{"$f":"+'Pt 2 Premium and Claims'!AQ25+'Pt 2 Premium and Claims - Adj'!AQ25","v":0},{"$f":"+'Pt 2 Premium and Claims'!AR25+'Pt 2 Premium and Claims - Adj'!AR25","v":0},{"$f":"+'Pt 2 Premium and Claims'!AS25+'Pt 2 Premium and Claims - Adj'!AS25","v":0},{"$f":"+'Pt 2 Premium and Claims'!AT25+'Pt 2 Premium and Claims - Adj'!AT25","v":0},{"$f":"+'Pt 2 Premium and Claims'!AU25+'Pt 2 Premium and Claims - Adj'!AU25","v":0},{"$f":"+'Pt 2 Premium and Claims'!AV25+'Pt 2 Premium and Claims - Adj'!AV25","v":0},"Pt 2, Ln 1.7"]
[]
[null,"2.","Claims:"]
[null,null,2.1,"Claims Paid"]
[null,null,null,"2.1a  Claims paid during the MLR reporting year regardless of incurred date",{"$f":"IF('Pt 2 Premium and Claims'!E29=\"\",\"\",'Pt 2 Premium and Claims'!E29+'Pt 2 Premium and Claims - Adj'!E29)","v":""},null,{"$f":"IF('Pt 2 Premium and Claims'!G29=\"\",\"\",'Pt 2 Premium and Claims'!G29+'Pt 2 Premium and Claims - Adj'!G29)","v":""},null,{"$f":"IF('Pt 2 Premium and Claims'!I29=\"\",\"\",'Pt 2 Premium and Claims'!I29+'Pt 2 Premium and Claims - Adj'!I29)","v":""},null,{"$f":"IF('Pt 2 Premium and Claims'!K29=\"\",\"\",'Pt 2 Premium and Claims'!K29+'Pt 2 Premium and Claims - Adj'!K29)","v":78853.39},null,{"$f":"IF('Pt 2 Premium and Claims'!M29=\"\",\"\",'Pt 2 Premium and Claims'!M29+'Pt 2 Premium and Claims - Adj'!M29)","v":""},null,{"$f":"IF('Pt 2 Premium and Claims'!O29=\"\",\"\",'Pt 2 Premium and Claims'!O29+'Pt 2 Premium and Claims - Adj'!O29)","v":""},null,null,{"$f":"IF(O29=\"\",0,O29)+IF(M29=\"\",0,M29)+IF(K29=\"\",0,K29)+IF(I29=\"\",0,I29)+IF(G29=\"\",0,G29)+IF(E29=\"\",0,E29)","v":78853.39},null,{"$f":"+'Pt 2 Premium and Claims'!T29+'Pt 2 Premium and Claims - Adj'!T29","v":5479.17},{"$f":"+'Pt 2 Premium and Claims'!U29+'Pt 2 Premium and Claims - Adj'!U29","v":0},{"$f":"+'Pt 2 Premium and Claims'!V29+'Pt 2 Premium and Claims - Adj'!V29","v":0},{"$f":"+'Pt 2 Premium and Claims'!W29+'Pt 2 Premium and Claims - Adj'!W29","v":0},{"$f":"+'Pt 2 Premium and Claims'!X29+'Pt 2 Premium and Claims - Adj'!X29","v":0},{"$f":"+'Pt 2 Premium and Claims'!Y29+'Pt 2 Premium and Claims - Adj'!Y29","v":0},{"$f":"+'Pt 2 Premium and Claims'!Z29+'Pt 2 Premium and Claims - Adj'!Z29","v":0},{"$f":"+'Pt 2 Premium and Claims'!AA29+'Pt 2 Premium and Claims - Adj'!AA29","v":0},{"$f":"+'Pt 2 Premium and Claims'!AB29+'Pt 2 Premium and Claims - Adj'!AB29","v":0},{"$f":"+'Pt 2 Premium and Claims'!AC29+'Pt 2 Premium and Claims - Adj'!AC29","v":0},{"$f":"+'Pt 2 Premium and Claims'!AD29+'Pt 2 Premium and Claims - Adj'!AD29","v":0},{"$f":"+'Pt 2 Premium and Claims'!AE29+'Pt 2 Premium and Claims - Adj'!AE29","v":0},{"$f":"+'Pt 2 Premium and Claims'!AF29+'Pt 2 Premium and Claims - Adj'!AF29","v":78853.39},{"$f":"+'Pt 2 Premium and Claims'!AG29+'Pt 2 Premium and Claims - Adj'!AG29","v":0},{"$f":"+'Pt 2 Premium and Claims'!AH29+'Pt 2 Premium and Claims - Adj'!AH29","v":0},{"$f":"+'Pt 2 Premium and Claims'!AI29+'Pt 2 Premium and Claims - Adj'!AI29","v":0},{"$f":"+'Pt 2 Premium and Claims'!AJ29+'Pt 2 Premium and Claims - Adj'!AJ29","v":0},{"$f":"+'Pt 2 Premium and Claims'!AK29+'Pt 2 Premium and Claims - Adj'!AK29","v":0},{"$f":"+'Pt 2 Premium and Claims'!AL29+'Pt 2 Premium and Claims - Adj'!AL29","v":78853.39},{"$f":"+'Pt 2 Premium and Claims'!AM29+'Pt 2 Premium and Claims - Adj'!AM29","v":0},{"$f":"+'Pt 2 Premium and Claims'!AN29+'Pt 2 Premium and Claims - Adj'!AN29","v":0},{"$f":"+'Pt 2 Premium and Claims'!AO29+'Pt 2 Premium and Claims - Adj'!AO29","v":0},{"$f":"+'Pt 2 Premium and Claims'!AP29+'Pt 2 Premium and Claims - Adj'!AP29","v":0},{"$f":"+'Pt 2 Premium and Claims'!AQ29+'Pt 2 Premium and Claims - Adj'!AQ29","v":0},{"$f":"+'Pt 2 Premium and Claims'!AR29+'Pt 2 Premium and Claims - Adj'!AR29","v":0},{"$f":"+'Pt 2 Premium and Claims'!AS29+'Pt 2 Premium and Claims - Adj'!AS29","v":0},{"$f":"+'Pt 2 Premium and Claims'!AT29+'Pt 2 Premium and Claims - Adj'!AT29","v":0},{"$f":"+'Pt 2 Premium and Claims'!AU29+'Pt 2 Premium and Claims - Adj'!AU29","v":84332.56},{"$f":"+'Pt 2 Premium and Claims'!AV29+'Pt 2 Premium and Claims - Adj'!AV29","v":84332.56},"Pt 2, Ln 2.1a"]
[null,null,null,"2.1b  Claims incurred only during the MLR reporting year, paid through 3/31 of the following year",null,{"$f":"IF('Pt 2 Premium and Claims'!F30=\"\",\"\",'Pt 2 Premium and Claims'!F30+'Pt 2 Premium and Claims - Adj'!F30)","v":""},null,{"$f":"IF('Pt 2 Premium and Claims'!H30=\"\",\"\",'Pt 2 Premium and Claims'!H30+'Pt 2 Premium and Claims - Adj'!H30)","v":""},null,{"$f":"IF('Pt 2 Premium and Claims'!J30=\"\",\"\",'Pt 2 Premium and Claims'!J30+'Pt 2 Premium and Claims - Adj'!J30)","v":""},null,{"$f":"IF('Pt 2 Premium and Claims'!L30=\"\",\"\",'Pt 2 Premium and Claims'!L30+'Pt 2 Premium and Claims - Adj'!L30)","v":79418.19},null,{"$f":"IF('Pt 2 Premium and Claims'!N30=\"\",\"\",'Pt 2 Premium and Claims'!N30+'Pt 2 Premium and Claims - Adj'!N30)","v":""},null,{"$f":"IF('Pt 2 Premium and Claims'!P30=\"\",\"\",'Pt 2 Premium and Claims'!P30+'Pt 2 Premium and Claims - Adj'!P30)","v":""},null,null,null,null,null,null,null,null,null,null,null,null,null,null,null,null,null,null,null,null,null,null,null,null,null,null,null,null,null,null,null,null,"Pt 2, Ln 2.1b"]
[null,null,2.2000000000000002,"Direct claim liability"]
[null,null,null,"2.2a Liability as of 12/31 of MLR reporting year for all claims regardless of incurred date",{"$f":"IF('Pt 2 Premium and Claims'!E32=\"\",\"\",'Pt 2 Premium and Claims'!E32+'Pt 2 Premium and Claims - Adj'!E32)","v":""},null,{"$f":"IF('Pt 2 Premium and Claims'!G32=\"\",\"\",'Pt 2 Premium and Claims'!G32+'Pt 2 Premium and Claims - Adj'!G32)","v":""},null,{"$f":"IF('Pt 2 Premium and Claims'!I32=\"\",\"\",'Pt 2 Premium and Claims'!I32+'Pt 2 Premium and Claims - Adj'!I32)","v":""},null,{"$f":"IF('Pt 2 Premium and Claims'!K32=\"\",\"\",'Pt 2 Premium and Claims'!K32+'Pt 2 Premium and Claims - Adj'!K32)","v":890.12999999999943},null,{"$f":"IF('Pt 2 Premium and Claims'!M32=\"\",\"\",'Pt 2 Premium and Claims'!M32+'Pt 2 Premium and Claims - Adj'!M32)","v":""},null,{"$f":"IF('Pt 2 Premium and Claims'!O32=\"\",\"\",'Pt 2 Premium and Claims'!O32+'Pt 2 Premium and Claims - Adj'!O32)","v":""},null,null,{"$f":"IF(O32=\"\",0,O32)+IF(M32=\"\",0,M32)+IF(K32=\"\",0,K32)+IF(I32=\"\",0,I32)+IF(G32=\"\",0,G32)+IF(E32=\"\",0,E32)","v":890.12999999999943},null,{"$f":"+'Pt 2 Premium and Claims'!T32+'Pt 2 Premium and Claims - Adj'!T32","v":561.96999999999991},{"$f":"+'Pt 2 Premium and Claims'!U32+'Pt 2 Premium and Claims - Adj'!U32","v":0},{"$f":"+'Pt 2 Premium and Claims'!V32+'Pt 2 Premium and Claims - Adj'!V32","v":0},{"$f":"+'Pt 2 Premium and Claims'!W32+'Pt 2 Premium and Claims - Adj'!W32","v":0},{"$f":"+'Pt 2 Premium and Claims'!X32+'Pt 2 Premium and Claims - Adj'!X32","v":0},{"$f":"+'Pt 2 Premium and Claims'!Y32+'Pt 2 Premium and Claims - Adj'!Y32","v":0},{"$f":"+'Pt 2 Premium and Claims'!Z32+'Pt 2 Premium and Claims - Adj'!Z32","v":0},{"$f":"+'Pt 2 Premium and Claims'!AA32+'Pt 2 Premium and Claims - Adj'!AA32","v":0},{"$f":"+'Pt 2 Premium and Claims'!AB32+'Pt 2 Premium and Claims - Adj'!AB32","v":0},{"$f":"+'Pt 2 Premium and Claims'!AC32+'Pt 2 Premium and Claims - Adj'!AC32","v":0},{"$f":"+'Pt 2 Premium and Claims'!AD32+'Pt 2 Premium and Claims - Adj'!AD32","v":0},{"$f":"+'Pt 2 Premium and Claims'!AE32+'Pt 2 Premium and Claims - Adj'!AE32","v":0},{"$f":"+'Pt 2 Premium and Claims'!AF32+'Pt 2 Premium and Claims - Adj'!AF32","v":890.12999999999943},{"$f":"+'Pt 2 Premium and Claims'!AG32+'Pt 2 Premium and Claims - Adj'!AG32","v":0},{"$f":"+'Pt 2 Premium and Claims'!AH32+'Pt 2 Premium and Claims - Adj'!AH32","v":0},{"$f":"+'Pt 2 Premium and Claims'!AI32+'Pt 2 Premium and Claims - Adj'!AI32","v":0},{"$f":"+'Pt 2 Premium and Claims'!AJ32+'Pt 2 Premium and Claims - Adj'!AJ32","v":0},{"$f":"+'Pt 2 Premium and Claims'!AK32+'Pt 2 Premium and Claims - Adj'!AK32","v":0},{"$f":"+'Pt 2 Premium and Claims'!AL32+'Pt 2 Premium and Claims - Adj'!AL32","v":890.12999999999943},{"$f":"+'Pt 2 Premium and Claims'!AM32+'Pt 2 Premium and Claims - Adj'!AM32","v":0},{"$f":"+'Pt 2 Premium and Claims'!AN32+'Pt 2 Premium and Claims - Adj'!AN32","v":0},{"$f":"+'Pt 2 Premium and Claims'!AO32+'Pt 2 Premium and Claims - Adj'!AO32","v":0},{"$f":"+'Pt 2 Premium and Claims'!AP32+'Pt 2 Premium and Claims - Adj'!AP32","v":0},{"$f":"+'Pt 2 Premium and Claims'!AQ32+'Pt 2 Premium and Claims - Adj'!AQ32","v":0},{"$f":"+'Pt 2 Premium and Claims'!AR32+'Pt 2 Premium and Claims - Adj'!AR32","v":0},{"$f":"+'Pt 2 Premium and Claims'!AS32+'Pt 2 Premium and Claims - Adj'!AS32","v":0},{"$f":"+'Pt 2 Premium and Claims'!AT32+'Pt 2 Premium and Claims - Adj'!AT32","v":0},{"$f":"+'Pt 2 Premium and Claims'!AU32+'Pt 2 Premium and Claims - Adj'!AU32","v":1452.0999999999995},{"$f":"+'Pt 2 Premium and Claims'!AV32+'Pt 2 Premium and Claims - Adj'!AV32","v":1452.0999999999988},"Pt 2, Ln 2.2a"]
[null,null,null,"2.2b Liability for claims incurred only during the MLR reporting year, calculated as of 3/31 of the following year",null,{"$f":"IF('Pt 2 Premium and Claims'!F33=\"\",\"\",'Pt 2 Premium and Claims'!F33+'Pt 2 Premium and Claims - Adj'!F33)","v":""},null,{"$f":"IF('Pt 2 Premium and Claims'!H33=\"\",\"\",'Pt 2 Premium and Claims'!H33+'Pt 2 Premium and Claims - Adj'!H33)","v":""},null,{"$f":"IF('Pt 2 Premium and Claims'!J33=\"\",\"\",'Pt 2 Premium and Claims'!J33+'Pt 2 Premium and Claims - Adj'!J33)","v":""},null,{"$f":"IF('Pt 2 Premium and Claims'!L33=\"\",\"\",'Pt 2 Premium and Claims'!L33+'Pt 2 Premium and Claims - Adj'!L33)","v":640.91},null,{"$f":"IF('Pt 2 Premium and Claims'!N33=\"\",\"\",'Pt 2 Premium and Claims'!N33+'Pt 2 Premium and Claims - Adj'!N33)","v":""},null,{"$f":"IF('Pt 2 Premium and Claims'!P33=\"\",\"\",'Pt 2 Premium and Claims'!P33+'Pt 2 Premium and Claims - Adj'!P33)","v":""},null,null,null,null,null,null,null,null,null,null,null,null,null,null,null,null,null,null,null,null,null,null,null,null,null,null,null,null,null,null,null,null,"Pt 2, Ln 2.2b"]
[null,null,2.2999999999999998,"Direct claim liability prior year",{"$f":"IF('Pt 2 Premium and Claims'!E34=\"\",\"\",'Pt 2 Premium and Claims'!E34+'Pt 2 Premium and Claims - Adj'!E34)","v":""},null,{"$f":"IF('Pt 2 Premium and Claims'!G34=\"\",\"\",'Pt 2 Premium and Claims'!G34+'Pt 2 Premium and Claims - Adj'!G34)","v":""},null,{"$f":"IF('Pt 2 Premium and Claims'!I34=\"\",\"\",'Pt 2 Premium and Claims'!I34+'Pt 2 Premium and Claims - Adj'!I34)","v":""},null,{"$f":"IF('Pt 2 Premium and Claims'!K34=\"\",\"\",'Pt 2 Premium and Claims'!K34+'Pt 2 Premium and Claims - Adj'!K34)","v":4012.61},null,{"$f":"IF('Pt 2 Premium and Claims'!M34=\"\",\"\",'Pt 2 Premium and Claims'!M34+'Pt 2 Premium and Claims - Adj'!M34)","v":""},null,{"$f":"IF('Pt 2 Premium and Claims'!O34=\"\",\"\",'Pt 2 Premium and Claims'!O34+'Pt 2 Premium and Claims - Adj'!O34)","v":""},null,null,{"$f":"IF(O34=\"\",0,O34)+IF(M34=\"\",0,M34)+IF(K34=\"\",0,K34)+IF(I34=\"\",0,I34)+IF(G34=\"\",0,G34)+IF(E34=\"\",0,E34)","v":4012.61},null,{"$f":"+'Pt 2 Premium and Claims'!T34+'Pt 2 Premium and Claims - Adj'!T34","v":1373.44},{"$f":"+'Pt 2 Premium and Claims'!U34+'Pt 2 Premium and Claims - Adj'!U34","v":0},{"$f":"+'Pt 2 Premium and Claims'!V34+'Pt 2 Premium and Claims - Adj'!V34","v":0},{"$f":"+'Pt 2 Premium and Claims'!W34+'Pt 2 Premium and Claims - Adj'!W34","v":0},{"$f":"+'Pt 2 Premium and Claims'!X34+'Pt 2 Premium and Claims - Adj'!X34","v":0},{"$f":"+'Pt 2 Premium and Claims'!Y34+'Pt 2 Premium and Claims - Adj'!Y34","v":0},{"$f":"+'Pt 2 Premium and Claims'!Z34+'Pt 2 Premium and Claims - Adj'!Z34","v":0},{"$f":"+'Pt 2 Premium and Claims'!AA34+'Pt 2 Premium and Claims - Adj'!AA34","v":0},{"$f":"+'Pt 2 Premium and Claims'!AB34+'Pt 2 Premium and Claims - Adj'!AB34","v":0},{"$f":"+'Pt 2 Premium and Claims'!AC34+'Pt 2 Premium and Claims - Adj'!AC34","v":0},{"$f":"+'Pt 2 Premium and Claims'!AD34+'Pt 2 Premium and Claims - Adj'!AD34","v":0},{"$f":"+'Pt 2 Premium and Claims'!AE34+'Pt 2 Premium and Claims - Adj'!AE34","v":0},{"$f":"+'Pt 2 Premium and Claims'!AF34+'Pt 2 Premium and Claims - Adj'!AF34","v":4012.61},{"$f":"+'Pt 2 Premium and Claims'!AG34+'Pt 2 Premium and Claims - Adj'!AG34","v":0},{"$f":"+'Pt 2 Premium and Claims'!AH34+'Pt 2 Premium and Claims - Adj'!AH34","v":0},{"$f":"+'Pt 2 Premium and Claims'!AI34+'Pt 2 Premium and Claims - Adj'!AI34","v":0},{"$f":"+'Pt 2 Premium and Claims'!AJ34+'Pt 2 Premium and Claims - Adj'!AJ34","v":0},{"$f":"+'Pt 2 Premium and Claims'!AK34+'Pt 2 Premium and Claims - Adj'!AK34","v":0},{"$f":"+'Pt 2 Premium and Claims'!AL34+'Pt 2 Premium and Claims - Adj'!AL34","v":4012.61},{"$f":"+'Pt 2 Premium and Claims'!AM34+'Pt 2 Premium and Claims - Adj'!AM34","v":0},{"$f":"+'Pt 2 Premium and Claims'!AN34+'Pt 2 Premium and Claims - Adj'!AN34","v":0},{"$f":"+'Pt 2 Premium and Claims'!AO34+'Pt 2 Premium and Claims - Adj'!AO34","v":0},{"$f":"+'Pt 2 Premium and Claims'!AP34+'Pt 2 Premium and Claims - Adj'!AP34","v":0},{"$f":"+'Pt 2 Premium and Claims'!AQ34+'Pt 2 Premium and Claims - Adj'!AQ34","v":0},{"$f":"+'Pt 2 Premium and Claims'!AR34+'Pt 2 Premium and Claims - Adj'!AR34","v":0},{"$f":"+'Pt 2 Premium and Claims'!AS34+'Pt 2 Premium and Claims - Adj'!AS34","v":0},{"$f":"+'Pt 2 Premium and Claims'!AT34+'Pt 2 Premium and Claims - Adj'!AT34","v":0},{"$f":"+'Pt 2 Premium and Claims'!AU34+'Pt 2 Premium and Claims - Adj'!AU34","v":5386.05},{"$f":"+'Pt 2 Premium and Claims'!AV34+'Pt 2 Premium and Claims - Adj'!AV34","v":5386.05},"Pt 2, Ln 2.3"]
[null,null,2.4,"Direct claim reserves"]
[null,null,null,"2.4a Reserves as of 12/31 of MLR reporting year for all claims regardless of incurred date",{"$f":"IF('Pt 2 Premium and Claims'!E36=\"\",\"\",'Pt 2 Premium and Claims'!E36+'Pt 2 Premium and Claims - Adj'!E36)","v":""},null,{"$f":"IF('Pt 2 Premium and Claims'!G36=\"\",\"\",'Pt 2 Premium and Claims'!G36+'Pt 2 Premium and Claims - Adj'!G36)","v":""},null,{"$f":"IF('Pt 2 Premium and Claims'!I36=\"\",\"\",'Pt 2 Premium and Claims'!I36+'Pt 2 Premium and Claims - Adj'!I36)","v":""},null,{"$f":"IF('Pt 2 Premium and Claims'!K36=\"\",\"\",'Pt 2 Premium and Claims'!K36+'Pt 2 Premium and Claims - Adj'!K36)","v":0},null,{"$f":"IF('Pt 2 Premium and Claims'!M36=\"\",\"\",'Pt 2 Premium and Claims'!M36+'Pt 2 Premium and Claims - Adj'!M36)","v":""},null,{"$f":"IF('Pt 2 Premium and Claims'!O36=\"\",\"\",'Pt 2 Premium and Claims'!O36+'Pt 2 Premium and Claims - Adj'!O36)","v":""},null,null,{"$f":"IF(O36=\"\",0,O36)+IF(M36=\"\",0,M36)+IF(K36=\"\",0,K36)+IF(I36=\"\",0,I36)+IF(G36=\"\",0,G36)+IF(E36=\"\",0,E36)","v":0},null,{"$f":"+'Pt 2 Premium and Claims'!T36+'Pt 2 Premium and Claims - Adj'!T36","v":0},{"$f":"+'Pt 2 Premium and Claims'!U36+'Pt 2 Premium and Claims - Adj'!U36","v":0},{"$f":"+'Pt 2 Premium and Claims'!V36+'Pt 2 Premium and Claims - Adj'!V36","v":0},{"$f":"+'Pt 2 Premium and Claims'!W36+'Pt 2 Premium and Claims - Adj'!W36","v":0},{"$f":"+'Pt 2 Premium and Claims'!X36+'Pt 2 Premium and Claims - Adj'!X36","v":0},{"$f":"+'Pt 2 Premium and Claims'!Y36+'Pt 2 Premium and Claims - Adj'!Y36","v":0},{"$f":"+'Pt 2 Premium and Claims'!Z36+'Pt 2 Premium and Claims - Adj'!Z36","v":0},{"$f":"+'Pt 2 Premium and Claims'!AA36+'Pt 2 Premium and Claims - Adj'!AA36","v":0},{"$f":"+'Pt 2 Premium and Claims'!AB36+'Pt 2 Premium and Claims - Adj'!AB36","v":0},{"$f":"+'Pt 2 Premium and Claims'!AC36+'Pt 2 Premium and Claims - Adj'!AC36","v":0},{"$f":"+'Pt 2 Premium and Claims'!AD36+'Pt 2 Premium and Claims - Adj'!AD36","v":0},{"$f":"+'Pt 2 Premium and Claims'!AE36+'Pt 2 Premium and Claims - Adj'!AE36","v":0},{"$f":"+'Pt 2 Premium and Claims'!AF36+'Pt 2 Premium and Claims - Adj'!AF36","v":0},{"$f":"+'Pt 2 Premium and Claims'!AG36+'Pt 2 Premium and Claims - Adj'!AG36","v":0},{"$f":"+'Pt 2 Premium and Claims'!AH36+'Pt 2 Premium and Claims - Adj'!AH36","v":0},{"$f":"+'Pt 2 Premium and Claims'!AI36+'Pt 2 Premium and Claims - Adj'!AI36","v":0},{"$f":"+'Pt 2 Premium and Claims'!AJ36+'Pt 2 Premium and Claims - Adj'!AJ36","v":0},{"$f":"+'Pt 2 Premium and Claims'!AK36+'Pt 2 Premium and Claims - Adj'!AK36","v":0},{"$f":"+'Pt 2 Premium and Claims'!AL36+'Pt 2 Premium and Claims - Adj'!AL36","v":0},{"$f":"+'Pt 2 Premium and Claims'!AM36+'Pt 2 Premium and Claims - Adj'!AM36","v":0},{"$f":"+'Pt 2 Premium and Claims'!AN36+'Pt 2 Premium and Claims - Adj'!AN36","v":0},{"$f":"+'Pt 2 Premium and Claims'!AO36+'Pt 2 Premium and Claims - Adj'!AO36","v":0},{"$f":"+'Pt 2 Premium and Claims'!AP36+'Pt 2 Premium and Claims - Adj'!AP36","v":0},{"$f":"+'Pt 2 Premium and Claims'!AQ36+'Pt 2 Premium and Claims - Adj'!AQ36","v":0},{"$f":"+'Pt 2 Premium and Claims'!AR36+'Pt 2 Premium and Claims - Adj'!AR36","v":0},{"$f":"+'Pt 2 Premium and Claims'!AS36+'Pt 2 Premium and Claims - Adj'!AS36","v":0},{"$f":"+'Pt 2 Premium and Claims'!AT36+'Pt 2 Premium and Claims - Adj'!AT36","v":0},{"$f":"+'Pt 2 Premium and Claims'!AU36+'Pt 2 Premium and Claims - Adj'!AU36","v":0},{"$f":"+'Pt 2 Premium and Claims'!AV36+'Pt 2 Premium and Claims - Adj'!AV36","v":0},"Pt 2, Ln 2.4a"]
[null,null,null,"2.4b Reserves for claims incurred only during the MLR reporting year, calculated as of 3/31 of the following year",null,{"$f":"IF('Pt 2 Premium and Claims'!F37=\"\",\"\",'Pt 2 Premium and Claims'!F37+'Pt 2 Premium and Claims - Adj'!F37)","v":""},null,{"$f":"IF('Pt 2 Premium and Claims'!H37=\"\",\"\",'Pt 2 Premium and Claims'!H37+'Pt 2 Premium and Claims - Adj'!H37)","v":""},null,{"$f":"IF('Pt 2 Premium and Claims'!J37=\"\",\"\",'Pt 2 Premium and Claims'!J37+'Pt 2 Premium and Claims - Adj'!J37)","v":""},null,{"$f":"IF('Pt 2 Premium and Claims'!L37=\"\",\"\",'Pt 2 Premium and Claims'!L37+'Pt 2 Premium and Claims - Adj'!L37)","v":0},null,{"$f":"IF('Pt 2 Premium and Claims'!N37=\"\",\"\",'Pt 2 Premium and Claims'!N37+'Pt 2 Premium and Claims - Adj'!N37)","v":""},null,{"$f":"IF('Pt 2 Premium and Claims'!P37=\"\",\"\",'Pt 2 Premium and Claims'!P37+'Pt 2 Premium and Claims - Adj'!P37)","v":""},null,null,null,null,null,null,null,null,null,null,null,null,null,null,null,null,null,null,null,null,null,null,null,null,null,null,null,null,null,null,null,null,"Pt 2, Ln 2.4b"]
[null,null,2.5,"Direct claim reserves prior year",{"$f":"IF('Pt 2 Premium and Claims'!E38=\"\",\"\",'Pt 2 Premium and Claims'!E38+'Pt 2 Premium and Claims - Adj'!E38)","v":""},null,{"$f":"IF('Pt 2 Premium and Claims'!G38=\"\",\"\",'Pt 2 Premium and Claims'!G38+'Pt 2 Premium and Claims - Adj'!G38)","v":""},null,{"$f":"IF('Pt 2 Premium and Claims'!I38=\"\",\"\",'Pt 2 Premium and Claims'!I38+'Pt 2 Premium and Claims - Adj'!I38)","v":""},null,{"$f":"IF('Pt 2 Premium and Claims'!K38=\"\",\"\",'Pt 2 Premium and Claims'!K38+'Pt 2 Premium and Claims - Adj'!K38)","v":0},null,{"$f":"IF('Pt 2 Premium and Claims'!M38=\"\",\"\",'Pt 2 Premium and Claims'!M38+'Pt 2 Premium and Claims - Adj'!M38)","v":""},null,{"$f":"IF('Pt 2 Premium and Claims'!O38=\"\",\"\",'Pt 2 Premium and Claims'!O38+'Pt 2 Premium and Claims - Adj'!O38)","v":""},null,null,{"$f":"IF(O38=\"\",0,O38)+IF(M38=\"\",0,M38)+IF(K38=\"\",0,K38)+IF(I38=\"\",0,I38)+IF(G38=\"\",0,G38)+IF(E38=\"\",0,E38)","v":0},null,{"$f":"+'Pt 2 Premium and Claims'!T38+'Pt 2 Premium and Claims - Adj'!T38","v":0},{"$f":"+'Pt 2 Premium and Claims'!U38+'Pt 2 Premium and Claims - Adj'!U38","v":0},{"$f":"+'Pt 2 Premium and Claims'!V38+'Pt 2 Premium and Claims - Adj'!V38","v":0},{"$f":"+'Pt 2 Premium and Claims'!W38+'Pt 2 Premium and Claims - Adj'!W38","v":0},{"$f":"+'Pt 2 Premium and Claims'!X38+'Pt 2 Premium and Claims - Adj'!X38","v":0},{"$f":"+'Pt 2 Premium and Claims'!Y38+'Pt 2 Premium and Claims - Adj'!Y38","v":0},{"$f":"+'Pt 2 Premium and Claims'!Z38+'Pt 2 Premium and Claims - Adj'!Z38","v":0},{"$f":"+'Pt 2 Premium and Claims'!AA38+'Pt 2 Premium and Claims - Adj'!AA38","v":0},{"$f":"+'Pt 2 Premium and Claims'!AB38+'Pt 2 Premium and Claims - Adj'!AB38","v":0},{"$f":"+'Pt 2 Premium and Claims'!AC38+'Pt 2 Premium and Claims - Adj'!AC38","v":0},{"$f":"+'Pt 2 Premium and Claims'!AD38+'Pt 2 Premium and Claims - Adj'!AD38","v":0},{"$f":"+'Pt 2 Premium and Claims'!AE38+'Pt 2 Premium and Claims - Adj'!AE38","v":0},{"$f":"+'Pt 2 Premium and Claims'!AF38+'Pt 2 Premium and Claims - Adj'!AF38","v":0},{"$f":"+'Pt 2 Premium and Claims'!AG38+'Pt 2 Premium and Claims - Adj'!AG38","v":0},{"$f":"+'Pt 2 Premium and Claims'!AH38+'Pt 2 Premium and Claims - Adj'!AH38","v":0},{"$f":"+'Pt 2 Premium and Claims'!AI38+'Pt 2 Premium and Claims - Adj'!AI38","v":0},{"$f":"+'Pt 2 Premium and Claims'!AJ38+'Pt 2 Premium and Claims - Adj'!AJ38","v":0},{"$f":"+'Pt 2 Premium and Claims'!AK38+'Pt 2 Premium and Claims - Adj'!AK38","v":0},{"$f":"+'Pt 2 Premium and Claims'!AL38+'Pt 2 Premium and Claims - Adj'!AL38","v":0},{"$f":"+'Pt 2 Premium and Claims'!AM38+'Pt 2 Premium and Claims - Adj'!AM38","v":0},{"$f":"+'Pt 2 Premium and Claims'!AN38+'Pt 2 Premium and Claims - Adj'!AN38","v":0},{"$f":"+'Pt 2 Premium and Claims'!AO38+'Pt 2 Premium and Claims - Adj'!AO38","v":0},{"$f":"+'Pt 2 Premium and Claims'!AP38+'Pt 2 Premium and Claims - Adj'!AP38","v":0},{"$f":"+'Pt 2 Premium and Claims'!AQ38+'Pt 2 Premium and Claims - Adj'!AQ38","v":0},{"$f":"+'Pt 2 Premium and Claims'!AR38+'Pt 2 Premium and Claims - Adj'!AR38","v":0},{"$f":"+'Pt 2 Premium and Claims'!AS38+'Pt 2 Premium and Claims - Adj'!AS38","v":0},{"$f":"+'Pt 2 Premium and Claims'!AT38+'Pt 2 Premium and Claims - Adj'!AT38","v":0},{"$f":"+'Pt 2 Premium and Claims'!AU38+'Pt 2 Premium and Claims - Adj'!AU38","v":0},{"$f":"+'Pt 2 Premium and Claims'!AV38+'Pt 2 Premium and Claims - Adj'!AV38","v":0},"Pt 2, Ln 2.5"]
[null,null,2.6,"Experience rating refunds (rate credits) paid"]
[null,null,null,"2.6a Experience rating refunds, with all incurred dates, paid in the MLR reporting year",{"$f":"IF('Pt 2 Premium and Claims'!E40=\"\",\"\",'Pt 2 Premium and Claims'!E40+'Pt 2 Premium and Claims - Adj'!E40)","v":""},null,{"$f":"IF('Pt 2 Premium and Claims'!G40=\"\",\"\",'Pt 2 Premium and Claims'!G40+'Pt 2 Premium and Claims - Adj'!G40)","v":""},null,{"$f":"IF('Pt 2 Premium and Claims'!I40=\"\",\"\",'Pt 2 Premium and Claims'!I40+'Pt 2 Premium and Claims - Adj'!I40)","v":""},null,{"$f":"IF('Pt 2 Premium and Claims'!K40=\"\",\"\",'Pt 2 Premium and Claims'!K40+'Pt 2 Premium and Claims - Adj'!K40)","v":0},null,{"$f":"IF('Pt 2 Premium and Claims'!M40=\"\",\"\",'Pt 2 Premium and Claims'!M40+'Pt 2 Premium and Claims - Adj'!M40)","v":""},null,{"$f":"IF('Pt 2 Premium and Claims'!O40=\"\",\"\",'Pt 2 Premium and Claims'!O40+'Pt 2 Premium and Claims - Adj'!O40)","v":""},null,null,{"$f":"IF(O40=\"\",0,O40)+IF(M40=\"\",0,M40)+IF(K40=\"\",0,K40)+IF(I40=\"\",0,I40)+IF(G40=\"\",0,G40)+IF(E40=\"\",0,E40)","v":0},null,{"$f":"+'Pt 2 Premium and Claims'!T40+'Pt 2 Premium and Claims - Adj'!T40","v":0},{"$f":"+'Pt 2 Premium and Claims'!U40+'Pt 2 Premium and Claims - Adj'!U40","v":0},{"$f":"+'Pt 2 Premium and Claims'!V40+'Pt 2 Premium and Claims - Adj'!V40","v":0},{"$f":"+'Pt 2 Premium and Claims'!W40+'Pt 2 Premium and Claims - Adj'!W40","v":0},{"$f":"+'Pt 2 Premium and Claims'!X40+'Pt 2 Premium and Claims - Adj'!X40","v":0},{"$f":"+'Pt 2 Premium and Claims'!Y40+'Pt 2 Premium and Claims - Adj'!Y40","v":0},{"$f":"+'Pt 2 Premium and Claims'!Z40+'Pt 2 Premium and Claims - Adj'!Z40","v":0},{"$f":"+'Pt 2 Premium and Claims'!AA40+'Pt 2 Premium and Claims - Adj'!AA40","v":0},{"$f":"+'Pt 2 Premium and Claims'!AB40+'Pt 2 Premium and Claims - Adj'!AB40","v":0},{"$f":"+'Pt 2 Premium and Claims'!AC40+'Pt 2 Premium and Claims - Adj'!AC40","v":0},{"$f":"+'Pt 2 Premium and Claims'!AD40+'Pt 2 Premium and Claims - Adj'!AD40","v":0},{"$f":"+'Pt 2 Premium and Claims'!AE40+'Pt 2 Premium and Claims - Adj'!AE40","v":0},{"$f":"+'Pt 2 Premium and Claims'!AF40+'Pt 2 Premium and Claims - Adj'!AF40","v":0},{"$f":"+'Pt 2 Premium and Claims'!AG40+'Pt 2 Premium and Claims - Adj'!AG40","v":0},{"$f":"+'Pt 2 Premium and Claims'!AH40+'Pt 2 Premium and Claims - Adj'!AH40","v":0},{"$f":"+'Pt 2 Premium and Claims'!AI40+'Pt 2 Premium and Claims - Adj'!AI40","v":0},{"$f":"+'Pt 2 Premium and Claims'!AJ40+'Pt 2 Premium and Claims - Adj'!AJ40","v":0},{"$f":"+'Pt 2 Premium and Claims'!AK40+'Pt 2 Premium and Claims - Adj'!AK40","v":0},{"$f":"+'Pt 2 Premium and Claims'!AL40+'Pt 2 Premium and Claims - Adj'!AL40","v":0},{"$f":"+'Pt 2 Premium and Claims'!AM40+'Pt 2 Premium and Claims - Adj'!AM40","v":0},{"$f":"+'Pt 2 Premium and Claims'!AN40+'Pt 2 Premium and Claims - Adj'!AN40","v":0},{"$f":"+'Pt 2 Premium and Claims'!AO40+'Pt 2 Premium and Claims - Adj'!AO40","v":0},{"$f":"+'Pt 2 Premium and Claims'!AP40+'Pt 2 Premium and Claims - Adj'!AP40","v":0},{"$f":"+'Pt 2 Premium and Claims'!AQ40+'Pt 2 Premium and Claims - Adj'!AQ40","v":0},{"$f":"+'Pt 2 Premium and Claims'!AR40+'Pt 2 Premium and Claims - Adj'!AR40","v":0},{"$f":"+'Pt 2 Premium and Claims'!AS40+'Pt 2 Premium and Claims - Adj'!AS40","v":0},{"$f":"+'Pt 2 Premium and Claims'!AT40+'Pt 2 Premium and Claims - Adj'!AT40","v":0},{"$f":"+'Pt 2 Premium and Claims'!AU40+'Pt 2 Premium and Claims - Adj'!AU40","v":0},{"$f":"+'Pt 2 Premium and Claims'!AV40+'Pt 2 Premium and Claims - Adj'!AV40","v":0},"Pt 2, Ln 2.8a"]
[null,null,null,"2.6b Experience rating refunds associated with premium earned only in the reporting year and paid through 3/31 of the following year",null,{"$f":"IF('Pt 2 Premium and Claims'!F41=\"\",\"\",'Pt 2 Premium and Claims'!F41+'Pt 2 Premium and Claims - Adj'!F41)","v":""},null,{"$f":"IF('Pt 2 Premium and Claims'!H41=\"\",\"\",'Pt 2 Premium and Claims'!H41+'Pt 2 Premium and Claims - Adj'!H41)","v":""},null,{"$f":"IF('Pt 2 Premium and Claims'!J41=\"\",\"\",'Pt 2 Premium and Claims'!J41+'Pt 2 Premium and Claims - Adj'!J41)","v":""},null,{"$f":"IF('Pt 2 Premium and Claims'!L41=\"\",\"\",'Pt 2 Premium and Claims'!L41+'Pt 2 Premium and Claims - Adj'!L41)","v":0},null,{"$f":"IF('Pt 2 Premium and Claims'!N41=\"\",\"\",'Pt 2 Premium and Claims'!N41+'Pt 2 Premium and Claims - Adj'!N41)","v":""},null,{"$f":"IF('Pt 2 Premium and Claims'!P41=\"\",\"\",'Pt 2 Premium and Claims'!P41+'Pt 2 Premium and Claims - Adj'!P41)","v":""},null,null,null,null,null,null,null,null,null,null,null,null,null,null,null,null,null,null,null,null,null,null,null,null,null,null,null,null,null,null,null,null,"Pt 2, Ln 2.8b"]
[null,null,2.7,"Reserve for experience rating refunds (rate credits)"]
[null,null,null,"2.7a Reserved in MLR reporting year regardless of incurred date",{"$f":"IF('Pt 2 Premium and Claims'!E43=\"\",\"\",'Pt 2 Premium and Claims'!E43+'Pt 2 Premium and Claims - Adj'!E43)","v":""},null,{"$f":"IF('Pt 2 Premium and Claims'!G43=\"\",\"\",'Pt 2 Premium and Claims'!G43+'Pt 2 Premium and Claims - Adj'!G43)","v":""},null,{"$f":"IF('Pt 2 Premium and Claims'!I43=\"\",\"\",'Pt 2 Premium and Claims'!I43+'Pt 2 Premium and Claims - Adj'!I43)","v":""},null,{"$f":"IF('Pt 2 Premium and Claims'!K43=\"\",\"\",'Pt 2 Premium and Claims'!K43+'Pt 2 Premium and Claims - Adj'!K43)","v":0},null,{"$f":"IF('Pt 2 Premium and Claims'!M43=\"\",\"\",'Pt 2 Premium and Claims'!M43+'Pt 2 Premium and Claims - Adj'!M43)","v":""},null,{"$f":"IF('Pt 2 Premium and Claims'!O43=\"\",\"\",'Pt 2 Premium and Claims'!O43+'Pt 2 Premium and Claims - Adj'!O43)","v":""},null,null,{"$f":"IF(O43=\"\",0,O43)+IF(M43=\"\",0,M43)+IF(K43=\"\",0,K43)+IF(I43=\"\",0,I43)+IF(G43=\"\",0,G43)+IF(E43=\"\",0,E43)","v":0},null,{"$f":"+'Pt 2 Premium and Claims'!T43+'Pt 2 Premium and Claims - Adj'!T43","v":0},{"$f":"+'Pt 2 Premium and Claims'!U43+'Pt 2 Premium and Claims - Adj'!U43","v":0},{"$f":"+'Pt 2 Premium and Claims'!V43+'Pt 2 Premium and Claims - Adj'!V43","v":0},{"$f":"+'Pt 2 Premium and Claims'!W43+'Pt 2 Premium and Claims - Adj'!W43","v":0},{"$f":"+'Pt 2 Premium and Claims'!X43+'Pt 2 Premium and Claims - Adj'!X43","v":0},{"$f":"+'Pt 2 Premium and Claims'!Y43+'Pt 2 Premium and Claims - Adj'!Y43","v":0},{"$f":"+'Pt 2 Premium and Claims'!Z43+'Pt 2 Premium and Claims - Adj'!Z43","v":0},{"$f":"+'Pt 2 Premium and Claims'!AA43+'Pt 2 Premium and Claims - Adj'!AA43","v":0},{"$f":"+'Pt 2 Premium and Claims'!AB43+'Pt 2 Premium and Claims - Adj'!AB43","v":0},{"$f":"+'Pt 2 Premium and Claims'!AC43+'Pt 2 Premium and Claims - Adj'!AC43","v":0},{"$f":"+'Pt 2 Premium and Claims'!AD43+'Pt 2 Premium and Claims - Adj'!AD43","v":0},{"$f":"+'Pt 2 Premium and Claims'!AE43+'Pt 2 Premium and Claims - Adj'!AE43","v":0},{"$f":"+'Pt 2 Premium and Claims'!AF43+'Pt 2 Premium and Claims - Adj'!AF43","v":0},{"$f":"+'Pt 2 Premium and Claims'!AG43+'Pt 2 Premium and Claims - Adj'!AG43","v":0},{"$f":"+'Pt 2 Premium and Claims'!AH43+'Pt 2 Premium and Claims - Adj'!AH43","v":0},{"$f":"+'Pt 2 Premium and Claims'!AI43+'Pt 2 Premium and Claims - Adj'!AI43","v":0},{"$f":"+'Pt 2 Premium and Claims'!AJ43+'Pt 2 Premium and Claims - Adj'!AJ43","v":0},{"$f":"+'Pt 2 Premium and Claims'!AK43+'Pt 2 Premium and Claims - Adj'!AK43","v":0},{"$f":"+'Pt 2 Premium and Claims'!AL43+'Pt 2 Premium and Claims - Adj'!AL43","v":0},{"$f":"+'Pt 2 Premium and Claims'!AM43+'Pt 2 Premium and Claims - Adj'!AM43","v":0},{"$f":"+'Pt 2 Premium and Claims'!AN43+'Pt 2 Premium and Claims - Adj'!AN43","v":0},{"$f":"+'Pt 2 Premium and Claims'!AO43+'Pt 2 Premium and Claims - Adj'!AO43","v":0},{"$f":"+'Pt 2 Premium and Claims'!AP43+'Pt 2 Premium and Claims - Adj'!AP43","v":0},{"$f":"+'Pt 2 Premium and Claims'!AQ43+'Pt 2 Premium and Claims - Adj'!AQ43","v":0},{"$f":"+'Pt 2 Premium and Claims'!AR43+'Pt 2 Premium and Claims - Adj'!AR43","v":0},{"$f":"+'Pt 2 Premium and Claims'!AS43+'Pt 2 Premium and Claims - Adj'!AS43","v":0},{"$f":"+'Pt 2 Premium and Claims'!AT43+'Pt 2 Premium and Claims - Adj'!AT43","v":0},{"$f":"+'Pt 2 Premium and Claims'!AU43+'Pt 2 Premium and Claims - Adj'!AU43","v":0},{"$f":"+'Pt 2 Premium and Claims'!AV43+'Pt 2 Premium and Claims - Adj'!AV43","v":0},"Pt 2, Ln 2.9a"]
[null,null,null,"2.7b Reserves specific to the MLR reporting year through 3/31 of the following year",null,{"$f":"IF('Pt 2 Premium and Claims'!F44=\"\",\"\",'Pt 2 Premium and Claims'!F44+'Pt 2 Premium and Claims - Adj'!F44)","v":""},null,{"$f":"IF('Pt 2 Premium and Claims'!H44=\"\",\"\",'Pt 2 Premium and Claims'!H44+'Pt 2 Premium and Claims - Adj'!H44)","v":""},null,{"$f":"IF('Pt 2 Premium and Claims'!J44=\"\",\"\",'Pt 2 Premium and Claims'!J44+'Pt 2 Premium and Claims - Adj'!J44)","v":""},null,{"$f":"IF('Pt 2 Premium and Claims'!L44=\"\",\"\",'Pt 2 Premium and Claims'!L44+'Pt 2 Premium and Claims - Adj'!L44)","v":0},null,{"$f":"IF('Pt 2 Premium and Claims'!N44=\"\",\"\",'Pt 2 Premium and Claims'!N44+'Pt 2 Premium and Claims - Adj'!N44)","v":""},null,{"$f":"IF('Pt 2 Premium and Claims'!P44=\"\",\"\",'Pt 2 Premium and Claims'!P44+'Pt 2 Premium and Claims - Adj'!P44)","v":""},null,null,null,null,null,null,null,null,null,null,null,null,null,null,null,null,null,null,null,null,null,null,null,null,null,null,null,null,null,null,null,null,"Pt 2, Ln 2.9b"]
[null,null,"2.8","Reserve for experience rating refunds (rate credits) prior year",{"$f":"IF('Pt 2 Premium and Claims'!E45=\"\",\"\",'Pt 2 Premium and Claims'!E45+'Pt 2 Premium and Claims - Adj'!E45)","v":""},null,{"$f":"IF('Pt 2 Premium and Claims'!G45=\"\",\"\",'Pt 2 Premium and Claims'!G45+'Pt 2 Premium and Claims - Adj'!G45)","v":""},null,{"$f":"IF('Pt 2 Premium and Claims'!I45=\"\",\"\",'Pt 2 Premium and Claims'!I45+'Pt 2 Premium and Claims - Adj'!I45)","v":""},null,{"$f":"IF('Pt 2 Premium and Claims'!K45=\"\",\"\",'Pt 2 Premium and Claims'!K45+'Pt 2 Premium and Claims - Adj'!K45)","v":0},null,{"$f":"IF('Pt 2 Premium and Claims'!M45=\"\",\"\",'Pt 2 Premium and Claims'!M45+'Pt 2 Premium and Claims - Adj'!M45)","v":""},null,{"$f":"IF('Pt 2 Premium and Claims'!O45=\"\",\"\",'Pt 2 Premium and Claims'!O45+'Pt 2 Premium and Claims - Adj'!O45)","v":""},null,null,{"$f":"IF(O45=\"\",0,O45)+IF(M45=\"\",0,M45)+IF(K45=\"\",0,K45)+IF(I45=\"\",0,I45)+IF(G45=\"\",0,G45)+IF(E45=\"\",0,E45)","v":0},null,{"$f":"+'Pt 2 Premium and Claims'!T45+'Pt 2 Premium and Claims - Adj'!T45","v":0},{"$f":"+'Pt 2 Premium and Claims'!U45+'Pt 2 Premium and Claims - Adj'!U45","v":0},{"$f":"+'Pt 2 Premium and Claims'!V45+'Pt 2 Premium and Claims - Adj'!V45","v":0},{"$f":"+'Pt 2 Premium and Claims'!W45+'Pt 2 Premium and Claims - Adj'!W45","v":0},{"$f":"+'Pt 2 Premium and Claims'!X45+'Pt 2 Premium and Claims - Adj'!X45","v":0},{"$f":"+'Pt 2 Premium and Claims'!Y45+'Pt 2 Premium and Claims - Adj'!Y45","v":0},{"$f":"+'Pt 2 Premium and Claims'!Z45+'Pt 2 Premium and Claims - Adj'!Z45","v":0},{"$f":"+'Pt 2 Premium and Claims'!AA45+'Pt 2 Premium and Claims - Adj'!AA45","v":0},{"$f":"+'Pt 2 Premium and Claims'!AB45+'Pt 2 Premium and Claims - Adj'!AB45","v":0},{"$f":"+'Pt 2 Premium and Claims'!AC45+'Pt 2 Premium and Claims - Adj'!AC45","v":0},{"$f":"+'Pt 2 Premium and Claims'!AD45+'Pt 2 Premium and Claims - Adj'!AD45","v":0},{"$f":"+'Pt 2 Premium and Claims'!AE45+'Pt 2 Premium and Claims - Adj'!AE45","v":0},{"$f":"+'Pt 2 Premium and Claims'!AF45+'Pt 2 Premium and Claims - Adj'!AF45","v":0},{"$f":"+'Pt 2 Premium and Claims'!AG45+'Pt 2 Premium and Claims - Adj'!AG45","v":0},{"$f":"+'Pt 2 Premium and Claims'!AH45+'Pt 2 Premium and Claims - Adj'!AH45","v":0},{"$f":"+'Pt 2 Premium and Claims'!AI45+'Pt 2 Premium and Claims - Adj'!AI45","v":0},{"$f":"+'Pt 2 Premium and Claims'!AJ45+'Pt 2 Premium and Claims - Adj'!AJ45","v":0},{"$f":"+'Pt 2 Premium and Claims'!AK45+'Pt 2 Premium and Claims - Adj'!AK45","v":0},{"$f":"+'Pt 2 Premium and Claims'!AL45+'Pt 2 Premium and Claims - Adj'!AL45","v":0},{"$f":"+'Pt 2 Premium and Claims'!AM45+'Pt 2 Premium and Claims - Adj'!AM45","v":0},{"$f":"+'Pt 2 Premium and Claims'!AN45+'Pt 2 Premium and Claims - Adj'!AN45","v":0},{"$f":"+'Pt 2 Premium and Claims'!AO45+'Pt 2 Premium and Claims - Adj'!AO45","v":0},{"$f":"+'Pt 2 Premium and Claims'!AP45+'Pt 2 Premium and Claims - Adj'!AP45","v":0},{"$f":"+'Pt 2 Premium and Claims'!AQ45+'Pt 2 Premium and Claims - Adj'!AQ45","v":0},{"$f":"+'Pt 2 Premium and Claims'!AR45+'Pt 2 Premium and Claims - Adj'!AR45","v":0},{"$f":"+'Pt 2 Premium and Claims'!AS45+'Pt 2 Premium and Claims - Adj'!AS45","v":0},{"$f":"+'Pt 2 Premium and Claims'!AT45+'Pt 2 Premium and Claims - Adj'!AT45","v":0},{"$f":"+'Pt 2 Premium and Claims'!AU45+'Pt 2 Premium and Claims - Adj'!AU45","v":0},{"$f":"+'Pt 2 Premium and Claims'!AV45+'Pt 2 Premium and Claims - Adj'!AV45","v":0},"Pt 2, Ln 2.10"]
[null,null,2.9,"Incurred dental incentive pool and bonuses"]
[null,null,null,"2.9a  Paid dental incentive pools and bonuses MLR Reporting year",{"$f":"IF('Pt 2 Premium and Claims'!E47=\"\",\"\",'Pt 2 Premium and Claims'!E47+'Pt 2 Premium and Claims - Adj'!E47)","v":""},{"$f":"IF('Pt 2 Premium and Claims'!F47=\"\",\"\",'Pt 2 Premium and Claims'!F47+'Pt 2 Premium and Claims - Adj'!F47)","v":""},{"$f":"IF('Pt 2 Premium and Claims'!G47=\"\",\"\",'Pt 2 Premium and Claims'!G47+'Pt 2 Premium and Claims - Adj'!G47)","v":""},{"$f":"IF('Pt 2 Premium and Claims'!H47=\"\",\"\",'Pt 2 Premium and Claims'!H47+'Pt 2 Premium and Claims - Adj'!H47)","v":""},{"$f":"IF('Pt 2 Premium and Claims'!I47=\"\",\"\",'Pt 2 Premium and Claims'!I47+'Pt 2 Premium and Claims - Adj'!I47)","v":""},{"$f":"IF('Pt 2 Premium and Claims'!J47=\"\",\"\",'Pt 2 Premium and Claims'!J47+'Pt 2 Premium and Claims - Adj'!J47)","v":""},{"$f":"IF('Pt 2 Premium and Claims'!K47=\"\",\"\",'Pt 2 Premium and Claims'!K47+'Pt 2 Premium and Claims - Adj'!K47)","v":0},{"$f":"IF('Pt 2 Premium and Claims'!L47=\"\",\"\",'Pt 2 Premium and Claims'!L47+'Pt 2 Premium and Claims - Adj'!L47)","v":0},{"$f":"IF('Pt 2 Premium and Claims'!M47=\"\",\"\",'Pt 2 Premium and Claims'!M47+'Pt 2 Premium and Claims - Adj'!M47)","v":""},{"$f":"IF('Pt 2 Premium and Claims'!N47=\"\",\"\",'Pt 2 Premium and Claims'!N47+'Pt 2 Premium and Claims - Adj'!N47)","v":""},{"$f":"IF('Pt 2 Premium and Claims'!O47=\"\",\"\",'Pt 2 Premium and Claims'!O47+'Pt 2 Premium and Claims - Adj'!O47)","v":""},{"$f":"IF('Pt 2 Premium and Claims'!P47=\"\",\"\",'Pt 2 Premium and Claims'!P47+'Pt 2 Premium and Claims - Adj'!P47)","v":""},null,{"$f":"IF(O47=\"\",0,O47)+IF(M47=\"\",0,M47)+IF(K47=\"\",0,K47)+IF(I47=\"\",0,I47)+IF(G47=\"\",0,G47)+IF(E47=\"\",0,E47)","v":0},null,{"$f":"+'Pt 2 Premium and Claims'!T47+'Pt 2 Premium and Claims - Adj'!T47","v":0},{"$f":"+'Pt 2 Premium and Claims'!U47+'Pt 2 Premium and Claims - Adj'!U47","v":0},{"$f":"+'Pt 2 Premium and Claims'!V47+'Pt 2 Premium and Claims - Adj'!V47","v":0},{"$f":"+'Pt 2 Premium and Claims'!W47+'Pt 2 Premium and Claims - Adj'!W47","v":0},{"$f":"+'Pt 2 Premium and Claims'!X47+'Pt 2 Premium and Claims - Adj'!X47","v":0},{"$f":"+'Pt 2 Premium and Claims'!Y47+'Pt 2 Premium and Claims - Adj'!Y47","v":0},{"$f":"+'Pt 2 Premium and Claims'!Z47+'Pt 2 Premium and Claims - Adj'!Z47","v":0},{"$f":"+'Pt 2 Premium and Claims'!AA47+'Pt 2 Premium and Claims - Adj'!AA47","v":0},{"$f":"+'Pt 2 Premium and Claims'!AB47+'Pt 2 Premium and Claims - Adj'!AB47","v":0},{"$f":"+'Pt 2 Premium and Claims'!AC47+'Pt 2 Premium and Claims - Adj'!AC47","v":0},{"$f":"+'Pt 2 Premium and Claims'!AD47+'Pt 2 Premium and Claims - Adj'!AD47","v":0},{"$f":"+'Pt 2 Premium and Claims'!AE47+'Pt 2 Premium and Claims - Adj'!AE47","v":0},{"$f":"+'Pt 2 Premium and Claims'!AF47+'Pt 2 Premium and Claims - Adj'!AF47","v":0},{"$f":"+'Pt 2 Premium and Claims'!AG47+'Pt 2 Premium and Claims - Adj'!AG47","v":0},{"$f":"+'Pt 2 Premium and Claims'!AH47+'Pt 2 Premium and Claims - Adj'!AH47","v":0},{"$f":"+'Pt 2 Premium and Claims'!AI47+'Pt 2 Premium and Claims - Adj'!AI47","v":0},{"$f":"+'Pt 2 Premium and Claims'!AJ47+'Pt 2 Premium and Claims - Adj'!AJ47","v":0},{"$f":"+'Pt 2 Premium and Claims'!AK47+'Pt 2 Premium and Claims - Adj'!AK47","v":0},{"$f":"+'Pt 2 Premium and Claims'!AL47+'Pt 2 Premium and Claims - Adj'!AL47","v":0},{"$f":"+'Pt 2 Premium and Claims'!AM47+'Pt 2 Premium and Claims - Adj'!AM47","v":0},{"$f":"+'Pt 2 Premium and Claims'!AN47+'Pt 2 Premium and Claims - Adj'!AN47","v":0},{"$f":"+'Pt 2 Premium and Claims'!AO47+'Pt 2 Premium and Claims - Adj'!AO47","v":0},{"$f":"+'Pt 2 Premium and Claims'!AP47+'Pt 2 Premium and Claims - Adj'!AP47","v":0},{"$f":"+'Pt 2 Premium and Claims'!AQ47+'Pt 2 Premium and Claims - Adj'!AQ47","v":0},{"$f":"+'Pt 2 Premium and Claims'!AR47+'Pt 2 Premium and Claims - Adj'!AR47","v":0},{"$f":"+'Pt 2 Premium and Claims'!AS47+'Pt 2 Premium and Claims - Adj'!AS47","v":0},{"$f":"+'Pt 2 Premium and Claims'!AT47+'Pt 2 Premium and Claims - Adj'!AT47","v":0},{"$f":"+'Pt 2 Premium and Claims'!AU47+'Pt 2 Premium and Claims - Adj'!AU47","v":0},{"$f":"+'Pt 2 Premium and Claims'!AV47+'Pt 2 Premium and Claims - Adj'!AV47","v":0},"Pt 2, Ln 2.11a"]
[null,null,null,"2.9b  Accrued dental incentive pools and bonuses MLR Reporting year",{"$f":"IF('Pt 2 Premium and Claims'!E48=\"\",\"\",'Pt 2 Premium and Claims'!E48+'Pt 2 Premium and Claims - Adj'!E48)","v":""},{"$f":"IF('Pt 2 Premium and Claims'!F48=\"\",\"\",'Pt 2 Premium and Claims'!F48+'Pt 2 Premium and Claims - Adj'!F48)","v":""},{"$f":"IF('Pt 2 Premium and Claims'!G48=\"\",\"\",'Pt 2 Premium and Claims'!G48+'Pt 2 Premium and Claims - Adj'!G48)","v":""},{"$f":"IF('Pt 2 Premium and Claims'!H48=\"\",\"\",'Pt 2 Premium and Claims'!H48+'Pt 2 Premium and Claims - Adj'!H48)","v":""},{"$f":"IF('Pt 2 Premium and Claims'!I48=\"\",\"\",'Pt 2 Premium and Claims'!I48+'Pt 2 Premium and Claims - Adj'!I48)","v":""},{"$f":"IF('Pt 2 Premium and Claims'!J48=\"\",\"\",'Pt 2 Premium and Claims'!J48+'Pt 2 Premium and Claims - Adj'!J48)","v":""},{"$f":"IF('Pt 2 Premium and Claims'!K48=\"\",\"\",'Pt 2 Premium and Claims'!K48+'Pt 2 Premium and Claims - Adj'!K48)","v":0},{"$f":"IF('Pt 2 Premium and Claims'!L48=\"\",\"\",'Pt 2 Premium and Claims'!L48+'Pt 2 Premium and Claims - Adj'!L48)","v":0},{"$f":"IF('Pt 2 Premium and Claims'!M48=\"\",\"\",'Pt 2 Premium and Claims'!M48+'Pt 2 Premium and Claims - Adj'!M48)","v":""},{"$f":"IF('Pt 2 Premium and Claims'!N48=\"\",\"\",'Pt 2 Premium and Claims'!N48+'Pt 2 Premium and Claims - Adj'!N48)","v":""},{"$f":"IF('Pt 2 Premium and Claims'!O48=\"\",\"\",'Pt 2 Premium and Claims'!O48+'Pt 2 Premium and Claims - Adj'!O48)","v":""},{"$f":"IF('Pt 2 Premium and Claims'!P48=\"\",\"\",'Pt 2 Premium and Claims'!P48+'Pt 2 Premium and Claims - Adj'!P48)","v":""},null,{"$f":"IF(O48=\"\",0,O48)+IF(M48=\"\",0,M48)+IF(K48=\"\",0,K48)+IF(I48=\"\",0,I48)+IF(G48=\"\",0,G48)+IF(E48=\"\",0,E48)","v":0},null,{"$f":"+'Pt 2 Premium and Claims'!T48+'Pt 2 Premium and Claims - Adj'!T48","v":0},{"$f":"+'Pt 2 Premium and Claims'!U48+'Pt 2 Premium and Claims - Adj'!U48","v":0},{"$f":"+'Pt 2 Premium and Claims'!V48+'Pt 2 Premium and Claims - Adj'!V48","v":0},{"$f":"+'Pt 2 Premium and Claims'!W48+'Pt 2 Premium and Claims - Adj'!W48","v":0},{"$f":"+'Pt 2 Premium and Claims'!X48+'Pt 2 Premium and Claims - Adj'!X48","v":0},{"$f":"+'Pt 2 Premium and Claims'!Y48+'Pt 2 Premium and Claims - Adj'!Y48","v":0},{"$f":"+'Pt 2 Premium and Claims'!Z48+'Pt 2 Premium and Claims - Adj'!Z48","v":0},{"$f":"+'Pt 2 Premium and Claims'!AA48+'Pt 2 Premium and Claims - Adj'!AA48","v":0},{"$f":"+'Pt 2 Premium and Claims'!AB48+'Pt 2 Premium and Claims - Adj'!AB48","v":0},{"$f":"+'Pt 2 Premium and Claims'!AC48+'Pt 2 Premium and Claims - Adj'!AC48","v":0},{"$f":"+'Pt 2 Premium and Claims'!AD48+'Pt 2 Premium and Claims - Adj'!AD48","v":0},{"$f":"+'Pt 2 Premium and Claims'!AE48+'Pt 2 Premium and Claims - Adj'!AE48","v":0},{"$f":"+'Pt 2 Premium and Claims'!AF48+'Pt 2 Premium and Claims - Adj'!AF48","v":0},{"$f":"+'Pt 2 Premium and Claims'!AG48+'Pt 2 Premium and Claims - Adj'!AG48","v":0},{"$f":"+'Pt 2 Premium and Claims'!AH48+'Pt 2 Premium and Claims - Adj'!AH48","v":0},{"$f":"+'Pt 2 Premium and Claims'!AI48+'Pt 2 Premium and Claims - Adj'!AI48","v":0},{"$f":"+'Pt 2 Premium and Claims'!AJ48+'Pt 2 Premium and Claims - Adj'!AJ48","v":0},{"$f":"+'Pt 2 Premium and Claims'!AK48+'Pt 2 Premium and Claims - Adj'!AK48","v":0},{"$f":"+'Pt 2 Premium and Claims'!AL48+'Pt 2 Premium and Claims - Adj'!AL48","v":0},{"$f":"+'Pt 2 Premium and Claims'!AM48+'Pt 2 Premium and Claims - Adj'!AM48","v":0},{"$f":"+'Pt 2 Premium and Claims'!AN48+'Pt 2 Premium and Claims - Adj'!AN48","v":0},{"$f":"+'Pt 2 Premium and Claims'!AO48+'Pt 2 Premium and Claims - Adj'!AO48","v":0},{"$f":"+'Pt 2 Premium and Claims'!AP48+'Pt 2 Premium and Claims - Adj'!AP48","v":0},{"$f":"+'Pt 2 Premium and Claims'!AQ48+'Pt 2 Premium and Claims - Adj'!AQ48","v":0},{"$f":"+'Pt 2 Premium and Claims'!AR48+'Pt 2 Premium and Claims - Adj'!AR48","v":0},{"$f":"+'Pt 2 Premium and Claims'!AS48+'Pt 2 Premium and Claims - Adj'!AS48","v":0},{"$f":"+'Pt 2 Premium and Claims'!AT48+'Pt 2 Premium and Claims - Adj'!AT48","v":0},{"$f":"+'Pt 2 Premium and Claims'!AU48+'Pt 2 Premium and Claims - Adj'!AU48","v":0},{"$f":"+'Pt 2 Premium and Claims'!AV48+'Pt 2 Premium and Claims - Adj'!AV48","v":0},"Pt 2, Ln 2.11b"]
[null,null,null,"2.9c  Accrued dental incentive pools and bonuses prior year",{"$f":"IF('Pt 2 Premium and Claims'!E49=\"\",\"\",'Pt 2 Premium and Claims'!E49+'Pt 2 Premium and Claims - Adj'!E49)","v":""},null,{"$f":"IF('Pt 2 Premium and Claims'!G49=\"\",\"\",'Pt 2 Premium and Claims'!G49+'Pt 2 Premium and Claims - Adj'!G49)","v":""},null,{"$f":"IF('Pt 2 Premium and Claims'!I49=\"\",\"\",'Pt 2 Premium and Claims'!I49+'Pt 2 Premium and Claims - Adj'!I49)","v":""},null,{"$f":"IF('Pt 2 Premium and Claims'!K49=\"\",\"\",'Pt 2 Premium and Claims'!K49+'Pt 2 Premium and Claims - Adj'!K49)","v":0},null,{"$f":"IF('Pt 2 Premium and Claims'!M49=\"\",\"\",'Pt 2 Premium and Claims'!M49+'Pt 2 Premium and Claims - Adj'!M49)","v":""},null,{"$f":"IF('Pt 2 Premium and Claims'!O49=\"\",\"\",'Pt 2 Premium and Claims'!O49+'Pt 2 Premium and Claims - Adj'!O49)","v":""},null,null,{"$f":"IF(O49=\"\",0,O49)+IF(M49=\"\",0,M49)+IF(K49=\"\",0,K49)+IF(I49=\"\",0,I49)+IF(G49=\"\",0,G49)+IF(E49=\"\",0,E49)","v":0},null,{"$f":"+'Pt 2 Premium and Claims'!T49+'Pt 2 Premium and Claims - Adj'!T49","v":0},{"$f":"+'Pt 2 Premium and Claims'!U49+'Pt 2 Premium and Claims - Adj'!U49","v":0},{"$f":"+'Pt 2 Premium and Claims'!V49+'Pt 2 Premium and Claims - Adj'!V49","v":0},{"$f":"+'Pt 2 Premium and Claims'!W49+'Pt 2 Premium and Claims - Adj'!W49","v":0},{"$f":"+'Pt 2 Premium and Claims'!X49+'Pt 2 Premium and Claims - Adj'!X49","v":0},{"$f":"+'Pt 2 Premium and Claims'!Y49+'Pt 2 Premium and Claims - Adj'!Y49","v":0},{"$f":"+'Pt 2 Premium and Claims'!Z49+'Pt 2 Premium and Claims - Adj'!Z49","v":0},{"$f":"+'Pt 2 Premium and Claims'!AA49+'Pt 2 Premium and Claims - Adj'!AA49","v":0},{"$f":"+'Pt 2 Premium and Claims'!AB49+'Pt 2 Premium and Claims - Adj'!AB49","v":0},{"$f":"+'Pt 2 Premium and Claims'!AC49+'Pt 2 Premium and Claims - Adj'!AC49","v":0},{"$f":"+'Pt 2 Premium and Claims'!AD49+'Pt 2 Premium and Claims - Adj'!AD49","v":0},{"$f":"+'Pt 2 Premium and Claims'!AE49+'Pt 2 Premium and Claims - Adj'!AE49","v":0},{"$f":"+'Pt 2 Premium and Claims'!AF49+'Pt 2 Premium and Claims - Adj'!AF49","v":0},{"$f":"+'Pt 2 Premium and Claims'!AG49+'Pt 2 Premium and Claims - Adj'!AG49","v":0},{"$f":"+'Pt 2 Premium and Claims'!AH49+'Pt 2 Premium and Claims - Adj'!AH49","v":0},{"$f":"+'Pt 2 Premium and Claims'!AI49+'Pt 2 Premium and Claims - Adj'!AI49","v":0},{"$f":"+'Pt 2 Premium and Claims'!AJ49+'Pt 2 Premium and Claims - Adj'!AJ49","v":0},{"$f":"+'Pt 2 Premium and Claims'!AK49+'Pt 2 Premium and Claims - Adj'!AK49","v":0},{"$f":"+'Pt 2 Premium and Claims'!AL49+'Pt 2 Premium and Claims - Adj'!AL49","v":0},{"$f":"+'Pt 2 Premium and Claims'!AM49+'Pt 2 Premium and Claims - Adj'!AM49","v":0},{"$f":"+'Pt 2 Premium and Claims'!AN49+'Pt 2 Premium and Claims - Adj'!AN49","v":0},{"$f":"+'Pt 2 Premium and Claims'!AO49+'Pt 2 Premium and Claims - Adj'!AO49","v":0},{"$f":"+'Pt 2 Premium and Claims'!AP49+'Pt 2 Premium and Claims - Adj'!AP49","v":0},{"$f":"+'Pt 2 Premium and Claims'!AQ49+'Pt 2 Premium and Claims - Adj'!AQ49","v":0},{"$f":"+'Pt 2 Premium and Claims'!AR49+'Pt 2 Premium and Claims - Adj'!AR49","v":0},{"$f":"+'Pt 2 Premium and Claims'!AS49+'Pt 2 Premium and Claims - Adj'!AS49","v":0},{"$f":"+'Pt 2 Premium and Claims'!AT49+'Pt 2 Premium and Claims - Adj'!AT49","v":0},{"$f":"+'Pt 2 Premium and Claims'!AU49+'Pt 2 Premium and Claims - Adj'!AU49","v":0},{"$f":"+'Pt 2 Premium and Claims'!AV49+'Pt 2 Premium and Claims - Adj'!AV49","v":0},"Pt 2, Ln 2.11c"]
[null,null,"2.10","Contingent benefit and lawsuit reserves",{"$f":"IF('Pt 2 Premium and Claims'!E50=\"\",\"\",'Pt 2 Premium and Claims'!E50+'Pt 2 Premium and Claims - Adj'!E50)","v":""},{"$f":"IF('Pt 2 Premium and Claims'!F50=\"\",\"\",'Pt 2 Premium and Claims'!F50+'Pt 2 Premium and Claims - Adj'!F50)","v":""},{"$f":"IF('Pt 2 Premium and Claims'!G50=\"\",\"\",'Pt 2 Premium and Claims'!G50+'Pt 2 Premium and Claims - Adj'!G50)","v":""},{"$f":"IF('Pt 2 Premium and Claims'!H50=\"\",\"\",'Pt 2 Premium and Claims'!H50+'Pt 2 Premium and Claims - Adj'!H50)","v":""},{"$f":"IF('Pt 2 Premium and Claims'!I50=\"\",\"\",'Pt 2 Premium and Claims'!I50+'Pt 2 Premium and Claims - Adj'!I50)","v":""},{"$f":"IF('Pt 2 Premium and Claims'!J50=\"\",\"\",'Pt 2 Premium and Claims'!J50+'Pt 2 Premium and Claims - Adj'!J50)","v":""},{"$f":"IF('Pt 2 Premium and Claims'!K50=\"\",\"\",'Pt 2 Premium and Claims'!K50+'Pt 2 Premium and Claims - Adj'!K50)","v":0},{"$f":"IF('Pt 2 Premium and Claims'!L50=\"\",\"\",'Pt 2 Premium and Claims'!L50+'Pt 2 Premium and Claims - Adj'!L50)","v":0},{"$f":"IF('Pt 2 Premium and Claims'!M50=\"\",\"\",'Pt 2 Premium and Claims'!M50+'Pt 2 Premium and Claims - Adj'!M50)","v":""},{"$f":"IF('Pt 2 Premium and Claims'!N50=\"\",\"\",'Pt 2 Premium and Claims'!N50+'Pt 2 Premium and Claims - Adj'!N50)","v":""},{"$f":"IF('Pt 2 Premium and Claims'!O50=\"\",\"\",'Pt 2 Premium and Claims'!O50+'Pt 2 Premium and Claims - Adj'!O50)","v":""},{"$f":"IF('Pt 2 Premium and Claims'!P50=\"\",\"\",'Pt 2 Premium and Claims'!P50+'Pt 2 Premium and Claims - Adj'!P50)","v":""},null,{"$f":"IF(O50=\"\",0,O50)+IF(M50=\"\",0,M50)+IF(K50=\"\",0,K50)+IF(I50=\"\",0,I50)+IF(G50=\"\",0,G50)+IF(E50=\"\",0,E50)","v":0},null,{"$f":"+'Pt 2 Premium and Claims'!T50+'Pt 2 Premium and Claims - Adj'!T50","v":0},{"$f":"+'Pt 2 Premium and Claims'!U50+'Pt 2 Premium and Claims - Adj'!U50","v":0},{"$f":"+'Pt 2 Premium and Claims'!V50+'Pt 2 Premium and Claims - Adj'!V50","v":0},{"$f":"+'Pt 2 Premium and Claims'!W50+'Pt 2 Premium and Claims - Adj'!W50","v":0},{"$f":"+'Pt 2 Premium and Claims'!X50+'Pt 2 Premium and Claims - Adj'!X50","v":0},{"$f":"+'Pt 2 Premium and Claims'!Y50+'Pt 2 Premium and Claims - Adj'!Y50","v":0},{"$f":"+'Pt 2 Premium and Claims'!Z50+'Pt 2 Premium and Claims - Adj'!Z50","v":0},{"$f":"+'Pt 2 Premium and Claims'!AA50+'Pt 2 Premium and Claims - Adj'!AA50","v":0},{"$f":"+'Pt 2 Premium and Claims'!AB50+'Pt 2 Premium and Claims - Adj'!AB50","v":0},{"$f":"+'Pt 2 Premium and Claims'!AC50+'Pt 2 Premium and Claims - Adj'!AC50","v":0},{"$f":"+'Pt 2 Premium and Claims'!AD50+'Pt 2 Premium and Claims - Adj'!AD50","v":0},{"$f":"+'Pt 2 Premium and Claims'!AE50+'Pt 2 Premium and Claims - Adj'!AE50","v":0},{"$f":"+'Pt 2 Premium and Claims'!AF50+'Pt 2 Premium and Claims - Adj'!AF50","v":0},{"$f":"+'Pt 2 Premium and Claims'!AG50+'Pt 2 Premium and Claims - Adj'!AG50","v":0},{"$f":"+'Pt 2 Premium and Claims'!AH50+'Pt 2 Premium and Claims - Adj'!AH50","v":0},{"$f":"+'Pt 2 Premium and Claims'!AI50+'Pt 2 Premium and Claims - Adj'!AI50","v":0},{"$f":"+'Pt 2 Premium and Claims'!AJ50+'Pt 2 Premium and Claims - Adj'!AJ50","v":0},{"$f":"+'Pt 2 Premium and Claims'!AK50+'Pt 2 Premium and Claims - Adj'!AK50","v":0},{"$f":"+'Pt 2 Premium and Claims'!AL50+'Pt 2 Premium and Claims - Adj'!AL50","v":0},{"$f":"+'Pt 2 Premium and Claims'!AM50+'Pt 2 Premium and Claims - Adj'!AM50","v":0},{"$f":"+'Pt 2 Premium and Claims'!AN50+'Pt 2 Premium and Claims - Adj'!AN50","v":0},{"$f":"+'Pt 2 Premium and Claims'!AO50+'Pt 2 Premium and Claims - Adj'!AO50","v":0},{"$f":"+'Pt 2 Premium and Claims'!AP50+'Pt 2 Premium and Claims - Adj'!AP50","v":0},{"$f":"+'Pt 2 Premium and Claims'!AQ50+'Pt 2 Premium and Claims - Adj'!AQ50","v":0},{"$f":"+'Pt 2 Premium and Claims'!AR50+'Pt 2 Premium and Claims - Adj'!AR50","v":0},{"$f":"+'Pt 2 Premium and Claims'!AS50+'Pt 2 Premium and Claims - Adj'!AS50","v":0},{"$f":"+'Pt 2 Premium and Claims'!AT50+'Pt 2 Premium and Claims - Adj'!AT50","v":0},{"$f":"+'Pt 2 Premium and Claims'!AU50+'Pt 2 Premium and Claims - Adj'!AU50","v":0},{"$f":"+'Pt 2 Premium and Claims'!AV50+'Pt 2 Premium and Claims - Adj'!AV50","v":0},"Pt 2, Ln 2.13"]
[null,null,"2.11","Total incurred claims ",{"$f":"IF('Pt 2 Premium and Claims'!E51=\"\",\"\",'Pt 2 Premium and Claims'!E51+'Pt 2 Premium and Claims - Adj'!E51)","v":""},{"$f":"IF('Pt 2 Premium and Claims'!F51=\"\",\"\",'Pt 2 Premium and Claims'!F51+'Pt 2 Premium and Claims - Adj'!F51)","v":""},{"$f":"IF('Pt 2 Premium and Claims'!G51=\"\",\"\",'Pt 2 Premium and Claims'!G51+'Pt 2 Premium and Claims - Adj'!G51)","v":""},{"$f":"IF('Pt 2 Premium and Claims'!H51=\"\",\"\",'Pt 2 Premium and Claims'!H51+'Pt 2 Premium and Claims - Adj'!H51)","v":""},{"$f":"IF('Pt 2 Premium and Claims'!I51=\"\",\"\",'Pt 2 Premium and Claims'!I51+'Pt 2 Premium and Claims - Adj'!I51)","v":""},{"$f":"IF('Pt 2 Premium and Claims'!J51=\"\",\"\",'Pt 2 Premium and Claims'!J51+'Pt 2 Premium and Claims - Adj'!J51)","v":""},{"$f":"IF('Pt 2 Premium and Claims'!K51=\"\",\"\",'Pt 2 Premium and Claims'!K51+'Pt 2 Premium and Claims - Adj'!K51)","v":75730.91},{"$f":"IF('Pt 2 Premium and Claims'!L51=\"\",\"\",'Pt 2 Premium and Claims'!L51+'Pt 2 Premium and Claims - Adj'!L51)","v":80059.100000000006},{"$f":"IF('Pt 2 Premium and Claims'!M51=\"\",\"\",'Pt 2 Premium and Claims'!M51+'Pt 2 Premium and Claims - Adj'!M51)","v":""},{"$f":"IF('Pt 2 Premium and Claims'!N51=\"\",\"\",'Pt 2 Premium and Claims'!N51+'Pt 2 Premium and Claims - Adj'!N51)","v":""},{"$f":"IF('Pt 2 Premium and Claims'!O51=\"\",\"\",'Pt 2 Premium and Claims'!O51+'Pt 2 Premium and Claims - Adj'!O51)","v":""},{"$f":"IF('Pt 2 Premium and Claims'!P51=\"\",\"\",'Pt 2 Premium and Claims'!P51+'Pt 2 Premium and Claims - Adj'!P51)","v":""},null,{"$f":"R29+R32-R34+R36-R38+R40+R43-R45+R47+R48-R49+R50","v":75730.91},null,{"$f":"+'Pt 2 Premium and Claims'!T51+'Pt 2 Premium and Claims - Adj'!T51","v":4667.7000000000007},{"$f":"+'Pt 2 Premium and Claims'!U51+'Pt 2 Premium and Claims - Adj'!U51","v":0},{"$f":"+'Pt 2 Premium and Claims'!V51+'Pt 2 Premium and Claims - Adj'!V51","v":0},{"$f":"+'Pt 2 Premium and Claims'!W51+'Pt 2 Premium and Claims - Adj'!W51","v":0},{"$f":"+'Pt 2 Premium and Claims'!X51+'Pt 2 Premium and Claims - Adj'!X51","v":0},{"$f":"+'Pt 2 Premium and Claims'!Y51+'Pt 2 Premium and Claims - Adj'!Y51","v":0},{"$f":"+'Pt 2 Premium and Claims'!Z51+'Pt 2 Premium and Claims - Adj'!Z51","v":0},{"$f":"+'Pt 2 Premium and Claims'!AA51+'Pt 2 Premium and Claims - Adj'!AA51","v":0},{"$f":"+'Pt 2 Premium and Claims'!AB51+'Pt 2 Premium and Claims - Adj'!AB51","v":0},{"$f":"+'Pt 2 Premium and Claims'!AC51+'Pt 2 Premium and Claims - Adj'!AC51","v":0},{"$f":"+'Pt 2 Premium and Claims'!AD51+'Pt 2 Premium and Claims - Adj'!AD51","v":0},{"$f":"+'Pt 2 Premium and Claims'!AE51+'Pt 2 Premium and Claims - Adj'!AE51","v":0},{"$f":"+'Pt 2 Premium and Claims'!AF51+'Pt 2 Premium and Claims - Adj'!AF51","v":75730.91},{"$f":"+'Pt 2 Premium and Claims'!AG51+'Pt 2 Premium and Claims - Adj'!AG51","v":0},{"$f":"+'Pt 2 Premium and Claims'!AH51+'Pt 2 Premium and Claims - Adj'!AH51","v":0},{"$f":"+'Pt 2 Premium and Claims'!AI51+'Pt 2 Premium and Claims - Adj'!AI51","v":0},{"$f":"+'Pt 2 Premium and Claims'!AJ51+'Pt 2 Premium and Claims - Adj'!AJ51","v":0},{"$f":"+'Pt 2 Premium and Claims'!AK51+'Pt 2 Premium and Claims - Adj'!AK51","v":0},{"$f":"+'Pt 2 Premium and Claims'!AL51+'Pt 2 Premium and Claims - Adj'!AL51","v":75730.91},{"$f":"+'Pt 2 Premium and Claims'!AM51+'Pt 2 Premium and Claims - Adj'!AM51","v":0},{"$f":"+'Pt 2 Premium and Claims'!AN51+'Pt 2 Premium and Claims - Adj'!AN51","v":0},{"$f":"+'Pt 2 Premium and Claims'!AO51+'Pt 2 Premium and Claims - Adj'!AO51","v":0},{"$f":"+'Pt 2 Premium and Claims'!AP51+'Pt 2 Premium and Claims - Adj'!AP51","v":0},{"$f":"+'Pt 2 Premium and Claims'!AQ51+'Pt 2 Premium and Claims - Adj'!AQ51","v":0},{"$f":"+'Pt 2 Premium and Claims'!AR51+'Pt 2 Premium and Claims - Adj'!AR51","v":0},{"$f":"+'Pt 2 Premium and Claims'!AS51+'Pt 2 Premium and Claims - Adj'!AS51","v":0},{"$f":"+'Pt 2 Premium and Claims'!AT51+'Pt 2 Premium and Claims - Adj'!AT51","v":0},{"$f":"+'Pt 2 Premium and Claims'!AU51+'Pt 2 Premium and Claims - Adj'!AU51","v":80398.61},{"$f":"+'Pt 2 Premium and Claims'!AV51+'Pt 2 Premium and Claims - Adj'!AV51","v":80398.61},"Pt 2, Ln 2.17"]
[]
[]
[null,null,"Cell Keys:"]
[null,null,null,"Blank cells require input from Health plan or Health insurer"]
[null,null,null,"Grey cells require no data input"]
[null,null,null,"Pink cells require no data input - locked down"]
[null,null,null,"Blue cells: computed cell (formula cell)"]

{"sheet":"Pt 3 Expense Allocation","index":19,"n_rows":87,"n_cols":4,"rows_kept":87,"cut":false,"hidden":false,"merged":[[17,3,17,11],[1,3,1,4],[14,3,14,11],[15,3,15,11],[16,3,16,11],[29,3,29,11],[18,3,18,11],[19,3,19,11],[20,3,20,11],[21,3,21,11],[22,3,22,11],[23,3,23,11],[24,3,24,11],[25,3,25,11],[26,3,26,11],[27,3,27,11],[28,3,28,11],[41,3,41,11],[30,3,30,11],[31,3,31,11],[32,3,32,11],[33,3,33,11],[34,3,34,11],[35,3,35,11],[36,3,36,11],[37,3,37,11],[38,3,38,11],[39,3,39,11],[40,3,40,11],[53,3,53,11],[42,3,42,11],[43,3,43,11],[44,3,44,11],[45,3,45,11],[46,3,46,11],[47,3,47,11],[48,3,48,11],[49,3,49,11],[50,3,50,11],[51,3,51,11],[52,3,52,11],[65,3,65,11],[54,3,54,11],[55,3,55,11],[56,3,56,11],[57,3,57,11],[58,3,58,11],[59,3,59,11],[60,3,60,11],[61,3,61,11],[62,3,62,11],[63,3,63,11],[64,3,64,11],[77,3,77,11],[66,3,66,11],[67,3,67,11],[68,3,68,11],[69,3,69,11],[70,3,70,11],[71,3,71,11],[72,3,72,11],[73,3,73,11],[74,3,74,11],[75,3,75,11],[76,3,76,11],[78,3,78,11],[79,3,79,11],[80,3,80,11],[83,1,83,2],[86,1,86,2]]}
[null,"Department of Managed Health Care/Department of Insurance"]
[null,"Medical Loss Ratio Reporting Form: Dental Coverage "]
[null,"Part 3 - Expense Allocation"]
[]
[null,"Health Plan ID"]
[null,{"$f":"'Cover Page'!C7","v":97179}]
[null,"Legal Name"]
[null,{"$f":"'Cover Page'!C8","v":"UnitedHealthcare Life Insurance Company"}]
[null,"dBA"]
[null,{"$f":"'Cover Page'!C9","v":"N/A"}]
[null,"MLR Reporting Year"]
[null,{"$f":"'Cover Page'!C6","v":"2022"}]
[]
[]
[null,"Description of Expense Element (by Type)","NEW","Detailed Description of Expense Allocation Methods"]
[null,1,2,3]
[null,"1.  Incurred Claims"]
[]
[]
[]
[]
[]
[]
[null,"2.  Federal and State Taxes and Licensing or Regulatory Fees"]
[null,"2.a Federal taxes and assessments"]
[]
[]
[]
[]
[]
[]
[null,"2.b State insurance, premium and other taxes"]
[]
[]
[]
[]
[]
[]
[null,"2.c Community benefit expenditures "]
[]
[]
[]
[]
[]
[]
[null,"2.d Regulatory authority licenses and fees"]
[]
[]
[]
[]
[]
[]
[null,"3.  Non-Claims costs"]
[null,"3.a Direct sales salaries and benefits"]
[]
[]
[]
[]
[]
[]
[null,"3.b Agents and brokers fees and commissions"]
[]
[]
[]
[]
[]
[]
[null,"3.c Other taxes"]
[]
[]
[]
[]
[]
[]
[null,"3.d Other general and administrative expenses"]
[]
[]
[]
[]
[]
[]
[]
[null,"Cell Keys:"]
[null,"Blank cells require input from Health plan or Health insurer"]
[null,"Grey cells require no data input "]
[null,"Pink cells require no data input - locked down"]
[null,"Blue cells: computed cell (formula cell)"]

{"sheet":"EB PT 4 P&C Calcs","index":20,"n_rows":97,"n_cols":20,"rows_kept":97,"cut":false,"hidden":true,"merged":[]}
["Part","Ln","Year",{"$f":"\"Account\"","v":"Account"},{"$f":"\"IDB Period\"","v":"IDB Period"},{"$f":"\"Period\"","v":"Period"},{"$f":"\"Reinsurance\"","v":"Reinsurance"},{"$f":"\"Project\"","v":"Project"},1,2,3,4,5,6,1,2,3,4,5,6]
[{"$f":"\"Not Used\"","v":"Not Used"},null,null,null,null,null,null,null,"Views","Views","Views","Views","Views","Views","Views","Views","Views","Views","Views","Views"]
[{"$f":"\"Linked Cell\"","v":"Linked Cell"},null,null,null,null,null,null,null,"Sources","Sources","Sources","Sources","Sources","Sources","Sources","Sources","Sources","Sources","Sources","Sources"]
[{"$f":"\"Separate Rows\"","v":"Separate Rows"},null,null,null,null,null,null,null,"Departments","Departments","Departments","Departments","Departments","Departments","Departments","Departments","Departments","Departments","Departments","Departments"]
["Ties Out",null,null,null,null,null,null,null,{"$f":"'EB PT 1'!K5","v":"NAIC Supp HC Exhibit"},{"$f":"I5","v":"NAIC Supp HC Exhibit"},{"$f":"I5","v":"NAIC Supp HC Exhibit"},{"$f":"J5","v":"NAIC Supp HC Exhibit"},{"$f":"K5","v":"NAIC Supp HC Exhibit"},{"$f":"L5","v":"NAIC Supp HC Exhibit"},{"$f":"'EB PT 1'!#REF!","v":{"$error":"#REF!"}},{"$f":"O5","v":{"$error":"#REF!"}},{"$f":"O5","v":{"$error":"#REF!"}},{"$f":"P5","v":{"$error":"#REF!"}},{"$f":"Q5","v":{"$error":"#REF!"}},{"$f":"R5","v":{"$error":"#REF!"}}]
[{"$f":"\"Question\"","v":"Question"},null,null,null,null,null,null,null,{"$f":"'EB PT 1'!K8","v":"UnitedHealthcare Domestic"},{"$f":"$I$6","v":"UnitedHealthcare Domestic"},{"$f":"$I$6","v":"UnitedHealthcare Domestic"},{"$f":"$I$6","v":"UnitedHealthcare Domestic"},{"$f":"$I$6","v":"UnitedHealthcare Domestic"},{"$f":"$I$6","v":"UnitedHealthcare Domestic"},{"$f":"'EB PT 1'!#REF!","v":{"$error":"#REF!"}},{"$f":"$I$6","v":"UnitedHealthcare Domestic"},{"$f":"$I$6","v":"UnitedHealthcare Domestic"},{"$f":"$I$6","v":"UnitedHealthcare Domestic"},{"$f":"$I$6","v":"UnitedHealthcare Domestic"},{"$f":"$I$6","v":"UnitedHealthcare Domestic"}]
[null,null,null,null,null,null,null,null,{"$f":"'EB PT 1'!K9","v":"Stand Alone Dental"},{"$f":"I7","v":"Stand Alone Dental"},{"$f":"I7","v":"Stand Alone Dental"},{"$f":"K7","v":"Stand Alone Dental"},{"$f":"K7","v":"Stand Alone Dental"},{"$f":"M7","v":"Stand Alone Dental"},{"$f":"'EB PT 1'!#REF!","v":{"$error":"#REF!"}},{"$f":"O7","v":{"$error":"#REF!"}},{"$f":"O7","v":{"$error":"#REF!"}},{"$f":"Q7","v":{"$error":"#REF!"}},{"$f":"Q7","v":{"$error":"#REF!"}},{"$f":"S7","v":{"$error":"#REF!"}}]
[null,null,null,null,null,null,null,null,{"$f":"'EB PT 1'!$K$10","v":"Individual"},{"$f":"I8","v":"Individual"},{"$f":"'EB PT 1'!$M$10","v":"Small Group Employer"},{"$f":"K8","v":"Small Group Employer"},{"$f":"'EB PT 1'!$O$10","v":"Large Group Employer"},{"$f":"M8","v":"Large Group Employer"},{"$f":"'EB PT 1'!$K$10","v":"Individual"},{"$f":"O8","v":"Individual"},{"$f":"'EB PT 1'!$M$10","v":"Small Group Employer"},{"$f":"Q8","v":"Small Group Employer"},{"$f":"'EB PT 1'!$O$10","v":"Large Group Employer"},{"$f":"S8","v":"Large Group Employer"}]
[null,null,null,null,null,null,null,null,{"$f":"'EB PT 1'!K6","v":"UnitedHealthcare Life Ins Co"},{"$f":"I9","v":"UnitedHealthcare Life Ins Co"},{"$f":"J9","v":"UnitedHealthcare Life Ins Co"},{"$f":"K9","v":"UnitedHealthcare Life Ins Co"},{"$f":"L9","v":"UnitedHealthcare Life Ins Co"},{"$f":"M9","v":"UnitedHealthcare Life Ins Co"},{"$f":"'EB PT 1'!#REF!","v":{"$error":"#REF!"}},{"$f":"O9","v":{"$error":"#REF!"}},{"$f":"P9","v":{"$error":"#REF!"}},{"$f":"Q9","v":{"$error":"#REF!"}},{"$f":"R9","v":{"$error":"#REF!"}},{"$f":"S9","v":{"$error":"#REF!"}}]
[null,null,null,null,null,null,null,null,{"$f":"'EB PT 1'!K7","v":"California - CA"},{"$f":"I10","v":"California - CA"},{"$f":"J10","v":"California - CA"},{"$f":"K10","v":"California - CA"},{"$f":"L10","v":"California - CA"},{"$f":"M10","v":"California - CA"},{"$f":"'EB PT 1'!#REF!","v":{"$error":"#REF!"}},{"$f":"O10","v":{"$error":"#REF!"}},{"$f":"P10","v":{"$error":"#REF!"}},{"$f":"Q10","v":{"$error":"#REF!"}},{"$f":"R10","v":{"$error":"#REF!"}},{"$f":"S10","v":{"$error":"#REF!"}}]
[null,null,null,null,null,null,null,null,{"$f":"'Essbase Input'!$C19","v":"2020"},{"$f":"'Essbase Input'!$C18","v":"2021"},{"$f":"'Essbase Input'!$C19","v":"2020"},{"$f":"'Essbase Input'!$C18","v":"2021"},{"$f":"'Essbase Input'!$C19","v":"2020"},{"$f":"'Essbase Input'!$C18","v":"2021"},{"$f":"'Essbase Input'!$C18","v":"2021"},{"$f":"'Essbase Input'!$C17","v":"2022"},{"$f":"'Essbase Input'!$C18","v":"2021"},{"$f":"'Essbase Input'!$C17","v":"2022"},{"$f":"'Essbase Input'!$C18","v":"2021"},{"$f":"'Essbase Input'!$C17","v":"2022"}]
[2,"2.1a",{"$f":"$I$11","v":"2020"},"Total Incurred Claims","IDB Periods","Total Year","NO REINSURANCE","All Other Projects",1004.45,882.15,10072564.449999999,9606037.8499999996,23731736.550000001,40511442.709999986,882.15,-882.13,9606037.8499999996,8126668.1400000006,40511442.709999986,37073307.129999995]
[2,"2.1a",{"$f":"$I$11","v":"2020"},"50307 - Pharmacy Non-MLR Claims","IDB Periods","Total Year","NO REINSURANCE","All Other Projects",0,0,0,0,0,0,0,0,0,0,0,0]
[2,"2.1a",{"$f":"$I$11","v":"2020"},"50010 - Physician Cap Paid - External","IDB Periods","Total Year","NO REINSURANCE","0000003413 - General Administrative",0,0,0,0,0,0,0,0,0,0,0,0]
[2,"2.1a",{"$f":"$I$11","v":"2020"},"50619 - Internal Capitation Pd - Other","IDB Periods","Total Year","NO REINSURANCE","All Other Projects",0,0,0,0,0,0,0,0,0,0,0,0]
[2,"2.1a",{"$f":"$I$11","v":"2020"},"Rate Credits NonTaxable","IDB Periods","Total Year","NO REINSURANCE","All Other Projects",0,0,0,0,0,0,0,0,0,0,0,0]
[null,null,null,"Direct Contract Reserve","IDB Periods","December_Bal","NO REINSURANCE","All Other Projects",0,0,0,0,-115602.99999999999,-388971.56,0,0,0,0,-388971.56,-298933.13999999996]
[null,null,null,"Direct Contract Reserve","IDB Periods","Begin Balance","NO REINSURANCE","All Other Projects",0,0,0,0,-138420.59,-115603,0,0,0,0,-115603,-388971.56]
[null,null,null,"Healthcare Receivables","IDB Periods","December_Bal","NO REINSURANCE","All Other Projects",0,0,0,0,0,0,0,0,0,0,0,0]
[null,null,null,"Healthcare Receivables",{"$f":"CONCATENATE(\"IDB \",'Essbase Input'!$C$12)","v":"IDB 2022"},"March_Bal","NO REINSURANCE","All Other Projects",0,0,0,0,0,0,0,0,0,0,0,0]
[null,null,null,"Healthcare Receivables","IDB Periods","Begin Balance","NO REINSURANCE","All Other Projects",0,0,0,0,0,0,0,0,0,0,0,0]
[2,"2.1b",{"$f":"$J$11","v":"2021"},"Total Incurred Claims",{"$f":"CONCATENATE(\"IDB \",'Essbase Input'!$C$19)","v":"IDB 2020"},"Total Year","NO REINSURANCE","All Other Projects",743.4,0,9777283.7899999991,207539.89999999997,23224597.439999998,446054.25000000035,0,0,207539.89999999997,-5437.9,446054.25000000035,-14702.459999999995]
[2,"2.1b","2021","Total Incurred Claims",{"$f":"CONCATENATE(\"IDB \",'Essbase Input'!$C$19)","v":"IDB 2020"},"March_Bal","NO REINSURANCE","All Other Projects",227,0,2377111.7399999998,174917.22999999998,5606087.7300000004,372499.52000000008,0,0,174917.22999999998,-117.35000000000036,372499.52000000008,6478.21]
[2,"2.1b","2021","50307 - Pharmacy Non-MLR Claims",{"$f":"CONCATENATE(\"IDB \",'Essbase Input'!$C$19)","v":"IDB 2020"},"Total Year","NO REINSURANCE","All Other Projects",0,0,0,0,0,0,0,0,0,0,0,0]
[2,"2.1b","2021","50307 - Pharmacy Non-MLR Claims",{"$f":"CONCATENATE(\"IDB \",'Essbase Input'!$C$19)","v":"IDB 2020"},"March_Bal","NO REINSURANCE","All Other Projects",0,0,0,0,0,0,0,0,0,0,0,0]
[2,"2.1b","2021","50010 - Physician Cap Paid - External",{"$f":"CONCATENATE(\"IDB \",'Essbase Input'!$C$19)","v":"IDB 2020"},"Total Year","NO REINSURANCE","0000003413 - General Administrative",0,0,0,0,0,0,0,0,0,0,0,0]
[2,"2.1b","2021","50010 - Physician Cap Paid - External",{"$f":"CONCATENATE(\"IDB \",'Essbase Input'!$C$19)","v":"IDB 2020"},"March_Bal","NO REINSURANCE","0000003413 - General Administrative",0,0,0,0,0,0,0,0,0,0,0,0]
[2,"2.1b","2021","50619 - Internal Capitation Pd - Other",{"$f":"CONCATENATE(\"IDB \",'Essbase Input'!$C$19)","v":"IDB 2020"},"Total Year","NO REINSURANCE","All Other Projects",0,0,0,0,0,0,0,0,0,0,0,0]
[2,"2.1b","2021","50619 - Internal Capitation Pd - Other",{"$f":"CONCATENATE(\"IDB \",'Essbase Input'!$C$19)","v":"IDB 2020"},"March_Bal","NO REINSURANCE","All Other Projects",0,0,0,0,0,0,0,0,0,0,0,0]
[2,"2.1b","2021","Rate Credits NonTaxable",{"$f":"CONCATENATE(\"IDB \",'Essbase Input'!$C$19)","v":"IDB 2020"},"Total Year","NO REINSURANCE","All Other Projects",0,0,0,0,0,0,0,0,0,0,0,0]
[2,"2.1b","2021","Rate Credits NonTaxable",{"$f":"CONCATENATE(\"IDB \",'Essbase Input'!$C$19)","v":"IDB 2020"},"March_Bal","NO REINSURANCE","All Other Projects",0,0,0,0,0,0,0,0,0,0,0,0]
[2,"2.1b",{"$f":"$I$11","v":"2020"},"Direct Contract Reserve","IDB Periods","December_Bal","NO REINSURANCE","All Other Projects",0,0,0,0,-115602.99999999999,-388971.56,0,0,0,0,-388971.56,-298933.13999999996]
[2,"2.1b",{"$f":"$J$11","v":"2021"},"Healthcare Receivables",{"$f":"CONCATENATE(\"IDB \",'Essbase Input'!$C$19)","v":"IDB 2020"},"March_Bal","NO REINSURANCE","All Other Projects",0,0,0,0,0,0,0,0,0,0,0,0]
[2,"2.2a",{"$f":"$I$11","v":"2020"},"Direct Claim Liability","IDB Periods","December_Bal","NO REINSURANCE","All Other Projects",0,0,-565178.04999999993,-408583.64000000007,-1519075.6700000002,-2351285.3000000003,0,-2.0000000000001822E-2,-408583.64000000007,-501395.44,-2351285.3000000003,-2608200.0599999996]
[2,"2.2b","2021","Direct Claim Liability",{"$f":"CONCATENATE(\"IDB \",'Essbase Input'!$C$19)","v":"IDB 2020"},"March_Bal","NO REINSURANCE","All Other Projects",0,0,-388437.97,-112077.5,-1099109.4900000002,-337009.42,0,0,-112077.5,0,-337009.42,0]
[2,2.2999999999999998,{"$f":"$I$11","v":"2020"},"Direct Claim Liability","IDB Periods","Begin Balance","NO REINSURANCE","All Other Projects",-11.950000000000001,0,-454667.4499999999,-565178.05000000005,-1493585.3300000003,-1519075.67,0,0,-565178.05000000005,-408583.63999999996,-1519075.67,-2351285.2999999998]
[2,"2.4a",{"$f":"$I$11","v":"2020"},"Direct Claim Reserves","IDB Periods","December_Bal","NO REINSURANCE","All Other Projects",0,0,0,0,0,0,0,0,0,0,0,0]
[2,"2.4b",{"$f":"$J$11","v":"2021"},"Direct Claim Reserves",{"$f":"CONCATENATE(\"IDB \",'Essbase Input'!$C$19)","v":"IDB 2020"},"March_Bal","NO REINSURANCE","All Other Projects",0,0,0,0,0,0,0,0,0,0,0,0]
[2,2.5,{"$f":"$I$11","v":"2020"},"Direct Claim Reserves","IDB Periods","Begin Balance","NO REINSURANCE","All Other Projects",0,0,0,0,0,0,0,0,0,0,0,0]
[2,"2.6a","2020","Rate Credits Taxable","IDB Periods","Total Year","NO REINSURANCE","All Other Projects",0,0,0,0,0,0,0,0,0,0,0,0]
[2,"2.6a","2020","Reserve for Rate Credits","IDB Periods","December_Bal","NO REINSURANCE","All Other Projects",0,0,0,0,0,0,0,0,0,0,0,0]
[2,"2.6a","2020","Estimated Rebates Unpaid","IDB Periods","December_Bal","NO REINSURANCE","All Other Projects",0,0,0,0,0,0,0,0,0,0,0,0]
[2,"2.6a","2020","Reserve for Rate Credits","IDB Periods","Begin Balance","NO REINSURANCE","All Other Projects",0,0,0,0,0,0,0,0,0,0,0,0]
[2,"2.6a","2020","Estimated Rebates Unpaid","IDB Periods","Begin Balance","NO REINSURANCE","All Other Projects",0,0,0,0,0,0,0,0,0,0,0,0]
[2,"2.6b","2020","Rate Credits Taxable","IDB Periods","Total Year","NO REINSURANCE","All Other Projects",0,0,0,0,0,0,0,0,0,0,0,0]
[2,"2.6b",{"$f":"$J$11","v":"2021"},"Rate Credits Taxable",{"$f":"CONCATENATE(\"IDB \",'Essbase Input'!$C$19)","v":"IDB 2020"},"March_Bal","NO REINSURANCE","All Other Projects",0,0,0,0,0,0,0,0,0,0,0,0]
[2,"2.6b",{"$f":"$J$11","v":"2021"},"Reserve for Rate Credits",{"$f":"CONCATENATE(\"IDB \",'Essbase Input'!$C$19)","v":"IDB 2020"},"March_Bal","NO REINSURANCE","All Other Projects",0,0,0,0,0,0,0,0,0,0,0,0]
[2,"2.6b",{"$f":"$J$11","v":"2021"},"Estimated Rebates Unpaid",{"$f":"CONCATENATE(\"IDB \",'Essbase Input'!$C$19)","v":"IDB 2020"},"March_Bal","NO REINSURANCE","All Other Projects",0,0,0,0,0,0,0,0,0,0,0,0]
[2,"2.9a",{"$f":"$I$11","v":"2020"},"Inc Med Inc Pools & Bonuses","IDB Periods","December_Bal","NO REINSURANCE","All Other Projects",0,0,0,0,0,0,0,0,0,0,0,0]
[2,"2.9a",{"$f":"$J$11","v":"2021"},"Inc Med Inc Pools & Bonuses",{"$f":"CONCATENATE(\"IDB \",'Essbase Input'!$C$19)","v":"IDB 2020"},"December_YTD","NO REINSURANCE","All Other Projects",0,0,0,0,0,0,0,0,0,0,0,0]
[2,"2.9a",{"$f":"$J$11","v":"2021"},"Inc Med Inc Pools & Bonuses",{"$f":"CONCATENATE(\"IDB \",'Essbase Input'!$C$19)","v":"IDB 2020"},"March_YTD","NO REINSURANCE","All Other Projects",0,0,0,0,0,0,0,0,0,0,0,0]
[2,"2.9b",{"$f":"$I$11","v":"2020"},"Incurred Med Inc Pools & Bonus","IDB Periods","December_Bal","NO REINSURANCE","All Other Projects",0,0,0,0,0,0,0,0,0,0,0,0]
[2,"2.9b",{"$f":"$J$11","v":"2021"},"Incurred Med Inc Pools & Bonus",{"$f":"CONCATENATE(\"IDB \",'Essbase Input'!$C$19)","v":"IDB 2020"},"March_Bal","NO REINSURANCE","All Other Projects",0,0,0,0,0,0,0,0,0,0,0,0]
[2,"2.9b",{"$f":"$I$11","v":"2020"},"Incurred Med Inc Pools & Bonus","IDB Periods","Begin Balance","NO REINSURANCE","All Other Projects",0,0,0,0,0,0,0,0,0,0,0,0]
[2,"2.1a","2020","Total Incurred Claims","IDB Periods","Total Year","NO REINSURANCE","All Other Projects",1004.45,882.15,10072564.449999999,9606037.8499999996,23731736.550000001,40511442.709999986,882.15,-882.13,9606037.8499999996,8126668.1400000006,40511442.709999986,37073307.129999995]
[2,"2.1a","2020","50307 - Pharmacy Non-MLR Claims","IDB Periods","Total Year","NO REINSURANCE","All Other Projects",0,0,0,0,0,0,0,0,0,0,0,0]
[2,"2.1a","2020","50010 - Physician Cap Paid - External","IDB Periods","Total Year","NO REINSURANCE","0000003413 - General Administrative",0,0,0,0,0,0,0,0,0,0,0,0]
[2,"2.1a","2020","50619 - Internal Capitation Pd - Other","IDB Periods","Total Year","NO REINSURANCE","All Other Projects",0,0,0,0,0,0,0,0,0,0,0,0]
[2,"2.1a","2020","Rate Credits NonTaxable","IDB Periods","Total Year","NO REINSURANCE","All Other Projects",0,0,0,0,0,0,0,0,0,0,0,0]
[null,null,null,"Direct Contract Reserve","IDB Periods","December_Bal","NO REINSURANCE","All Other Projects",0,0,0,0,-115602.99999999999,-388971.56,0,0,0,0,-388971.56,-298933.13999999996]
[null,null,null,"Direct Contract Reserve","IDB Periods","Begin Balance","NO REINSURANCE","All Other Projects",0,0,0,0,-138420.59,-115603,0,0,0,0,-115603,-388971.56]
[null,null,null,"Healthcare Receivables","IDB Periods","December_Bal","NO REINSURANCE","All Other Projects",0,0,0,0,0,0,0,0,0,0,0,0]
[null,null,null,"Healthcare Receivables",{"$f":"CONCATENATE(\"IDB \",'Essbase Input'!$C$18)","v":"IDB 2021"},"March_Bal","NO REINSURANCE","All Other Projects",0,0,0,0,0,0,0,0,0,0,0,0]
[null,null,null,"Healthcare Receivables","IDB Periods","Begin Balance","NO REINSURANCE","All Other Projects",0,0,0,0,0,0,0,0,0,0,0,0]
[2,"2.1b",{"$f":"$J$11","v":"2021"},"Total Incurred Claims",{"$f":"CONCATENATE(\"IDB \",'Essbase Input'!$C$18)","v":"IDB 2021"},"Total Year","NO REINSURANCE","All Other Projects",0,882.15,0,9410133.7700000014,0,40097457.359999992,882.15,-882.13,9410133.7700000014,302066.07999999996,40097457.359999992,513153.34000000049]
[2,"2.1b","2021","Total Incurred Claims",{"$f":"CONCATENATE(\"IDB \",'Essbase Input'!$C$18)","v":"IDB 2021"},"March_Bal","NO REINSURANCE","All Other Projects",0,0,0,2182850.2200000002,0,8856287.5100000016,0,4.1199999999999992,2182850.2200000002,254751.46000000002,8856287.5100000016,426459.97999999969]
[2,"2.1b","2021","50307 - Pharmacy Non-MLR Claims",{"$f":"CONCATENATE(\"IDB \",'Essbase Input'!$C$18)","v":"IDB 2021"},"Total Year","NO REINSURANCE","All Other Projects",0,0,0,0,0,0,0,0,0,0,0,0]
[2,"2.1b","2021","50307 - Pharmacy Non-MLR Claims",{"$f":"CONCATENATE(\"IDB \",'Essbase Input'!$C$18)","v":"IDB 2021"},"March_Bal","NO REINSURANCE","All Other Projects",0,0,0,0,0,0,0,0,0,0,0,0]
[2,"2.1b","2021","50010 - Physician Cap Paid - External",{"$f":"CONCATENATE(\"IDB \",'Essbase Input'!$C$18)","v":"IDB 2021"},"Total Year","NO REINSURANCE","0000003413 - General Administrative",0,0,0,0,0,0,0,0,0,0,0,0]
[2,"2.1b","2021","50010 - Physician Cap Paid - External",{"$f":"CONCATENATE(\"IDB \",'Essbase Input'!$C$18)","v":"IDB 2021"},"March_Bal","NO REINSURANCE","0000003413 - General Administrative",0,0,0,0,0,0,0,0,0,0,0,0]
[2,"2.1b","2021","50619 - Internal Capitation Pd - Other",{"$f":"CONCATENATE(\"IDB \",'Essbase Input'!$C$18)","v":"IDB 2021"},"Total Year","NO REINSURANCE","All Other Projects",0,0,0,0,0,0,0,0,0,0,0,0]
[2,"2.1b","2021","50619 - Internal Capitation Pd - Other",{"$f":"CONCATENATE(\"IDB \",'Essbase Input'!$C$18)","v":"IDB 2021"},"March_Bal","NO REINSURANCE","All Other Projects",0,0,0,0,0,0,0,0,0,0,0,0]
[2,"2.1b","2021","Rate Credits NonTaxable",{"$f":"CONCATENATE(\"IDB \",'Essbase Input'!$C$18)","v":"IDB 2021"},"Total Year","NO REINSURANCE","All Other Projects",0,0,0,0,0,0,0,0,0,0,0,0]
[2,"2.1b","2021","Rate Credits NonTaxable",{"$f":"CONCATENATE(\"IDB \",'Essbase Input'!$C$18)","v":"IDB 2021"},"March_Bal","NO REINSURANCE","All Other Projects",0,0,0,0,0,0,0,0,0,0,0,0]
[2,"2.1b",{"$f":"$I$11","v":"2020"},"Direct Contract Reserve","IDB Periods","December_Bal","NO REINSURANCE","All Other Projects",0,0,0,0,-115602.99999999999,-388971.56,0,0,0,0,-388971.56,-298933.13999999996]
[2,"2.1b",{"$f":"$J$11","v":"2021"},"Healthcare Receivables",{"$f":"CONCATENATE(\"IDB \",'Essbase Input'!$C$18)","v":"IDB 2021"},"March_Bal","NO REINSURANCE","All Other Projects",0,0,0,0,0,0,0,0,0,0,0,0]
[2,"2.2a",{"$f":"$I$11","v":"2020"},"Direct Claim Liability","IDB Periods","December_Bal","NO REINSURANCE","All Other Projects",0,0,-565178.04999999993,-408583.64000000007,-1519075.6700000002,-2351285.3000000003,0,-2.0000000000001822E-2,-408583.64000000007,-501395.44,-2351285.3000000003,-2608200.0599999996]
[2,"2.2b","2021","Direct Claim Liability",{"$f":"CONCATENATE(\"IDB \",'Essbase Input'!$C$18)","v":"IDB 2021"},"March_Bal","NO REINSURANCE","All Other Projects",0,0,0,-487304.81000000006,0,-2118649.2400000002,0,-12.420000000000005,-487304.81000000006,-82650.19,-2118649.2400000002,-485564.88000000006]
[2,2.2999999999999998,{"$f":"$I$11","v":"2020"},"Direct Claim Liability","IDB Periods","Begin Balance","NO REINSURANCE","All Other Projects",-11.950000000000001,0,-454667.4499999999,-565178.05000000005,-1493585.3300000003,-1519075.67,0,0,-565178.05000000005,-408583.63999999996,-1519075.67,-2351285.2999999998]
[2,"2.4a",{"$f":"$I$11","v":"2020"},"Direct Claim Reserves","IDB Periods","December_Bal","NO REINSURANCE","All Other Projects",0,0,0,0,0,0,0,0,0,0,0,0]
[2,"2.4b",{"$f":"$J$11","v":"2021"},"Direct Claim Reserves",{"$f":"CONCATENATE(\"IDB \",'Essbase Input'!$C$18)","v":"IDB 2021"},"March_Bal","NO REINSURANCE","All Other Projects",0,0,0,0,0,0,0,0,0,0,0,0]
[2,2.5,{"$f":"$I$11","v":"2020"},"Direct Claim Reserves","IDB Periods","Begin Balance","NO REINSURANCE","All Other Projects",0,0,0,0,0,0,0,0,0,0,0,0]
[2,"2.6a","2020","Rate Credits Taxable","IDB Periods","Total Year","NO REINSURANCE","All Other Projects",0,0,0,0,0,0,0,0,0,0,0,0]
[2,"2.6a","2020","Reserve for Rate Credits","IDB Periods","December_Bal","NO REINSURANCE","All Other Projects",0,0,0,0,0,0,0,0,0,0,0,0]
[2,"2.6a","2020","Estimated Rebates Unpaid","IDB Periods","December_Bal","NO REINSURANCE","All Other Projects",0,0,0,0,0,0,0,0,0,0,0,0]
[2,"2.6a","2020","Reserve for Rate Credits","IDB Periods","Begin Balance","NO REINSURANCE","All Other Projects",0,0,0,0,0,0,0,0,0,0,0,0]
[2,"2.6a","2020","Estimated Rebates Unpaid","IDB Periods","Begin Balance","NO REINSURANCE","All Other Projects",0,0,0,0,0,0,0,0,0,0,0,0]
[2,"2.6b","2020","Rate Credits Taxable","IDB Periods","Total Year","NO REINSURANCE","All Other Projects",0,0,0,0,0,0,0,0,0,0,0,0]
[2,"2.6b",{"$f":"$J$11","v":"2021"},"Rate Credits Taxable",{"$f":"CONCATENATE(\"IDB \",'Essbase Input'!$C$18)","v":"IDB 2021"},"March_Bal","NO REINSURANCE","All Other Projects",0,0,0,0,0,0,0,0,0,0,0,0]
[2,"2.6b",{"$f":"$J$11","v":"2021"},"Reserve for Rate Credits",{"$f":"CONCATENATE(\"IDB \",'Essbase Input'!$C$18)","v":"IDB 2021"},"March_Bal","NO REINSURANCE","All Other Projects",0,0,0,0,0,0,0,0,0,0,0,0]
[2,"2.6b",{"$f":"$J$11","v":"2021"},"Estimated Rebates Unpaid",{"$f":"CONCATENATE(\"IDB \",'Essbase Input'!$C$18)","v":"IDB 2021"},"March_Bal","NO REINSURANCE","All Other Projects",0,0,0,0,0,0,0,0,0,0,0,0]
[2,"2.9a",{"$f":"$I$11","v":"2020"},"Inc Med Inc Pools & Bonuses","IDB Periods","December_Bal","NO REINSURANCE","All Other Projects",0,0,0,0,0,0,0,0,0,0,0,0]
[2,"2.9a",{"$f":"$J$11","v":"2021"},"Inc Med Inc Pools & Bonuses",{"$f":"CONCATENATE(\"IDB \",'Essbase Input'!$C$18)","v":"IDB 2021"},"December_YTD","NO REINSURANCE","All Other Projects",0,0,0,0,0,0,0,0,0,0,0,0]
[2,"2.9a",{"$f":"$J$11","v":"2021"},"Inc Med Inc Pools & Bonuses",{"$f":"CONCATENATE(\"IDB \",'Essbase Input'!$C$18)","v":"IDB 2021"},"March_YTD","NO REINSURANCE","All Other Projects",0,0,0,0,0,0,0,0,0,0,0,0]
[2,"2.9b",{"$f":"$I$11","v":"2020"},"Incurred Med Inc Pools & Bonus","IDB Periods","December_Bal","NO REINSURANCE","All Other Projects",0,0,0,0,0,0,0,0,0,0,0,0]
[2,"2.9b",{"$f":"$J$11","v":"2021"},"Incurred Med Inc Pools & Bonus",{"$f":"CONCATENATE(\"IDB \",'Essbase Input'!$C$18)","v":"IDB 2021"},"March_Bal","NO REINSURANCE","All Other Projects",0,0,0,0,0,0,0,0,0,0,0,0]
[2,"2.9b",{"$f":"$I$11","v":"2020"},"Incurred Med Inc Pools & Bonus","IDB Periods","Begin Balance","NO REINSURANCE","All Other Projects",0,0,0,0,0,0,0,0,0,0,0,0]

{"sheet":"Pt 4 Claims Calcs for PYs","index":21,"n_rows":51,"n_cols":17,"rows_kept":51,"cut":false,"hidden":true,"merged":[[5,1,5,3],[5,5,10,6],[7,1,7,3],[9,1,9,3],[14,11,14,16],[11,1,11,3],[11,5,11,6],[14,5,14,10],[47,3,47,4],[50,3,50,4],[16,15,16,16],[15,5,15,10],[15,11,15,16],[17,1,18,3],[17,4,18,4],[16,5,16,6],[16,7,16,8],[16,9,16,10],[16,11,16,12],[16,13,16,14]]}
[null,"Department of Managed Health Care/Department of Insurance",null,null,null,null,null,null,null,null,"<<< DHMO","DPPO >>>"]
[null,"Medical Loss Ratio Reporting Form: Dental Coverage"]
[null,"Part 2 - Premium and Claims"]
[]
[null,"Health Plan ID"]
[null,{"$f":"'Cover Page'!C7","v":97179},null,null,null,"Part 2"]
[null,"Legal Name"]
[null,{"$f":"'Cover Page'!C8","v":"UnitedHealthcare Life Insurance Company"}]
[null,"dBA"]
[null,{"$f":"'Cover Page'!C9","v":"N/A"}]
[null,"MLR Reporting Year"]
[null,{"$f":"'Cover Page'!C6","v":"2022"}]
[]
[]
[null,null,null,null,null,"Health Insurance Coverage",null,null,null,null,null,"Health Insurance Coverage"]
[null,null,null,null,null,"PY 2",null,null,null,null,null,"PY 1"]
[null,null,null,null,null,"Individual",null,"Small Group",null,"Large Group",null,"Individual",null,"Small Group",null,"Large Group"]
[null,"Part 2\nNOTE: REFER TO MLR INSTRUCTIONS FOR IMPORTANT INFORMATION ABOUT COMPLETING EACH COLUMN AND ROW.",null,null,null,{"$f":"CONCATENATE(\"Total as of 12/31/\",RIGHT('Essbase Input'!$C19,2))","v":"Total as of 12/31/20"},{"$f":"CONCATENATE(\"Total as of 3/31/\",RIGHT('Essbase Input'!$C18,2))","v":"Total as of 3/31/21"},{"$f":"CONCATENATE(\"Total as of 12/31/\",RIGHT('Essbase Input'!$C19,2))","v":"Total as of 12/31/20"},{"$f":"CONCATENATE(\"Total as of 3/31/\",RIGHT('Essbase Input'!$C18,2))","v":"Total as of 3/31/21"},{"$f":"CONCATENATE(\"Total as of 12/31/\",RIGHT('Essbase Input'!$C19,2))","v":"Total as of 12/31/20"},{"$f":"CONCATENATE(\"Total as of 3/31/\",RIGHT('Essbase Input'!$C18,2))","v":"Total as of 3/31/21"},{"$f":"CONCATENATE(\"Total as of 12/31/\",RIGHT('Essbase Input'!$C18,2))","v":"Total as of 12/31/21"},{"$f":"CONCATENATE(\"Total as of 3/31/\",RIGHT('Essbase Input'!$C17,2))","v":"Total as of 3/31/22"},{"$f":"CONCATENATE(\"Total as of 12/31/\",RIGHT('Essbase Input'!$C18,2))","v":"Total as of 12/31/21"},{"$f":"CONCATENATE(\"Total as of 3/31/\",RIGHT('Essbase Input'!$C17,2))","v":"Total as of 3/31/22"},{"$f":"CONCATENATE(\"Total as of 12/31/\",RIGHT('Essbase Input'!$C18,2))","v":"Total as of 12/31/21"},{"$f":"CONCATENATE(\"Total as of 3/31/\",RIGHT('Essbase Input'!$C17,2))","v":"Total as of 3/31/22"}]
[null,null,null,null,null,1,2,3,4,5,6,1,2,3,4,5,6]
[null,"2.","Claims:"]
[null,null,2.1,"Claims Paid"]
[null,null,null,"2.1a  Claims paid during the MLR reporting year regardless of incurred date",null,{"$f":"'EB PT 4 P&C Calcs'!I12-'EB PT 4 P&C Calcs'!I13-'EB PT 4 P&C Calcs'!I14-'EB PT 4 P&C Calcs'!I15-'EB PT 4 P&C Calcs'!I16-F25+F27-F29+F31-F33-F36+F38-F40-F41+F42-F43","v":1016.4000000000001},null,{"$f":"'EB PT 4 P&C Calcs'!K12-'EB PT 4 P&C Calcs'!K13-'EB PT 4 P&C Calcs'!K14-'EB PT 4 P&C Calcs'!K15-'EB PT 4 P&C Calcs'!K16-H25+H27-H29+H31-H33-H36+H38-H40-H41+H42-H43","v":9962053.8499999978},null,{"$f":"'EB PT 4 P&C Calcs'!M12-'EB PT 4 P&C Calcs'!M13-'EB PT 4 P&C Calcs'!M14-'EB PT 4 P&C Calcs'!M15-'EB PT 4 P&C Calcs'!M16-J25+J27-J29+J31-J33-J36+J38-J40-J41+J42-J43","v":23706246.210000001},null,{"$f":"'EB PT 4 P&C Calcs'!O55-'EB PT 4 P&C Calcs'!O56-'EB PT 4 P&C Calcs'!O57-'EB PT 4 P&C Calcs'!O58-'EB PT 4 P&C Calcs'!O59-L25+L27-L29+L31-L33-L36+L38-L40-L41+L42-L43","v":882.15},null,{"$f":"'EB PT 4 P&C Calcs'!Q55-'EB PT 4 P&C Calcs'!Q56-'EB PT 4 P&C Calcs'!Q57-'EB PT 4 P&C Calcs'!Q58-'EB PT 4 P&C Calcs'!Q59-N25+N27-N29+N31-N33-N36+N38-N40-N41+N42-N43","v":9762632.2599999998},null,{"$f":"'EB PT 4 P&C Calcs'!S55-'EB PT 4 P&C Calcs'!S56-'EB PT 4 P&C Calcs'!S57-'EB PT 4 P&C Calcs'!S58-'EB PT 4 P&C Calcs'!S59-P25+P27-P29+P31-P33-P36+P38-P40-P41+P42-P43","v":39679233.079999991}]
[null,null,null,"2.1b  Claims incurred only during the MLR reporting year, paid through 3/31 of the following year",null,null,{"$f":"'EB PT 4 P&C Calcs'!I22+'EB PT 4 P&C Calcs'!J23-'EB PT 4 P&C Calcs'!I24-'EB PT 4 P&C Calcs'!J25-'EB PT 4 P&C Calcs'!I26-'EB PT 4 P&C Calcs'!J27-'EB PT 4 P&C Calcs'!I28-'EB PT 4 P&C Calcs'!J29-'EB PT 4 P&C Calcs'!I32-'EB PT 4 P&C Calcs'!J31-'EB PT 4 P&C Calcs'!J33-'EB PT 4 P&C Calcs'!I32-G26-G30-G34-G37-G40-G41-G43","v":743.4},null,{"$f":"+'EB PT 4 P&C Calcs'!K22+'EB PT 4 P&C Calcs'!L23-'EB PT 4 P&C Calcs'!K24-'EB PT 4 P&C Calcs'!L25-'EB PT 4 P&C Calcs'!K26-'EB PT 4 P&C Calcs'!L27-'EB PT 4 P&C Calcs'!K28-'EB PT 4 P&C Calcs'!L29-'EB PT 4 P&C Calcs'!K30-'EB PT 4 P&C Calcs'!L31-'EB PT 4 P&C Calcs'!L33-'EB PT 4 P&C Calcs'!K32-I26-I30-I34-I37-I40-I41-I43","v":9840123.5199999996},null,{"$f":"+'EB PT 4 P&C Calcs'!M22+'EB PT 4 P&C Calcs'!N23-'EB PT 4 P&C Calcs'!M24-'EB PT 4 P&C Calcs'!N25-'EB PT 4 P&C Calcs'!M26-'EB PT 4 P&C Calcs'!N27-'EB PT 4 P&C Calcs'!M28-'EB PT 4 P&C Calcs'!N29-'EB PT 4 P&C Calcs'!M30-'EB PT 4 P&C Calcs'!N31-'EB PT 4 P&C Calcs'!N33-'EB PT 4 P&C Calcs'!M32-K26-K30-K34-K37-K40-K41-K43","v":23375690.539999995},null,{"$f":"'EB PT 4 P&C Calcs'!O65+'EB PT 4 P&C Calcs'!P66-'EB PT 4 P&C Calcs'!O67-'EB PT 4 P&C Calcs'!P68-'EB PT 4 P&C Calcs'!O69-'EB PT 4 P&C Calcs'!P70-'EB PT 4 P&C Calcs'!O71-'EB PT 4 P&C Calcs'!P72-'EB PT 4 P&C Calcs'!O75-'EB PT 4 P&C Calcs'!P74-'EB PT 4 P&C Calcs'!P76-'EB PT 4 P&C Calcs'!O75-M26-M30-M34-M37-M40-M41-M43","v":873.85},null,{"$f":"'EB PT 4 P&C Calcs'!Q65+'EB PT 4 P&C Calcs'!R66-'EB PT 4 P&C Calcs'!Q67-'EB PT 4 P&C Calcs'!R68-'EB PT 4 P&C Calcs'!Q69-'EB PT 4 P&C Calcs'!R70-'EB PT 4 P&C Calcs'!Q71-'EB PT 4 P&C Calcs'!R72-'EB PT 4 P&C Calcs'!Q75-'EB PT 4 P&C Calcs'!R74-'EB PT 4 P&C Calcs'!R76-'EB PT 4 P&C Calcs'!Q75-O26-O30-O34-O37-O40-O41-O43","v":9582235.0400000028},null,{"$f":"'EB PT 4 P&C Calcs'!S65+'EB PT 4 P&C Calcs'!T66-'EB PT 4 P&C Calcs'!S67-'EB PT 4 P&C Calcs'!T68-'EB PT 4 P&C Calcs'!S69-'EB PT 4 P&C Calcs'!T70-'EB PT 4 P&C Calcs'!S71-'EB PT 4 P&C Calcs'!T72-'EB PT 4 P&C Calcs'!S75-'EB PT 4 P&C Calcs'!T74-'EB PT 4 P&C Calcs'!T76-'EB PT 4 P&C Calcs'!S75-Q26-Q30-Q34-Q37-Q40-Q41-Q43","v":40816295.579999991}]
[null,null,2.2000000000000002,"Direct claim liability"]
[null,null,null,"2.2a Liability as of 12/31 of MLR reporting year for all claims regardless of incurred date",null,{"$f":"-'EB PT 4 P&C Calcs'!I34","v":0},null,{"$f":"-'EB PT 4 P&C Calcs'!K34","v":565178.04999999993},null,{"$f":"-'EB PT 4 P&C Calcs'!M34","v":1519075.6700000002},null,{"$f":"-'EB PT 4 P&C Calcs'!O77","v":0},null,{"$f":"-'EB PT 4 P&C Calcs'!Q77","v":408583.64000000007},null,{"$f":"-'EB PT 4 P&C Calcs'!S77","v":2351285.3000000003}]
[null,null,null,"2.2b Liability for claims incurred only during the MLR reporting year, calculated as of 3/31 of the following year",null,null,{"$f":"-'EB PT 4 P&C Calcs'!J35","v":0},null,{"$f":"-'EB PT 4 P&C Calcs'!L35","v":112077.5},null,{"$f":"-'EB PT 4 P&C Calcs'!N35","v":337009.42},null,{"$f":"-'EB PT 4 P&C Calcs'!P78","v":12.420000000000005},null,{"$f":"-'EB PT 4 P&C Calcs'!R78","v":82650.19},null,{"$f":"-'EB PT 4 P&C Calcs'!T78","v":485564.88000000006}]
[null,null,2.2999999999999998,"Direct claim liability prior year",null,{"$f":"-'EB PT 4 P&C Calcs'!I36","v":11.950000000000001},null,{"$f":"-'EB PT 4 P&C Calcs'!K36","v":454667.4499999999},null,{"$f":"-'EB PT 4 P&C Calcs'!M36","v":1493585.3300000003},null,{"$f":"-'EB PT 4 P&C Calcs'!O79","v":0},null,{"$f":"-'EB PT 4 P&C Calcs'!Q79","v":565178.05000000005},null,{"$f":"-'EB PT 4 P&C Calcs'!S79","v":1519075.67}]
[null,null,2.4,"Direct claim reserves"]
[null,null,null,"2.4a Reserves as of 12/31 of MLR reporting year for all claims regardless of incurred date",null,{"$f":"-'EB PT 4 P&C Calcs'!I37","v":0},null,{"$f":"-'EB PT 4 P&C Calcs'!K37","v":0},null,{"$f":"-'EB PT 4 P&C Calcs'!M37","v":0},null,{"$f":"-'EB PT 4 P&C Calcs'!O80","v":0},null,{"$f":"-'EB PT 4 P&C Calcs'!Q80","v":0},null,{"$f":"-'EB PT 4 P&C Calcs'!S80","v":0}]
[null,null,null,"2.4b Reserves for claims incurred only during the MLR reporting year, calculated as of 3/31 of the following year",null,null,{"$f":"-'EB PT 4 P&C Calcs'!J38","v":0},null,{"$f":"-'EB PT 4 P&C Calcs'!L38","v":0},null,{"$f":"-'EB PT 4 P&C Calcs'!N38","v":0},null,{"$f":"-'EB PT 4 P&C Calcs'!P81","v":0},null,{"$f":"-'EB PT 4 P&C Calcs'!R81","v":0},null,{"$f":"-'EB PT 4 P&C Calcs'!T81","v":0}]
[null,null,2.5,"Direct claim reserves prior year",null,{"$f":"-'EB PT 4 P&C Calcs'!I39","v":0},null,{"$f":"-'EB PT 4 P&C Calcs'!K39","v":0},null,{"$f":"-'EB PT 4 P&C Calcs'!M39","v":0},null,{"$f":"-'EB PT 4 P&C Calcs'!O82","v":0},null,{"$f":"-'EB PT 4 P&C Calcs'!Q82","v":0},null,{"$f":"-'EB PT 4 P&C Calcs'!S82","v":0}]
[null,null,2.6,"Experience rating refunds (rate credits) paid"]
[null,null,null,"2.6a Experience rating refunds, with all incurred dates, paid in the MLR reporting year",null,{"$f":"'EB PT 4 P&C Calcs'!I45-(-'EB PT 4 P&C Calcs'!I41+'EB PT 4 P&C Calcs'!I42-(-'EB PT 4 P&C Calcs'!I43+'EB PT 4 P&C Calcs'!I44))","v":0},null,{"$f":"'EB PT 4 P&C Calcs'!K45-(-'EB PT 4 P&C Calcs'!K41+'EB PT 4 P&C Calcs'!K42-(-'EB PT 4 P&C Calcs'!K43+'EB PT 4 P&C Calcs'!K44))","v":0},null,{"$f":"'EB PT 4 P&C Calcs'!M45-(-'EB PT 4 P&C Calcs'!M41+'EB PT 4 P&C Calcs'!M42-(-'EB PT 4 P&C Calcs'!M43+'EB PT 4 P&C Calcs'!M44))","v":0},null,{"$f":"'EB PT 4 P&C Calcs'!O88-(-'EB PT 4 P&C Calcs'!O84+'EB PT 4 P&C Calcs'!O85-(-'EB PT 4 P&C Calcs'!O86+'EB PT 4 P&C Calcs'!O87))","v":0},null,{"$f":"'EB PT 4 P&C Calcs'!Q88-(-'EB PT 4 P&C Calcs'!Q84+'EB PT 4 P&C Calcs'!Q85-(-'EB PT 4 P&C Calcs'!Q86+'EB PT 4 P&C Calcs'!Q87))","v":0},null,{"$f":"'EB PT 4 P&C Calcs'!S88-(-'EB PT 4 P&C Calcs'!S84+'EB PT 4 P&C Calcs'!S85-(-'EB PT 4 P&C Calcs'!S86+'EB PT 4 P&C Calcs'!S87))","v":0}]
[null,null,null,"2.6b Experience rating refunds associated with premium earned only in the reporting year and paid through 3/31 of the following year",null,null,{"$f":"+'EB PT 4 P&C Calcs'!I45+'EB PT 4 P&C Calcs'!J46-(-'EB PT 4 P&C Calcs'!J47+'EB PT 4 P&C Calcs'!J48)","v":0},null,{"$f":"+'EB PT 4 P&C Calcs'!K45+'EB PT 4 P&C Calcs'!L46-(-'EB PT 4 P&C Calcs'!L47+'EB PT 4 P&C Calcs'!L48)","v":0},null,{"$f":"+'EB PT 4 P&C Calcs'!M45+'EB PT 4 P&C Calcs'!N46-(-'EB PT 4 P&C Calcs'!N47+'EB PT 4 P&C Calcs'!N48)","v":0},null,{"$f":"+'EB PT 4 P&C Calcs'!O88+'EB PT 4 P&C Calcs'!P89-(-'EB PT 4 P&C Calcs'!P90+'EB PT 4 P&C Calcs'!P91)","v":0},null,{"$f":"+'EB PT 4 P&C Calcs'!Q88+'EB PT 4 P&C Calcs'!R89-(-'EB PT 4 P&C Calcs'!R90+'EB PT 4 P&C Calcs'!R91)","v":0},null,{"$f":"+'EB PT 4 P&C Calcs'!S88+'EB PT 4 P&C Calcs'!T89-(-'EB PT 4 P&C Calcs'!T90+'EB PT 4 P&C Calcs'!T91)","v":0}]
[null,null,2.7,"Reserve for experience rating refunds (rate credits)"]
[null,null,null,"2.7a Reserved in MLR reporting year regardless of incurred date",null,{"$f":"-'EB PT 4 P&C Calcs'!I41+'EB PT 4 P&C Calcs'!I42","v":0},null,{"$f":"-'EB PT 4 P&C Calcs'!K41+'EB PT 4 P&C Calcs'!K42","v":0},null,{"$f":"-'EB PT 4 P&C Calcs'!M41+'EB PT 4 P&C Calcs'!M42","v":0},null,{"$f":"-'EB PT 4 P&C Calcs'!O84+'EB PT 4 P&C Calcs'!O85","v":0},null,{"$f":"-'EB PT 4 P&C Calcs'!Q84+'EB PT 4 P&C Calcs'!Q85","v":0},null,{"$f":"-'EB PT 4 P&C Calcs'!S84+'EB PT 4 P&C Calcs'!S85","v":0}]
[null,null,null,"2.7b Reserves specific to the MLR reporting year through 3/31 of the following year",null,null,{"$f":"-'EB PT 4 P&C Calcs'!J47+'EB PT 4 P&C Calcs'!J48","v":0},null,{"$f":"-'EB PT 4 P&C Calcs'!L47+'EB PT 4 P&C Calcs'!L48","v":0},null,{"$f":"-'EB PT 4 P&C Calcs'!N47+'EB PT 4 P&C Calcs'!N48","v":0},null,{"$f":"-'EB PT 4 P&C Calcs'!P90+'EB PT 4 P&C Calcs'!P91","v":0},null,{"$f":"-'EB PT 4 P&C Calcs'!R90+'EB PT 4 P&C Calcs'!R91","v":0},null,{"$f":"-'EB PT 4 P&C Calcs'!T90+'EB PT 4 P&C Calcs'!T91","v":0}]
[null,null,"2.8","Reserve for experience rating refunds (rate credits) prior year",null,{"$f":"-'EB PT 4 P&C Calcs'!I43+'EB PT 4 P&C Calcs'!I44","v":0},null,{"$f":"-'EB PT 4 P&C Calcs'!K43+'EB PT 4 P&C Calcs'!K44","v":0},null,{"$f":"-'EB PT 4 P&C Calcs'!M43+'EB PT 4 P&C Calcs'!M44","v":0},null,{"$f":"-'EB PT 4 P&C Calcs'!O86+'EB PT 4 P&C Calcs'!O87","v":0},null,{"$f":"-'EB PT 4 P&C Calcs'!Q86+'EB PT 4 P&C Calcs'!Q87","v":0},null,{"$f":"-'EB PT 4 P&C Calcs'!S86+'EB PT 4 P&C Calcs'!S87","v":0}]
[null,null,2.9,"Incurred dental incentive pool and bonuses"]
[null,null,null,"2.9a  Paid dental incentive pools and bonuses MLR Reporting year",null,{"$f":"'EB PT 4 P&C Calcs'!I49-F41+F42","v":0},{"$f":"'EB PT 4 P&C Calcs'!I50+'EB PT 4 P&C Calcs'!J51-G41","v":0},{"$f":"'EB PT 4 P&C Calcs'!K49-H41+H42","v":0},{"$f":"'EB PT 4 P&C Calcs'!K50+'EB PT 4 P&C Calcs'!L51-I41","v":0},{"$f":"'EB PT 4 P&C Calcs'!M49-J41+J42","v":0},{"$f":"'EB PT 4 P&C Calcs'!M50+'EB PT 4 P&C Calcs'!N51-K41","v":0},{"$f":"'EB PT 4 P&C Calcs'!O92-L41+L42","v":0},{"$f":"'EB PT 4 P&C Calcs'!O93+'EB PT 4 P&C Calcs'!P94-M41","v":0},{"$f":"'EB PT 4 P&C Calcs'!Q92-N41+N42","v":0},{"$f":"'EB PT 4 P&C Calcs'!Q93+'EB PT 4 P&C Calcs'!R94-O41","v":0},{"$f":"'EB PT 4 P&C Calcs'!S92-P41+P42","v":0},{"$f":"'EB PT 4 P&C Calcs'!S93+'EB PT 4 P&C Calcs'!T94-Q41","v":0}]
[null,null,null,"2.9b  Accrued dental incentive pools and bonuses MLR Reporting year",null,{"$f":"-'EB PT 4 P&C Calcs'!I52","v":0},{"$f":"-'EB PT 4 P&C Calcs'!J53","v":0},{"$f":"-'EB PT 4 P&C Calcs'!K52","v":0},{"$f":"-'EB PT 4 P&C Calcs'!L53","v":0},{"$f":"-'EB PT 4 P&C Calcs'!M52","v":0},{"$f":"-'EB PT 4 P&C Calcs'!N53","v":0},{"$f":"-'EB PT 4 P&C Calcs'!O95","v":0},{"$f":"-'EB PT 4 P&C Calcs'!P96","v":0},{"$f":"-'EB PT 4 P&C Calcs'!Q95","v":0},{"$f":"-'EB PT 4 P&C Calcs'!R96","v":0},{"$f":"-'EB PT 4 P&C Calcs'!S95","v":0},{"$f":"-'EB PT 4 P&C Calcs'!T96","v":0}]
[null,null,null,"2.9c  Accrued dental incentive pools and bonuses prior year",null,{"$f":"-'EB PT 4 P&C Calcs'!I54","v":0},null,{"$f":"-'EB PT 4 P&C Calcs'!K54","v":0},null,{"$f":"-'EB PT 4 P&C Calcs'!M54","v":0},null,{"$f":"-'EB PT 4 P&C Calcs'!O97","v":0},null,{"$f":"-'EB PT 4 P&C Calcs'!Q97","v":0},null,{"$f":"-'EB PT 4 P&C Calcs'!S97","v":0}]
[null,null,"2.10","Contingent benefit and lawsuit reserves",null,{"$f":"0","v":0},{"$f":"0","v":0},0,0,0,0,{"$f":"0","v":0},{"$f":"0","v":0},{"$f":"0","v":0},{"$f":"0","v":0},{"$f":"0","v":0},{"$f":"0","v":0}]
[null,null,"2.11","Total incurred claims ",null,{"$f":"F22+F25-F27+F29-F31+F33+F36-F38+F40+F41-F42+F43","v":1004.45},{"$f":"G23+G26+G30+G34+G37+G40+G41+G43","v":743.4},{"$f":"H22+H25-H27+H29-H31+H33+H36-H38+H40+H41-H42+H43","v":10072564.449999999},{"$f":"I23+I26+I30+I34+I37+I40+I41+I43","v":9952201.0199999996},{"$f":"J22+J25-J27+J29-J31+J33+J36-J38+J40+J41-J42+J43","v":23731736.550000001},{"$f":"K23+K26+K30+K34+K37+K40+K41+K43","v":23712699.959999997},{"$f":"L22+L25-L27+L29-L31+L33+L36-L38+L40+L41-L42+L43","v":882.15},{"$f":"M23+M26+M30+M34+M37+M40+M41+M43","v":886.27},{"$f":"N22+N25-N27+N29-N31+N33+N36-N38+N40+N41-N42+N43","v":9606037.8499999996},{"$f":"O23+O26+O30+O34+O37+O40+O41+O43","v":9664885.2300000023},{"$f":"P22+P25-P27+P29-P31+P33+P36-P38+P40+P41-P42+P43","v":40511442.709999986},{"$f":"Q23+Q26+Q30+Q34+Q37+Q40+Q41+Q43","v":41301860.459999993}]
[]
[]
[null,null,"Cell Keys:"]
[null,null,null,"Blank cells require input from Health plan or Health insurer"]
[null,null,null,"Grey cells require no data input"]
[null,null,null,"Pink cells require no data input - locked down"]
[null,null,null,"Blue cells: computed cell (formula cell)"]

{"sheet":"Pt 4 MLR Calculation - Final","index":22,"n_rows":46,"n_cols":53,"rows_kept":46,"cut":false,"hidden":false,"merged":[[15,52,16,52],[14,49,14,52],[15,34,16,34],[15,37,16,37],[15,39,16,39],[15,42,16,42],[15,45,16,45],[15,35,16,35],[15,36,16,36],[15,40,16,40],[15,41,16,41],[15,49,16,49],[15,51,16,51],[15,50,16,50],[5,1,5,3],[5,5,9,6],[7,1,7,3],[9,1,9,3],[16,24,16,27],[14,29,14,32],[14,34,14,37],[14,39,14,42],[14,44,14,47],[15,46,16,46],[15,47,16,47],[15,44,16,44],[15,29,16,32],[37,3,37,4],[40,3,40,4],[11,1,11,3],[14,4,14,15],[14,16,14,27],[15,4,15,15],[15,16,15,27],[16,4,16,7],[16,8,16,11],[16,12,16,15],[16,16,16,19],[16,20,16,23],[14,1,16,3]]}
[null,"Department of Managed Health Care/Department of Insurance",null,null,null,null,null,null,null,null,null,null,null,null,null,"<<< DHMO","DPPO >>>"]
[null,"Medical Loss Ratio Reporting Form: Dental Coverage ",null,null,null,"",null,null,"",null,"",null,null,null,null,null,null,null,null,null,null,null,""]
[null,"Part 4 - MLR Calculation"]
[]
[null,"Health Plan ID"]
[null,{"$f":"'Cover Page'!C7","v":97179},null,null,null,"Part 4"]
[null,"Legal Name"]
[null,{"$f":"'Cover Page'!C8","v":"UnitedHealthcare Life Insurance Company"}]
[null,"dBA"]
[null,{"$f":"'Cover Page'!C9","v":"N/A"}]
[null,"MLR Reporting Year"]
[null,{"$f":"'Cover Page'!C6","v":"2022"}]
[]
[]
[null,"UHG NOTES SECTION:\nFinal tab.  This tab is the final report that will be filed with DMHC.\nThere is no base or \"Adj\" tab.",null,null,"Health Insurance Coverage",null,null,null,null,null,null,null,null,null,null,null,"Health Insurance Coverage",null,null,null,null,null,null,null,null,null,null,null,null,"Stand Alone \nDental\n(Ind/SG/LG)",null,null,null,null,"ALL OTHER",null,null,null,null,"Total",null,null,null,null,"CMS MLR",null,null,null,null,"Variances"]
[null,null,null,null,"DHMO Products",null,null,null,null,null,null,null,null,null,null,null,"DPPO & Indemnity Products",null,null,null,null,null,null,null,null,null,null,null,null,"Dental"]
[null,null,null,null,"Individual",null,null,null,"Small Group",null,null,null,"Large Group",null,null,null,"Individual",null,null,null,"Small Group",null,null,null,"Large Group"]
[null,null,null,"Part 4\nNOTE: REFER TO MLR INSTRUCTIONS FOR IMPORTANT ","PY2","PY1","CY","Total ","PY2","PY1","CY","Total","PY2","PY1","CY","Total","PY2","PY1","CY","Total ","PY2","PY1","CY","Total","PY2","PY1","CY","Total",null,"PY2","PY1","CY","Total",null,"PY2","PY1","CY","Total",null,"PY2","PY1","CY","Total",null,"PY2","PY1","CY","Total",null,"PY2","PY1","CY","Total"]
[null,null,null,"INFORMATION ABOUT COMPLETING EACH COLUMN AND ROW.",1,2,3,4,5,6,7,8,9,10,11,12,13,14,15,16,17,18,19,20,21,22,23,24]
[null,"1.","Medical Loss Ratio Numerator"]
[null,null,1.1000000000000001,"Adjusted incurred claims as reported on MLR Form for prior year(s)"]
[null,null,1.2,"Adjusted incurred claims as of 3/31 of the year following the MLR reporting year (Part 1 Line 2.1)",{"$f":"IF(VLOOKUP('Essbase Input'!$C$8,Tables!$B$4:$F$16,5,FALSE)=\"DPPO\",\"\",'EB PT 4'!L12+'EB PT 4'!M13+'EB PT 4'!N14+'EB PT 4'!O15-'EB PT 4'!L16-'EB PT 4'!M17-'EB PT 4'!N18-'EB PT 4'!O19-'EB PT 4'!L20-'EB PT 4'!M21-'EB PT 4'!N22-'EB PT 4'!O23-'EB PT 4'!L24-'EB PT 4'!M25-'EB PT 4'!N26-'EB PT 4'!O27)","v":""},{"$f":"IF(VLOOKUP('Essbase Input'!$C$8,Tables!$B$4:$F$16,5,FALSE)=\"DPPO\",\"\",('EB PT 4'!M28+'EB PT 4'!N29+'EB PT 4'!O30)-('EB PT 4'!M31+'EB PT 4'!N32+'EB PT 4'!O33)-('EB PT 4'!M34+'EB PT 4'!N35+'EB PT 4'!O36)-('EB PT 4'!M37+'EB PT 4'!N38+'EB PT 4'!O39))","v":""},{"$f":"IF(VLOOKUP('Essbase Input'!$C$8,Tables!$B$4:$F$16,5,FALSE)=\"DPPO\",\"\",'Pt 1 Summary of Data - Final'!F24)","v":""},{"$f":"IF(VLOOKUP('Essbase Input'!$C$8,Tables!$B$4:$F$16,5,FALSE)=\"DPPO\",\"\",SUM(E22:G22))","v":""},{"$f":"IF(VLOOKUP('Essbase Input'!$C$8,Tables!$B$4:$F$16,5,FALSE)=\"DPPO\",\"\",'EB PT 4'!P12+'EB PT 4'!Q13+'EB PT 4'!R14+'EB PT 4'!S15-'EB PT 4'!P16-'EB PT 4'!Q17-'EB PT 4'!R18-'EB PT 4'!S19-'EB PT 4'!P20-'EB PT 4'!Q21-'EB PT 4'!R22-'EB PT 4'!S23-'EB PT 4'!P24-'EB PT 4'!Q25-'EB PT 4'!R26-'EB PT 4'!S27)","v":""},{"$f":"IF(VLOOKUP('Essbase Input'!$C$8,Tables!$B$4:$F$16,5,FALSE)=\"DPPO\",\"\",('EB PT 4'!Q28+'EB PT 4'!R29+'EB PT 4'!S30)-('EB PT 4'!Q31+'EB PT 4'!R32+'EB PT 4'!S33)-('EB PT 4'!Q34+'EB PT 4'!R35+'EB PT 4'!S36)-('EB PT 4'!Q37+'EB PT 4'!R38+'EB PT 4'!S39))","v":""},{"$f":"IF(VLOOKUP('Essbase Input'!$C$8,Tables!$B$4:$F$16,5,FALSE)=\"DPPO\",\"\",'Pt 1 Summary of Data - Final'!H24)","v":""},{"$f":"IF(VLOOKUP('Essbase Input'!$C$8,Tables!$B$4:$F$16,5,FALSE)=\"DPPO\",\"\",SUM(I22:K22))","v":""},{"$f":"IF(VLOOKUP('Essbase Input'!$C$8,Tables!$B$4:$F$16,5,FALSE)=\"DPPO\",\"\",'EB PT 4'!T12+'EB PT 4'!U13+'EB PT 4'!V14+'EB PT 4'!W15-'EB PT 4'!T16-'EB PT 4'!U17-'EB PT 4'!V18-'EB PT 4'!W19-'EB PT 4'!T20-'EB PT 4'!U21-'EB PT 4'!V22-'EB PT 4'!W23-'EB PT 4'!T24-'EB PT 4'!U25-'EB PT 4'!V26-'EB PT 4'!W27)","v":""},{"$f":"IF(VLOOKUP('Essbase Input'!$C$8,Tables!$B$4:$F$16,5,FALSE)=\"DPPO\",\"\",('EB PT 4'!U28+'EB PT 4'!V29+'EB PT 4'!W30)-('EB PT 4'!U31+'EB PT 4'!V32+'EB PT 4'!W33)-('EB PT 4'!U34+'EB PT 4'!V35+'EB PT 4'!W36)-('EB PT 4'!U37+'EB PT 4'!V38+'EB PT 4'!W39))","v":""},{"$f":"IF(VLOOKUP('Essbase Input'!$C$8,Tables!$B$4:$F$16,5,FALSE)=\"DPPO\",\"\",'Pt 1 Summary of Data - Final'!J24)","v":""},{"$f":"IF(VLOOKUP('Essbase Input'!$C$8,Tables!$B$4:$F$16,5,FALSE)=\"DPPO\",\"\",SUM(M22:O22))","v":""},{"$f":"IF(VLOOKUP('Essbase Input'!$C$8,Tables!$B$4:$F$16,5,FALSE)=\"DHMO\",\"\",\nIF(OR('Essbase Input'!$C$8=\"Golden Rule Insurance Company\",'Essbase Input'!$C$8=\"UnitedHealthcare Life Ins Co\",'Essbase Input'!$C$8=\"Mid-West Nat Life Ins Co of TN\",'Essbase Input'!$C$8=\"The Chesapeake Life Ins. Co.\"),('EB PT 4'!X12+'EB PT 4'!Y13+'EB PT 4'!Z14+'EB PT 4'!AA15)-('EB PT 4'!X16+'EB PT 4'!Y17+'EB PT 4'!Z18+'EB PT 4'!AA19)-('EB PT 4'!X20+'EB PT 4'!Y21+'EB PT 4'!Z22+'EB PT 4'!AA23)-('EB PT 4'!X24+'EB PT 4'!Y25+'EB PT 4'!Z26+'EB PT 4'!AA27),\n('EB PT 4'!L12+'EB PT 4'!M13+'EB PT 4'!N14+'EB PT 4'!O15)-('EB PT 4'!L16+'EB PT 4'!M17+'EB PT 4'!N18+'EB PT 4'!O19)-('EB PT 4'!L20+'EB PT 4'!M21+'EB PT 4'!N22+'EB PT 4'!O23)-('EB PT 4'!L24+'EB PT 4'!M25+'EB PT 4'!N26+'EB PT 4'!O27)))","v":81897.2},{"$f":"IF(VLOOKUP('Essbase Input'!$C$8,Tables!$B$4:$F$16,5,FALSE)=\"DHMO\",\"\",\nIF(OR('Essbase Input'!$C$8=\"Golden Rule Insurance Company\",'Essbase Input'!$C$8=\"UnitedHealthcare Life Ins Co\",'Essbase Input'!$C$8=\"Mid-West Nat Life Ins Co of TN\",'Essbase Input'!$C$8=\"The Chesapeake Life Ins. Co.\"),('EB PT 4'!Y28+'EB PT 4'!Z29+'EB PT 4'!AA30)-('EB PT 4'!Y31+'EB PT 4'!Z32+'EB PT 4'!AA33)-('EB PT 4'!Y34+'EB PT 4'!Z35+'EB PT 4'!AA36)-('EB PT 4'!Y37+'EB PT 4'!Z38+'EB PT 4'!AA39),\n('EB PT 4'!M28+'EB PT 4'!N29+'EB PT 4'!O30)-('EB PT 4'!M31+'EB PT 4'!N32+'EB PT 4'!O33)-('EB PT 4'!M34+'EB PT 4'!N35+'EB PT 4'!O36)-('EB PT 4'!M37+'EB PT 4'!N38+'EB PT 4'!O39)))","v":86630.23000000001},{"$f":"IF(VLOOKUP('Essbase Input'!$C$8,Tables!$B$4:$F$16,5,FALSE)=\"DHMO\",\"\",'Pt 1 Summary of Data - Final'!L24)","v":80059.100000000006},{"$f":"IF(VLOOKUP('Essbase Input'!$C$8,Tables!$B$4:$F$16,5,FALSE)=\"DHMO\",\"\",SUM(Q22:S22))","v":248586.53},{"$f":"IF(VLOOKUP('Essbase Input'!$C$8,Tables!$B$4:$F$16,5,FALSE)=\"DHMO\",\"\",\nIF(OR('Essbase Input'!$C$8=\"Golden Rule Insurance Company\",'Essbase Input'!$C$8=\"UnitedHealthcare Life Ins Co\",'Essbase Input'!$C$8=\"Mid-West Nat Life Ins Co of TN\",'Essbase Input'!$C$8=\"The Chesapeake Life Ins. Co.\"),0,\n'EB PT 4'!P12+'EB PT 4'!Q13+'EB PT 4'!R14+'EB PT 4'!S15-'EB PT 4'!P16-'EB PT 4'!Q17-'EB PT 4'!R18-'EB PT 4'!S19-'EB PT 4'!P20-'EB PT 4'!Q21-'EB PT 4'!R22-'EB PT 4'!S23-'EB PT 4'!P24-'EB PT 4'!Q25-'EB PT 4'!R26-'EB PT 4'!S27))","v":0},{"$f":"IF(VLOOKUP('Essbase Input'!$C$8,Tables!$B$4:$F$16,5,FALSE)=\"DHMO\",\"\",\nIF(OR('Essbase Input'!$C$8=\"Golden Rule Insurance Company\",'Essbase Input'!$C$8=\"UnitedHealthcare Life Ins Co\",'Essbase Input'!$C$8=\"Mid-West Nat Life Ins Co of TN\",'Essbase Input'!$C$8=\"The Chesapeake Life Ins. Co.\"),0,\n('EB PT 4'!Q28+'EB PT 4'!R29+'EB PT 4'!S30)-('EB PT 4'!Q31+'EB PT 4'!R32+'EB PT 4'!S33)-('EB PT 4'!Q34+'EB PT 4'!R35+'EB PT 4'!S36)-('EB PT 4'!Q37+'EB PT 4'!R38+'EB PT 4'!S39)))","v":0},{"$f":"IF(VLOOKUP('Essbase Input'!$C$8,Tables!$B$4:$F$16,5,FALSE)=\"DHMO\",\"\",IF(OR('Essbase Input'!$C$8=\"Golden Rule Insurance Company\",'Essbase Input'!$C$8=\"UnitedHealthcare Life Ins Co\",'Essbase Input'!$C$8=\"Mid-West Nat Life Ins Co of TN\",'Essbase Input'!$C$8=\"The Chesapeake Life Ins. Co.\"),\"\",'Pt 1 Summary of Data - Final'!N24))","v":""},{"$f":"IF(VLOOKUP('Essbase Input'!$C$8,Tables!$B$4:$F$16,5,FALSE)=\"DHMO\",\"\",IF(OR('Essbase Input'!$C$8=\"Golden Rule Insurance Company\",'Essbase Input'!$C$8=\"UnitedHealthcare Life Ins Co\",'Essbase Input'!$C$8=\"Mid-West Nat Life Ins Co of TN\",'Essbase Input'!$C$8=\"The Chesapeake Life Ins. Co.\"),\"\",SUM(U22:W22)))","v":""},{"$f":"IF(VLOOKUP('Essbase Input'!$C$8,Tables!$B$4:$F$16,5,FALSE)=\"DHMO\",\"\",\nIF(OR('Essbase Input'!$C$8=\"Golden Rule Insurance Company\",'Essbase Input'!$C$8=\"UnitedHealthcare Life Ins Co\",'Essbase Input'!$C$8=\"Mid-West Nat Life Ins Co of TN\",'Essbase Input'!$C$8=\"The Chesapeake Life Ins. Co.\"),0,\n'EB PT 4'!T12+'EB PT 4'!U13+'EB PT 4'!V14+'EB PT 4'!W15-'EB PT 4'!T16-'EB PT 4'!U17-'EB PT 4'!V18-'EB PT 4'!W19-'EB PT 4'!T20-'EB PT 4'!U21-'EB PT 4'!V22-'EB PT 4'!W23-'EB PT 4'!T24-'EB PT 4'!U25-'EB PT 4'!V26-'EB PT 4'!W27))","v":0},{"$f":"IF(VLOOKUP('Essbase Input'!$C$8,Tables!$B$4:$F$16,5,FALSE)=\"DHMO\",\"\",\nIF(OR('Essbase Input'!$C$8=\"Golden Rule Insurance Company\",'Essbase Input'!$C$8=\"UnitedHealthcare Life Ins Co\",'Essbase Input'!$C$8=\"Mid-West Nat Life Ins Co of TN\",'Essbase Input'!$C$8=\"The Chesapeake Life Ins. Co.\"),0,\n('EB PT 4'!U28+'EB PT 4'!V29+'EB PT 4'!W30)-('EB PT 4'!U31+'EB PT 4'!V32+'EB PT 4'!W33)-('EB PT 4'!U34+'EB PT 4'!V35+'EB PT 4'!W36)-('EB PT 4'!U37+'EB PT 4'!V38+'EB PT 4'!W39)))","v":0},{"$f":"IF(VLOOKUP('Essbase Input'!$C$8,Tables!$B$4:$F$16,5,FALSE)=\"DHMO\",\"\",IF(OR('Essbase Input'!$C$8=\"Golden Rule Insurance Company\",'Essbase Input'!$C$8=\"UnitedHealthcare Life Ins Co\",'Essbase Input'!$C$8=\"Mid-West Nat Life Ins Co of TN\",'Essbase Input'!$C$8=\"The Chesapeake Life Ins. Co.\"),\"\",'Pt 1 Summary of Data - Final'!P24))","v":""},{"$f":"IF(VLOOKUP('Essbase Input'!$C$8,Tables!$B$4:$F$16,5,FALSE)=\"DHMO\",\"\",IF(OR('Essbase Input'!$C$8=\"Golden Rule Insurance Company\",'Essbase Input'!$C$8=\"UnitedHealthcare Life Ins Co\",'Essbase Input'!$C$8=\"Mid-West Nat Life Ins Co of TN\",'Essbase Input'!$C$8=\"The Chesapeake Life Ins. Co.\"),\"\",SUM(Y22:AA22)))","v":""},null,{"$f":"IF(E22=\"\",0,E22)+IF(I22=\"\",0,I22)+IF(M22=\"\",0,M22)+IF(Q22=\"\",0,Q22)+IF(U22=\"\",0,U22)+IF(Y22=\"\",0,Y22)","v":81897.2},86630.23000000001,80059.100000000006,248586.53,null,{"$f":"IF(OR('Essbase Input'!$C$8=\"Golden Rule Insurance Company\",'Essbase Input'!$C$8=\"UnitedHealthcare Life Ins Co\",'Essbase Input'!$C$8=\"Mid-West Nat Life Ins Co of TN\",'Essbase Input'!$C$8=\"The Chesapeake Life Ins. Co.\"),'EB PT 4 PY2'!X219,\nIF('Essbase Input'!$C$8=\"Dental Benefit Prov CA Inc\",'EB PT 4 PY2'!Y219,\n'EB PT 4 PY2'!W219))","v":6202.5399999999936},{"$f":"IF(OR('Essbase Input'!$C$8=\"Golden Rule Insurance Company\",'Essbase Input'!$C$8=\"UnitedHealthcare Life Ins Co\",'Essbase Input'!$C$8=\"Mid-West Nat Life Ins Co of TN\",'Essbase Input'!$C$8=\"The Chesapeake Life Ins. Co.\"),'EB PT 4 PY1'!X219,\nIF('Essbase Input'!$C$8=\"Dental Benefit Prov CA Inc\",'EB PT 4 PY1'!Y219,\n'EB PT 4 PY1'!W219))","v":5684.7100000000064},{"$f":"IF(OR('Essbase Input'!$C$8=\"Golden Rule Insurance Company\",'Essbase Input'!$C$8=\"UnitedHealthcare Life Ins Co\",'Essbase Input'!$C$8=\"Mid-West Nat Life Ins Co of TN\",'Essbase Input'!$C$8=\"The Chesapeake Life Ins. Co.\"),'EB PT 4 CY'!X219,\nIF('Essbase Input'!$C$8=\"Dental Benefit Prov CA Inc\",'EB PT 4 CY'!Y219,\n'EB PT 4 CY'!W219))","v":5890.4799999999959},{"$f":"SUM(AI22:AK22)","v":17777.729999999996},null,{"$f":"AD22+AI22","v":88099.739999999991},{"$f":"AE22+AJ22","v":92314.940000000017},{"$f":"AF22+AK22","v":85949.58},{"$f":"SUM(AN22:AP22)","v":266364.26},null,{"$f":"'EB PT 4 PY2'!W13","v":88099.74},{"$f":"'EB PT 4 PY1'!W13","v":92314.940000000017},{"$f":"'EB PT 4 CY'!W13","v":85949.579999999987},{"$f":"SUM(AS22:AU22)","v":266364.26},null,{"$f":"AS22-AN22","v":0},{"$f":"AT22-AO22","v":0},0,{"$f":"AV22-AQ22","v":0}]
[null,null,1.3,"MLR numerator (Line 1.2)",{"$f":"IF(VLOOKUP('Essbase Input'!$C$8,Tables!$B$4:$F$16,5,FALSE)=\"DPPO\",\"\",IF(SUM(E22+E21)=0,0,IF(E30<>0,E21+E22,0)))","v":""},{"$f":"IF(VLOOKUP('Essbase Input'!$C$8,Tables!$B$4:$F$16,5,FALSE)=\"DPPO\",\"\",IF(SUM(F22+F21)=0,0,IF(F30<>0,F21+F22,0)))","v":""},{"$f":"IF(VLOOKUP('Essbase Input'!$C$8,Tables!$B$4:$F$16,5,FALSE)=\"DPPO\",\"\",SUM(G$22:G$22))","v":""},{"$f":"IF(VLOOKUP('Essbase Input'!$C$8,Tables!$B$4:$F$16,5,FALSE)=\"DPPO\",\"\",SUM(E23:G23))","v":""},{"$f":"IF(VLOOKUP('Essbase Input'!$C$8,Tables!$B$4:$F$16,5,FALSE)=\"DPPO\",\"\",IF(SUM(I22+I21)=0,0,IF(I30<>0,I21+I22,0)))","v":""},{"$f":"IF(VLOOKUP('Essbase Input'!$C$8,Tables!$B$4:$F$16,5,FALSE)=\"DPPO\",\"\",IF(SUM(J22+J21)=0,0,IF(J30<>0,J21+J22,0)))","v":""},{"$f":"IF(VLOOKUP('Essbase Input'!$C$8,Tables!$B$4:$F$16,5,FALSE)=\"DPPO\",\"\",SUM(K$22:K$22))","v":""},{"$f":"IF(VLOOKUP('Essbase Input'!$C$8,Tables!$B$4:$F$16,5,FALSE)=\"DPPO\",\"\",SUM(I23:K23))","v":""},{"$f":"IF(VLOOKUP('Essbase Input'!$C$8,Tables!$B$4:$F$16,5,FALSE)=\"DPPO\",\"\",IF(SUM(M22+M21)=0,0,IF(M30<>0,M21+M22,0)))","v":""},{"$f":"IF(VLOOKUP('Essbase Input'!$C$8,Tables!$B$4:$F$16,5,FALSE)=\"DPPO\",\"\",IF(SUM(N22+N21)=0,0,IF(N30<>0,N21+N22,0)))","v":""},{"$f":"IF(VLOOKUP('Essbase Input'!$C$8,Tables!$B$4:$F$16,5,FALSE)=\"DPPO\",\"\",SUM(O$22:O$22))","v":""},{"$f":"IF(VLOOKUP('Essbase Input'!$C$8,Tables!$B$4:$F$16,5,FALSE)=\"DPPO\",\"\",SUM(M23:O23))","v":""},{"$f":"IF(VLOOKUP('Essbase Input'!$C$8,Tables!$B$4:$F$16,5,FALSE)=\"DHMO\",\"\",IF(SUM(Q22+Q21)=0,0,IF(Q30<>0,Q21+Q22,0)))","v":81897.2},{"$f":"IF(VLOOKUP('Essbase Input'!$C$8,Tables!$B$4:$F$16,5,FALSE)=\"DHMO\",\"\",IF(SUM(R22+R21)=0,0,IF(R30<>0,R21+R22,0)))","v":86630.23000000001},{"$f":"IF(VLOOKUP('Essbase Input'!$C$8,Tables!$B$4:$F$16,5,FALSE)=\"DHMO\",\"\",SUM(S$22:S$22))","v":80059.100000000006},{"$f":"IF(VLOOKUP('Essbase Input'!$C$8,Tables!$B$4:$F$16,5,FALSE)=\"DHMO\",\"\",SUM(Q23:S23))","v":248586.53},{"$f":"IF(VLOOKUP('Essbase Input'!$C$8,Tables!$B$4:$F$16,5,FALSE)=\"DHMO\",\"\",IF(SUM(U22+U21)=0,0,IF(U30<>0,U21+U22,0)))","v":0},{"$f":"IF(VLOOKUP('Essbase Input'!$C$8,Tables!$B$4:$F$16,5,FALSE)=\"DHMO\",\"\",IF(SUM(V22+V21)=0,0,IF(V30<>0,V21+V22,0)))","v":0},{"$f":"IF(VLOOKUP('Essbase Input'!$C$8,Tables!$B$4:$F$16,5,FALSE)=\"DHMO\",\"\",IF(OR('Essbase Input'!$C$8=\"Golden Rule Insurance Company\",'Essbase Input'!$C$8=\"UnitedHealthcare Life Ins Co\",'Essbase Input'!$C$8=\"Mid-West Nat Life Ins Co of TN\",'Essbase Input'!$C$8=\"The Chesapeake Life Ins. Co.\"),\"\",SUM(W$22:W$22)))","v":""},{"$f":"IF(VLOOKUP('Essbase Input'!$C$8,Tables!$B$4:$F$16,5,FALSE)=\"DHMO\",\"\",IF(OR('Essbase Input'!$C$8=\"Golden Rule Insurance Company\",'Essbase Input'!$C$8=\"UnitedHealthcare Life Ins Co\",'Essbase Input'!$C$8=\"Mid-West Nat Life Ins Co of TN\",'Essbase Input'!$C$8=\"The Chesapeake Life Ins. Co.\"),\"\",SUM(U23:W23)))","v":""},{"$f":"IF(VLOOKUP('Essbase Input'!$C$8,Tables!$B$4:$F$16,5,FALSE)=\"DHMO\",\"\",IF(SUM(Y22+Y21)=0,0,IF(Y30<>0,Y21+Y22,0)))","v":0},{"$f":"IF(VLOOKUP('Essbase Input'!$C$8,Tables!$B$4:$F$16,5,FALSE)=\"DHMO\",\"\",IF(SUM(Z22+Z21)=0,0,IF(Z30<>0,Z21+Z22,0)))","v":0},{"$f":"IF(VLOOKUP('Essbase Input'!$C$8,Tables!$B$4:$F$16,5,FALSE)=\"DHMO\",\"\",IF(OR('Essbase Input'!$C$8=\"Golden Rule Insurance Company\",'Essbase Input'!$C$8=\"UnitedHealthcare Life Ins Co\",'Essbase Input'!$C$8=\"Mid-West Nat Life Ins Co of TN\",'Essbase Input'!$C$8=\"The Chesapeake Life Ins. Co.\"),\"\",SUM(AA$22:AA$22)))","v":""},{"$f":"IF(VLOOKUP('Essbase Input'!$C$8,Tables!$B$4:$F$16,5,FALSE)=\"DHMO\",\"\",IF(OR('Essbase Input'!$C$8=\"Golden Rule Insurance Company\",'Essbase Input'!$C$8=\"UnitedHealthcare Life Ins Co\",'Essbase Input'!$C$8=\"Mid-West Nat Life Ins Co of TN\",'Essbase Input'!$C$8=\"The Chesapeake Life Ins. Co.\"),\"\",SUM(Y23:AA23)))","v":""},null,81897.2,86630.23000000001,80059.100000000006,248586.53,null,{"$f":"AI22","v":6202.5399999999936},{"$f":"AJ22","v":5684.7100000000064},{"$f":"AK22","v":5890.4799999999959},{"$f":"SUM(AI23:AK23)","v":17777.729999999996},null,{"$f":"AN22","v":88099.739999999991},{"$f":"AO22","v":92314.940000000017},{"$f":"AP22","v":85949.58},{"$f":"SUM(AN23:AP23)","v":266364.26},null,{"$f":"AS22","v":88099.74},{"$f":"AT22","v":92314.940000000017},{"$f":"AU22","v":85949.579999999987},{"$f":"SUM(AS23:AU23)","v":266364.26},null,{"$f":"AS23-AN23","v":0},{"$f":"AT23-AO23","v":0},{"$f":"AU23-AP23","v":0},{"$f":"AV23-AQ23","v":0}]
[null,null,null,"  "]
[null,"2.","Medical Loss Ratio Denominator"]
[null,null,2.1,"Premium earned (Part 1 Line 1.1)",{"$f":"IF(VLOOKUP('Essbase Input'!$C$8,Tables!$B$4:$F$16,5,FALSE)=\"DPPO\",\"\",-('EB PT 4'!L40+'EB PT 4'!M41))","v":""},{"$f":"IF(VLOOKUP('Essbase Input'!$C$8,Tables!$B$4:$F$16,5,FALSE)=\"DPPO\",\"\",-('EB PT 4'!M42+'EB PT 4'!N43))","v":""},{"$f":"IF(VLOOKUP('Essbase Input'!$C$8,Tables!$B$4:$F$16,5,FALSE)=\"DPPO\",\"\",'Pt 1 Summary of Data - Final'!F21)","v":""},{"$f":"IF(VLOOKUP('Essbase Input'!$C$8,Tables!$B$4:$F$16,5,FALSE)=\"DPPO\",\"\",SUM(E26:G26))","v":""},{"$f":"IF(VLOOKUP('Essbase Input'!$C$8,Tables!$B$4:$F$16,5,FALSE)=\"DPPO\",\"\",-('EB PT 4'!P40+'EB PT 4'!Q41))","v":""},{"$f":"IF(VLOOKUP('Essbase Input'!$C$8,Tables!$B$4:$F$16,5,FALSE)=\"DPPO\",\"\",-('EB PT 4'!Q42+'EB PT 4'!R43))","v":""},{"$f":"IF(VLOOKUP('Essbase Input'!$C$8,Tables!$B$4:$F$16,5,FALSE)=\"DPPO\",\"\",'Pt 1 Summary of Data - Final'!H21)","v":""},{"$f":"IF(VLOOKUP('Essbase Input'!$C$8,Tables!$B$4:$F$16,5,FALSE)=\"DPPO\",\"\",SUM(I26:K26))","v":""},{"$f":"IF(VLOOKUP('Essbase Input'!$C$8,Tables!$B$4:$F$16,5,FALSE)=\"DPPO\",\"\",-('EB PT 4'!T40+'EB PT 4'!U41))","v":""},{"$f":"IF(VLOOKUP('Essbase Input'!$C$8,Tables!$B$4:$F$16,5,FALSE)=\"DPPO\",\"\",-('EB PT 4'!U42+'EB PT 4'!V43))","v":""},{"$f":"IF(VLOOKUP('Essbase Input'!$C$8,Tables!$B$4:$F$16,5,FALSE)=\"DPPO\",\"\",'Pt 1 Summary of Data - Final'!J21)","v":""},{"$f":"IF(VLOOKUP('Essbase Input'!$C$8,Tables!$B$4:$F$16,5,FALSE)=\"DPPO\",\"\",SUM(M26:O26))","v":""},{"$f":"IF(VLOOKUP('Essbase Input'!$C$8,Tables!$B$4:$F$16,5,FALSE)=\"DHMO\",\"\",\nIF(OR('Essbase Input'!$C$8=\"Golden Rule Insurance Company\",'Essbase Input'!$C$8=\"UnitedHealthcare Life Ins Co\",'Essbase Input'!$C$8=\"Mid-West Nat Life Ins Co of TN\",'Essbase Input'!$C$8=\"The Chesapeake Life Ins. Co.\"),-('EB PT 4'!X40+'EB PT 4'!Y41),\n-('EB PT 4'!L40+'EB PT 4'!M41)))","v":197540.08000000002},{"$f":"IF(VLOOKUP('Essbase Input'!$C$8,Tables!$B$4:$F$16,5,FALSE)=\"DHMO\",\"\",\nIF(OR('Essbase Input'!$C$8=\"Golden Rule Insurance Company\",'Essbase Input'!$C$8=\"UnitedHealthcare Life Ins Co\",'Essbase Input'!$C$8=\"Mid-West Nat Life Ins Co of TN\",'Essbase Input'!$C$8=\"The Chesapeake Life Ins. Co.\"),-('EB PT 4'!Y42+'EB PT 4'!Z43),\n-('EB PT 4'!M42+'EB PT 4'!N43)))","v":162194.76},{"$f":"IF(VLOOKUP('Essbase Input'!$C$8,Tables!$B$4:$F$16,5,FALSE)=\"DHMO\",\"\",'Pt 1 Summary of Data - Final'!L21)","v":145020.52000000002},{"$f":"IF(VLOOKUP('Essbase Input'!$C$8,Tables!$B$4:$F$16,5,FALSE)=\"DHMO\",\"\",SUM(Q26:S26))","v":504755.36000000004},{"$f":"IF(VLOOKUP('Essbase Input'!$C$8,Tables!$B$4:$F$16,5,FALSE)=\"DHMO\",\"\",\nIF(OR('Essbase Input'!$C$8=\"Golden Rule Insurance Company\",'Essbase Input'!$C$8=\"UnitedHealthcare Life Ins Co\",'Essbase Input'!$C$8=\"Mid-West Nat Life Ins Co of TN\",'Essbase Input'!$C$8=\"The Chesapeake Life Ins. Co.\"),0,\n-('EB PT 4'!P40+'EB PT 4'!Q41)))","v":0},{"$f":"IF(VLOOKUP('Essbase Input'!$C$8,Tables!$B$4:$F$16,5,FALSE)=\"DHMO\",\"\",\nIF(OR('Essbase Input'!$C$8=\"Golden Rule Insurance Company\",'Essbase Input'!$C$8=\"UnitedHealthcare Life Ins Co\",'Essbase Input'!$C$8=\"Mid-West Nat Life Ins Co of TN\",'Essbase Input'!$C$8=\"The Chesapeake Life Ins. Co.\"),0,\n-('EB PT 4'!Q42+'EB PT 4'!R43)))","v":0},{"$f":"IF(VLOOKUP('Essbase Input'!$C$8,Tables!$B$4:$F$16,5,FALSE)=\"DHMO\",\"\",IF(OR('Essbase Input'!$C$8=\"Golden Rule Insurance Company\",'Essbase Input'!$C$8=\"UnitedHealthcare Life Ins Co\",'Essbase Input'!$C$8=\"Mid-West Nat Life Ins Co of TN\",'Essbase Input'!$C$8=\"The Chesapeake Life Ins. Co.\"),\"\",'Pt 1 Summary of Data - Final'!N21))","v":""},{"$f":"IF(VLOOKUP('Essbase Input'!$C$8,Tables!$B$4:$F$16,5,FALSE)=\"DHMO\",\"\",IF(OR('Essbase Input'!$C$8=\"Golden Rule Insurance Company\",'Essbase Input'!$C$8=\"UnitedHealthcare Life Ins Co\",'Essbase Input'!$C$8=\"Mid-West Nat Life Ins Co of TN\",'Essbase Input'!$C$8=\"The Chesapeake Life Ins. Co.\"),\"\",SUM(U26:W26)))","v":""},{"$f":"IF(VLOOKUP('Essbase Input'!$C$8,Tables!$B$4:$F$16,5,FALSE)=\"DHMO\",\"\",\nIF(OR('Essbase Input'!$C$8=\"Golden Rule Insurance Company\",'Essbase Input'!$C$8=\"UnitedHealthcare Life Ins Co\",'Essbase Input'!$C$8=\"Mid-West Nat Life Ins Co of TN\",'Essbase Input'!$C$8=\"The Chesapeake Life Ins. Co.\"),0,\n-('EB PT 4'!T40+'EB PT 4'!U41)))","v":0},{"$f":"IF(VLOOKUP('Essbase Input'!$C$8,Tables!$B$4:$F$16,5,FALSE)=\"DHMO\",\"\",\nIF(OR('Essbase Input'!$C$8=\"Golden Rule Insurance Company\",'Essbase Input'!$C$8=\"UnitedHealthcare Life Ins Co\",'Essbase Input'!$C$8=\"Mid-West Nat Life Ins Co of TN\",'Essbase Input'!$C$8=\"The Chesapeake Life Ins. Co.\"),0,\n-('EB PT 4'!U42+'EB PT 4'!V43)))","v":0},{"$f":"IF(VLOOKUP('Essbase Input'!$C$8,Tables!$B$4:$F$16,5,FALSE)=\"DHMO\",\"\",IF(OR('Essbase Input'!$C$8=\"Golden Rule Insurance Company\",'Essbase Input'!$C$8=\"UnitedHealthcare Life Ins Co\",'Essbase Input'!$C$8=\"Mid-West Nat Life Ins Co of TN\",'Essbase Input'!$C$8=\"The Chesapeake Life Ins. Co.\"),\"\",'Pt 1 Summary of Data - Final'!P21))","v":""},{"$f":"IF(VLOOKUP('Essbase Input'!$C$8,Tables!$B$4:$F$16,5,FALSE)=\"DHMO\",\"\",IF(OR('Essbase Input'!$C$8=\"Golden Rule Insurance Company\",'Essbase Input'!$C$8=\"UnitedHealthcare Life Ins Co\",'Essbase Input'!$C$8=\"Mid-West Nat Life Ins Co of TN\",'Essbase Input'!$C$8=\"The Chesapeake Life Ins. Co.\"),\"\",SUM(Y26:AA26)))","v":""},null,{"$f":"IF(E26=\"\",0,E26)+IF(I26=\"\",0,I26)+IF(M26=\"\",0,M26)+IF(Q26=\"\",0,Q26)+IF(U26=\"\",0,U26)+IF(Y26=\"\",0,Y26)","v":197540.08000000002},{"$f":"IF(F26=\"\",0,F26)+IF(J26=\"\",0,J26)+IF(N26=\"\",0,N26)+IF(R26=\"\",0,R26)+IF(V26=\"\",0,V26)+IF(Z26=\"\",0,Z26)","v":162194.76},145020.52000000002,504755.36000000004,null,{"$f":"IF(OR('Essbase Input'!$C$8=\"Golden Rule Insurance Company\",'Essbase Input'!$C$8=\"UnitedHealthcare Life Ins Co\",'Essbase Input'!$C$8=\"Mid-West Nat Life Ins Co of TN\",'Essbase Input'!$C$8=\"The Chesapeake Life Ins. Co.\"),-'EB PT 4 PY2'!X220,\nIF('Essbase Input'!$C$8=\"Dental Benefit Prov CA Inc\",-'EB PT 4 PY2'!Y220,\n-'EB PT 4 PY2'!W220))","v":14610.580000000016},{"$f":"IF(OR('Essbase Input'!$C$8=\"Golden Rule Insurance Company\",'Essbase Input'!$C$8=\"UnitedHealthcare Life Ins Co\",'Essbase Input'!$C$8=\"Mid-West Nat Life Ins Co of TN\",'Essbase Input'!$C$8=\"The Chesapeake Life Ins. Co.\"),-'EB PT 4 PY1'!X220,\nIF('Essbase Input'!$C$8=\"Dental Benefit Prov CA Inc\",-'EB PT 4 PY1'!Y220,\n-'EB PT 4 PY1'!W220))","v":13186.299999999988},{"$f":"IF(OR('Essbase Input'!$C$8=\"Golden Rule Insurance Company\",'Essbase Input'!$C$8=\"UnitedHealthcare Life Ins Co\",'Essbase Input'!$C$8=\"Mid-West Nat Life Ins Co of TN\",'Essbase Input'!$C$8=\"The Chesapeake Life Ins. Co.\"),-'EB PT 4 CY'!X220,\nIF('Essbase Input'!$C$8=\"Dental Benefit Prov CA Inc\",-'EB PT 4 CY'!Y220,\n-'EB PT 4 CY'!W220))","v":10821.580000000016},{"$f":"SUM(AI26:AK26)","v":38618.460000000021},null,{"$f":"AD26+AI26","v":212150.66000000003},175381.06,155842.10000000003,{"$f":"SUM(AN26:AP26)","v":543373.82000000007},null,{"$f":"-'EB PT 4 PY2'!W14","v":212150.66000000003},{"$f":"-'EB PT 4 PY1'!W14","v":175381.06000000003},{"$f":"-'EB PT 4 CY'!V14","v":155842.1},{"$f":"SUM(AS26:AU26)","v":543373.82000000007},null,{"$f":"AS26-AN26","v":0},{"$f":"AT26-AO26","v":0},{"$f":"AU26-AP26","v":0},{"$f":"AV26-AQ26","v":0}]
[null,null,2.2000000000000002,"Federal and State taxes and licensing or regulatory fees ( Part 1 Line 3.4)",{"$f":"IF(VLOOKUP('Essbase Input'!$C$8,Tables!$B$4:$F$16,5,FALSE)=\"DPPO\",\"\",'EB PT 4'!L44+'EB PT 4'!L45+'EB PT 4'!L46)","v":""},{"$f":"IF(VLOOKUP('Essbase Input'!$C$8,Tables!$B$4:$F$16,5,FALSE)=\"DPPO\",\"\",'EB PT 4'!M47+'EB PT 4'!M48+'EB PT 4'!M49)","v":""},{"$f":"IF(VLOOKUP('Essbase Input'!$C$8,Tables!$B$4:$F$16,5,FALSE)=\"DPPO\",\"\",'Pt 1 Summary of Data - Final'!F35)","v":""},{"$f":"IF(VLOOKUP('Essbase Input'!$C$8,Tables!$B$4:$F$16,5,FALSE)=\"DPPO\",\"\",SUM(E27:G27))","v":""},{"$f":"IF(VLOOKUP('Essbase Input'!$C$8,Tables!$B$4:$F$16,5,FALSE)=\"DPPO\",\"\",'EB PT 4'!P44+'EB PT 4'!P45+'EB PT 4'!P46)","v":""},{"$f":"IF(VLOOKUP('Essbase Input'!$C$8,Tables!$B$4:$F$16,5,FALSE)=\"DPPO\",\"\",'EB PT 4'!Q47+'EB PT 4'!Q48+'EB PT 4'!Q49)","v":""},{"$f":"IF(VLOOKUP('Essbase Input'!$C$8,Tables!$B$4:$F$16,5,FALSE)=\"DPPO\",\"\",'Pt 1 Summary of Data - Final'!H35)","v":""},{"$f":"IF(VLOOKUP('Essbase Input'!$C$8,Tables!$B$4:$F$16,5,FALSE)=\"DPPO\",\"\",SUM(I27:K27))","v":""},{"$f":"IF(VLOOKUP('Essbase Input'!$C$8,Tables!$B$4:$F$16,5,FALSE)=\"DPPO\",\"\",'EB PT 4'!T44+'EB PT 4'!T45+'EB PT 4'!T46)","v":""},{"$f":"IF(VLOOKUP('Essbase Input'!$C$8,Tables!$B$4:$F$16,5,FALSE)=\"DPPO\",\"\",'EB PT 4'!U47+'EB PT 4'!U48+'EB PT 4'!U49)","v":""},{"$f":"IF(VLOOKUP('Essbase Input'!$C$8,Tables!$B$4:$F$16,5,FALSE)=\"DPPO\",\"\",'Pt 1 Summary of Data - Final'!J35)","v":""},{"$f":"IF(VLOOKUP('Essbase Input'!$C$8,Tables!$B$4:$F$16,5,FALSE)=\"DPPO\",\"\",SUM(M27:O27))","v":""},{"$f":"IF(VLOOKUP('Essbase Input'!$C$8,Tables!$B$4:$F$16,5,FALSE)=\"DHMO\",\"\",\nIF(OR('Essbase Input'!$C$8=\"Golden Rule Insurance Company\",'Essbase Input'!$C$8=\"UnitedHealthcare Life Ins Co\",'Essbase Input'!$C$8=\"Mid-West Nat Life Ins Co of TN\",'Essbase Input'!$C$8=\"The Chesapeake Life Ins. Co.\"),'EB PT 4'!X44+'EB PT 4'!X45+'EB PT 4'!X46,\n'EB PT 4'!L44+'EB PT 4'!L45+'EB PT 4'!L46))","v":34829.11},{"$f":"IF(VLOOKUP('Essbase Input'!$C$8,Tables!$B$4:$F$16,5,FALSE)=\"DHMO\",\"\",\nIF(OR('Essbase Input'!$C$8=\"Golden Rule Insurance Company\",'Essbase Input'!$C$8=\"UnitedHealthcare Life Ins Co\",'Essbase Input'!$C$8=\"Mid-West Nat Life Ins Co of TN\",'Essbase Input'!$C$8=\"The Chesapeake Life Ins. Co.\"),'EB PT 4'!Y47+'EB PT 4'!Y48+'EB PT 4'!Y49,\n'EB PT 4'!M47+'EB PT 4'!M48+'EB PT 4'!M49))","v":22002.519999999993},{"$f":"IF(VLOOKUP('Essbase Input'!$C$8,Tables!$B$4:$F$16,5,FALSE)=\"DHMO\",\"\",'Pt 1 Summary of Data - Final'!L35)","v":14168.18},{"$f":"IF(VLOOKUP('Essbase Input'!$C$8,Tables!$B$4:$F$16,5,FALSE)=\"DHMO\",\"\",SUM(Q27:S27))","v":70999.81},{"$f":"IF(VLOOKUP('Essbase Input'!$C$8,Tables!$B$4:$F$16,5,FALSE)=\"DHMO\",\"\",\nIF(OR('Essbase Input'!$C$8=\"Golden Rule Insurance Company\",'Essbase Input'!$C$8=\"UnitedHealthcare Life Ins Co\",'Essbase Input'!$C$8=\"Mid-West Nat Life Ins Co of TN\",'Essbase Input'!$C$8=\"The Chesapeake Life Ins. Co.\"),0,\n'EB PT 4'!P44+'EB PT 4'!P45+'EB PT 4'!P46))","v":0},{"$f":"IF(VLOOKUP('Essbase Input'!$C$8,Tables!$B$4:$F$16,5,FALSE)=\"DHMO\",\"\",\nIF(OR('Essbase Input'!$C$8=\"Golden Rule Insurance Company\",'Essbase Input'!$C$8=\"UnitedHealthcare Life Ins Co\",'Essbase Input'!$C$8=\"Mid-West Nat Life Ins Co of TN\",'Essbase Input'!$C$8=\"The Chesapeake Life Ins. Co.\"),0,\n'EB PT 4'!Q47+'EB PT 4'!Q48+'EB PT 4'!Q49))","v":0},{"$f":"IF(VLOOKUP('Essbase Input'!$C$8,Tables!$B$4:$F$16,5,FALSE)=\"DHMO\",\"\",IF(OR('Essbase Input'!$C$8=\"Golden Rule Insurance Company\",'Essbase Input'!$C$8=\"UnitedHealthcare Life Ins Co\",'Essbase Input'!$C$8=\"Mid-West Nat Life Ins Co of TN\",'Essbase Input'!$C$8=\"The Chesapeake Life Ins. Co.\"),\"\",'Pt 1 Summary of Data - Final'!N35))","v":""},{"$f":"IF(VLOOKUP('Essbase Input'!$C$8,Tables!$B$4:$F$16,5,FALSE)=\"DHMO\",\"\",IF(OR('Essbase Input'!$C$8=\"Golden Rule Insurance Company\",'Essbase Input'!$C$8=\"UnitedHealthcare Life Ins Co\",'Essbase Input'!$C$8=\"Mid-West Nat Life Ins Co of TN\",'Essbase Input'!$C$8=\"The Chesapeake Life Ins. Co.\"),\"\",SUM(U27:W27)))","v":""},{"$f":"IF(VLOOKUP('Essbase Input'!$C$8,Tables!$B$4:$F$16,5,FALSE)=\"DHMO\",\"\",\nIF(OR('Essbase Input'!$C$8=\"Golden Rule Insurance Company\",'Essbase Input'!$C$8=\"UnitedHealthcare Life Ins Co\",'Essbase Input'!$C$8=\"Mid-West Nat Life Ins Co of TN\",'Essbase Input'!$C$8=\"The Chesapeake Life Ins. Co.\"),0,\n'EB PT 4'!T44+'EB PT 4'!T45+'EB PT 4'!T46))","v":0},{"$f":"IF(VLOOKUP('Essbase Input'!$C$8,Tables!$B$4:$F$16,5,FALSE)=\"DHMO\",\"\",\nIF(OR('Essbase Input'!$C$8=\"Golden Rule Insurance Company\",'Essbase Input'!$C$8=\"UnitedHealthcare Life Ins Co\",'Essbase Input'!$C$8=\"Mid-West Nat Life Ins Co of TN\",'Essbase Input'!$C$8=\"The Chesapeake Life Ins. Co.\"),0,\n'EB PT 4'!U47+'EB PT 4'!U48+'EB PT 4'!U49))","v":0},{"$f":"IF(VLOOKUP('Essbase Input'!$C$8,Tables!$B$4:$F$16,5,FALSE)=\"DHMO\",\"\",IF(OR('Essbase Input'!$C$8=\"Golden Rule Insurance Company\",'Essbase Input'!$C$8=\"UnitedHealthcare Life Ins Co\",'Essbase Input'!$C$8=\"Mid-West Nat Life Ins Co of TN\",'Essbase Input'!$C$8=\"The Chesapeake Life Ins. Co.\"),\"\",'Pt 1 Summary of Data - Final'!P35))","v":""},{"$f":"IF(VLOOKUP('Essbase Input'!$C$8,Tables!$B$4:$F$16,5,FALSE)=\"DHMO\",\"\",IF(OR('Essbase Input'!$C$8=\"Golden Rule Insurance Company\",'Essbase Input'!$C$8=\"UnitedHealthcare Life Ins Co\",'Essbase Input'!$C$8=\"Mid-West Nat Life Ins Co of TN\",'Essbase Input'!$C$8=\"The Chesapeake Life Ins. Co.\"),\"\",SUM(Y27:AA27)))","v":""},null,34829.11,22002.519999999993,14168.18,70999.81,null,{"$f":"IF(OR('Essbase Input'!$C$8=\"Golden Rule Insurance Company\",'Essbase Input'!$C$8=\"UnitedHealthcare Life Ins Co\",'Essbase Input'!$C$8=\"Mid-West Nat Life Ins Co of TN\",'Essbase Input'!$C$8=\"The Chesapeake Life Ins. Co.\"),'EB PT 4 PY2'!X221,\nIF('Essbase Input'!$C$8=\"Dental Benefit Prov CA Inc\",'EB PT 4 PY2'!Y221,\n'EB PT 4 PY2'!W221))","v":2080.9700000000012},{"$f":"IF(OR('Essbase Input'!$C$8=\"Golden Rule Insurance Company\",'Essbase Input'!$C$8=\"UnitedHealthcare Life Ins Co\",'Essbase Input'!$C$8=\"Mid-West Nat Life Ins Co of TN\",'Essbase Input'!$C$8=\"The Chesapeake Life Ins. Co.\"),'EB PT 4 PY1'!X221,\nIF('Essbase Input'!$C$8=\"Dental Benefit Prov CA Inc\",'EB PT 4 PY1'!Y221,\n'EB PT 4 PY1'!W221))","v":644.93999999999869},{"$f":"IF(OR('Essbase Input'!$C$8=\"Golden Rule Insurance Company\",'Essbase Input'!$C$8=\"UnitedHealthcare Life Ins Co\",'Essbase Input'!$C$8=\"Mid-West Nat Life Ins Co of TN\",'Essbase Input'!$C$8=\"The Chesapeake Life Ins. Co.\"),'EB PT 4 CY'!X221,\nIF('Essbase Input'!$C$8=\"Dental Benefit Prov CA Inc\",'EB PT 4 CY'!Y221,\n'EB PT 4 CY'!W221))","v":912.06999999999971},{"$f":"SUM(AI27:AK27)","v":3637.9799999999996},null,36910.080000000002,22647.459999999992,15080.25,{"$f":"SUM(AN27:AP27)","v":74637.789999999994},null,{"$f":"'EB PT 4 PY2'!W17","v":36910.080000000002},{"$f":"'EB PT 4 PY1'!W17","v":22647.459999999995},{"$f":"'EB PT 4 CY'!W17","v":15080.25},{"$f":"SUM(AS27:AU27)","v":74637.789999999994},null,{"$f":"AS27-AN27","v":0},{"$f":"AT27-AO27","v":0},{"$f":"AU27-AP27","v":0},0]
[null,null,2.2999999999999998,"MLR Denominator (Line 2.1 - Line 2.2) ",{"$f":"IF(VLOOKUP('Essbase Input'!$C$8,Tables!$B$4:$F$16,5,FALSE)=\"DPPO\",\"\",E26-E27)","v":""},{"$f":"IF(VLOOKUP('Essbase Input'!$C$8,Tables!$B$4:$F$16,5,FALSE)=\"DPPO\",\"\",F26-F27)","v":""},{"$f":"IF(VLOOKUP('Essbase Input'!$C$8,Tables!$B$4:$F$16,5,FALSE)=\"DPPO\",\"\",G$26-G$27)","v":""},{"$f":"IF(VLOOKUP('Essbase Input'!$C$8,Tables!$B$4:$F$16,5,FALSE)=\"DPPO\",\"\",H$26-H$27)","v":""},{"$f":"IF(VLOOKUP('Essbase Input'!$C$8,Tables!$B$4:$F$16,5,FALSE)=\"DPPO\",\"\",I26-I27)","v":""},{"$f":"IF(VLOOKUP('Essbase Input'!$C$8,Tables!$B$4:$F$16,5,FALSE)=\"DPPO\",\"\",J26-J27)","v":""},{"$f":"IF(VLOOKUP('Essbase Input'!$C$8,Tables!$B$4:$F$16,5,FALSE)=\"DPPO\",\"\",K$26-K$27)","v":""},{"$f":"IF(VLOOKUP('Essbase Input'!$C$8,Tables!$B$4:$F$16,5,FALSE)=\"DPPO\",\"\",L$26-L$27)","v":""},{"$f":"IF(VLOOKUP('Essbase Input'!$C$8,Tables!$B$4:$F$16,5,FALSE)=\"DPPO\",\"\",M26-M27)","v":""},{"$f":"IF(VLOOKUP('Essbase Input'!$C$8,Tables!$B$4:$F$16,5,FALSE)=\"DPPO\",\"\",N26-N27)","v":""},{"$f":"IF(VLOOKUP('Essbase Input'!$C$8,Tables!$B$4:$F$16,5,FALSE)=\"DPPO\",\"\",O$26-O$27)","v":""},{"$f":"IF(VLOOKUP('Essbase Input'!$C$8,Tables!$B$4:$F$16,5,FALSE)=\"DPPO\",\"\",P$26-P$27)","v":""},{"$f":"IF(VLOOKUP('Essbase Input'!$C$8,Tables!$B$4:$F$16,5,FALSE)=\"DHMO\",\"\",Q26-Q27)","v":162710.97000000003},{"$f":"IF(VLOOKUP('Essbase Input'!$C$8,Tables!$B$4:$F$16,5,FALSE)=\"DHMO\",\"\",R26-R27)","v":140192.24000000002},{"$f":"IF(VLOOKUP('Essbase Input'!$C$8,Tables!$B$4:$F$16,5,FALSE)=\"DHMO\",\"\",S$26-S$27)","v":130852.34000000003},{"$f":"IF(VLOOKUP('Essbase Input'!$C$8,Tables!$B$4:$F$16,5,FALSE)=\"DHMO\",\"\",T$26-T$27)","v":433755.55000000005},{"$f":"IF(VLOOKUP('Essbase Input'!$C$8,Tables!$B$4:$F$16,5,FALSE)=\"DHMO\",\"\",U26-U27)","v":0},{"$f":"IF(VLOOKUP('Essbase Input'!$C$8,Tables!$B$4:$F$16,5,FALSE)=\"DHMO\",\"\",V26-V27)","v":0},{"$f":"IF(VLOOKUP('Essbase Input'!$C$8,Tables!$B$4:$F$16,5,FALSE)=\"DHMO\",\"\",IF(OR('Essbase Input'!$C$8=\"Golden Rule Insurance Company\",'Essbase Input'!$C$8=\"UnitedHealthcare Life Ins Co\",'Essbase Input'!$C$8=\"Mid-West Nat Life Ins Co of TN\",'Essbase Input'!$C$8=\"The Chesapeake Life Ins. Co.\"),\"\",W$26-W$27))","v":""},{"$f":"IF(VLOOKUP('Essbase Input'!$C$8,Tables!$B$4:$F$16,5,FALSE)=\"DHMO\",\"\",IF(OR('Essbase Input'!$C$8=\"Golden Rule Insurance Company\",'Essbase Input'!$C$8=\"UnitedHealthcare Life Ins Co\",'Essbase Input'!$C$8=\"Mid-West Nat Life Ins Co of TN\",'Essbase Input'!$C$8=\"The Chesapeake Life Ins. Co.\"),\"\",X$26-X$27))","v":""},{"$f":"IF(VLOOKUP('Essbase Input'!$C$8,Tables!$B$4:$F$16,5,FALSE)=\"DHMO\",\"\",Y26-Y27)","v":0},{"$f":"IF(VLOOKUP('Essbase Input'!$C$8,Tables!$B$4:$F$16,5,FALSE)=\"DHMO\",\"\",Z26-Z27)","v":0},{"$f":"IF(VLOOKUP('Essbase Input'!$C$8,Tables!$B$4:$F$16,5,FALSE)=\"DHMO\",\"\",IF(OR('Essbase Input'!$C$8=\"Golden Rule Insurance Company\",'Essbase Input'!$C$8=\"UnitedHealthcare Life Ins Co\",'Essbase Input'!$C$8=\"Mid-West Nat Life Ins Co of TN\",'Essbase Input'!$C$8=\"The Chesapeake Life Ins. Co.\"),\"\",AA$26-AA$27))","v":""},{"$f":"IF(VLOOKUP('Essbase Input'!$C$8,Tables!$B$4:$F$16,5,FALSE)=\"DHMO\",\"\",IF(OR('Essbase Input'!$C$8=\"Golden Rule Insurance Company\",'Essbase Input'!$C$8=\"UnitedHealthcare Life Ins Co\",'Essbase Input'!$C$8=\"Mid-West Nat Life Ins Co of TN\",'Essbase Input'!$C$8=\"The Chesapeake Life Ins. Co.\"),\"\",AB$26-AB$27))","v":""},null,162710.97000000003,140192.24000000002,130852.34000000003,433755.55000000005,null,{"$f":"AI26-AI27","v":12529.610000000015},{"$f":"AJ26-AJ27","v":12541.35999999999},{"$f":"AK26-AK27","v":9909.5100000000166},{"$f":"SUM(AI28:AK28)","v":34980.480000000025},null,{"$f":"AN26-AN27","v":175240.58000000002},{"$f":"AO26-AO27","v":152733.6},{"$f":"AP26-AP27","v":140761.85000000003},{"$f":"SUM(AN28:AP28)","v":468736.03000000009},null,{"$f":"AS26-AS27","v":175240.58000000002},{"$f":"AT26-AT27","v":152733.60000000003},{"$f":"AU26-AU27","v":140761.85},{"$f":"SUM(AS28:AU28)","v":468736.03},null,{"$f":"AS28-AN28","v":0},0,0,{"$f":"AV28-AQ28","v":0}]
[]
[null,"3.",3.1,"Life-years (Part 1 Line 5.3)",{"$f":"IF(VLOOKUP('Essbase Input'!$C$8,Tables!$B$4:$F$16,5,FALSE)=\"DPPO\",\"\",ROUND(SUM('EB PT 4'!L50+'EB PT 4'!M51)/12,0))","v":""},{"$f":"IF(VLOOKUP('Essbase Input'!$C$8,Tables!$B$4:$F$16,5,FALSE)=\"DPPO\",\"\",ROUND(SUM('EB PT 4'!M52+'EB PT 4'!N53)/12,0))","v":""},{"$f":"IF(VLOOKUP('Essbase Input'!$C$8,Tables!$B$4:$F$16,5,FALSE)=\"DPPO\",\"\",'Pt 1 Summary of Data - Final'!F49)","v":""},{"$f":"IF(VLOOKUP('Essbase Input'!$C$8,Tables!$B$4:$F$16,5,FALSE)=\"DPPO\",\"\",SUM(E30:G30))","v":""},{"$f":"IF(VLOOKUP('Essbase Input'!$C$8,Tables!$B$4:$F$16,5,FALSE)=\"DPPO\",\"\",ROUND(SUM('EB PT 4'!P50+'EB PT 4'!Q51)/12,0))","v":""},{"$f":"IF(VLOOKUP('Essbase Input'!$C$8,Tables!$B$4:$F$16,5,FALSE)=\"DPPO\",\"\",ROUND(SUM('EB PT 4'!Q52+'EB PT 4'!R53)/12,0))","v":""},{"$f":"IF(VLOOKUP('Essbase Input'!$C$8,Tables!$B$4:$F$16,5,FALSE)=\"DPPO\",\"\",'Pt 1 Summary of Data - Final'!H49)","v":""},{"$f":"IF(VLOOKUP('Essbase Input'!$C$8,Tables!$B$4:$F$16,5,FALSE)=\"DPPO\",\"\",SUM(I30:K30))","v":""},{"$f":"IF(VLOOKUP('Essbase Input'!$C$8,Tables!$B$4:$F$16,5,FALSE)=\"DPPO\",\"\",ROUND(SUM('EB PT 4'!T50+'EB PT 4'!U51)/12,0))","v":""},{"$f":"IF(VLOOKUP('Essbase Input'!$C$8,Tables!$B$4:$F$16,5,FALSE)=\"DPPO\",\"\",ROUND(SUM('EB PT 4'!U52+'EB PT 4'!V53)/12,0))","v":""},{"$f":"IF(VLOOKUP('Essbase Input'!$C$8,Tables!$B$4:$F$16,5,FALSE)=\"DPPO\",\"\",'Pt 1 Summary of Data - Final'!J49)","v":""},{"$f":"IF(VLOOKUP('Essbase Input'!$C$8,Tables!$B$4:$F$16,5,FALSE)=\"DPPO\",\"\",SUM(M30:O30))","v":""},{"$f":"IF(VLOOKUP('Essbase Input'!$C$8,Tables!$B$4:$F$16,5,FALSE)=\"DHMO\",\"\",\nIF(OR('Essbase Input'!$C$8=\"Golden Rule Insurance Company\",'Essbase Input'!$C$8=\"UnitedHealthcare Life Ins Co\",'Essbase Input'!$C$8=\"Mid-West Nat Life Ins Co of TN\",'Essbase Input'!$C$8=\"The Chesapeake Life Ins. Co.\"),ROUND(SUM('EB PT 4'!X50+'EB PT 4'!Y51)/12,0),\nROUND(SUM('EB PT 4'!L50+'EB PT 4'!M51)/12,0)))","v":335},{"$f":"IF(VLOOKUP('Essbase Input'!$C$8,Tables!$B$4:$F$16,5,FALSE)=\"DHMO\",\"\",\nIF(OR('Essbase Input'!$C$8=\"Golden Rule Insurance Company\",'Essbase Input'!$C$8=\"UnitedHealthcare Life Ins Co\",'Essbase Input'!$C$8=\"Mid-West Nat Life Ins Co of TN\",'Essbase Input'!$C$8=\"The Chesapeake Life Ins. Co.\"),ROUND(SUM('EB PT 4'!Y52+'EB PT 4'!Z53)/12,0),\nROUND(SUM('EB PT 4'!M52+'EB PT 4'!N53)/12,0)))","v":279},{"$f":"IF(VLOOKUP('Essbase Input'!$C$8,Tables!$B$4:$F$16,5,FALSE)=\"DHMO\",\"\",'Pt 1 Summary of Data - Final'!L49)","v":242.08333333333334},{"$f":"IF(VLOOKUP('Essbase Input'!$C$8,Tables!$B$4:$F$16,5,FALSE)=\"DHMO\",\"\",SUM(Q30:S30))","v":856.08333333333337},{"$f":"IF(VLOOKUP('Essbase Input'!$C$8,Tables!$B$4:$F$16,5,FALSE)=\"DHMO\",\"\",\nIF(OR('Essbase Input'!$C$8=\"Golden Rule Insurance Company\",'Essbase Input'!$C$8=\"UnitedHealthcare Life Ins Co\",'Essbase Input'!$C$8=\"Mid-West Nat Life Ins Co of TN\",'Essbase Input'!$C$8=\"The Chesapeake Life Ins. Co.\"),0,\nROUND(SUM('EB PT 4'!P50+'EB PT 4'!Q51)/12,0)))","v":0},{"$f":"IF(VLOOKUP('Essbase Input'!$C$8,Tables!$B$4:$F$16,5,FALSE)=\"DHMO\",\"\",\nIF(OR('Essbase Input'!$C$8=\"Golden Rule Insurance Company\",'Essbase Input'!$C$8=\"UnitedHealthcare Life Ins Co\",'Essbase Input'!$C$8=\"Mid-West Nat Life Ins Co of TN\",'Essbase Input'!$C$8=\"The Chesapeake Life Ins. Co.\"),0,\nROUND(SUM('EB PT 4'!Q52+'EB PT 4'!R53)/12,0)))","v":0},{"$f":"IF(VLOOKUP('Essbase Input'!$C$8,Tables!$B$4:$F$16,5,FALSE)=\"DHMO\",\"\",IF(OR('Essbase Input'!$C$8=\"Golden Rule Insurance Company\",'Essbase Input'!$C$8=\"UnitedHealthcare Life Ins Co\",'Essbase Input'!$C$8=\"Mid-West Nat Life Ins Co of TN\",'Essbase Input'!$C$8=\"The Chesapeake Life Ins. Co.\"),\"\",'Pt 1 Summary of Data - Final'!N49))","v":""},{"$f":"IF(VLOOKUP('Essbase Input'!$C$8,Tables!$B$4:$F$16,5,FALSE)=\"DHMO\",\"\",IF(OR('Essbase Input'!$C$8=\"Golden Rule Insurance Company\",'Essbase Input'!$C$8=\"UnitedHealthcare Life Ins Co\",'Essbase Input'!$C$8=\"Mid-West Nat Life Ins Co of TN\",'Essbase Input'!$C$8=\"The Chesapeake Life Ins. Co.\"),\"\",SUM(U30:W30)))","v":""},{"$f":"IF(VLOOKUP('Essbase Input'!$C$8,Tables!$B$4:$F$16,5,FALSE)=\"DHMO\",\"\",\nIF(OR('Essbase Input'!$C$8=\"Golden Rule Insurance Company\",'Essbase Input'!$C$8=\"UnitedHealthcare Life Ins Co\",'Essbase Input'!$C$8=\"Mid-West Nat Life Ins Co of TN\",'Essbase Input'!$C$8=\"The Chesapeake Life Ins. Co.\"),0,\nROUND(SUM('EB PT 4'!T50+'EB PT 4'!U51)/12,0)))","v":0},{"$f":"IF(VLOOKUP('Essbase Input'!$C$8,Tables!$B$4:$F$16,5,FALSE)=\"DHMO\",\"\",\nIF(OR('Essbase Input'!$C$8=\"Golden Rule Insurance Company\",'Essbase Input'!$C$8=\"UnitedHealthcare Life Ins Co\",'Essbase Input'!$C$8=\"Mid-West Nat Life Ins Co of TN\",'Essbase Input'!$C$8=\"The Chesapeake Life Ins. Co.\"),0,\nROUND(SUM('EB PT 4'!U52+'EB PT 4'!V53)/12,0)))","v":0},{"$f":"IF(VLOOKUP('Essbase Input'!$C$8,Tables!$B$4:$F$16,5,FALSE)=\"DHMO\",\"\",IF(OR('Essbase Input'!$C$8=\"Golden Rule Insurance Company\",'Essbase Input'!$C$8=\"UnitedHealthcare Life Ins Co\",'Essbase Input'!$C$8=\"Mid-West Nat Life Ins Co of TN\",'Essbase Input'!$C$8=\"The Chesapeake Life Ins. Co.\"),\"\",'Pt 1 Summary of Data - Final'!P49))","v":""},{"$f":"IF(VLOOKUP('Essbase Input'!$C$8,Tables!$B$4:$F$16,5,FALSE)=\"DHMO\",\"\",IF(OR('Essbase Input'!$C$8=\"Golden Rule Insurance Company\",'Essbase Input'!$C$8=\"UnitedHealthcare Life Ins Co\",'Essbase Input'!$C$8=\"Mid-West Nat Life Ins Co of TN\",'Essbase Input'!$C$8=\"The Chesapeake Life Ins. Co.\"),\"\",SUM(Y30:AA30)))","v":""},null,{"$f":"IF(E30=\"\",0,E30)+IF(I30=\"\",0,I30)+IF(M30=\"\",0,M30)+IF(Q30=\"\",0,Q30)+IF(U30=\"\",0,U30)+IF(Y30=\"\",0,Y30)","v":335},{"$f":"IF(F30=\"\",0,F30)+IF(J30=\"\",0,J30)+IF(N30=\"\",0,N30)+IF(R30=\"\",0,R30)+IF(V30=\"\",0,V30)+IF(Z30=\"\",0,Z30)","v":279},{"$f":"IF(G30=\"\",0,G30)+IF(K30=\"\",0,K30)+IF(O30=\"\",0,O30)+IF(S30=\"\",0,S30)+IF(W30=\"\",0,W30)+IF(AA30=\"\",0,AA30)","v":242.08333333333334},{"$f":"IF(H30=\"\",0,H30)+IF(L30=\"\",0,L30)+IF(P30=\"\",0,P30)+IF(T30=\"\",0,T30)+IF(X30=\"\",0,X30)+IF(AB30=\"\",0,AB30)","v":856.08333333333337},null,{"$f":"IF(OR('Essbase Input'!$C$8=\"Golden Rule Insurance Company\",'Essbase Input'!$C$8=\"UnitedHealthcare Life Ins Co\",'Essbase Input'!$C$8=\"Mid-West Nat Life Ins Co of TN\",'Essbase Input'!$C$8=\"The Chesapeake Life Ins. Co.\"),'EB PT 4 PY2'!X222/12,\nIF('Essbase Input'!$C$8=\"Dental Benefit Prov CA Inc\",'EB PT 4 PY2'!Y222/12,\n'EB PT 4 PY2'!W222/12))","v":148.33333333333334},{"$f":"IF(OR('Essbase Input'!$C$8=\"Golden Rule Insurance Company\",'Essbase Input'!$C$8=\"UnitedHealthcare Life Ins Co\",'Essbase Input'!$C$8=\"Mid-West Nat Life Ins Co of TN\",'Essbase Input'!$C$8=\"The Chesapeake Life Ins. Co.\"),'EB PT 4 PY1'!X222/12,\nIF('Essbase Input'!$C$8=\"Dental Benefit Prov CA Inc\",'EB PT 4 PY1'!Y222/12,\n'EB PT 4 PY1'!W222/12))","v":128.75},{"$f":"IF(OR('Essbase Input'!$C$8=\"Golden Rule Insurance Company\",'Essbase Input'!$C$8=\"UnitedHealthcare Life Ins Co\",'Essbase Input'!$C$8=\"Mid-West Nat Life Ins Co of TN\",'Essbase Input'!$C$8=\"The Chesapeake Life Ins. Co.\"),'EB PT 4 CY'!X222/12,\nIF('Essbase Input'!$C$8=\"Dental Benefit Prov CA Inc\",'EB PT 4 CY'!Y222/12,\n'EB PT 4 CY'!W222/12))","v":106.75},{"$f":"SUM(AI30:AK30)","v":383.83333333333337},null,{"$f":"AD30+AI30","v":483.33333333333337},{"$f":"AE30+AJ30","v":407.75},{"$f":"AF30+AK30","v":348.83333333333337},{"$f":"SUM(AN30:AP30)","v":1239.9166666666667},null,{"$f":"'EB PT 4 PY2'!W18/12","v":482.91666666666669},{"$f":"'EB PT 4 PY1'!W18/12","v":407.91666666666669},{"$f":"'EB PT 4 CY'!W18/12","v":348.83333333333331},{"$f":"SUM(AS30:AU30)","v":1239.6666666666667},null,{"$f":"AS30-AN30","v":-0.41666666666668561},{"$f":"AT30-AO30","v":0.16666666666668561},{"$f":"AU30-AP30","v":0},{"$f":"AV30-AQ30","v":-0.25}]
[]
[null,"4.",null,"MLR Calculation (for Health plans or health insurers with at least 1,000 life years in the Total column of Line 3.1)"]
[null,null,4.0999999999999996,"MLR",null,null,null,{"$f":"IF(VLOOKUP('Essbase Input'!$C$8,Tables!$B$4:$F$16,5,FALSE)=\"DPPO\",\"\",IF(H28=0,0,H23/H28))","v":""},null,null,null,{"$f":"IF(VLOOKUP('Essbase Input'!$C$8,Tables!$B$4:$F$16,5,FALSE)=\"DPPO\",\"\",IF(L28=0,0,L23/L28))","v":""},null,null,null,{"$f":"IF(VLOOKUP('Essbase Input'!$C$8,Tables!$B$4:$F$16,5,FALSE)=\"DPPO\",\"\",IF(P28=0,0,P23/P28))","v":""},null,null,null,{"$f":"IF(VLOOKUP('Essbase Input'!$C$8,Tables!$B$4:$F$16,5,FALSE)=\"DHMO\",\"\",IF(OR('Essbase Input'!$C$8=\"Golden Rule Insurance Company\",'Essbase Input'!$C$8=\"UnitedHealthcare Life Ins Co\",'Essbase Input'!$C$8=\"Mid-West Nat Life Ins Co of TN\",'Essbase Input'!$C$8=\"The Chesapeake Life Ins. Co.\"),\"\",IF(T28=0,0,T23/T28)))","v":""},null,null,null,{"$f":"IF(VLOOKUP('Essbase Input'!$C$8,Tables!$B$4:$F$16,5,FALSE)=\"DHMO\",\"\",IF(OR('Essbase Input'!$C$8=\"Golden Rule Insurance Company\",'Essbase Input'!$C$8=\"UnitedHealthcare Life Ins Co\",'Essbase Input'!$C$8=\"Mid-West Nat Life Ins Co of TN\",'Essbase Input'!$C$8=\"The Chesapeake Life Ins. Co.\"),\"\",IF(X28=0,0,X23/X28)))","v":""},null,null,null,{"$f":"IF(VLOOKUP('Essbase Input'!$C$8,Tables!$B$4:$F$16,5,FALSE)=\"DHMO\",\"\",IF(OR('Essbase Input'!$C$8=\"Golden Rule Insurance Company\",'Essbase Input'!$C$8=\"UnitedHealthcare Life Ins Co\",'Essbase Input'!$C$8=\"Mid-West Nat Life Ins Co of TN\",'Essbase Input'!$C$8=\"The Chesapeake Life Ins. Co.\"),\"\",IF(AB28=0,0,AB23/AB28)))","v":""}]
[]
[]
[]
[null,null,"Cell Keys:"]
[null,null,null,"Blank cells require input from Health plan or Health insurer"]
[null,null,null,"Grey cells require no data input "]
[null,null,null,"Pink cells require no data input - locked down"]
[null,null,null,"Blue cells: computed cell (formula cell)"]
[]
[]
[]
[]
[null,null,null,"Must be filled in by looking at the prior year DMHC MLR Dental Form"]

{"sheet":"Pt 5 Additional Responses","index":23,"n_rows":49,"n_cols":3,"rows_kept":49,"cut":false,"hidden":false,"merged":[]}
[null,"Department of Managed Health Care/Department of Insurance"]
[null,"Medical Loss Ratio Reporting Form: Dental Coverage "]
[null,"Part 5 - Additional Responses"]
[]
[null,"Health Plan ID"]
[null,{"$f":"'Cover Page'!C7","v":97179}]
[null,"Legal Name","Part 5"]
[null,{"$f":"'Cover Page'!C8","v":"UnitedHealthcare Life Insurance Company"}]
[null,"dBA"]
[null,{"$f":"'Cover Page'!C9","v":"N/A"}]
[null,"MLR Reporting Year"]
[null,{"$f":"'Cover Page'!C6","v":"2022"}]
[]
[]
[]
[null,null,"Tax Rate "]
[null,"1. If a health plan or health insurer uses the hightest premium tax rate in the State, the health plan or health insurer must report applicabe highest State health premium tax rate.",0]
[null,"2. If the health plan or health insurer included deferred experience for prior year and excluded deferred experience for current year, provide the total direct written premium and total incurred claims for the deferred experience by market."]
[null,"Deferred experience for prior year","Not Applicable"]
[null,"Deferred experience for current year","Not Applicable"]
[]
[]
[]
[]
[]
[]
[]
[]
[]
[]
[]
[null,"3. If the health plan or health insurer novated any business in the MLR reporting year effective during the reporting year provide the name of the entity to whom the business was sold or transferred and the date of the sale or transfer."]
[null,"Name of Entity to whom business was sold or transferred","Effective date of sale or transfer"]
[null,"Not Applicable"]
[]
[]
[]
[]
[]
[]
[]
[]
[]
[]
[null,"Cell Keys:"]
[null,"Blank cells require input from Health plan or Health insurer"]
[null,"Grey cells require no data input "]
[null,"Pink cells require no data input - locked down"]
[null,"Blue cells: computed cell (formula cell)"]

{"sheet":"Attestations","index":24,"n_rows":32,"n_cols":7,"rows_kept":32,"cut":false,"hidden":false,"merged":[[5,6,9,8],[17,1,22,10]]}
[null,"Department of Managed Health Care"]
[null,"Medical Loss Ratio Reporting Form: Dental Coverage "]
[null,"Attestation"]
[]
[null,"Health Plan ID"]
[null,{"$f":"'Cover Page'!C7","v":97179},null,null,null,null,"Attestation"]
[null,"Legal Name"]
[null,{"$f":"'Cover Page'!C8","v":"UnitedHealthcare Life Insurance Company"}]
[null,"dBA"]
[null,{"$f":"'Cover Page'!C9","v":"N/A"}]
[null,"MLR Reporting Year"]
[null,{"$f":"'Cover Page'!C6","v":"2022"}]
[]
[]
[]
[]
[null,"Attestation Statement"]
[null,"The officers of this reporting Health plan being duly sworn, each attest that he/she is the described officer of the reporting Health plan, and that this MLR Reporting Form, the Company/Health plan Associations, and any supplemental submission that the Health plan includes are full and true statements of all the elements included therein for the MLR reporting year stated above, and that the MLR Reporting Form has been completed in accordance with the Department of Managed Health Care’s guidance and reporting instructions, according to the best of his/her information, knowledge and belief.  Furthermore, the scope of this attestation by the described officer includes any related electronic filings and postings for the MLR reporting year stated above and which are required by Department of Managed Health Care."]
[]
[]
[]
[]
[]
[]
[]
[]
[null,"____________________________ "]
[null,"Chief Executive Officer/President"]
[]
[]
[null,"____________________________  "]
[null,"Chief Financial Officer"]